{"text_format":"1","workbook":"xlsx","n_sheets":16,"sheets":["Cover","Serves","Stroke Driection","Speed Report","Report","Placement","Index Of Points","Data","Pivots","REFERENCE","lvlDirection2","ServesSetUp","Blocks","Points","ServeData","data2"],"not_rendered":{"charts":1,"images":6,"macros":1,"external_links":1,"defined_names":20,"comments":0,"pivot_tables":7},"unopened":[],"bounds":{"document_bytes":16777216,"sheet_cells":100000,"rows_first":2000,"rows_last":500,"rows_between":2000,"halvings":0,"cell_chars":16384,"cell_head_chars":4096},"cells_cut":0,"cells_raw":0,"read":"whole","date_system":"1900"}

{"sheet":"Cover","index":0,"n_rows":38,"n_cols":7,"rows_kept":38,"cut":false,"hidden":false,"merged":[]}
[null,"Player",{"$f":"Data!H2","v":"Allen Gibson"},null,"Location",{"$f":"Data!AC2","v":"Lake Lynn"}]
[null,"Date",{"$f":"MAX(Data!G:G)","v":"2013-01-04"},null,"Surface",{"$f":"Data!AD2","v":"Hard"}]
[null,"Time",null,null,"Lighted",{"$f":"Data!AE2","v":"No"}]
[null,"Coach",{"$f":"Data!AA2","v":"Robert Allen Gibson"},null,"Session",{"$f":"IF(MIN(Data!X:X)=MAX(Data!$X:$X),MAX(Data!$X:$X),\"All\")","v":"All"}]
[]
["Boomer Level","Percentage in","Total Shots","Average Speed","Your Fastest Speed Response","Average Depth in feet","Average Width from center"]
[2,{"$f":"IF(ISERROR(COUNTIF(Data!F:F,Cover!A7)/COUNTIF(Data!Q:Q,Cover!A7)),\"\",COUNTIF(Data!F:F,Cover!A7)/COUNTIF(Data!Q:Q,Cover!A7))","v":0.84745762711864403},{"$f":"COUNTIF(Data!Q:Q,Cover!A7)","v":59},{"$f":"IF(ISERROR(VLOOKUP(A7,pvtAvgSpeed,MATCH(\"Grand Total\",Pivots!$4:$4,0),0)),\"\",TEXT(VLOOKUP(A7,pvtAvgSpeed,MATCH(\"Grand Total\",Pivots!$4:$4,0),0),\"#0\") & \" MPH\")","v":"59 MPH"},{"$f":"IF(ISERROR(VLOOKUP(A7,pvtMaxSpeed,Pivots!$A$32,0)),\"\",TEXT(VLOOKUP(A7,pvtMaxSpeed,Pivots!$A$32,0),\"#0\") & \" MPH\")","v":"112 MPH"},{"$f":"IF(ISERROR(VLOOKUP(A7,pvtAvgDepth,MATCH(\"Grand Total\",Pivots!$102:$102,0),0)),\"\",VLOOKUP(A7,pvtAvgDepth,MATCH(\"Grand Total\",Pivots!$102:$102,0),0))","v":24.18},{"$f":"IF(ISERROR(VLOOKUP(A7,pvtAvgWidth,MATCH(\"Grand Total\",Pivots!$102:$102,0),0)),\"\",VLOOKUP(A7,pvtAvgWidth,MATCH(\"Grand Total\",Pivots!$102:$102,0),0))","v":8.2200000000000006}]
[2.5,{"$f":"IF(ISERROR(COUNTIF(Data!F:F,Cover!A8)/COUNTIF(Data!Q:Q,Cover!A8)),\"\",COUNTIF(Data!F:F,Cover!A8)/COUNTIF(Data!Q:Q,Cover!A8))","v":0.90625},{"$f":"COUNTIF(Data!Q:Q,Cover!A8)","v":64},{"$f":"IF(ISERROR(VLOOKUP(A8,pvtAvgSpeed,MATCH(\"Grand Total\",Pivots!$4:$4,0),0)),\"\",TEXT(VLOOKUP(A8,pvtAvgSpeed,MATCH(\"Grand Total\",Pivots!$4:$4,0),0),\"#0\") & \" MPH\")","v":"61 MPH"},{"$f":"IF(ISERROR(VLOOKUP(A8,pvtMaxSpeed,Pivots!$A$32,0)),\"\",TEXT(VLOOKUP(A8,pvtMaxSpeed,Pivots!$A$32,0),\"#0\") & \" MPH\")","v":"132 MPH"},{"$f":"IF(ISERROR(VLOOKUP(A8,pvtAvgDepth,MATCH(\"Grand Total\",Pivots!$102:$102,0),0)),\"\",VLOOKUP(A8,pvtAvgDepth,MATCH(\"Grand Total\",Pivots!$102:$102,0),0))","v":23.827586206896552},{"$f":"IF(ISERROR(VLOOKUP(A8,pvtAvgWidth,MATCH(\"Grand Total\",Pivots!$102:$102,0),0)),\"\",VLOOKUP(A8,pvtAvgWidth,MATCH(\"Grand Total\",Pivots!$102:$102,0),0))","v":6.8620689655172411}]
[3,{"$f":"IF(ISERROR(COUNTIF(Data!F:F,Cover!A9)/COUNTIF(Data!Q:Q,Cover!A9)),\"\",COUNTIF(Data!F:F,Cover!A9)/COUNTIF(Data!Q:Q,Cover!A9))","v":0.85135135135135132},{"$f":"COUNTIF(Data!Q:Q,Cover!A9)","v":74},{"$f":"IF(ISERROR(VLOOKUP(A9,pvtAvgSpeed,MATCH(\"Grand Total\",Pivots!$4:$4,0),0)),\"\",TEXT(VLOOKUP(A9,pvtAvgSpeed,MATCH(\"Grand Total\",Pivots!$4:$4,0),0),\"#0\") & \" MPH\")","v":"53 MPH"},{"$f":"IF(ISERROR(VLOOKUP(A9,pvtMaxSpeed,Pivots!$A$32,0)),\"\",TEXT(VLOOKUP(A9,pvtMaxSpeed,Pivots!$A$32,0),\"#0\") & \" MPH\")","v":"117 MPH"},{"$f":"IF(ISERROR(VLOOKUP(A9,pvtAvgDepth,MATCH(\"Grand Total\",Pivots!$102:$102,0),0)),\"\",VLOOKUP(A9,pvtAvgDepth,MATCH(\"Grand Total\",Pivots!$102:$102,0),0))","v":24.984126984126984},{"$f":"IF(ISERROR(VLOOKUP(A9,pvtAvgWidth,MATCH(\"Grand Total\",Pivots!$102:$102,0),0)),\"\",VLOOKUP(A9,pvtAvgWidth,MATCH(\"Grand Total\",Pivots!$102:$102,0),0))","v":5.912698412698413}]
[3.5,{"$f":"IF(ISERROR(COUNTIF(Data!F:F,Cover!A10)/COUNTIF(Data!Q:Q,Cover!A10)),\"\",COUNTIF(Data!F:F,Cover!A10)/COUNTIF(Data!Q:Q,Cover!A10))","v":0.52212389380530977},{"$f":"COUNTIF(Data!Q:Q,Cover!A10)","v":226},{"$f":"IF(ISERROR(VLOOKUP(A10,pvtAvgSpeed,MATCH(\"Grand Total\",Pivots!$4:$4,0),0)),\"\",TEXT(VLOOKUP(A10,pvtAvgSpeed,MATCH(\"Grand Total\",Pivots!$4:$4,0),0),\"#0\") & \" MPH\")","v":"49 MPH"},{"$f":"IF(ISERROR(VLOOKUP(A10,pvtMaxSpeed,Pivots!$A$32,0)),\"\",TEXT(VLOOKUP(A10,pvtMaxSpeed,Pivots!$A$32,0),\"#0\") & \" MPH\")","v":"118 MPH"},{"$f":"IF(ISERROR(VLOOKUP(A10,pvtAvgDepth,MATCH(\"Grand Total\",Pivots!$102:$102,0),0)),\"\",VLOOKUP(A10,pvtAvgDepth,MATCH(\"Grand Total\",Pivots!$102:$102,0),0))","v":20.889830508474578},{"$f":"IF(ISERROR(VLOOKUP(A10,pvtAvgWidth,MATCH(\"Grand Total\",Pivots!$102:$102,0),0)),\"\",VLOOKUP(A10,pvtAvgWidth,MATCH(\"Grand Total\",Pivots!$102:$102,0),0))","v":6.8559322033898304}]
[4,{"$f":"IF(ISERROR(COUNTIF(Data!F:F,Cover!A11)/COUNTIF(Data!Q:Q,Cover!A11)),\"\",COUNTIF(Data!F:F,Cover!A11)/COUNTIF(Data!Q:Q,Cover!A11))","v":""},{"$f":"COUNTIF(Data!Q:Q,Cover!A11)","v":0},{"$f":"IF(ISERROR(VLOOKUP(A11,pvtAvgSpeed,MATCH(\"Grand Total\",Pivots!$4:$4,0),0)),\"\",TEXT(VLOOKUP(A11,pvtAvgSpeed,MATCH(\"Grand Total\",Pivots!$4:$4,0),0),\"#0\") & \" MPH\")","v":""},{"$f":"IF(ISERROR(VLOOKUP(A11,pvtMaxSpeed,Pivots!$A$32,0)),\"\",TEXT(VLOOKUP(A11,pvtMaxSpeed,Pivots!$A$32,0),\"#0\") & \" MPH\")","v":""},{"$f":"IF(ISERROR(VLOOKUP(A11,pvtAvgDepth,MATCH(\"Grand Total\",Pivots!$102:$102,0),0)),\"\",VLOOKUP(A11,pvtAvgDepth,MATCH(\"Grand Total\",Pivots!$102:$102,0),0))","v":""},{"$f":"IF(ISERROR(VLOOKUP(A11,pvtAvgWidth,MATCH(\"Grand Total\",Pivots!$102:$102,0),0)),\"\",VLOOKUP(A11,pvtAvgWidth,MATCH(\"Grand Total\",Pivots!$102:$102,0),0))","v":""}]
[4.5,{"$f":"IF(ISERROR(COUNTIF(Data!F:F,Cover!A12)/COUNTIF(Data!Q:Q,Cover!A12)),\"\",COUNTIF(Data!F:F,Cover!A12)/COUNTIF(Data!Q:Q,Cover!A12))","v":""},{"$f":"COUNTIF(Data!Q:Q,Cover!A12)","v":0},{"$f":"IF(ISERROR(VLOOKUP(A12,pvtAvgSpeed,MATCH(\"Grand Total\",Pivots!$4:$4,0),0)),\"\",TEXT(VLOOKUP(A12,pvtAvgSpeed,MATCH(\"Grand Total\",Pivots!$4:$4,0),0),\"#0\") & \" MPH\")","v":""},{"$f":"IF(ISERROR(VLOOKUP(A12,pvtMaxSpeed,Pivots!$A$32,0)),\"\",TEXT(VLOOKUP(A12,pvtMaxSpeed,Pivots!$A$32,0),\"#0\") & \" MPH\")","v":""},{"$f":"IF(ISERROR(VLOOKUP(A12,pvtAvgDepth,MATCH(\"Grand Total\",Pivots!$102:$102,0),0)),\"\",VLOOKUP(A12,pvtAvgDepth,MATCH(\"Grand Total\",Pivots!$102:$102,0),0))","v":""},{"$f":"IF(ISERROR(VLOOKUP(A12,pvtAvgWidth,MATCH(\"Grand Total\",Pivots!$102:$102,0),0)),\"\",VLOOKUP(A12,pvtAvgWidth,MATCH(\"Grand Total\",Pivots!$102:$102,0),0))","v":""}]
[5,{"$f":"IF(ISERROR(COUNTIF(Data!F:F,Cover!A13)/COUNTIF(Data!Q:Q,Cover!A13)),\"\",COUNTIF(Data!F:F,Cover!A13)/COUNTIF(Data!Q:Q,Cover!A13))","v":""},{"$f":"COUNTIF(Data!Q:Q,Cover!A13)","v":0},{"$f":"IF(ISERROR(VLOOKUP(A13,pvtAvgSpeed,MATCH(\"Grand Total\",Pivots!$4:$4,0),0)),\"\",TEXT(VLOOKUP(A13,pvtAvgSpeed,MATCH(\"Grand Total\",Pivots!$4:$4,0),0),\"#0\") & \" MPH\")","v":""},{"$f":"IF(ISERROR(VLOOKUP(A13,pvtMaxSpeed,Pivots!$A$32,0)),\"\",TEXT(VLOOKUP(A13,pvtMaxSpeed,Pivots!$A$32,0),\"#0\") & \" MPH\")","v":""},{"$f":"IF(ISERROR(VLOOKUP(A13,pvtAvgDepth,MATCH(\"Grand Total\",Pivots!$102:$102,0),0)),\"\",VLOOKUP(A13,pvtAvgDepth,MATCH(\"Grand Total\",Pivots!$102:$102,0),0))","v":""},{"$f":"IF(ISERROR(VLOOKUP(A13,pvtAvgWidth,MATCH(\"Grand Total\",Pivots!$102:$102,0),0)),\"\",VLOOKUP(A13,pvtAvgWidth,MATCH(\"Grand Total\",Pivots!$102:$102,0),0))","v":""}]
[5.5,{"$f":"IF(ISERROR(COUNTIF(Data!F:F,Cover!A14)/COUNTIF(Data!Q:Q,Cover!A14)),\"\",COUNTIF(Data!F:F,Cover!A14)/COUNTIF(Data!Q:Q,Cover!A14))","v":""},{"$f":"COUNTIF(Data!Q:Q,Cover!A14)","v":0},{"$f":"IF(ISERROR(VLOOKUP(A14,pvtAvgSpeed,MATCH(\"Grand Total\",Pivots!$4:$4,0),0)),\"\",TEXT(VLOOKUP(A14,pvtAvgSpeed,MATCH(\"Grand Total\",Pivots!$4:$4,0),0),\"#0\") & \" MPH\")","v":""},{"$f":"IF(ISERROR(VLOOKUP(A14,pvtMaxSpeed,Pivots!$A$32,0)),\"\",TEXT(VLOOKUP(A14,pvtMaxSpeed,Pivots!$A$32,0),\"#0\") & \" MPH\")","v":""},{"$f":"IF(ISERROR(VLOOKUP(A14,pvtAvgDepth,MATCH(\"Grand Total\",Pivots!$102:$102,0),0)),\"\",VLOOKUP(A14,pvtAvgDepth,MATCH(\"Grand Total\",Pivots!$102:$102,0),0))","v":""},{"$f":"IF(ISERROR(VLOOKUP(A14,pvtAvgWidth,MATCH(\"Grand Total\",Pivots!$102:$102,0),0)),\"\",VLOOKUP(A14,pvtAvgWidth,MATCH(\"Grand Total\",Pivots!$102:$102,0),0))","v":""}]
[6,{"$f":"IF(ISERROR(COUNTIF(Data!F:F,Cover!A15)/COUNTIF(Data!Q:Q,Cover!A15)),\"\",COUNTIF(Data!F:F,Cover!A15)/COUNTIF(Data!Q:Q,Cover!A15))","v":""},{"$f":"COUNTIF(Data!Q:Q,Cover!A15)","v":0},{"$f":"IF(ISERROR(VLOOKUP(A15,pvtAvgSpeed,MATCH(\"Grand Total\",Pivots!$4:$4,0),0)),\"\",TEXT(VLOOKUP(A15,pvtAvgSpeed,MATCH(\"Grand Total\",Pivots!$4:$4,0),0),\"#0\") & \" MPH\")","v":""},{"$f":"IF(ISERROR(VLOOKUP(A15,pvtMaxSpeed,Pivots!$A$32,0)),\"\",TEXT(VLOOKUP(A15,pvtMaxSpeed,Pivots!$A$32,0),\"#0\") & \" MPH\")","v":""},{"$f":"IF(ISERROR(VLOOKUP(A15,pvtAvgDepth,MATCH(\"Grand Total\",Pivots!$102:$102,0),0)),\"\",VLOOKUP(A15,pvtAvgDepth,MATCH(\"Grand Total\",Pivots!$102:$102,0),0))","v":""},{"$f":"IF(ISERROR(VLOOKUP(A15,pvtAvgWidth,MATCH(\"Grand Total\",Pivots!$102:$102,0),0)),\"\",VLOOKUP(A15,pvtAvgWidth,MATCH(\"Grand Total\",Pivots!$102:$102,0),0))","v":""}]
[6.5,{"$f":"IF(ISERROR(COUNTIF(Data!F:F,Cover!A16)/COUNTIF(Data!Q:Q,Cover!A16)),\"\",COUNTIF(Data!F:F,Cover!A16)/COUNTIF(Data!Q:Q,Cover!A16))","v":""},{"$f":"COUNTIF(Data!Q:Q,Cover!A16)","v":0},{"$f":"IF(ISERROR(VLOOKUP(A16,pvtAvgSpeed,MATCH(\"Grand Total\",Pivots!$4:$4,0),0)),\"\",TEXT(VLOOKUP(A16,pvtAvgSpeed,MATCH(\"Grand Total\",Pivots!$4:$4,0),0),\"#0\") & \" MPH\")","v":""},{"$f":"IF(ISERROR(VLOOKUP(A16,pvtMaxSpeed,Pivots!$A$32,0)),\"\",TEXT(VLOOKUP(A16,pvtMaxSpeed,Pivots!$A$32,0),\"#0\") & \" MPH\")","v":""},{"$f":"IF(ISERROR(VLOOKUP(A16,pvtAvgDepth,MATCH(\"Grand Total\",Pivots!$102:$102,0),0)),\"\",VLOOKUP(A16,pvtAvgDepth,MATCH(\"Grand Total\",Pivots!$102:$102,0),0))","v":""},{"$f":"IF(ISERROR(VLOOKUP(A16,pvtAvgWidth,MATCH(\"Grand Total\",Pivots!$102:$102,0),0)),\"\",VLOOKUP(A16,pvtAvgWidth,MATCH(\"Grand Total\",Pivots!$102:$102,0),0))","v":""}]
[7,{"$f":"IF(ISERROR(COUNTIF(Data!F:F,Cover!A17)/COUNTIF(Data!Q:Q,Cover!A17)),\"\",COUNTIF(Data!F:F,Cover!A17)/COUNTIF(Data!Q:Q,Cover!A17))","v":""},{"$f":"COUNTIF(Data!Q:Q,Cover!A17)","v":0},{"$f":"IF(ISERROR(VLOOKUP(A17,pvtAvgSpeed,MATCH(\"Grand Total\",Pivots!$4:$4,0),0)),\"\",TEXT(VLOOKUP(A17,pvtAvgSpeed,MATCH(\"Grand Total\",Pivots!$4:$4,0),0),\"#0\") & \" MPH\")","v":""},{"$f":"IF(ISERROR(VLOOKUP(A17,pvtMaxSpeed,Pivots!$A$32,0)),\"\",TEXT(VLOOKUP(A17,pvtMaxSpeed,Pivots!$A$32,0),\"#0\") & \" MPH\")","v":""},{"$f":"IF(ISERROR(VLOOKUP(A17,pvtAvgDepth,MATCH(\"Grand Total\",Pivots!$102:$102,0),0)),\"\",VLOOKUP(A17,pvtAvgDepth,MATCH(\"Grand Total\",Pivots!$102:$102,0),0))","v":""},{"$f":"IF(ISERROR(VLOOKUP(A17,pvtAvgWidth,MATCH(\"Grand Total\",Pivots!$102:$102,0),0)),\"\",VLOOKUP(A17,pvtAvgWidth,MATCH(\"Grand Total\",Pivots!$102:$102,0),0))","v":""}]
["Grand Total",{"$f":"SUM(B32:B34)/C18","v":0.68321513002364065},{"$f":"SUM(C7:C17)","v":423},{"$f":"TEXT(SUM(Data!U:U)/SUM(B32:B34),0) & \" MPH\"","v":"54 MPH"},"<4",null,">6"]
[null,"Percentage in","Total Shots","Boomer's Stroke to you","To Fore Hand","To CTR","To Back Hand"]
[null,{"$f":"IF(ISERROR(COUNTIF(Data!D:D,Cover!D20)/C20),\"\",COUNTIF(Data!D:D,Cover!D20)/C20)","v":0.8571428571428571},{"$f":"COUNTIF(Data!P:P,Cover!D20)","v":21},"Drop Shot",{"$f":"COUNTIFS(Data!P:P,Cover!D20,Data!O:O,$E$18)+OR(10)","v":7},{"$f":"C20-E20-G20","v":14},{"$f":"COUNTIFS(Data!P:P,Cover!D20,Data!O:O,$G$18)+NOT(10)","v":0}]
[null,{"$f":"IF(ISERROR(COUNTIF(Data!D:D,Cover!D21)/C21),\"\",COUNTIF(Data!D:D,Cover!D21)/C21)","v":0.94117647058823528},{"$f":"COUNTIF(Data!P:P,Cover!D21)","v":17},"Flat Drive",{"$f":"COUNTIFS(Data!P:P,Cover!D21,Data!O:O,$E$18)+OR(10)","v":9},{"$f":"C21-E21-G21","v":8},{"$f":"COUNTIFS(Data!P:P,Cover!D21,Data!O:O,$G$18)+NOT(10)","v":0}]
[null,{"$f":"IF(ISERROR(COUNTIF(Data!D:D,Cover!D22)/C22),\"\",COUNTIF(Data!D:D,Cover!D22)/C22)","v":1},{"$f":"COUNTIF(Data!P:P,Cover!D22)","v":20},"Heavy Topspin",{"$f":"COUNTIFS(Data!P:P,Cover!D22,Data!O:O,$E$18)+OR(10)","v":8},12,{"$f":"COUNTIFS(Data!P:P,Cover!D22,Data!O:O,$G$18)+NOT(10)","v":0}]
[null,{"$f":"IF(ISERROR(COUNTIF(Data!D:D,Cover!D23)/C23),\"\",COUNTIF(Data!D:D,Cover!D23)/C23)","v":0.875},{"$f":"COUNTIF(Data!P:P,Cover!D23)","v":16},"Lob",{"$f":"COUNTIFS(Data!P:P,Cover!D23,Data!O:O,$E$18)+OR(10)","v":7},9,{"$f":"COUNTIFS(Data!P:P,Cover!D23,Data!O:O,$G$18)+NOT(10)","v":0}]
[null,{"$f":"IF(ISERROR(COUNTIF(Data!D:D,Cover!D24)/C24),\"\",COUNTIF(Data!D:D,Cover!D24)/C24)","v":0.86486486486486491},{"$f":"COUNTIF(Data!P:P,Cover!D24)","v":37},"Pass",{"$f":"COUNTIFS(Data!P:P,Cover!D24,Data!O:O,$E$18)+OR(10)","v":11},26,{"$f":"COUNTIFS(Data!P:P,Cover!D24,Data!O:O,$G$18)+NOT(10)","v":0}]
[null,{"$f":"IF(ISERROR(COUNTIF(Data!D:D,Cover!D25)/C25),\"\",COUNTIF(Data!D:D,Cover!D25)/C25)","v":0.94545454545454544},{"$f":"COUNTIF(Data!P:P,Cover!D25)","v":55},"Serve",{"$f":"COUNTIFS(Data!P:P,Cover!D25,Data!O:O,$E$18)+OR(10)","v":31},10,{"$f":"COUNTIFS(Data!P:P,Cover!D25,Data!O:O,$G$18)+NOT(10)","v":14}]
[null,{"$f":"IF(ISERROR(COUNTIF(Data!D:D,Cover!D26)/C26),\"\",COUNTIF(Data!D:D,Cover!D26)/C26)","v":0.92307692307692313},{"$f":"COUNTIF(Data!P:P,Cover!D26)","v":13},"Slice",{"$f":"COUNTIFS(Data!P:P,Cover!D26,Data!O:O,$E$18)+OR(10)","v":5},8,{"$f":"COUNTIFS(Data!P:P,Cover!D26,Data!O:O,$G$18)+NOT(10)","v":0}]
[null,{"$f":"IF(ISERROR(COUNTIF(Data!D:D,Cover!D27)/C27),\"\",COUNTIF(Data!D:D,Cover!D27)/C27)","v":0.92307692307692313},{"$f":"COUNTIF(Data!P:P,Cover!D27)","v":52},"Topspin",{"$f":"COUNTIFS(Data!P:P,Cover!D27,Data!O:O,$E$18)+OR(10)","v":16},{"$f":"C27-E27-G27","v":36},{"$f":"COUNTIFS(Data!P:P,Cover!D27,Data!O:O,$G$18)+NOT(10)","v":0}]
[null,null,{"$f":"SUM(C20:C27)","v":231},null,{"$f":"SUM(E20:E27)/$C$28","v":0.40692640692640691},{"$f":"SUM(F20:F27)/$C$28","v":0.53246753246753242},{"$f":"SUM(G20:G27)/$C$28","v":6.0606060606060608E-2}]
[]
[null,"Based on  a level 3.0 -3.5 player or placement in 3rds of the court "]
[{"$f":"COUNTIF(Data!R:R,\">0\")","v":289}]
[">19",{"$f":"COUNTIFS(Data!R:R,\">0\",Data!S:S,Cover!A32)","v":57},{"$f":"B32/$A$31","v":0.1972318339100346},"of your shots were hit to your opponents backhand "]
[null,{"$f":"COUNTIF(Data!R:R,\">0\")-B32-B34","v":99},{"$f":"B33/$A$31","v":0.34256055363321797},"of your shots were hit to your opponents Center Court"]
["<9",{"$f":"COUNTIFS(Data!R:R,\">0\",Data!S:S,Cover!A34)","v":133},0.46020761245674741,"of your shots were hit to your opponents Forehand "]
[]
[">25",{"$f":"COUNTIFS(Data!R:R,\">0\",Data!R:R,Cover!A36)","v":112},{"$f":"B36/$A$31","v":0.38754325259515571},"of your shots were hit to your opponents Deep Court "]
[null,{"$f":"COUNTIFS(Data!R:R,\">0\")-B36-B38","v":140},{"$f":"B37/$A$31","v":0.48442906574394462},"of your shots were hit to your opponents Mid Court"]
["<14",{"$f":"COUNTIFS(Data!R:R,\">0\",Data!R:R,Cover!A38)","v":37},0.12802768166089964,"of your shots were hit to your opponents Fore Court "]

{"sheet":"Serves","index":1,"n_rows":18,"n_cols":8,"rows_kept":18,"cut":false,"hidden":false,"merged":[[5,4,5,5],[5,6,5,7],[17,5,17,7],[17,0,17,3]]}
[null,"Player",{"$f":"Data!H2","v":"Allen Gibson"},null,"Location",{"$f":"Data!AC2","v":"Lake Lynn"}]
[null,"Date",{"$f":"Data!G2","v":"2012-05-09"},null,"Surface",{"$f":"Data!AD2","v":"Hard"}]
[null,"Time",null,null,"Lighted",{"$f":"Data!AE2","v":"No"}]
[null,"Coach",{"$f":"Data!AA2","v":"Robert Allen Gibson"}]
[]
[null,null,null,null,"% based on 1st/2nd",null,"% based on all serves"]
[null,"Total","1st","2nd","1st","2nd","1st","2nd"]
["Serves",{"$f":"SUM(C8:D8)","v":60},{"$f":"COUNTIFS(ServeData!$P:$P,ServesSetUp!$P$1,ServeData!$N:$N,1)","v":49},{"$f":"COUNTIFS(ServeData!$P:$P,ServesSetUp!$P$1,ServeData!$N:$N,\">1\")","v":11},null,null,{"$f":"IF(ISERROR($C$8/$B$8),\"\",$C$8/$B$8)","v":0.81666666666666665},{"$f":"IF(ISERROR($D$8/$B$8),\"\",$D$8/$B$8)","v":0.18333333333333332}]
["Aces",{"$f":"SUM(C9:D9)","v":29},{"$f":"COUNTIFS(ServeData!$P:$P,\"Player Serve\",ServeData!N:N,1,ServeData!AL:AL,\">2\")","v":25},{"$f":"COUNTIFS(ServeData!$P:$P,\"Player Serve\",ServeData!N:N,2,ServeData!AL:AL,\">2\")","v":4},{"$f":"IF($C$8>0,SUM(C9/$C$8),0)","v":0.51020408163265307},{"$f":"IF($D$8>0,SUM(D9/$D$8),0)","v":0.36363636363636365},{"$f":"IF($B$8>0,SUM(C9/$B$8),0)","v":0.41666666666666669},{"$f":"IF($B$8>0,SUM(D9/$B$8),0)","v":6.6666666666666666E-2}]
["Faults",15,{"$f":"D8","v":11},{"$f":"COUNTIFS(ServeData!$P:$P,ServesSetUp!$P$1,ServeData!$N:$N,2,ServeData!$R:$R,0)","v":4},{"$f":"IF(ISERROR(C10/$B$8),\"\",C10/$B$8)","v":0.18333333333333332},{"$f":"IF(ISERROR(D10/$D$8),\"\",D10/$D$8)","v":0.36363636363636365},{"$f":"IF($B$8>0,SUM(C10/$B$8),0)","v":0.18333333333333332},{"$f":"IF($B$8>0,SUM(D10/$B$8),0)","v":6.6666666666666666E-2}]
["Double Faults",4,null,{"$f":"COUNTIFS(ServeData!$P:$P,ServesSetUp!$P$1,ServeData!$N:$N,2,ServeData!$R:$R,0)","v":4},null,{"$f":"IF(ISERROR(D11/$D$8),\"\",D11/$D$8)","v":0.36363636363636365},null,{"$f":"IF($B$8>0,SUM(D11/$B$8),0)","v":6.6666666666666666E-2}]
["Serves In",{"$f":"SUM(C12:D12)","v":45},{"$f":"COUNTIFS(ServeData!$P:$P,ServesSetUp!$P$1,ServeData!$N:$N,1,ServeData!$R:$R,\">0\")","v":38},{"$f":"COUNTIFS(ServeData!$P:$P,ServesSetUp!$P$1,ServeData!$N:$N,\">1\",ServeData!$S:$S,\">0\")","v":7},{"$f":"IF(ISERROR(C12/$C$8),\"\",C12/$C$8)","v":0.77551020408163263},{"$f":"IF(ISERROR(D12/$D$8),\"\",D12/$D$8)","v":0.63636363636363635},{"$f":"IF($B$8>0,SUM(C12/$B$8),0)","v":0.6333333333333333},{"$f":"IF($B$8>0,SUM(D12/$B$8),0)","v":0.11666666666666667}]
["Points Won",{"$f":"SUM(C13:D13)","v":41},{"$f":"COUNTIFS(ServeData!$P:$P,ServesSetUp!$P$1,ServeData!$N:$N,1,ServeData!$K:$K,\"Player's point\",ServeData!$R:$R,\">0\")","v":34},{"$f":"COUNTIFS(ServeData!$P:$P,ServesSetUp!$P$1,ServeData!$N:$N,2,ServeData!$K:$K,\"Player's point\")","v":7},{"$f":"IF(ISERROR(C13/$C$8),\"\",C13/$C$8)","v":0.69387755102040816},{"$f":"IF(ISERROR(D13/$D$8),\"\",D13/$D$8)","v":0.63636363636363635},{"$f":"IF($B$8>0,SUM(C13/$B$8),0)","v":0.56666666666666665},{"$f":"IF($B$8>0,SUM(D13/$B$8),0)","v":0.11666666666666667}]
["Fastest Serve",null,{"$f":"VLOOKUP(1,MaxServe,Pivots!$C$217,0)","v":132},{"$f":"VLOOKUP(2,MaxServe,Pivots!$C$217,0)","v":123}]
["Average Speed",{"$f":"AVERAGEIFS(ServeData!U:U,ServeData!U:U,\">0\",ServeData!P:P,\"Player Serve\")","v":106.22222222222223},{"$f":"AVERAGEIFS(ServeData!U:U,ServeData!U:U,\">0\",ServeData!P:P,\"Player Serve\",ServeData!N:N,1)","v":109.97368421052632},{"$f":"AVERAGEIFS(ServeData!U:U,ServeData!U:U,\">0\",ServeData!P:P,\"Player Serve\",ServeData!N:N,2)","v":85.857142857142861}]
[]
[]
["SERVES PLACEMENT",null,null,null,null,"AVERAGE SPEED MPH"]

{"sheet":"Stroke Driection","index":2,"n_rows":37,"n_cols":7,"rows_kept":37,"cut":false,"hidden":false,"merged":[[16,1,16,2],[8,1,8,2],[9,1,9,2],[13,1,13,2],[14,1,14,2],[15,1,15,2],[28,1,28,2],[17,1,17,2],[18,1,18,2],[19,1,19,2],[20,1,20,2],[21,1,21,2],[22,1,22,2],[23,1,23,2],[24,1,24,2],[25,1,25,2],[26,1,26,2],[27,1,27,2],[35,1,35,2],[36,1,36,2],[29,1,29,2],[30,1,30,2],[31,1,31,2],[32,1,32,2],[33,1,33,2],[34,1,34,2]]}
[null,null,"Player",{"$f":"Data!H2","v":"Allen Gibson"},null,"Location",{"$f":"Data!AC2","v":"Lake Lynn"}]
[null,null,"Date",{"$f":"MAX(Data!G:G)","v":"2013-01-04"},null,"Surface",{"$f":"Data!AD2","v":"Hard"}]
[null,null,"Time",null,null,"Lighted",{"$f":"Data!AE2","v":"No"}]
[null,null,"Coach",{"$f":"Data!AA2","v":"Robert Allen Gibson"},null,"Session",{"$f":"IF(MIN(Data!X:X)=MAX(Data!$X:$X),MAX(Data!$X:$X),\"All\")","v":"All"}]
[]
[]
[]
[null,null,null,"% based on in Strokes","% based on all strokes"]
[null,"Percentage of shots Cross Court",null,{"$f":"SUM(F14+F26)/SUM(Cover!B32:B34)","v":0.4290657439446367},{"$f":"SUM(F14+F26)/Cover!C18","v":0.29314420803782504}]
[null,"Percentage of shots Down the Line",null,{"$f":"SUM(F20+F32)/SUM(Cover!B32:B34)","v":0.56401384083044981},{"$f":"SUM(F32+F20)/Cover!C18","v":0.38534278959810875}]
[]
[]
[null,null,null,null,null,"Storkes in at each level"]
[null,"% of Strokes from Duce Court Cross  2.0 - 2.5",null,{"$f":"SUM(F14/SUM(Cover!$B$32:$B$34))","v":0.35294117647058826},{"$f":"SUM($F$14/Cover!$C$18)","v":0.24113475177304963},{"$f":"COUNTIFS(Data!$R:$R,\">0\",Data!$O:$O,\"<6\",Data!$S:$S,\">13\")","v":102}]
[null," High school  level # 5 and below  3.0 - 3.5",null,{"$f":"SUM(F15/SUM(Cover!$B$32:$B$34))","v":0.22837370242214533},{"$f":"SUM(F15/Cover!$C$18)","v":0.15602836879432624},{"$f":"COUNTIFS(Data!$R:$R,\">0\",Data!$O:$O,\"<6\",Data!$S:$S,\">18\")","v":66}]
[null,"High school level top 4 players   4.0 - 4.5",null,{"$f":"SUM(F16/SUM(Cover!$B$32:$B$34))","v":0.13148788927335639},{"$f":"SUM(F16/Cover!$C$18)","v":8.9834515366430265E-2},{"$f":"COUNTIFS(Data!$R:$R,\">0\",Data!$O:$O,\"<6\",Data!$S:$S,\">20\")","v":38}]
[null," College Level Players  5.0 - 5.5",null,{"$f":"SUM(F17/SUM(Cover!$B$32:$B$34))","v":7.9584775086505188E-2},{"$f":"SUM(F17/Cover!$C$18)","v":5.4373522458628844E-2},{"$f":"COUNTIFS(Data!$R:$R,\">0\",Data!$O:$O,\"<6\",Data!$S:$S,\">22\")","v":23}]
[null," National level Pros Low International  6.0 - 6.5",null,{"$f":"SUM(F18/SUM(Cover!$B$32:$B$34))","v":4.8442906574394463E-2},{"$f":"SUM(F18/Cover!$C$18)","v":3.309692671394799E-2},{"$f":"COUNTIFS(Data!$R:$R,\">0\",Data!$O:$O,\"<6\",Data!$S:$S,\">23\")","v":14}]
[null," International Level Pros            7.0",null,{"$f":"SUM(F19/SUM(Cover!$B$32:$B$34))","v":3.1141868512110725E-2},{"$f":"SUM(F19/Cover!$C$18)","v":2.1276595744680851E-2},{"$f":"COUNTIFS(Data!$R:$R,\">0\",Data!$O:$O,\"<6\",Data!$S:$S,\">24\")","v":9}]
[null,"% of Strokes from Duce Court Line   2.0 - 2.5",null,{"$f":"SUM(F20/SUM(Cover!$B$32:$B$34))","v":0.51557093425605538},{"$f":"SUM(F20/Cover!$C$18)","v":0.35224586288416077},{"$f":"COUNTIFS(Data!$R:$R,\">0\",Data!$O:$O,\"<6\",Data!$S:$S,\"<13\")","v":149}]
[null,"3.0 - 3.5",null,{"$f":"SUM(F21/SUM(Cover!$B$32:$B$34))","v":0.45328719723183392},{"$f":"SUM(F21/Cover!$C$18)","v":0.30969267139479906},{"$f":"COUNTIFS(Data!$R:$R,\">0\",Data!$O:$O,\"<6\",Data!$S:$S,\"<10\")","v":131}]
[null,"4.0 - 4.5",null,{"$f":"SUM(F22/SUM(Cover!$B$32:$B$34))","v":0.29065743944636679},{"$f":"SUM(F22/Cover!$C$18)","v":0.19858156028368795},{"$f":"COUNTIFS(Data!$R:$R,\">0\",Data!$O:$O,\"<6\",Data!$S:$S,\"<7\")","v":84}]
[null,"5.0 - 5.5",null,{"$f":"SUM(F23/SUM(Cover!$B$32:$B$34))","v":0.16262975778546712},{"$f":"SUM(F23/Cover!$C$18)","v":0.1111111111111111},{"$f":"COUNTIFS(Data!$R:$R,\">0\",Data!$O:$O,\"<6\",Data!$S:$S,\"<5\")","v":47}]
[null,"6.0 - 6.5",null,{"$f":"SUM(F24/SUM(Cover!$B$32:$B$34))","v":8.9965397923875437E-2},{"$f":"SUM(F24/Cover!$C$18)","v":6.1465721040189124E-2},{"$f":"COUNTIFS(Data!$R:$R,\">0\",Data!$O:$O,\"<6\",Data!$S:$S,\"<4\")","v":26}]
[null,7,null,{"$f":"SUM(F25/SUM(Cover!$B$32:$B$34))","v":5.536332179930796E-2},{"$f":"SUM(F25/Cover!$C$18)","v":3.7825059101654845E-2},{"$f":"COUNTIFS(Data!$R:$R,\">0\",Data!$O:$O,\"<6\",Data!$S:$S,\"<3\")","v":16}]
[null,"% of Strokes from Add Court Cross   2.0 - 2.5",null,{"$f":"SUM(F26/SUM(Cover!$B$32:$B$34))","v":7.6124567474048443E-2},{"$f":"SUM(F26/Cover!$C$18)","v":5.2009456264775412E-2},{"$f":"COUNTIFS(Data!$R:$R,\">0\",Data!$O:$O,\">5\",Data!$S:$S,\"<13\")","v":22}]
[null,"3.0 - 3.5",null,{"$f":"SUM(F27/SUM(Cover!$B$32:$B$34))","v":5.8823529411764705E-2},{"$f":"SUM(F27/Cover!$C$18)","v":4.0189125295508277E-2},{"$f":"COUNTIFS(Data!$R:$R,\">0\",Data!$O:$O,\">5\",Data!$S:$S,\"<10\")","v":17}]
[null,"4.0 - 4.5",null,{"$f":"SUM(F28/SUM(Cover!$B$32:$B$34))","v":3.8062283737024222E-2},{"$f":"SUM(F28/Cover!$C$18)","v":2.6004728132387706E-2},{"$f":"COUNTIFS(Data!$R:$R,\">0\",Data!$O:$O,\">5\",Data!$S:$S,\"<7\")","v":11}]
[null,"5.0 - 5.5",null,{"$f":"SUM(F29/SUM(Cover!$B$32:$B$34))","v":2.768166089965398E-2},{"$f":"SUM(F29/Cover!$C$18)","v":1.8912529550827423E-2},{"$f":"COUNTIFS(Data!$R:$R,\">0\",Data!$O:$O,\">5\",Data!$S:$S,\"<5\")","v":8}]
[null,"6.0 - 6.5",null,{"$f":"SUM(F30/SUM(Cover!$B$32:$B$34))","v":1.7301038062283738E-2},{"$f":"SUM(F30/Cover!$C$18)","v":1.1820330969267139E-2},{"$f":"COUNTIFS(Data!$R:$R,\">0\",Data!$O:$O,\">5\",Data!$S:$S,\"<4\")","v":5}]
[null,7,null,{"$f":"SUM(F31/SUM(Cover!$B$32:$B$34))","v":1.384083044982699E-2},{"$f":"SUM(F31/Cover!$C$18)","v":9.4562647754137114E-3},{"$f":"COUNTIFS(Data!$R:$R,\">0\",Data!$O:$O,\">5\",Data!$S:$S,\"<3\")","v":4}]
[null,"% of Strokes from Add Court Line   2.0 - 2.5",null,{"$f":"SUM(F32/SUM(Cover!$B$32:$B$34))","v":4.8442906574394463E-2},{"$f":"SUM(F32/Cover!$C$18)","v":3.309692671394799E-2},{"$f":"COUNTIFS(Data!$R:$R,\">0\",Data!$O:$O,\">5\",Data!$S:$S,\">13\")","v":14}]
[null,"3.0 - 3.5",null,{"$f":"SUM(F33/SUM(Cover!$B$32:$B$34))","v":2.4221453287197232E-2},{"$f":"SUM(F33/Cover!$C$18)","v":1.6548463356973995E-2},{"$f":"COUNTIFS(Data!$R:$R,\">0\",Data!$O:$O,\">5\",Data!$S:$S,\">18\")","v":7}]
[null,"4.0 - 4.5",null,{"$f":"SUM(F34/SUM(Cover!$B$32:$B$34))","v":1.7301038062283738E-2},{"$f":"SUM(F34/Cover!$C$18)","v":1.1820330969267139E-2},{"$f":"COUNTIFS(Data!$R:$R,\">0\",Data!$O:$O,\">5\",Data!$S:$S,\">20\")","v":5}]
[null,"5.0 - 5.5",null,{"$f":"SUM(F35/SUM(Cover!$B$32:$B$34))","v":1.0380622837370242E-2},{"$f":"SUM(F35/Cover!$C$18)","v":7.0921985815602835E-3},{"$f":"COUNTIFS(Data!$R:$R,\">0\",Data!$O:$O,\">5\",Data!$S:$S,\">22\")","v":3}]
[null,"6.0 - 6.5",null,{"$f":"SUM(F36/SUM(Cover!$B$32:$B$34))","v":6.920415224913495E-3},{"$f":"SUM(F36/Cover!$C$18)","v":4.7281323877068557E-3},{"$f":"COUNTIFS(Data!$R:$R,\">0\",Data!$O:$O,\">5\",Data!$S:$S,\">23\")","v":2}]
[null,7,null,{"$f":"SUM(F37/SUM(Cover!$B$32:$B$34))","v":6.920415224913495E-3},{"$f":"SUM(F37/Cover!$C$18)","v":4.7281323877068557E-3},{"$f":"COUNTIFS(Data!$R:$R,\">0\",Data!$O:$O,\">5\",Data!$S:$S,\">24\")","v":2}]

{"sheet":"Speed Report","index":3,"n_rows":21,"n_cols":7,"rows_kept":21,"cut":false,"hidden":false,"merged":[[20,1,20,2],[7,1,7,2],[8,1,8,2],[9,1,9,2],[10,1,10,2],[11,1,11,2],[12,1,12,2],[15,1,15,2],[16,1,16,2],[17,1,17,2],[18,1,18,2],[19,1,19,2]]}
[null,null,"Player",{"$f":"Data!H2","v":"Allen Gibson"},null,"Location",{"$f":"Data!AC2","v":"Lake Lynn"}]
[null,null,"Date",{"$f":"MAX(Data!G:G)","v":"2013-01-04"},null,"Surface",{"$f":"Data!AD2","v":"Hard"}]
[null,null,"Time",null,null,"Lighted",{"$f":"Data!AE2","v":"No"}]
[null,null,"Coach",{"$f":"Data!AA2","v":"Robert Allen Gibson"},null,"Session",{"$f":"IF(MIN(Data!X:X)=MAX(Data!$X:$X),MAX(Data!$X:$X),\"All\")","v":"All"}]
[]
[]
[null,null,null,"Out of",{"$f":"TEXT(SUM(Cover!B32:B34),0) & \" Strokes the following were at each level\"","v":"289 Strokes the following were at each level"}]
[null,"Speed Averages for Ground Strokes 2.0 - 2.5",null,"35 - 45 MPH",{"$f":"IF(NOT(Data!P:P=\"Player Serve\"),COUNTIFS(Data!U:U,\">0\",Data!U:U,\"<46\"),0)","v":130},{"$f":"SUM(E8/SUM(Cover!$B$32:$B$34))","v":0.44982698961937717}]
[null," High school  level # 5 and below   3.0 - 3.5",null,"45 - 55 MPH",{"$f":"IF(NOT(Data!P:P=\"Player Serve\"),COUNTIFS(Data!U:U,\">44\",Data!U:U,\"<56\"),0)","v":106},{"$f":"SUM(E9/SUM(Cover!$B$32:$B$34))","v":0.36678200692041524}]
[null,"High school level top 4 players   4.0 - 4.5",null,"55 - 69 MPH",{"$f":"IF(NOT(Data!P:P=\"Player Serve\"),COUNTIFS(Data!U:U,\">54\",Data!U:U,\"<70\"),0)","v":20},{"$f":"SUM(E10/SUM(Cover!$B$32:$B$34))","v":6.9204152249134954E-2}]
[null," College Level Players  5.0 - 5.5",null,"60 - 75 MPH",{"$f":"IF(NOT(Data!P:P=\"Player Serve\"),COUNTIFS(Data!U:U,\">59\",Data!U:U,\"<76\"),0)","v":4},{"$f":"SUM(E11/SUM(Cover!$B$32:$B$34))","v":1.384083044982699E-2}]
[null," National level Pros Low International 6.0 - 6.5",null,"65 - 80 MPH",{"$f":"IF(NOT(Data!P:P=\"Player Serve\"),COUNTIFS(Data!U:U,\">64\",Data!U:U,\"<81\"),0)","v":0},{"$f":"SUM(E12/SUM(Cover!$B$32:$B$34))","v":0}]
[null," International Level Pros  7.0",null,"65 - 89 MPH",{"$f":"COUNTIFS(Data!P:P,NOT(ServesSetUp!$P$1),Data!U:U,\">64\",Data!U:U,\"<101\")","v":0},{"$f":"SUM(E13/SUM(Cover!$B$32:$B$34))","v":0}]
[]
[null,null,null,"Out of",{"$f":"TEXT(SUM(Serves!B8),0) & \" Serves the following were at each level\"","v":"60 Serves the following were at each level"}]
[null,"Speed Averages for Serves Strokes 2.0 - 2.5",null,"45 - 50 MPH",{"$f":"COUNTIFS(ServeData!$P:$P,ServesSetUp!$P$1,ServeData!U:U,\">0\",ServeData!U:U,\"<51\")","v":1},{"$f":"SUM(E16/SUM(Cover!$B$32:$B$34))","v":3.4602076124567475E-3}]
[null," High school  level # 5 and below   3.0 - 3.5",null,"50 - 65 MPH",{"$f":"COUNTIFS(ServeData!$P:$P,ServesSetUp!$P$1,ServeData!U:U,\">49\",ServeData!U:U,\"<66\")","v":2},{"$f":"SUM(E17/SUM(Cover!$B$32:$B$34))","v":6.920415224913495E-3}]
[null,"High school level top 4 players   4.0 - 4.5",null,"65 - 90 MPH",{"$f":"COUNTIFS(ServeData!$P:$P,ServesSetUp!$P$1,ServeData!U:U,\">64\",ServeData!U:U,\"<91\")","v":2},{"$f":"SUM(E18/SUM(Cover!$B$32:$B$34))","v":6.920415224913495E-3}]
[null," College Level Players  5.0 - 5.5",null,"75 - 112 MPH",{"$f":"COUNTIFS(ServeData!$P:$P,ServesSetUp!$P$1,ServeData!U:U,\">74\",ServeData!U:U,\"<113\")","v":28},{"$f":"SUM(E19/SUM(Cover!$B$32:$B$34))","v":9.6885813148788927E-2}]
[null," National level Pros Low International 6.0 - 6.5",null,"80 - 130 MPH",{"$f":"COUNTIFS(ServeData!$P:$P,ServesSetUp!$P$1,ServeData!U:U,\">79\",ServeData!U:U,\"<131\")","v":40},{"$f":"SUM(E20/SUM(Cover!$B$32:$B$34))","v":0.13840830449826991}]
[null," International Level Pros  7.0",null,"80 - 164 MPH",{"$f":"COUNTIFS(ServeData!$P:$P,ServesSetUp!$P$1,ServeData!U:U,\">79\",ServeData!U:U,\"<165\")","v":42},{"$f":"SUM(E21/SUM(Cover!$B$32:$B$34))","v":0.1453287197231834}]

{"sheet":"Report","index":4,"n_rows":734,"n_cols":19,"rows_kept":734,"cut":false,"hidden":false,"merged":[]}
[null,null,null,null,null,null,null,"Player"]
[null,null,null,null,null,null,null,{"$f":"IF(ISERROR(INDEX(Data!H:H,Report!$B5)),\"\",INDEX(Data!H:H,Report!$B5))","v":"Allen Gibson"}]
[]
[null,null,null,null,"Point","Serve",null,"ball#","Shot Type","Direction","Level","Depth","Width","Score","Speed","Total",null,"Width","Depth"]
[1,{"$f":"IF(ISERROR(MATCH(A5,Data!A:A,0)),\"\",MATCH(A5,Data!A:A,0))","v":2},null,null,{"$f":"IF(ISERROR(INDEX(Data!K:K,Report!$B5)),\"\",INDEX(Data!K:K,Report!$B5))","v":"Boomer's point"},{"$f":"IF(ISERROR(INDEX(Data!L:L,Report!$B5)),\"\",INDEX(Data!L:L,Report!$B5))","v":"New Point"},null,{"$f":"IF(ISERROR(INDEX(Data!N:N,Report!$B5)),\"\",INDEX(Data!N:N,Report!$B5))","v":1},{"$f":"IF(ISERROR(INDEX(Data!P:P,Report!$B5)),\"\",INDEX(Data!P:P,Report!$B5))","v":"Player Serve"},{"$f":"IF(ISERROR(INDEX(Data!O:O,Report!$B5)),\"\",INDEX(Data!O:O,Report!$B5))","v":4},{"$f":"IF(ISERROR(INDEX(Data!Q:Q,Report!$B5)),\"\",INDEX(Data!Q:Q,Report!$B5))","v":2},{"$f":"IF(ISERROR(INDEX(Data!R:R,Report!$B5)),\"\",INDEX(Data!R:R,Report!$B5))","v":0},{"$f":"IF(ISERROR(INDEX(Data!S:S,Report!$B5)),\"\",INDEX(Data!S:S,Report!$B5))","v":0},{"$f":"IF(ISERROR(INDEX(Data!T:T,Report!$B5)),\"\",INDEX(Data!T:T,Report!$B5))","v":0},{"$f":"IF(ISERROR(INDEX(Data!U:U,Report!$B5)),\"\",INDEX(Data!U:U,Report!$B5))","v":0},{"$f":"IF(ISERROR(INDEX(Data!V:V,Report!$B5)),\"\",INDEX(Data!V:V,Report!$B5))","v":0},null,{"$f":"IF(H5=0,\"\",IF(ISERROR(REPT(\" \",L5) & \"|\"),\"\",REPT(\" \",L5) & \"|\"))","v":"|"},{"$f":"IF(ISERROR(REPT(\"|\",M5/2)),\"\",REPT(\"|\",M5/2))","v":""}]
[{"$f":"A5+1","v":2},{"$f":"IF(ISERROR(MATCH(A6,Data!A:A,0)),\"\",MATCH(A6,Data!A:A,0))","v":""},{"$f":"IF(ISERROR(INDEX(Data!I:I,Report!$B6)),\"\",INDEX(Data!I:I,Report!$B6))","v":""},{"$f":"IF(ISERROR(INDEX(Data!J:J,Report!$B6)),\"\",INDEX(Data!J:J,Report!$B6))","v":""},{"$f":"IF(ISERROR(INDEX(Data!K:K,Report!$B6)),\"\",INDEX(Data!K:K,Report!$B6))","v":""},{"$f":"IF(ISERROR(INDEX(Data!L:L,Report!$B6)),\"\",INDEX(Data!L:L,Report!$B6))","v":""},null,{"$f":"IF(ISERROR(INDEX(Data!N:N,Report!$B6)),\"\",INDEX(Data!N:N,Report!$B6))","v":""},{"$f":"IF(ISERROR(INDEX(Data!P:P,Report!$B6)),\"\",INDEX(Data!P:P,Report!$B6))","v":""},{"$f":"IF(ISERROR(INDEX(Data!O:O,Report!$B6)),\"\",INDEX(Data!O:O,Report!$B6))","v":""},{"$f":"IF(ISERROR(INDEX(Data!Q:Q,Report!$B6)),\"\",INDEX(Data!Q:Q,Report!$B6))","v":""},{"$f":"IF(ISERROR(INDEX(Data!R:R,Report!$B6)),\"\",INDEX(Data!R:R,Report!$B6))","v":""},{"$f":"IF(ISERROR(INDEX(Data!S:S,Report!$B6)),\"\",INDEX(Data!S:S,Report!$B6))","v":""},{"$f":"IF(ISERROR(INDEX(Data!T:T,Report!$B6)),\"\",INDEX(Data!T:T,Report!$B6))","v":""},{"$f":"IF(ISERROR(INDEX(Data!U:U,Report!$B6)),\"\",INDEX(Data!U:U,Report!$B6))","v":""},{"$f":"IF(ISERROR(INDEX(Data!V:V,Report!$B6)),\"\",INDEX(Data!V:V,Report!$B6))","v":""},null,"",{"$f":"IF(ISERROR(REPT(\"|\",M6/2)),\"\",REPT(\"|\",M6/2))","v":""}]
[{"$f":"A6+1","v":3},{"$f":"IF(ISERROR(MATCH(A7,Data!A:A,0)),\"\",MATCH(A7,Data!A:A,0))","v":""},{"$f":"IF(ISERROR(INDEX(Data!I:I,Report!$B7)),\"\",INDEX(Data!I:I,Report!$B7))","v":""},{"$f":"IF(ISERROR(INDEX(Data!J:J,Report!$B7)),\"\",INDEX(Data!J:J,Report!$B7))","v":""},{"$f":"IF(ISERROR(INDEX(Data!K:K,Report!$B7)),\"\",INDEX(Data!K:K,Report!$B7))","v":""},{"$f":"IF(ISERROR(INDEX(Data!L:L,Report!$B7)),\"\",INDEX(Data!L:L,Report!$B7))","v":""},null,{"$f":"IF(ISERROR(INDEX(Data!N:N,Report!$B7)),\"\",INDEX(Data!N:N,Report!$B7))","v":""},{"$f":"IF(ISERROR(INDEX(Data!P:P,Report!$B7)),\"\",INDEX(Data!P:P,Report!$B7))","v":""},{"$f":"IF(ISERROR(INDEX(Data!O:O,Report!$B7)),\"\",INDEX(Data!O:O,Report!$B7))","v":""},{"$f":"IF(ISERROR(INDEX(Data!Q:Q,Report!$B7)),\"\",INDEX(Data!Q:Q,Report!$B7))","v":""},{"$f":"IF(ISERROR(INDEX(Data!R:R,Report!$B7)),\"\",INDEX(Data!R:R,Report!$B7))","v":""},{"$f":"IF(ISERROR(INDEX(Data!S:S,Report!$B7)),\"\",INDEX(Data!S:S,Report!$B7))","v":""},{"$f":"IF(ISERROR(INDEX(Data!T:T,Report!$B7)),\"\",INDEX(Data!T:T,Report!$B7))","v":""},{"$f":"IF(ISERROR(INDEX(Data!U:U,Report!$B7)),\"\",INDEX(Data!U:U,Report!$B7))","v":""},{"$f":"IF(ISERROR(INDEX(Data!V:V,Report!$B7)),\"\",INDEX(Data!V:V,Report!$B7))","v":""},null,"",""]
[4,{"$f":"IF(ISERROR(MATCH(A8,Data!A:A,0)),\"\",MATCH(A8,Data!A:A,0))","v":""},{"$f":"IF(ISERROR(INDEX(Data!I:I,Report!$B8)),\"\",INDEX(Data!I:I,Report!$B8))","v":""},{"$f":"IF(ISERROR(INDEX(Data!J:J,Report!$B8)),\"\",INDEX(Data!J:J,Report!$B8))","v":""},{"$f":"IF(ISERROR(INDEX(Data!K:K,Report!$B8)),\"\",INDEX(Data!K:K,Report!$B8))","v":""},{"$f":"IF(ISERROR(INDEX(Data!L:L,Report!$B8)),\"\",INDEX(Data!L:L,Report!$B8))","v":""},null,{"$f":"IF(ISERROR(INDEX(Data!N:N,Report!$B8)),\"\",INDEX(Data!N:N,Report!$B8))","v":""},{"$f":"IF(ISERROR(INDEX(Data!P:P,Report!$B8)),\"\",INDEX(Data!P:P,Report!$B8))","v":""},{"$f":"IF(ISERROR(INDEX(Data!O:O,Report!$B8)),\"\",INDEX(Data!O:O,Report!$B8))","v":""},{"$f":"IF(ISERROR(INDEX(Data!Q:Q,Report!$B8)),\"\",INDEX(Data!Q:Q,Report!$B8))","v":""},{"$f":"IF(ISERROR(INDEX(Data!R:R,Report!$B8)),\"\",INDEX(Data!R:R,Report!$B8))","v":""},{"$f":"IF(ISERROR(INDEX(Data!S:S,Report!$B8)),\"\",INDEX(Data!S:S,Report!$B8))","v":""},{"$f":"IF(ISERROR(INDEX(Data!T:T,Report!$B8)),\"\",INDEX(Data!T:T,Report!$B8))","v":""},{"$f":"IF(ISERROR(INDEX(Data!U:U,Report!$B8)),\"\",INDEX(Data!U:U,Report!$B8))","v":""},{"$f":"IF(ISERROR(INDEX(Data!V:V,Report!$B8)),\"\",INDEX(Data!V:V,Report!$B8))","v":""},null,"",""]
[5,{"$f":"IF(ISERROR(MATCH(A9,Data!A:A,0)),\"\",MATCH(A9,Data!A:A,0))","v":3},{"$f":"IF(ISERROR(INDEX(Data!I:I,Report!$B9)),\"\",INDEX(Data!I:I,Report!$B9))","v":" "},{"$f":"IF(ISERROR(INDEX(Data!J:J,Report!$B9)),\"\",INDEX(Data!J:J,Report!$B9))","v":"User Drill #85  3 line rated mini Tennis"},{"$f":"IF(ISERROR(INDEX(Data!K:K,Report!$B9)),\"\",INDEX(Data!K:K,Report!$B9))","v":0},{"$f":"IF(ISERROR(INDEX(Data!L:L,Report!$B9)),\"\",INDEX(Data!L:L,Report!$B9))","v":"New Point"},null,{"$f":"IF(ISERROR(INDEX(Data!N:N,Report!$B9)),\"\",INDEX(Data!N:N,Report!$B9))","v":1},{"$f":"IF(ISERROR(INDEX(Data!P:P,Report!$B9)),\"\",INDEX(Data!P:P,Report!$B9))","v":0},{"$f":"IF(ISERROR(INDEX(Data!O:O,Report!$B9)),\"\",INDEX(Data!O:O,Report!$B9))","v":11},{"$f":"IF(ISERROR(INDEX(Data!Q:Q,Report!$B9)),\"\",INDEX(Data!Q:Q,Report!$B9))","v":3.5},{"$f":"IF(ISERROR(INDEX(Data!R:R,Report!$B9)),\"\",INDEX(Data!R:R,Report!$B9))","v":0},{"$f":"IF(ISERROR(INDEX(Data!S:S,Report!$B9)),\"\",INDEX(Data!S:S,Report!$B9))","v":0},{"$f":"IF(ISERROR(INDEX(Data!T:T,Report!$B9)),\"\",INDEX(Data!T:T,Report!$B9))","v":0},{"$f":"IF(ISERROR(INDEX(Data!U:U,Report!$B9)),\"\",INDEX(Data!U:U,Report!$B9))","v":0},{"$f":"IF(ISERROR(INDEX(Data!V:V,Report!$B9)),\"\",INDEX(Data!V:V,Report!$B9))","v":0},null,"|",""]
[6,{"$f":"IF(ISERROR(MATCH(A10,Data!A:A,0)),\"\",MATCH(A10,Data!A:A,0))","v":""},{"$f":"IF(ISERROR(INDEX(Data!I:I,Report!$B10)),\"\",INDEX(Data!I:I,Report!$B10))","v":""},{"$f":"IF(ISERROR(INDEX(Data!J:J,Report!$B10)),\"\",INDEX(Data!J:J,Report!$B10))","v":""},{"$f":"IF(ISERROR(INDEX(Data!K:K,Report!$B10)),\"\",INDEX(Data!K:K,Report!$B10))","v":""},{"$f":"IF(ISERROR(INDEX(Data!L:L,Report!$B10)),\"\",INDEX(Data!L:L,Report!$B10))","v":""},null,{"$f":"IF(ISERROR(INDEX(Data!N:N,Report!$B10)),\"\",INDEX(Data!N:N,Report!$B10))","v":""},{"$f":"IF(ISERROR(INDEX(Data!P:P,Report!$B10)),\"\",INDEX(Data!P:P,Report!$B10))","v":""},{"$f":"IF(ISERROR(INDEX(Data!O:O,Report!$B10)),\"\",INDEX(Data!O:O,Report!$B10))","v":""},{"$f":"IF(ISERROR(INDEX(Data!Q:Q,Report!$B10)),\"\",INDEX(Data!Q:Q,Report!$B10))","v":""},{"$f":"IF(ISERROR(INDEX(Data!R:R,Report!$B10)),\"\",INDEX(Data!R:R,Report!$B10))","v":""},{"$f":"IF(ISERROR(INDEX(Data!S:S,Report!$B10)),\"\",INDEX(Data!S:S,Report!$B10))","v":""},{"$f":"IF(ISERROR(INDEX(Data!T:T,Report!$B10)),\"\",INDEX(Data!T:T,Report!$B10))","v":""},{"$f":"IF(ISERROR(INDEX(Data!U:U,Report!$B10)),\"\",INDEX(Data!U:U,Report!$B10))","v":""},{"$f":"IF(ISERROR(INDEX(Data!V:V,Report!$B10)),\"\",INDEX(Data!V:V,Report!$B10))","v":""},null,"",""]
[7,{"$f":"IF(ISERROR(MATCH(A11,Data!A:A,0)),\"\",MATCH(A11,Data!A:A,0))","v":""},{"$f":"IF(ISERROR(INDEX(Data!I:I,Report!$B11)),\"\",INDEX(Data!I:I,Report!$B11))","v":""},{"$f":"IF(ISERROR(INDEX(Data!J:J,Report!$B11)),\"\",INDEX(Data!J:J,Report!$B11))","v":""},{"$f":"IF(ISERROR(INDEX(Data!K:K,Report!$B11)),\"\",INDEX(Data!K:K,Report!$B11))","v":""},{"$f":"IF(ISERROR(INDEX(Data!L:L,Report!$B11)),\"\",INDEX(Data!L:L,Report!$B11))","v":""},null,{"$f":"IF(ISERROR(INDEX(Data!N:N,Report!$B11)),\"\",INDEX(Data!N:N,Report!$B11))","v":""},{"$f":"IF(ISERROR(INDEX(Data!P:P,Report!$B11)),\"\",INDEX(Data!P:P,Report!$B11))","v":""},{"$f":"IF(ISERROR(INDEX(Data!O:O,Report!$B11)),\"\",INDEX(Data!O:O,Report!$B11))","v":""},{"$f":"IF(ISERROR(INDEX(Data!Q:Q,Report!$B11)),\"\",INDEX(Data!Q:Q,Report!$B11))","v":""},{"$f":"IF(ISERROR(INDEX(Data!R:R,Report!$B11)),\"\",INDEX(Data!R:R,Report!$B11))","v":""},{"$f":"IF(ISERROR(INDEX(Data!S:S,Report!$B11)),\"\",INDEX(Data!S:S,Report!$B11))","v":""},{"$f":"IF(ISERROR(INDEX(Data!T:T,Report!$B11)),\"\",INDEX(Data!T:T,Report!$B11))","v":""},{"$f":"IF(ISERROR(INDEX(Data!U:U,Report!$B11)),\"\",INDEX(Data!U:U,Report!$B11))","v":""},{"$f":"IF(ISERROR(INDEX(Data!V:V,Report!$B11)),\"\",INDEX(Data!V:V,Report!$B11))","v":""},null,"",""]
[8,{"$f":"IF(ISERROR(MATCH(A12,Data!A:A,0)),\"\",MATCH(A12,Data!A:A,0))","v":""},{"$f":"IF(ISERROR(INDEX(Data!I:I,Report!$B12)),\"\",INDEX(Data!I:I,Report!$B12))","v":""},{"$f":"IF(ISERROR(INDEX(Data!J:J,Report!$B12)),\"\",INDEX(Data!J:J,Report!$B12))","v":""},{"$f":"IF(ISERROR(INDEX(Data!K:K,Report!$B12)),\"\",INDEX(Data!K:K,Report!$B12))","v":""},{"$f":"IF(ISERROR(INDEX(Data!L:L,Report!$B12)),\"\",INDEX(Data!L:L,Report!$B12))","v":""},null,{"$f":"IF(ISERROR(INDEX(Data!N:N,Report!$B12)),\"\",INDEX(Data!N:N,Report!$B12))","v":""},{"$f":"IF(ISERROR(INDEX(Data!P:P,Report!$B12)),\"\",INDEX(Data!P:P,Report!$B12))","v":""},{"$f":"IF(ISERROR(INDEX(Data!O:O,Report!$B12)),\"\",INDEX(Data!O:O,Report!$B12))","v":""},{"$f":"IF(ISERROR(INDEX(Data!Q:Q,Report!$B12)),\"\",INDEX(Data!Q:Q,Report!$B12))","v":""},{"$f":"IF(ISERROR(INDEX(Data!R:R,Report!$B12)),\"\",INDEX(Data!R:R,Report!$B12))","v":""},{"$f":"IF(ISERROR(INDEX(Data!S:S,Report!$B12)),\"\",INDEX(Data!S:S,Report!$B12))","v":""},{"$f":"IF(ISERROR(INDEX(Data!T:T,Report!$B12)),\"\",INDEX(Data!T:T,Report!$B12))","v":""},{"$f":"IF(ISERROR(INDEX(Data!U:U,Report!$B12)),\"\",INDEX(Data!U:U,Report!$B12))","v":""},{"$f":"IF(ISERROR(INDEX(Data!V:V,Report!$B12)),\"\",INDEX(Data!V:V,Report!$B12))","v":""},null,"",""]
[9,{"$f":"IF(ISERROR(MATCH(A13,Data!A:A,0)),\"\",MATCH(A13,Data!A:A,0))","v":4},{"$f":"IF(ISERROR(INDEX(Data!I:I,Report!$B13)),\"\",INDEX(Data!I:I,Report!$B13))","v":"04:33:05"},{"$f":"IF(ISERROR(INDEX(Data!J:J,Report!$B13)),\"\",INDEX(Data!J:J,Report!$B13))","v":"Game against Boomer at level 3.5  Single point data:"},{"$f":"IF(ISERROR(INDEX(Data!K:K,Report!$B13)),\"\",INDEX(Data!K:K,Report!$B13))","v":"Player's point"},{"$f":"IF(ISERROR(INDEX(Data!L:L,Report!$B13)),\"\",INDEX(Data!L:L,Report!$B13))","v":"New Point"},null,{"$f":"IF(ISERROR(INDEX(Data!N:N,Report!$B13)),\"\",INDEX(Data!N:N,Report!$B13))","v":1},{"$f":"IF(ISERROR(INDEX(Data!P:P,Report!$B13)),\"\",INDEX(Data!P:P,Report!$B13))","v":"Player Serve"},{"$f":"IF(ISERROR(INDEX(Data!O:O,Report!$B13)),\"\",INDEX(Data!O:O,Report!$B13))","v":4},{"$f":"IF(ISERROR(INDEX(Data!Q:Q,Report!$B13)),\"\",INDEX(Data!Q:Q,Report!$B13))","v":3.5},{"$f":"IF(ISERROR(INDEX(Data!R:R,Report!$B13)),\"\",INDEX(Data!R:R,Report!$B13))","v":0},{"$f":"IF(ISERROR(INDEX(Data!S:S,Report!$B13)),\"\",INDEX(Data!S:S,Report!$B13))","v":0},{"$f":"IF(ISERROR(INDEX(Data!T:T,Report!$B13)),\"\",INDEX(Data!T:T,Report!$B13))","v":0},{"$f":"IF(ISERROR(INDEX(Data!U:U,Report!$B13)),\"\",INDEX(Data!U:U,Report!$B13))","v":0},{"$f":"IF(ISERROR(INDEX(Data!V:V,Report!$B13)),\"\",INDEX(Data!V:V,Report!$B13))","v":0},null,"|",""]
[10,{"$f":"IF(ISERROR(MATCH(A14,Data!A:A,0)),\"\",MATCH(A14,Data!A:A,0))","v":5},{"$f":"IF(ISERROR(INDEX(Data!I:I,Report!$B14)),\"\",INDEX(Data!I:I,Report!$B14))","v":"04:33:05"},{"$f":"IF(ISERROR(INDEX(Data!J:J,Report!$B14)),\"\",INDEX(Data!J:J,Report!$B14))","v":"Game against Boomer at level 3.5  Single point data:"},{"$f":"IF(ISERROR(INDEX(Data!K:K,Report!$B14)),\"\",INDEX(Data!K:K,Report!$B14))","v":"Player's point"},{"$f":"IF(ISERROR(INDEX(Data!L:L,Report!$B14)),\"\",INDEX(Data!L:L,Report!$B14))","v":0},null,{"$f":"IF(ISERROR(INDEX(Data!N:N,Report!$B14)),\"\",INDEX(Data!N:N,Report!$B14))","v":2},{"$f":"IF(ISERROR(INDEX(Data!P:P,Report!$B14)),\"\",INDEX(Data!P:P,Report!$B14))","v":"Player Serve"},{"$f":"IF(ISERROR(INDEX(Data!O:O,Report!$B14)),\"\",INDEX(Data!O:O,Report!$B14))","v":4},{"$f":"IF(ISERROR(INDEX(Data!Q:Q,Report!$B14)),\"\",INDEX(Data!Q:Q,Report!$B14))","v":3.5},{"$f":"IF(ISERROR(INDEX(Data!R:R,Report!$B14)),\"\",INDEX(Data!R:R,Report!$B14))","v":16},{"$f":"IF(ISERROR(INDEX(Data!S:S,Report!$B14)),\"\",INDEX(Data!S:S,Report!$B14))","v":21},{"$f":"IF(ISERROR(INDEX(Data!T:T,Report!$B14)),\"\",INDEX(Data!T:T,Report!$B14))","v":3.6},{"$f":"IF(ISERROR(INDEX(Data!U:U,Report!$B14)),\"\",INDEX(Data!U:U,Report!$B14))","v":54},{"$f":"IF(ISERROR(INDEX(Data!V:V,Report!$B14)),\"\",INDEX(Data!V:V,Report!$B14))","v":3.5},null,"                |","||||||||||"]
[11,{"$f":"IF(ISERROR(MATCH(A15,Data!A:A,0)),\"\",MATCH(A15,Data!A:A,0))","v":6},{"$f":"IF(ISERROR(INDEX(Data!I:I,Report!$B15)),\"\",INDEX(Data!I:I,Report!$B15))","v":" "},{"$f":"IF(ISERROR(INDEX(Data!J:J,Report!$B15)),\"\",INDEX(Data!J:J,Report!$B15))","v":"User Drill #85  3 line rated mini Tennis"},{"$f":"IF(ISERROR(INDEX(Data!K:K,Report!$B15)),\"\",INDEX(Data!K:K,Report!$B15))","v":0},{"$f":"IF(ISERROR(INDEX(Data!L:L,Report!$B15)),\"\",INDEX(Data!L:L,Report!$B15))","v":0},null,{"$f":"IF(ISERROR(INDEX(Data!N:N,Report!$B15)),\"\",INDEX(Data!N:N,Report!$B15))","v":2},{"$f":"IF(ISERROR(INDEX(Data!P:P,Report!$B15)),\"\",INDEX(Data!P:P,Report!$B15))","v":0},{"$f":"IF(ISERROR(INDEX(Data!O:O,Report!$B15)),\"\",INDEX(Data!O:O,Report!$B15))","v":4},{"$f":"IF(ISERROR(INDEX(Data!Q:Q,Report!$B15)),\"\",INDEX(Data!Q:Q,Report!$B15))","v":3.5},{"$f":"IF(ISERROR(INDEX(Data!R:R,Report!$B15)),\"\",INDEX(Data!R:R,Report!$B15))","v":2},{"$f":"IF(ISERROR(INDEX(Data!S:S,Report!$B15)),\"\",INDEX(Data!S:S,Report!$B15))","v":0},{"$f":"IF(ISERROR(INDEX(Data!T:T,Report!$B15)),\"\",INDEX(Data!T:T,Report!$B15))","v":7},{"$f":"IF(ISERROR(INDEX(Data!U:U,Report!$B15)),\"\",INDEX(Data!U:U,Report!$B15))","v":0},{"$f":"IF(ISERROR(INDEX(Data!V:V,Report!$B15)),\"\",INDEX(Data!V:V,Report!$B15))","v":4},null,"  |",""]
[12,{"$f":"IF(ISERROR(MATCH(A16,Data!A:A,0)),\"\",MATCH(A16,Data!A:A,0))","v":7},{"$f":"IF(ISERROR(INDEX(Data!I:I,Report!$B16)),\"\",INDEX(Data!I:I,Report!$B16))","v":"00:31:35"},{"$f":"IF(ISERROR(INDEX(Data!J:J,Report!$B16)),\"\",INDEX(Data!J:J,Report!$B16))","v":"Game against Boomer at level 2.0  Single point data:"},{"$f":"IF(ISERROR(INDEX(Data!K:K,Report!$B16)),\"\",INDEX(Data!K:K,Report!$B16))","v":"Boomer's point"},{"$f":"IF(ISERROR(INDEX(Data!L:L,Report!$B16)),\"\",INDEX(Data!L:L,Report!$B16))","v":0},null,{"$f":"IF(ISERROR(INDEX(Data!N:N,Report!$B16)),\"\",INDEX(Data!N:N,Report!$B16))","v":2},{"$f":"IF(ISERROR(INDEX(Data!P:P,Report!$B16)),\"\",INDEX(Data!P:P,Report!$B16))","v":"Player Serve"},{"$f":"IF(ISERROR(INDEX(Data!O:O,Report!$B16)),\"\",INDEX(Data!O:O,Report!$B16))","v":4},{"$f":"IF(ISERROR(INDEX(Data!Q:Q,Report!$B16)),\"\",INDEX(Data!Q:Q,Report!$B16))","v":2},{"$f":"IF(ISERROR(INDEX(Data!R:R,Report!$B16)),\"\",INDEX(Data!R:R,Report!$B16))","v":0},{"$f":"IF(ISERROR(INDEX(Data!S:S,Report!$B16)),\"\",INDEX(Data!S:S,Report!$B16))","v":0},{"$f":"IF(ISERROR(INDEX(Data!T:T,Report!$B16)),\"\",INDEX(Data!T:T,Report!$B16))","v":0},{"$f":"IF(ISERROR(INDEX(Data!U:U,Report!$B16)),\"\",INDEX(Data!U:U,Report!$B16))","v":0},{"$f":"IF(ISERROR(INDEX(Data!V:V,Report!$B16)),\"\",INDEX(Data!V:V,Report!$B16))","v":0},null,"|",""]
[13,{"$f":"IF(ISERROR(MATCH(A17,Data!A:A,0)),\"\",MATCH(A17,Data!A:A,0))","v":8},{"$f":"IF(ISERROR(INDEX(Data!I:I,Report!$B17)),\"\",INDEX(Data!I:I,Report!$B17))","v":"04:33:05"},{"$f":"IF(ISERROR(INDEX(Data!J:J,Report!$B17)),\"\",INDEX(Data!J:J,Report!$B17))","v":"Game against Boomer at level 3.5  Single point data:"},{"$f":"IF(ISERROR(INDEX(Data!K:K,Report!$B17)),\"\",INDEX(Data!K:K,Report!$B17))","v":"Player's point"},{"$f":"IF(ISERROR(INDEX(Data!L:L,Report!$B17)),\"\",INDEX(Data!L:L,Report!$B17))","v":0},null,{"$f":"IF(ISERROR(INDEX(Data!N:N,Report!$B17)),\"\",INDEX(Data!N:N,Report!$B17))","v":3},{"$f":"IF(ISERROR(INDEX(Data!P:P,Report!$B17)),\"\",INDEX(Data!P:P,Report!$B17))","v":"Slice"},{"$f":"IF(ISERROR(INDEX(Data!O:O,Report!$B17)),\"\",INDEX(Data!O:O,Report!$B17))","v":3},{"$f":"IF(ISERROR(INDEX(Data!Q:Q,Report!$B17)),\"\",INDEX(Data!Q:Q,Report!$B17))","v":3.5},{"$f":"IF(ISERROR(INDEX(Data!R:R,Report!$B17)),\"\",INDEX(Data!R:R,Report!$B17))","v":27},{"$f":"IF(ISERROR(INDEX(Data!S:S,Report!$B17)),\"\",INDEX(Data!S:S,Report!$B17))","v":9},{"$f":"IF(ISERROR(INDEX(Data!T:T,Report!$B17)),\"\",INDEX(Data!T:T,Report!$B17))","v":4.7},{"$f":"IF(ISERROR(INDEX(Data!U:U,Report!$B17)),\"\",INDEX(Data!U:U,Report!$B17))","v":38},{"$f":"IF(ISERROR(INDEX(Data!V:V,Report!$B17)),\"\",INDEX(Data!V:V,Report!$B17))","v":3.8},null,"                           |","||||"]
[14,{"$f":"IF(ISERROR(MATCH(A18,Data!A:A,0)),\"\",MATCH(A18,Data!A:A,0))","v":9},{"$f":"IF(ISERROR(INDEX(Data!I:I,Report!$B18)),\"\",INDEX(Data!I:I,Report!$B18))","v":" "},{"$f":"IF(ISERROR(INDEX(Data!J:J,Report!$B18)),\"\",INDEX(Data!J:J,Report!$B18))","v":"User Drill #85  3 line rated mini Tennis"},{"$f":"IF(ISERROR(INDEX(Data!K:K,Report!$B18)),\"\",INDEX(Data!K:K,Report!$B18))","v":0},{"$f":"IF(ISERROR(INDEX(Data!L:L,Report!$B18)),\"\",INDEX(Data!L:L,Report!$B18))","v":0},null,{"$f":"IF(ISERROR(INDEX(Data!N:N,Report!$B18)),\"\",INDEX(Data!N:N,Report!$B18))","v":3},{"$f":"IF(ISERROR(INDEX(Data!P:P,Report!$B18)),\"\",INDEX(Data!P:P,Report!$B18))","v":0},{"$f":"IF(ISERROR(INDEX(Data!O:O,Report!$B18)),\"\",INDEX(Data!O:O,Report!$B18))","v":10},{"$f":"IF(ISERROR(INDEX(Data!Q:Q,Report!$B18)),\"\",INDEX(Data!Q:Q,Report!$B18))","v":3.5},{"$f":"IF(ISERROR(INDEX(Data!R:R,Report!$B18)),\"\",INDEX(Data!R:R,Report!$B18))","v":0},{"$f":"IF(ISERROR(INDEX(Data!S:S,Report!$B18)),\"\",INDEX(Data!S:S,Report!$B18))","v":0},{"$f":"IF(ISERROR(INDEX(Data!T:T,Report!$B18)),\"\",INDEX(Data!T:T,Report!$B18))","v":0},{"$f":"IF(ISERROR(INDEX(Data!U:U,Report!$B18)),\"\",INDEX(Data!U:U,Report!$B18))","v":0},{"$f":"IF(ISERROR(INDEX(Data!V:V,Report!$B18)),\"\",INDEX(Data!V:V,Report!$B18))","v":0},null,"|",""]
[15,{"$f":"IF(ISERROR(MATCH(A19,Data!A:A,0)),\"\",MATCH(A19,Data!A:A,0))","v":10},{"$f":"IF(ISERROR(INDEX(Data!I:I,Report!$B19)),\"\",INDEX(Data!I:I,Report!$B19))","v":"04:33:05"},{"$f":"IF(ISERROR(INDEX(Data!J:J,Report!$B19)),\"\",INDEX(Data!J:J,Report!$B19))","v":"Game against Boomer at level 3.5  Single point data:"},{"$f":"IF(ISERROR(INDEX(Data!K:K,Report!$B19)),\"\",INDEX(Data!K:K,Report!$B19))","v":"Player's point"},{"$f":"IF(ISERROR(INDEX(Data!L:L,Report!$B19)),\"\",INDEX(Data!L:L,Report!$B19))","v":0},null,{"$f":"IF(ISERROR(INDEX(Data!N:N,Report!$B19)),\"\",INDEX(Data!N:N,Report!$B19))","v":4},{"$f":"IF(ISERROR(INDEX(Data!P:P,Report!$B19)),\"\",INDEX(Data!P:P,Report!$B19))","v":"Topspin"},{"$f":"IF(ISERROR(INDEX(Data!O:O,Report!$B19)),\"\",INDEX(Data!O:O,Report!$B19))","v":4},{"$f":"IF(ISERROR(INDEX(Data!Q:Q,Report!$B19)),\"\",INDEX(Data!Q:Q,Report!$B19))","v":3.5},{"$f":"IF(ISERROR(INDEX(Data!R:R,Report!$B19)),\"\",INDEX(Data!R:R,Report!$B19))","v":27},{"$f":"IF(ISERROR(INDEX(Data!S:S,Report!$B19)),\"\",INDEX(Data!S:S,Report!$B19))","v":5},{"$f":"IF(ISERROR(INDEX(Data!T:T,Report!$B19)),\"\",INDEX(Data!T:T,Report!$B19))","v":5.2},{"$f":"IF(ISERROR(INDEX(Data!U:U,Report!$B19)),\"\",INDEX(Data!U:U,Report!$B19))","v":45},{"$f":"IF(ISERROR(INDEX(Data!V:V,Report!$B19)),\"\",INDEX(Data!V:V,Report!$B19))","v":5.2},null,"                           |","||"]
[16,{"$f":"IF(ISERROR(MATCH(A20,Data!A:A,0)),\"\",MATCH(A20,Data!A:A,0))","v":11},{"$f":"IF(ISERROR(INDEX(Data!I:I,Report!$B20)),\"\",INDEX(Data!I:I,Report!$B20))","v":"04:33:05"},{"$f":"IF(ISERROR(INDEX(Data!J:J,Report!$B20)),\"\",INDEX(Data!J:J,Report!$B20))","v":"Game against Boomer at level 3.5  Single point data:"},{"$f":"IF(ISERROR(INDEX(Data!K:K,Report!$B20)),\"\",INDEX(Data!K:K,Report!$B20))","v":"Player's point"},{"$f":"IF(ISERROR(INDEX(Data!L:L,Report!$B20)),\"\",INDEX(Data!L:L,Report!$B20))","v":0},null,{"$f":"IF(ISERROR(INDEX(Data!N:N,Report!$B20)),\"\",INDEX(Data!N:N,Report!$B20))","v":5},{"$f":"IF(ISERROR(INDEX(Data!P:P,Report!$B20)),\"\",INDEX(Data!P:P,Report!$B20))","v":"Flat Drive"},{"$f":"IF(ISERROR(INDEX(Data!O:O,Report!$B20)),\"\",INDEX(Data!O:O,Report!$B20))","v":3},{"$f":"IF(ISERROR(INDEX(Data!Q:Q,Report!$B20)),\"\",INDEX(Data!Q:Q,Report!$B20))","v":3.5},{"$f":"IF(ISERROR(INDEX(Data!R:R,Report!$B20)),\"\",INDEX(Data!R:R,Report!$B20))","v":21},{"$f":"IF(ISERROR(INDEX(Data!S:S,Report!$B20)),\"\",INDEX(Data!S:S,Report!$B20))","v":20},{"$f":"IF(ISERROR(INDEX(Data!T:T,Report!$B20)),\"\",INDEX(Data!T:T,Report!$B20))","v":4.2},{"$f":"IF(ISERROR(INDEX(Data!U:U,Report!$B20)),\"\",INDEX(Data!U:U,Report!$B20))","v":42},{"$f":"IF(ISERROR(INDEX(Data!V:V,Report!$B20)),\"\",INDEX(Data!V:V,Report!$B20))","v":3.7},null,"                     |","||||||||||"]
[17,{"$f":"IF(ISERROR(MATCH(A21,Data!A:A,0)),\"\",MATCH(A21,Data!A:A,0))","v":12},{"$f":"IF(ISERROR(INDEX(Data!I:I,Report!$B21)),\"\",INDEX(Data!I:I,Report!$B21))","v":"04:33:05"},{"$f":"IF(ISERROR(INDEX(Data!J:J,Report!$B21)),\"\",INDEX(Data!J:J,Report!$B21))","v":"Game against Boomer at level 3.5  Single point data:"},{"$f":"IF(ISERROR(INDEX(Data!K:K,Report!$B21)),\"\",INDEX(Data!K:K,Report!$B21))","v":"Player's point"},{"$f":"IF(ISERROR(INDEX(Data!L:L,Report!$B21)),\"\",INDEX(Data!L:L,Report!$B21))","v":0},null,{"$f":"IF(ISERROR(INDEX(Data!N:N,Report!$B21)),\"\",INDEX(Data!N:N,Report!$B21))","v":6},{"$f":"IF(ISERROR(INDEX(Data!P:P,Report!$B21)),\"\",INDEX(Data!P:P,Report!$B21))","v":"Lob"},{"$f":"IF(ISERROR(INDEX(Data!O:O,Report!$B21)),\"\",INDEX(Data!O:O,Report!$B21))","v":4},{"$f":"IF(ISERROR(INDEX(Data!Q:Q,Report!$B21)),\"\",INDEX(Data!Q:Q,Report!$B21))","v":3.5},{"$f":"IF(ISERROR(INDEX(Data!R:R,Report!$B21)),\"\",INDEX(Data!R:R,Report!$B21))","v":30},{"$f":"IF(ISERROR(INDEX(Data!S:S,Report!$B21)),\"\",INDEX(Data!S:S,Report!$B21))","v":10},{"$f":"IF(ISERROR(INDEX(Data!T:T,Report!$B21)),\"\",INDEX(Data!T:T,Report!$B21))","v":4.5999999999999996},{"$f":"IF(ISERROR(INDEX(Data!U:U,Report!$B21)),\"\",INDEX(Data!U:U,Report!$B21))","v":48},{"$f":"IF(ISERROR(INDEX(Data!V:V,Report!$B21)),\"\",INDEX(Data!V:V,Report!$B21))","v":5.0999999999999996},null,"                              |","|||||"]
[18,{"$f":"IF(ISERROR(MATCH(A22,Data!A:A,0)),\"\",MATCH(A22,Data!A:A,0))","v":13},{"$f":"IF(ISERROR(INDEX(Data!I:I,Report!$B22)),\"\",INDEX(Data!I:I,Report!$B22))","v":"04:33:05"},{"$f":"IF(ISERROR(INDEX(Data!J:J,Report!$B22)),\"\",INDEX(Data!J:J,Report!$B22))","v":"Game against Boomer at level 3.5  Single point data:"},{"$f":"IF(ISERROR(INDEX(Data!K:K,Report!$B22)),\"\",INDEX(Data!K:K,Report!$B22))","v":"Player's point"},{"$f":"IF(ISERROR(INDEX(Data!L:L,Report!$B22)),\"\",INDEX(Data!L:L,Report!$B22))","v":0},null,{"$f":"IF(ISERROR(INDEX(Data!N:N,Report!$B22)),\"\",INDEX(Data!N:N,Report!$B22))","v":7},{"$f":"IF(ISERROR(INDEX(Data!P:P,Report!$B22)),\"\",INDEX(Data!P:P,Report!$B22))","v":"Pass"},{"$f":"IF(ISERROR(INDEX(Data!O:O,Report!$B22)),\"\",INDEX(Data!O:O,Report!$B22))","v":3},{"$f":"IF(ISERROR(INDEX(Data!Q:Q,Report!$B22)),\"\",INDEX(Data!Q:Q,Report!$B22))","v":3.5},{"$f":"IF(ISERROR(INDEX(Data!R:R,Report!$B22)),\"\",INDEX(Data!R:R,Report!$B22))","v":23},{"$f":"IF(ISERROR(INDEX(Data!S:S,Report!$B22)),\"\",INDEX(Data!S:S,Report!$B22))","v":22},{"$f":"IF(ISERROR(INDEX(Data!T:T,Report!$B22)),\"\",INDEX(Data!T:T,Report!$B22))","v":4.5},{"$f":"IF(ISERROR(INDEX(Data!U:U,Report!$B22)),\"\",INDEX(Data!U:U,Report!$B22))","v":32},{"$f":"IF(ISERROR(INDEX(Data!V:V,Report!$B22)),\"\",INDEX(Data!V:V,Report!$B22))","v":3.5},null,"                       |","|||||||||||"]
[19,{"$f":"IF(ISERROR(MATCH(A23,Data!A:A,0)),\"\",MATCH(A23,Data!A:A,0))","v":14},{"$f":"IF(ISERROR(INDEX(Data!I:I,Report!$B23)),\"\",INDEX(Data!I:I,Report!$B23))","v":"04:33:05"},{"$f":"IF(ISERROR(INDEX(Data!J:J,Report!$B23)),\"\",INDEX(Data!J:J,Report!$B23))","v":"Game against Boomer at level 3.5  Single point data:"},{"$f":"IF(ISERROR(INDEX(Data!K:K,Report!$B23)),\"\",INDEX(Data!K:K,Report!$B23))","v":"Player's point"},{"$f":"IF(ISERROR(INDEX(Data!L:L,Report!$B23)),\"\",INDEX(Data!L:L,Report!$B23))","v":0},null,{"$f":"IF(ISERROR(INDEX(Data!N:N,Report!$B23)),\"\",INDEX(Data!N:N,Report!$B23))","v":8},{"$f":"IF(ISERROR(INDEX(Data!P:P,Report!$B23)),\"\",INDEX(Data!P:P,Report!$B23))","v":"Flat Drive"},{"$f":"IF(ISERROR(INDEX(Data!O:O,Report!$B23)),\"\",INDEX(Data!O:O,Report!$B23))","v":4},{"$f":"IF(ISERROR(INDEX(Data!Q:Q,Report!$B23)),\"\",INDEX(Data!Q:Q,Report!$B23))","v":3.5},{"$f":"IF(ISERROR(INDEX(Data!R:R,Report!$B23)),\"\",INDEX(Data!R:R,Report!$B23))","v":26},{"$f":"IF(ISERROR(INDEX(Data!S:S,Report!$B23)),\"\",INDEX(Data!S:S,Report!$B23))","v":4},{"$f":"IF(ISERROR(INDEX(Data!T:T,Report!$B23)),\"\",INDEX(Data!T:T,Report!$B23))","v":6.2},{"$f":"IF(ISERROR(INDEX(Data!U:U,Report!$B23)),\"\",INDEX(Data!U:U,Report!$B23))","v":44},{"$f":"IF(ISERROR(INDEX(Data!V:V,Report!$B23)),\"\",INDEX(Data!V:V,Report!$B23))","v":5.6},null,"                          |","||"]
[20,{"$f":"IF(ISERROR(MATCH(A24,Data!A:A,0)),\"\",MATCH(A24,Data!A:A,0))","v":""},{"$f":"IF(ISERROR(INDEX(Data!I:I,Report!$B24)),\"\",INDEX(Data!I:I,Report!$B24))","v":""},{"$f":"IF(ISERROR(INDEX(Data!J:J,Report!$B24)),\"\",INDEX(Data!J:J,Report!$B24))","v":""},{"$f":"IF(ISERROR(INDEX(Data!K:K,Report!$B24)),\"\",INDEX(Data!K:K,Report!$B24))","v":""},{"$f":"IF(ISERROR(INDEX(Data!L:L,Report!$B24)),\"\",INDEX(Data!L:L,Report!$B24))","v":""},null,{"$f":"IF(ISERROR(INDEX(Data!N:N,Report!$B24)),\"\",INDEX(Data!N:N,Report!$B24))","v":""},{"$f":"IF(ISERROR(INDEX(Data!P:P,Report!$B24)),\"\",INDEX(Data!P:P,Report!$B24))","v":""},{"$f":"IF(ISERROR(INDEX(Data!O:O,Report!$B24)),\"\",INDEX(Data!O:O,Report!$B24))","v":""},{"$f":"IF(ISERROR(INDEX(Data!Q:Q,Report!$B24)),\"\",INDEX(Data!Q:Q,Report!$B24))","v":""},{"$f":"IF(ISERROR(INDEX(Data!R:R,Report!$B24)),\"\",INDEX(Data!R:R,Report!$B24))","v":""},{"$f":"IF(ISERROR(INDEX(Data!S:S,Report!$B24)),\"\",INDEX(Data!S:S,Report!$B24))","v":""},{"$f":"IF(ISERROR(INDEX(Data!T:T,Report!$B24)),\"\",INDEX(Data!T:T,Report!$B24))","v":""},{"$f":"IF(ISERROR(INDEX(Data!U:U,Report!$B24)),\"\",INDEX(Data!U:U,Report!$B24))","v":""},{"$f":"IF(ISERROR(INDEX(Data!V:V,Report!$B24)),\"\",INDEX(Data!V:V,Report!$B24))","v":""},null,"",""]
[21,{"$f":"IF(ISERROR(MATCH(A25,Data!A:A,0)),\"\",MATCH(A25,Data!A:A,0))","v":""},{"$f":"IF(ISERROR(INDEX(Data!I:I,Report!$B25)),\"\",INDEX(Data!I:I,Report!$B25))","v":""},{"$f":"IF(ISERROR(INDEX(Data!J:J,Report!$B25)),\"\",INDEX(Data!J:J,Report!$B25))","v":""},{"$f":"IF(ISERROR(INDEX(Data!K:K,Report!$B25)),\"\",INDEX(Data!K:K,Report!$B25))","v":""},{"$f":"IF(ISERROR(INDEX(Data!L:L,Report!$B25)),\"\",INDEX(Data!L:L,Report!$B25))","v":""},null,{"$f":"IF(ISERROR(INDEX(Data!N:N,Report!$B25)),\"\",INDEX(Data!N:N,Report!$B25))","v":""},{"$f":"IF(ISERROR(INDEX(Data!P:P,Report!$B25)),\"\",INDEX(Data!P:P,Report!$B25))","v":""},{"$f":"IF(ISERROR(INDEX(Data!O:O,Report!$B25)),\"\",INDEX(Data!O:O,Report!$B25))","v":""},{"$f":"IF(ISERROR(INDEX(Data!Q:Q,Report!$B25)),\"\",INDEX(Data!Q:Q,Report!$B25))","v":""},{"$f":"IF(ISERROR(INDEX(Data!R:R,Report!$B25)),\"\",INDEX(Data!R:R,Report!$B25))","v":""},{"$f":"IF(ISERROR(INDEX(Data!S:S,Report!$B25)),\"\",INDEX(Data!S:S,Report!$B25))","v":""},{"$f":"IF(ISERROR(INDEX(Data!T:T,Report!$B25)),\"\",INDEX(Data!T:T,Report!$B25))","v":""},{"$f":"IF(ISERROR(INDEX(Data!U:U,Report!$B25)),\"\",INDEX(Data!U:U,Report!$B25))","v":""},{"$f":"IF(ISERROR(INDEX(Data!V:V,Report!$B25)),\"\",INDEX(Data!V:V,Report!$B25))","v":""},null,"",""]
[22,{"$f":"IF(ISERROR(MATCH(A26,Data!A:A,0)),\"\",MATCH(A26,Data!A:A,0))","v":""},{"$f":"IF(ISERROR(INDEX(Data!I:I,Report!$B26)),\"\",INDEX(Data!I:I,Report!$B26))","v":""},{"$f":"IF(ISERROR(INDEX(Data!J:J,Report!$B26)),\"\",INDEX(Data!J:J,Report!$B26))","v":""},{"$f":"IF(ISERROR(INDEX(Data!K:K,Report!$B26)),\"\",INDEX(Data!K:K,Report!$B26))","v":""},{"$f":"IF(ISERROR(INDEX(Data!L:L,Report!$B26)),\"\",INDEX(Data!L:L,Report!$B26))","v":""},null,{"$f":"IF(ISERROR(INDEX(Data!N:N,Report!$B26)),\"\",INDEX(Data!N:N,Report!$B26))","v":""},{"$f":"IF(ISERROR(INDEX(Data!P:P,Report!$B26)),\"\",INDEX(Data!P:P,Report!$B26))","v":""},{"$f":"IF(ISERROR(INDEX(Data!O:O,Report!$B26)),\"\",INDEX(Data!O:O,Report!$B26))","v":""},{"$f":"IF(ISERROR(INDEX(Data!Q:Q,Report!$B26)),\"\",INDEX(Data!Q:Q,Report!$B26))","v":""},{"$f":"IF(ISERROR(INDEX(Data!R:R,Report!$B26)),\"\",INDEX(Data!R:R,Report!$B26))","v":""},{"$f":"IF(ISERROR(INDEX(Data!S:S,Report!$B26)),\"\",INDEX(Data!S:S,Report!$B26))","v":""},{"$f":"IF(ISERROR(INDEX(Data!T:T,Report!$B26)),\"\",INDEX(Data!T:T,Report!$B26))","v":""},{"$f":"IF(ISERROR(INDEX(Data!U:U,Report!$B26)),\"\",INDEX(Data!U:U,Report!$B26))","v":""},{"$f":"IF(ISERROR(INDEX(Data!V:V,Report!$B26)),\"\",INDEX(Data!V:V,Report!$B26))","v":""},null,"",""]
[23,{"$f":"IF(ISERROR(MATCH(A27,Data!A:A,0)),\"\",MATCH(A27,Data!A:A,0))","v":15},{"$f":"IF(ISERROR(INDEX(Data!I:I,Report!$B27)),\"\",INDEX(Data!I:I,Report!$B27))","v":" "},{"$f":"IF(ISERROR(INDEX(Data!J:J,Report!$B27)),\"\",INDEX(Data!J:J,Report!$B27))","v":"User Drill #85  3 line rated mini Tennis"},{"$f":"IF(ISERROR(INDEX(Data!K:K,Report!$B27)),\"\",INDEX(Data!K:K,Report!$B27))","v":0},{"$f":"IF(ISERROR(INDEX(Data!L:L,Report!$B27)),\"\",INDEX(Data!L:L,Report!$B27))","v":"New Point"},null,{"$f":"IF(ISERROR(INDEX(Data!N:N,Report!$B27)),\"\",INDEX(Data!N:N,Report!$B27))","v":1},{"$f":"IF(ISERROR(INDEX(Data!P:P,Report!$B27)),\"\",INDEX(Data!P:P,Report!$B27))","v":0},{"$f":"IF(ISERROR(INDEX(Data!O:O,Report!$B27)),\"\",INDEX(Data!O:O,Report!$B27))","v":11},{"$f":"IF(ISERROR(INDEX(Data!Q:Q,Report!$B27)),\"\",INDEX(Data!Q:Q,Report!$B27))","v":3.5},{"$f":"IF(ISERROR(INDEX(Data!R:R,Report!$B27)),\"\",INDEX(Data!R:R,Report!$B27))","v":0},{"$f":"IF(ISERROR(INDEX(Data!S:S,Report!$B27)),\"\",INDEX(Data!S:S,Report!$B27))","v":0},{"$f":"IF(ISERROR(INDEX(Data!T:T,Report!$B27)),\"\",INDEX(Data!T:T,Report!$B27))","v":0},{"$f":"IF(ISERROR(INDEX(Data!U:U,Report!$B27)),\"\",INDEX(Data!U:U,Report!$B27))","v":0},{"$f":"IF(ISERROR(INDEX(Data!V:V,Report!$B27)),\"\",INDEX(Data!V:V,Report!$B27))","v":0},null,"|",""]
[24,{"$f":"IF(ISERROR(MATCH(A28,Data!A:A,0)),\"\",MATCH(A28,Data!A:A,0))","v":""},{"$f":"IF(ISERROR(INDEX(Data!I:I,Report!$B28)),\"\",INDEX(Data!I:I,Report!$B28))","v":""},{"$f":"IF(ISERROR(INDEX(Data!J:J,Report!$B28)),\"\",INDEX(Data!J:J,Report!$B28))","v":""},{"$f":"IF(ISERROR(INDEX(Data!K:K,Report!$B28)),\"\",INDEX(Data!K:K,Report!$B28))","v":""},{"$f":"IF(ISERROR(INDEX(Data!L:L,Report!$B28)),\"\",INDEX(Data!L:L,Report!$B28))","v":""},null,{"$f":"IF(ISERROR(INDEX(Data!N:N,Report!$B28)),\"\",INDEX(Data!N:N,Report!$B28))","v":""},{"$f":"IF(ISERROR(INDEX(Data!P:P,Report!$B28)),\"\",INDEX(Data!P:P,Report!$B28))","v":""},{"$f":"IF(ISERROR(INDEX(Data!O:O,Report!$B28)),\"\",INDEX(Data!O:O,Report!$B28))","v":""},{"$f":"IF(ISERROR(INDEX(Data!Q:Q,Report!$B28)),\"\",INDEX(Data!Q:Q,Report!$B28))","v":""},{"$f":"IF(ISERROR(INDEX(Data!R:R,Report!$B28)),\"\",INDEX(Data!R:R,Report!$B28))","v":""},{"$f":"IF(ISERROR(INDEX(Data!S:S,Report!$B28)),\"\",INDEX(Data!S:S,Report!$B28))","v":""},{"$f":"IF(ISERROR(INDEX(Data!T:T,Report!$B28)),\"\",INDEX(Data!T:T,Report!$B28))","v":""},{"$f":"IF(ISERROR(INDEX(Data!U:U,Report!$B28)),\"\",INDEX(Data!U:U,Report!$B28))","v":""},{"$f":"IF(ISERROR(INDEX(Data!V:V,Report!$B28)),\"\",INDEX(Data!V:V,Report!$B28))","v":""},null,"",""]
[25,{"$f":"IF(ISERROR(MATCH(A29,Data!A:A,0)),\"\",MATCH(A29,Data!A:A,0))","v":""},{"$f":"IF(ISERROR(INDEX(Data!I:I,Report!$B29)),\"\",INDEX(Data!I:I,Report!$B29))","v":""},{"$f":"IF(ISERROR(INDEX(Data!J:J,Report!$B29)),\"\",INDEX(Data!J:J,Report!$B29))","v":""},{"$f":"IF(ISERROR(INDEX(Data!K:K,Report!$B29)),\"\",INDEX(Data!K:K,Report!$B29))","v":""},{"$f":"IF(ISERROR(INDEX(Data!L:L,Report!$B29)),\"\",INDEX(Data!L:L,Report!$B29))","v":""},null,{"$f":"IF(ISERROR(INDEX(Data!N:N,Report!$B29)),\"\",INDEX(Data!N:N,Report!$B29))","v":""},{"$f":"IF(ISERROR(INDEX(Data!P:P,Report!$B29)),\"\",INDEX(Data!P:P,Report!$B29))","v":""},{"$f":"IF(ISERROR(INDEX(Data!O:O,Report!$B29)),\"\",INDEX(Data!O:O,Report!$B29))","v":""},{"$f":"IF(ISERROR(INDEX(Data!Q:Q,Report!$B29)),\"\",INDEX(Data!Q:Q,Report!$B29))","v":""},{"$f":"IF(ISERROR(INDEX(Data!R:R,Report!$B29)),\"\",INDEX(Data!R:R,Report!$B29))","v":""},{"$f":"IF(ISERROR(INDEX(Data!S:S,Report!$B29)),\"\",INDEX(Data!S:S,Report!$B29))","v":""},{"$f":"IF(ISERROR(INDEX(Data!T:T,Report!$B29)),\"\",INDEX(Data!T:T,Report!$B29))","v":""},{"$f":"IF(ISERROR(INDEX(Data!U:U,Report!$B29)),\"\",INDEX(Data!U:U,Report!$B29))","v":""},{"$f":"IF(ISERROR(INDEX(Data!V:V,Report!$B29)),\"\",INDEX(Data!V:V,Report!$B29))","v":""},null,"",""]
[26,{"$f":"IF(ISERROR(MATCH(A30,Data!A:A,0)),\"\",MATCH(A30,Data!A:A,0))","v":""},{"$f":"IF(ISERROR(INDEX(Data!I:I,Report!$B30)),\"\",INDEX(Data!I:I,Report!$B30))","v":""},{"$f":"IF(ISERROR(INDEX(Data!J:J,Report!$B30)),\"\",INDEX(Data!J:J,Report!$B30))","v":""},{"$f":"IF(ISERROR(INDEX(Data!K:K,Report!$B30)),\"\",INDEX(Data!K:K,Report!$B30))","v":""},{"$f":"IF(ISERROR(INDEX(Data!L:L,Report!$B30)),\"\",INDEX(Data!L:L,Report!$B30))","v":""},null,{"$f":"IF(ISERROR(INDEX(Data!N:N,Report!$B30)),\"\",INDEX(Data!N:N,Report!$B30))","v":""},{"$f":"IF(ISERROR(INDEX(Data!P:P,Report!$B30)),\"\",INDEX(Data!P:P,Report!$B30))","v":""},{"$f":"IF(ISERROR(INDEX(Data!O:O,Report!$B30)),\"\",INDEX(Data!O:O,Report!$B30))","v":""},{"$f":"IF(ISERROR(INDEX(Data!Q:Q,Report!$B30)),\"\",INDEX(Data!Q:Q,Report!$B30))","v":""},{"$f":"IF(ISERROR(INDEX(Data!R:R,Report!$B30)),\"\",INDEX(Data!R:R,Report!$B30))","v":""},{"$f":"IF(ISERROR(INDEX(Data!S:S,Report!$B30)),\"\",INDEX(Data!S:S,Report!$B30))","v":""},{"$f":"IF(ISERROR(INDEX(Data!T:T,Report!$B30)),\"\",INDEX(Data!T:T,Report!$B30))","v":""},{"$f":"IF(ISERROR(INDEX(Data!U:U,Report!$B30)),\"\",INDEX(Data!U:U,Report!$B30))","v":""},{"$f":"IF(ISERROR(INDEX(Data!V:V,Report!$B30)),\"\",INDEX(Data!V:V,Report!$B30))","v":""},null,"",""]
[27,{"$f":"IF(ISERROR(MATCH(A31,Data!A:A,0)),\"\",MATCH(A31,Data!A:A,0))","v":16},{"$f":"IF(ISERROR(INDEX(Data!I:I,Report!$B31)),\"\",INDEX(Data!I:I,Report!$B31))","v":"04:33:32"},{"$f":"IF(ISERROR(INDEX(Data!J:J,Report!$B31)),\"\",INDEX(Data!J:J,Report!$B31))","v":"Game against Boomer at level 3.5  Single point data:"},{"$f":"IF(ISERROR(INDEX(Data!K:K,Report!$B31)),\"\",INDEX(Data!K:K,Report!$B31))","v":"Boomer's point"},{"$f":"IF(ISERROR(INDEX(Data!L:L,Report!$B31)),\"\",INDEX(Data!L:L,Report!$B31))","v":"New Point"},null,{"$f":"IF(ISERROR(INDEX(Data!N:N,Report!$B31)),\"\",INDEX(Data!N:N,Report!$B31))","v":1},{"$f":"IF(ISERROR(INDEX(Data!P:P,Report!$B31)),\"\",INDEX(Data!P:P,Report!$B31))","v":"Serve"},{"$f":"IF(ISERROR(INDEX(Data!O:O,Report!$B31)),\"\",INDEX(Data!O:O,Report!$B31))","v":5},{"$f":"IF(ISERROR(INDEX(Data!Q:Q,Report!$B31)),\"\",INDEX(Data!Q:Q,Report!$B31))","v":3.5},{"$f":"IF(ISERROR(INDEX(Data!R:R,Report!$B31)),\"\",INDEX(Data!R:R,Report!$B31))","v":24},{"$f":"IF(ISERROR(INDEX(Data!S:S,Report!$B31)),\"\",INDEX(Data!S:S,Report!$B31))","v":5},{"$f":"IF(ISERROR(INDEX(Data!T:T,Report!$B31)),\"\",INDEX(Data!T:T,Report!$B31))","v":4.7},{"$f":"IF(ISERROR(INDEX(Data!U:U,Report!$B31)),\"\",INDEX(Data!U:U,Report!$B31))","v":55},{"$f":"IF(ISERROR(INDEX(Data!V:V,Report!$B31)),\"\",INDEX(Data!V:V,Report!$B31))","v":4.5},null,"                        |","||"]
[28,{"$f":"IF(ISERROR(MATCH(A32,Data!A:A,0)),\"\",MATCH(A32,Data!A:A,0))","v":""},{"$f":"IF(ISERROR(INDEX(Data!I:I,Report!$B32)),\"\",INDEX(Data!I:I,Report!$B32))","v":""},{"$f":"IF(ISERROR(INDEX(Data!J:J,Report!$B32)),\"\",INDEX(Data!J:J,Report!$B32))","v":""},{"$f":"IF(ISERROR(INDEX(Data!K:K,Report!$B32)),\"\",INDEX(Data!K:K,Report!$B32))","v":""},{"$f":"IF(ISERROR(INDEX(Data!L:L,Report!$B32)),\"\",INDEX(Data!L:L,Report!$B32))","v":""},null,{"$f":"IF(ISERROR(INDEX(Data!N:N,Report!$B32)),\"\",INDEX(Data!N:N,Report!$B32))","v":""},{"$f":"IF(ISERROR(INDEX(Data!P:P,Report!$B32)),\"\",INDEX(Data!P:P,Report!$B32))","v":""},{"$f":"IF(ISERROR(INDEX(Data!O:O,Report!$B32)),\"\",INDEX(Data!O:O,Report!$B32))","v":""},{"$f":"IF(ISERROR(INDEX(Data!Q:Q,Report!$B32)),\"\",INDEX(Data!Q:Q,Report!$B32))","v":""},{"$f":"IF(ISERROR(INDEX(Data!R:R,Report!$B32)),\"\",INDEX(Data!R:R,Report!$B32))","v":""},{"$f":"IF(ISERROR(INDEX(Data!S:S,Report!$B32)),\"\",INDEX(Data!S:S,Report!$B32))","v":""},{"$f":"IF(ISERROR(INDEX(Data!T:T,Report!$B32)),\"\",INDEX(Data!T:T,Report!$B32))","v":""},{"$f":"IF(ISERROR(INDEX(Data!U:U,Report!$B32)),\"\",INDEX(Data!U:U,Report!$B32))","v":""},{"$f":"IF(ISERROR(INDEX(Data!V:V,Report!$B32)),\"\",INDEX(Data!V:V,Report!$B32))","v":""},null,"",""]
[29,{"$f":"IF(ISERROR(MATCH(A33,Data!A:A,0)),\"\",MATCH(A33,Data!A:A,0))","v":""},{"$f":"IF(ISERROR(INDEX(Data!I:I,Report!$B33)),\"\",INDEX(Data!I:I,Report!$B33))","v":""},{"$f":"IF(ISERROR(INDEX(Data!J:J,Report!$B33)),\"\",INDEX(Data!J:J,Report!$B33))","v":""},{"$f":"IF(ISERROR(INDEX(Data!K:K,Report!$B33)),\"\",INDEX(Data!K:K,Report!$B33))","v":""},{"$f":"IF(ISERROR(INDEX(Data!L:L,Report!$B33)),\"\",INDEX(Data!L:L,Report!$B33))","v":""},null,{"$f":"IF(ISERROR(INDEX(Data!N:N,Report!$B33)),\"\",INDEX(Data!N:N,Report!$B33))","v":""},{"$f":"IF(ISERROR(INDEX(Data!P:P,Report!$B33)),\"\",INDEX(Data!P:P,Report!$B33))","v":""},{"$f":"IF(ISERROR(INDEX(Data!O:O,Report!$B33)),\"\",INDEX(Data!O:O,Report!$B33))","v":""},{"$f":"IF(ISERROR(INDEX(Data!Q:Q,Report!$B33)),\"\",INDEX(Data!Q:Q,Report!$B33))","v":""},{"$f":"IF(ISERROR(INDEX(Data!R:R,Report!$B33)),\"\",INDEX(Data!R:R,Report!$B33))","v":""},{"$f":"IF(ISERROR(INDEX(Data!S:S,Report!$B33)),\"\",INDEX(Data!S:S,Report!$B33))","v":""},{"$f":"IF(ISERROR(INDEX(Data!T:T,Report!$B33)),\"\",INDEX(Data!T:T,Report!$B33))","v":""},{"$f":"IF(ISERROR(INDEX(Data!U:U,Report!$B33)),\"\",INDEX(Data!U:U,Report!$B33))","v":""},{"$f":"IF(ISERROR(INDEX(Data!V:V,Report!$B33)),\"\",INDEX(Data!V:V,Report!$B33))","v":""},null,"",""]
[30,{"$f":"IF(ISERROR(MATCH(A34,Data!A:A,0)),\"\",MATCH(A34,Data!A:A,0))","v":""},{"$f":"IF(ISERROR(INDEX(Data!I:I,Report!$B34)),\"\",INDEX(Data!I:I,Report!$B34))","v":""},{"$f":"IF(ISERROR(INDEX(Data!J:J,Report!$B34)),\"\",INDEX(Data!J:J,Report!$B34))","v":""},{"$f":"IF(ISERROR(INDEX(Data!K:K,Report!$B34)),\"\",INDEX(Data!K:K,Report!$B34))","v":""},{"$f":"IF(ISERROR(INDEX(Data!L:L,Report!$B34)),\"\",INDEX(Data!L:L,Report!$B34))","v":""},null,{"$f":"IF(ISERROR(INDEX(Data!N:N,Report!$B34)),\"\",INDEX(Data!N:N,Report!$B34))","v":""},{"$f":"IF(ISERROR(INDEX(Data!P:P,Report!$B34)),\"\",INDEX(Data!P:P,Report!$B34))","v":""},{"$f":"IF(ISERROR(INDEX(Data!O:O,Report!$B34)),\"\",INDEX(Data!O:O,Report!$B34))","v":""},{"$f":"IF(ISERROR(INDEX(Data!Q:Q,Report!$B34)),\"\",INDEX(Data!Q:Q,Report!$B34))","v":""},{"$f":"IF(ISERROR(INDEX(Data!R:R,Report!$B34)),\"\",INDEX(Data!R:R,Report!$B34))","v":""},{"$f":"IF(ISERROR(INDEX(Data!S:S,Report!$B34)),\"\",INDEX(Data!S:S,Report!$B34))","v":""},{"$f":"IF(ISERROR(INDEX(Data!T:T,Report!$B34)),\"\",INDEX(Data!T:T,Report!$B34))","v":""},{"$f":"IF(ISERROR(INDEX(Data!U:U,Report!$B34)),\"\",INDEX(Data!U:U,Report!$B34))","v":""},{"$f":"IF(ISERROR(INDEX(Data!V:V,Report!$B34)),\"\",INDEX(Data!V:V,Report!$B34))","v":""},null,"",""]
[31,{"$f":"IF(ISERROR(MATCH(A35,Data!A:A,0)),\"\",MATCH(A35,Data!A:A,0))","v":17},{"$f":"IF(ISERROR(INDEX(Data!I:I,Report!$B35)),\"\",INDEX(Data!I:I,Report!$B35))","v":"00:32:24"},{"$f":"IF(ISERROR(INDEX(Data!J:J,Report!$B35)),\"\",INDEX(Data!J:J,Report!$B35))","v":"Game against Boomer at level 2.0  Single point data:"},{"$f":"IF(ISERROR(INDEX(Data!K:K,Report!$B35)),\"\",INDEX(Data!K:K,Report!$B35))","v":"Player's point"},{"$f":"IF(ISERROR(INDEX(Data!L:L,Report!$B35)),\"\",INDEX(Data!L:L,Report!$B35))","v":"New Point"},null,{"$f":"IF(ISERROR(INDEX(Data!N:N,Report!$B35)),\"\",INDEX(Data!N:N,Report!$B35))","v":1},{"$f":"IF(ISERROR(INDEX(Data!P:P,Report!$B35)),\"\",INDEX(Data!P:P,Report!$B35))","v":"Player Serve"},{"$f":"IF(ISERROR(INDEX(Data!O:O,Report!$B35)),\"\",INDEX(Data!O:O,Report!$B35))","v":4},{"$f":"IF(ISERROR(INDEX(Data!Q:Q,Report!$B35)),\"\",INDEX(Data!Q:Q,Report!$B35))","v":2},{"$f":"IF(ISERROR(INDEX(Data!R:R,Report!$B35)),\"\",INDEX(Data!R:R,Report!$B35))","v":16},{"$f":"IF(ISERROR(INDEX(Data!S:S,Report!$B35)),\"\",INDEX(Data!S:S,Report!$B35))","v":16},{"$f":"IF(ISERROR(INDEX(Data!T:T,Report!$B35)),\"\",INDEX(Data!T:T,Report!$B35))","v":4.9000000000000004},{"$f":"IF(ISERROR(INDEX(Data!U:U,Report!$B35)),\"\",INDEX(Data!U:U,Report!$B35))","v":111},{"$f":"IF(ISERROR(INDEX(Data!V:V,Report!$B35)),\"\",INDEX(Data!V:V,Report!$B35))","v":5.9},null,"                |","||||||||"]
[32,{"$f":"IF(ISERROR(MATCH(A36,Data!A:A,0)),\"\",MATCH(A36,Data!A:A,0))","v":18},{"$f":"IF(ISERROR(INDEX(Data!I:I,Report!$B36)),\"\",INDEX(Data!I:I,Report!$B36))","v":" "},{"$f":"IF(ISERROR(INDEX(Data!J:J,Report!$B36)),\"\",INDEX(Data!J:J,Report!$B36))","v":"User Drill #85  3 line rated mini Tennis"},{"$f":"IF(ISERROR(INDEX(Data!K:K,Report!$B36)),\"\",INDEX(Data!K:K,Report!$B36))","v":0},{"$f":"IF(ISERROR(INDEX(Data!L:L,Report!$B36)),\"\",INDEX(Data!L:L,Report!$B36))","v":0},null,{"$f":"IF(ISERROR(INDEX(Data!N:N,Report!$B36)),\"\",INDEX(Data!N:N,Report!$B36))","v":2},{"$f":"IF(ISERROR(INDEX(Data!P:P,Report!$B36)),\"\",INDEX(Data!P:P,Report!$B36))","v":0},{"$f":"IF(ISERROR(INDEX(Data!O:O,Report!$B36)),\"\",INDEX(Data!O:O,Report!$B36))","v":4},{"$f":"IF(ISERROR(INDEX(Data!Q:Q,Report!$B36)),\"\",INDEX(Data!Q:Q,Report!$B36))","v":3.5},{"$f":"IF(ISERROR(INDEX(Data!R:R,Report!$B36)),\"\",INDEX(Data!R:R,Report!$B36))","v":32},{"$f":"IF(ISERROR(INDEX(Data!S:S,Report!$B36)),\"\",INDEX(Data!S:S,Report!$B36))","v":22},{"$f":"IF(ISERROR(INDEX(Data!T:T,Report!$B36)),\"\",INDEX(Data!T:T,Report!$B36))","v":5.8},{"$f":"IF(ISERROR(INDEX(Data!U:U,Report!$B36)),\"\",INDEX(Data!U:U,Report!$B36))","v":49},{"$f":"IF(ISERROR(INDEX(Data!V:V,Report!$B36)),\"\",INDEX(Data!V:V,Report!$B36))","v":6.3},null,"                                |","|||||||||||"]
[33,{"$f":"IF(ISERROR(MATCH(A37,Data!A:A,0)),\"\",MATCH(A37,Data!A:A,0))","v":19},{"$f":"IF(ISERROR(INDEX(Data!I:I,Report!$B37)),\"\",INDEX(Data!I:I,Report!$B37))","v":"04:33:32"},{"$f":"IF(ISERROR(INDEX(Data!J:J,Report!$B37)),\"\",INDEX(Data!J:J,Report!$B37))","v":"Game against Boomer at level 3.5  Single point data:"},{"$f":"IF(ISERROR(INDEX(Data!K:K,Report!$B37)),\"\",INDEX(Data!K:K,Report!$B37))","v":"Boomer's point"},{"$f":"IF(ISERROR(INDEX(Data!L:L,Report!$B37)),\"\",INDEX(Data!L:L,Report!$B37))","v":0},null,{"$f":"IF(ISERROR(INDEX(Data!N:N,Report!$B37)),\"\",INDEX(Data!N:N,Report!$B37))","v":2},{"$f":"IF(ISERROR(INDEX(Data!P:P,Report!$B37)),\"\",INDEX(Data!P:P,Report!$B37))","v":"Drop Shot"},{"$f":"IF(ISERROR(INDEX(Data!O:O,Report!$B37)),\"\",INDEX(Data!O:O,Report!$B37))","v":3},{"$f":"IF(ISERROR(INDEX(Data!Q:Q,Report!$B37)),\"\",INDEX(Data!Q:Q,Report!$B37))","v":3.5},{"$f":"IF(ISERROR(INDEX(Data!R:R,Report!$B37)),\"\",INDEX(Data!R:R,Report!$B37))","v":17},{"$f":"IF(ISERROR(INDEX(Data!S:S,Report!$B37)),\"\",INDEX(Data!S:S,Report!$B37))","v":24},{"$f":"IF(ISERROR(INDEX(Data!T:T,Report!$B37)),\"\",INDEX(Data!T:T,Report!$B37))","v":4.2},{"$f":"IF(ISERROR(INDEX(Data!U:U,Report!$B37)),\"\",INDEX(Data!U:U,Report!$B37))","v":48},{"$f":"IF(ISERROR(INDEX(Data!V:V,Report!$B37)),\"\",INDEX(Data!V:V,Report!$B37))","v":4},null,"                 |","||||||||||||"]
[34,{"$f":"IF(ISERROR(MATCH(A38,Data!A:A,0)),\"\",MATCH(A38,Data!A:A,0))","v":20},{"$f":"IF(ISERROR(INDEX(Data!I:I,Report!$B38)),\"\",INDEX(Data!I:I,Report!$B38))","v":"04:33:32"},{"$f":"IF(ISERROR(INDEX(Data!J:J,Report!$B38)),\"\",INDEX(Data!J:J,Report!$B38))","v":"Game against Boomer at level 3.5  Single point data:"},{"$f":"IF(ISERROR(INDEX(Data!K:K,Report!$B38)),\"\",INDEX(Data!K:K,Report!$B38))","v":"Boomer's point"},{"$f":"IF(ISERROR(INDEX(Data!L:L,Report!$B38)),\"\",INDEX(Data!L:L,Report!$B38))","v":0},null,{"$f":"IF(ISERROR(INDEX(Data!N:N,Report!$B38)),\"\",INDEX(Data!N:N,Report!$B38))","v":3},{"$f":"IF(ISERROR(INDEX(Data!P:P,Report!$B38)),\"\",INDEX(Data!P:P,Report!$B38))","v":"Pass"},{"$f":"IF(ISERROR(INDEX(Data!O:O,Report!$B38)),\"\",INDEX(Data!O:O,Report!$B38))","v":5},{"$f":"IF(ISERROR(INDEX(Data!Q:Q,Report!$B38)),\"\",INDEX(Data!Q:Q,Report!$B38))","v":3.5},{"$f":"IF(ISERROR(INDEX(Data!R:R,Report!$B38)),\"\",INDEX(Data!R:R,Report!$B38))","v":29},{"$f":"IF(ISERROR(INDEX(Data!S:S,Report!$B38)),\"\",INDEX(Data!S:S,Report!$B38))","v":11},{"$f":"IF(ISERROR(INDEX(Data!T:T,Report!$B38)),\"\",INDEX(Data!T:T,Report!$B38))","v":4.7},{"$f":"IF(ISERROR(INDEX(Data!U:U,Report!$B38)),\"\",INDEX(Data!U:U,Report!$B38))","v":40},{"$f":"IF(ISERROR(INDEX(Data!V:V,Report!$B38)),\"\",INDEX(Data!V:V,Report!$B38))","v":3.9},null,"                             |","|||||"]
[35,{"$f":"IF(ISERROR(MATCH(A39,Data!A:A,0)),\"\",MATCH(A39,Data!A:A,0))","v":21},{"$f":"IF(ISERROR(INDEX(Data!I:I,Report!$B39)),\"\",INDEX(Data!I:I,Report!$B39))","v":" "},{"$f":"IF(ISERROR(INDEX(Data!J:J,Report!$B39)),\"\",INDEX(Data!J:J,Report!$B39))","v":"User Drill #85  3 line rated mini Tennis"},{"$f":"IF(ISERROR(INDEX(Data!K:K,Report!$B39)),\"\",INDEX(Data!K:K,Report!$B39))","v":0},{"$f":"IF(ISERROR(INDEX(Data!L:L,Report!$B39)),\"\",INDEX(Data!L:L,Report!$B39))","v":0},null,{"$f":"IF(ISERROR(INDEX(Data!N:N,Report!$B39)),\"\",INDEX(Data!N:N,Report!$B39))","v":3},{"$f":"IF(ISERROR(INDEX(Data!P:P,Report!$B39)),\"\",INDEX(Data!P:P,Report!$B39))","v":0},{"$f":"IF(ISERROR(INDEX(Data!O:O,Report!$B39)),\"\",INDEX(Data!O:O,Report!$B39))","v":10},{"$f":"IF(ISERROR(INDEX(Data!Q:Q,Report!$B39)),\"\",INDEX(Data!Q:Q,Report!$B39))","v":3.5},{"$f":"IF(ISERROR(INDEX(Data!R:R,Report!$B39)),\"\",INDEX(Data!R:R,Report!$B39))","v":0},{"$f":"IF(ISERROR(INDEX(Data!S:S,Report!$B39)),\"\",INDEX(Data!S:S,Report!$B39))","v":0},{"$f":"IF(ISERROR(INDEX(Data!T:T,Report!$B39)),\"\",INDEX(Data!T:T,Report!$B39))","v":0},{"$f":"IF(ISERROR(INDEX(Data!U:U,Report!$B39)),\"\",INDEX(Data!U:U,Report!$B39))","v":0},{"$f":"IF(ISERROR(INDEX(Data!V:V,Report!$B39)),\"\",INDEX(Data!V:V,Report!$B39))","v":0},null,"|",""]
[36,{"$f":"IF(ISERROR(MATCH(A40,Data!A:A,0)),\"\",MATCH(A40,Data!A:A,0))","v":22},{"$f":"IF(ISERROR(INDEX(Data!I:I,Report!$B40)),\"\",INDEX(Data!I:I,Report!$B40))","v":"04:33:32"},{"$f":"IF(ISERROR(INDEX(Data!J:J,Report!$B40)),\"\",INDEX(Data!J:J,Report!$B40))","v":"Game against Boomer at level 3.5  Single point data:"},{"$f":"IF(ISERROR(INDEX(Data!K:K,Report!$B40)),\"\",INDEX(Data!K:K,Report!$B40))","v":"Boomer's point"},{"$f":"IF(ISERROR(INDEX(Data!L:L,Report!$B40)),\"\",INDEX(Data!L:L,Report!$B40))","v":0},null,{"$f":"IF(ISERROR(INDEX(Data!N:N,Report!$B40)),\"\",INDEX(Data!N:N,Report!$B40))","v":4},{"$f":"IF(ISERROR(INDEX(Data!P:P,Report!$B40)),\"\",INDEX(Data!P:P,Report!$B40))","v":"Pass"},{"$f":"IF(ISERROR(INDEX(Data!O:O,Report!$B40)),\"\",INDEX(Data!O:O,Report!$B40))","v":4},{"$f":"IF(ISERROR(INDEX(Data!Q:Q,Report!$B40)),\"\",INDEX(Data!Q:Q,Report!$B40))","v":3.5},{"$f":"IF(ISERROR(INDEX(Data!R:R,Report!$B40)),\"\",INDEX(Data!R:R,Report!$B40))","v":0},{"$f":"IF(ISERROR(INDEX(Data!S:S,Report!$B40)),\"\",INDEX(Data!S:S,Report!$B40))","v":0},{"$f":"IF(ISERROR(INDEX(Data!T:T,Report!$B40)),\"\",INDEX(Data!T:T,Report!$B40))","v":0},{"$f":"IF(ISERROR(INDEX(Data!U:U,Report!$B40)),\"\",INDEX(Data!U:U,Report!$B40))","v":0},{"$f":"IF(ISERROR(INDEX(Data!V:V,Report!$B40)),\"\",INDEX(Data!V:V,Report!$B40))","v":0},null,"|",""]
[37,{"$f":"IF(ISERROR(MATCH(A41,Data!A:A,0)),\"\",MATCH(A41,Data!A:A,0))","v":""},{"$f":"IF(ISERROR(INDEX(Data!I:I,Report!$B41)),\"\",INDEX(Data!I:I,Report!$B41))","v":""},{"$f":"IF(ISERROR(INDEX(Data!J:J,Report!$B41)),\"\",INDEX(Data!J:J,Report!$B41))","v":""},{"$f":"IF(ISERROR(INDEX(Data!K:K,Report!$B41)),\"\",INDEX(Data!K:K,Report!$B41))","v":""},{"$f":"IF(ISERROR(INDEX(Data!L:L,Report!$B41)),\"\",INDEX(Data!L:L,Report!$B41))","v":""},null,{"$f":"IF(ISERROR(INDEX(Data!N:N,Report!$B41)),\"\",INDEX(Data!N:N,Report!$B41))","v":""},{"$f":"IF(ISERROR(INDEX(Data!P:P,Report!$B41)),\"\",INDEX(Data!P:P,Report!$B41))","v":""},{"$f":"IF(ISERROR(INDEX(Data!O:O,Report!$B41)),\"\",INDEX(Data!O:O,Report!$B41))","v":""},{"$f":"IF(ISERROR(INDEX(Data!Q:Q,Report!$B41)),\"\",INDEX(Data!Q:Q,Report!$B41))","v":""},{"$f":"IF(ISERROR(INDEX(Data!R:R,Report!$B41)),\"\",INDEX(Data!R:R,Report!$B41))","v":""},{"$f":"IF(ISERROR(INDEX(Data!S:S,Report!$B41)),\"\",INDEX(Data!S:S,Report!$B41))","v":""},{"$f":"IF(ISERROR(INDEX(Data!T:T,Report!$B41)),\"\",INDEX(Data!T:T,Report!$B41))","v":""},{"$f":"IF(ISERROR(INDEX(Data!U:U,Report!$B41)),\"\",INDEX(Data!U:U,Report!$B41))","v":""},{"$f":"IF(ISERROR(INDEX(Data!V:V,Report!$B41)),\"\",INDEX(Data!V:V,Report!$B41))","v":""},null,"",""]
[38,{"$f":"IF(ISERROR(MATCH(A42,Data!A:A,0)),\"\",MATCH(A42,Data!A:A,0))","v":""},{"$f":"IF(ISERROR(INDEX(Data!I:I,Report!$B42)),\"\",INDEX(Data!I:I,Report!$B42))","v":""},{"$f":"IF(ISERROR(INDEX(Data!J:J,Report!$B42)),\"\",INDEX(Data!J:J,Report!$B42))","v":""},{"$f":"IF(ISERROR(INDEX(Data!K:K,Report!$B42)),\"\",INDEX(Data!K:K,Report!$B42))","v":""},{"$f":"IF(ISERROR(INDEX(Data!L:L,Report!$B42)),\"\",INDEX(Data!L:L,Report!$B42))","v":""},null,{"$f":"IF(ISERROR(INDEX(Data!N:N,Report!$B42)),\"\",INDEX(Data!N:N,Report!$B42))","v":""},{"$f":"IF(ISERROR(INDEX(Data!P:P,Report!$B42)),\"\",INDEX(Data!P:P,Report!$B42))","v":""},{"$f":"IF(ISERROR(INDEX(Data!O:O,Report!$B42)),\"\",INDEX(Data!O:O,Report!$B42))","v":""},{"$f":"IF(ISERROR(INDEX(Data!Q:Q,Report!$B42)),\"\",INDEX(Data!Q:Q,Report!$B42))","v":""},{"$f":"IF(ISERROR(INDEX(Data!R:R,Report!$B42)),\"\",INDEX(Data!R:R,Report!$B42))","v":""},{"$f":"IF(ISERROR(INDEX(Data!S:S,Report!$B42)),\"\",INDEX(Data!S:S,Report!$B42))","v":""},{"$f":"IF(ISERROR(INDEX(Data!T:T,Report!$B42)),\"\",INDEX(Data!T:T,Report!$B42))","v":""},{"$f":"IF(ISERROR(INDEX(Data!U:U,Report!$B42)),\"\",INDEX(Data!U:U,Report!$B42))","v":""},{"$f":"IF(ISERROR(INDEX(Data!V:V,Report!$B42)),\"\",INDEX(Data!V:V,Report!$B42))","v":""},null,"",""]
[39,{"$f":"IF(ISERROR(MATCH(A43,Data!A:A,0)),\"\",MATCH(A43,Data!A:A,0))","v":""},{"$f":"IF(ISERROR(INDEX(Data!I:I,Report!$B43)),\"\",INDEX(Data!I:I,Report!$B43))","v":""},{"$f":"IF(ISERROR(INDEX(Data!J:J,Report!$B43)),\"\",INDEX(Data!J:J,Report!$B43))","v":""},{"$f":"IF(ISERROR(INDEX(Data!K:K,Report!$B43)),\"\",INDEX(Data!K:K,Report!$B43))","v":""},{"$f":"IF(ISERROR(INDEX(Data!L:L,Report!$B43)),\"\",INDEX(Data!L:L,Report!$B43))","v":""},null,{"$f":"IF(ISERROR(INDEX(Data!N:N,Report!$B43)),\"\",INDEX(Data!N:N,Report!$B43))","v":""},{"$f":"IF(ISERROR(INDEX(Data!P:P,Report!$B43)),\"\",INDEX(Data!P:P,Report!$B43))","v":""},{"$f":"IF(ISERROR(INDEX(Data!O:O,Report!$B43)),\"\",INDEX(Data!O:O,Report!$B43))","v":""},{"$f":"IF(ISERROR(INDEX(Data!Q:Q,Report!$B43)),\"\",INDEX(Data!Q:Q,Report!$B43))","v":""},{"$f":"IF(ISERROR(INDEX(Data!R:R,Report!$B43)),\"\",INDEX(Data!R:R,Report!$B43))","v":""},{"$f":"IF(ISERROR(INDEX(Data!S:S,Report!$B43)),\"\",INDEX(Data!S:S,Report!$B43))","v":""},{"$f":"IF(ISERROR(INDEX(Data!T:T,Report!$B43)),\"\",INDEX(Data!T:T,Report!$B43))","v":""},{"$f":"IF(ISERROR(INDEX(Data!U:U,Report!$B43)),\"\",INDEX(Data!U:U,Report!$B43))","v":""},{"$f":"IF(ISERROR(INDEX(Data!V:V,Report!$B43)),\"\",INDEX(Data!V:V,Report!$B43))","v":""},null,"",""]
[40,{"$f":"IF(ISERROR(MATCH(A44,Data!A:A,0)),\"\",MATCH(A44,Data!A:A,0))","v":23},{"$f":"IF(ISERROR(INDEX(Data!I:I,Report!$B44)),\"\",INDEX(Data!I:I,Report!$B44))","v":" "},{"$f":"IF(ISERROR(INDEX(Data!J:J,Report!$B44)),\"\",INDEX(Data!J:J,Report!$B44))","v":"User Drill #85  3 line rated mini Tennis"},{"$f":"IF(ISERROR(INDEX(Data!K:K,Report!$B44)),\"\",INDEX(Data!K:K,Report!$B44))","v":0},{"$f":"IF(ISERROR(INDEX(Data!L:L,Report!$B44)),\"\",INDEX(Data!L:L,Report!$B44))","v":"New Point"},null,{"$f":"IF(ISERROR(INDEX(Data!N:N,Report!$B44)),\"\",INDEX(Data!N:N,Report!$B44))","v":1},{"$f":"IF(ISERROR(INDEX(Data!P:P,Report!$B44)),\"\",INDEX(Data!P:P,Report!$B44))","v":0},{"$f":"IF(ISERROR(INDEX(Data!O:O,Report!$B44)),\"\",INDEX(Data!O:O,Report!$B44))","v":11},{"$f":"IF(ISERROR(INDEX(Data!Q:Q,Report!$B44)),\"\",INDEX(Data!Q:Q,Report!$B44))","v":3.5},{"$f":"IF(ISERROR(INDEX(Data!R:R,Report!$B44)),\"\",INDEX(Data!R:R,Report!$B44))","v":0},{"$f":"IF(ISERROR(INDEX(Data!S:S,Report!$B44)),\"\",INDEX(Data!S:S,Report!$B44))","v":0},{"$f":"IF(ISERROR(INDEX(Data!T:T,Report!$B44)),\"\",INDEX(Data!T:T,Report!$B44))","v":0},{"$f":"IF(ISERROR(INDEX(Data!U:U,Report!$B44)),\"\",INDEX(Data!U:U,Report!$B44))","v":0},{"$f":"IF(ISERROR(INDEX(Data!V:V,Report!$B44)),\"\",INDEX(Data!V:V,Report!$B44))","v":0},null,"|",""]
[41,{"$f":"IF(ISERROR(MATCH(A45,Data!A:A,0)),\"\",MATCH(A45,Data!A:A,0))","v":""},{"$f":"IF(ISERROR(INDEX(Data!I:I,Report!$B45)),\"\",INDEX(Data!I:I,Report!$B45))","v":""},{"$f":"IF(ISERROR(INDEX(Data!J:J,Report!$B45)),\"\",INDEX(Data!J:J,Report!$B45))","v":""},{"$f":"IF(ISERROR(INDEX(Data!K:K,Report!$B45)),\"\",INDEX(Data!K:K,Report!$B45))","v":""},{"$f":"IF(ISERROR(INDEX(Data!L:L,Report!$B45)),\"\",INDEX(Data!L:L,Report!$B45))","v":""},null,{"$f":"IF(ISERROR(INDEX(Data!N:N,Report!$B45)),\"\",INDEX(Data!N:N,Report!$B45))","v":""},{"$f":"IF(ISERROR(INDEX(Data!P:P,Report!$B45)),\"\",INDEX(Data!P:P,Report!$B45))","v":""},{"$f":"IF(ISERROR(INDEX(Data!O:O,Report!$B45)),\"\",INDEX(Data!O:O,Report!$B45))","v":""},{"$f":"IF(ISERROR(INDEX(Data!Q:Q,Report!$B45)),\"\",INDEX(Data!Q:Q,Report!$B45))","v":""},{"$f":"IF(ISERROR(INDEX(Data!R:R,Report!$B45)),\"\",INDEX(Data!R:R,Report!$B45))","v":""},{"$f":"IF(ISERROR(INDEX(Data!S:S,Report!$B45)),\"\",INDEX(Data!S:S,Report!$B45))","v":""},{"$f":"IF(ISERROR(INDEX(Data!T:T,Report!$B45)),\"\",INDEX(Data!T:T,Report!$B45))","v":""},{"$f":"IF(ISERROR(INDEX(Data!U:U,Report!$B45)),\"\",INDEX(Data!U:U,Report!$B45))","v":""},{"$f":"IF(ISERROR(INDEX(Data!V:V,Report!$B45)),\"\",INDEX(Data!V:V,Report!$B45))","v":""},null,"",""]
[42,{"$f":"IF(ISERROR(MATCH(A46,Data!A:A,0)),\"\",MATCH(A46,Data!A:A,0))","v":""},{"$f":"IF(ISERROR(INDEX(Data!I:I,Report!$B46)),\"\",INDEX(Data!I:I,Report!$B46))","v":""},{"$f":"IF(ISERROR(INDEX(Data!J:J,Report!$B46)),\"\",INDEX(Data!J:J,Report!$B46))","v":""},{"$f":"IF(ISERROR(INDEX(Data!K:K,Report!$B46)),\"\",INDEX(Data!K:K,Report!$B46))","v":""},{"$f":"IF(ISERROR(INDEX(Data!L:L,Report!$B46)),\"\",INDEX(Data!L:L,Report!$B46))","v":""},null,{"$f":"IF(ISERROR(INDEX(Data!N:N,Report!$B46)),\"\",INDEX(Data!N:N,Report!$B46))","v":""},{"$f":"IF(ISERROR(INDEX(Data!P:P,Report!$B46)),\"\",INDEX(Data!P:P,Report!$B46))","v":""},{"$f":"IF(ISERROR(INDEX(Data!O:O,Report!$B46)),\"\",INDEX(Data!O:O,Report!$B46))","v":""},{"$f":"IF(ISERROR(INDEX(Data!Q:Q,Report!$B46)),\"\",INDEX(Data!Q:Q,Report!$B46))","v":""},{"$f":"IF(ISERROR(INDEX(Data!R:R,Report!$B46)),\"\",INDEX(Data!R:R,Report!$B46))","v":""},{"$f":"IF(ISERROR(INDEX(Data!S:S,Report!$B46)),\"\",INDEX(Data!S:S,Report!$B46))","v":""},{"$f":"IF(ISERROR(INDEX(Data!T:T,Report!$B46)),\"\",INDEX(Data!T:T,Report!$B46))","v":""},{"$f":"IF(ISERROR(INDEX(Data!U:U,Report!$B46)),\"\",INDEX(Data!U:U,Report!$B46))","v":""},{"$f":"IF(ISERROR(INDEX(Data!V:V,Report!$B46)),\"\",INDEX(Data!V:V,Report!$B46))","v":""},null,"",""]
[43,{"$f":"IF(ISERROR(MATCH(A47,Data!A:A,0)),\"\",MATCH(A47,Data!A:A,0))","v":""},{"$f":"IF(ISERROR(INDEX(Data!I:I,Report!$B47)),\"\",INDEX(Data!I:I,Report!$B47))","v":""},{"$f":"IF(ISERROR(INDEX(Data!J:J,Report!$B47)),\"\",INDEX(Data!J:J,Report!$B47))","v":""},{"$f":"IF(ISERROR(INDEX(Data!K:K,Report!$B47)),\"\",INDEX(Data!K:K,Report!$B47))","v":""},{"$f":"IF(ISERROR(INDEX(Data!L:L,Report!$B47)),\"\",INDEX(Data!L:L,Report!$B47))","v":""},null,{"$f":"IF(ISERROR(INDEX(Data!N:N,Report!$B47)),\"\",INDEX(Data!N:N,Report!$B47))","v":""},{"$f":"IF(ISERROR(INDEX(Data!P:P,Report!$B47)),\"\",INDEX(Data!P:P,Report!$B47))","v":""},{"$f":"IF(ISERROR(INDEX(Data!O:O,Report!$B47)),\"\",INDEX(Data!O:O,Report!$B47))","v":""},{"$f":"IF(ISERROR(INDEX(Data!Q:Q,Report!$B47)),\"\",INDEX(Data!Q:Q,Report!$B47))","v":""},{"$f":"IF(ISERROR(INDEX(Data!R:R,Report!$B47)),\"\",INDEX(Data!R:R,Report!$B47))","v":""},{"$f":"IF(ISERROR(INDEX(Data!S:S,Report!$B47)),\"\",INDEX(Data!S:S,Report!$B47))","v":""},{"$f":"IF(ISERROR(INDEX(Data!T:T,Report!$B47)),\"\",INDEX(Data!T:T,Report!$B47))","v":""},{"$f":"IF(ISERROR(INDEX(Data!U:U,Report!$B47)),\"\",INDEX(Data!U:U,Report!$B47))","v":""},{"$f":"IF(ISERROR(INDEX(Data!V:V,Report!$B47)),\"\",INDEX(Data!V:V,Report!$B47))","v":""},null,"",""]
[44,{"$f":"IF(ISERROR(MATCH(A48,Data!A:A,0)),\"\",MATCH(A48,Data!A:A,0))","v":24},{"$f":"IF(ISERROR(INDEX(Data!I:I,Report!$B48)),\"\",INDEX(Data!I:I,Report!$B48))","v":"04:33:58"},{"$f":"IF(ISERROR(INDEX(Data!J:J,Report!$B48)),\"\",INDEX(Data!J:J,Report!$B48))","v":"Game against Boomer at level 3.5  Single point data:"},{"$f":"IF(ISERROR(INDEX(Data!K:K,Report!$B48)),\"\",INDEX(Data!K:K,Report!$B48))","v":"Boomer's point"},{"$f":"IF(ISERROR(INDEX(Data!L:L,Report!$B48)),\"\",INDEX(Data!L:L,Report!$B48))","v":"New Point"},null,{"$f":"IF(ISERROR(INDEX(Data!N:N,Report!$B48)),\"\",INDEX(Data!N:N,Report!$B48))","v":1},{"$f":"IF(ISERROR(INDEX(Data!P:P,Report!$B48)),\"\",INDEX(Data!P:P,Report!$B48))","v":"Serve"},{"$f":"IF(ISERROR(INDEX(Data!O:O,Report!$B48)),\"\",INDEX(Data!O:O,Report!$B48))","v":3},{"$f":"IF(ISERROR(INDEX(Data!Q:Q,Report!$B48)),\"\",INDEX(Data!Q:Q,Report!$B48))","v":3.5},{"$f":"IF(ISERROR(INDEX(Data!R:R,Report!$B48)),\"\",INDEX(Data!R:R,Report!$B48))","v":17},{"$f":"IF(ISERROR(INDEX(Data!S:S,Report!$B48)),\"\",INDEX(Data!S:S,Report!$B48))","v":7},{"$f":"IF(ISERROR(INDEX(Data!T:T,Report!$B48)),\"\",INDEX(Data!T:T,Report!$B48))","v":3.7},{"$f":"IF(ISERROR(INDEX(Data!U:U,Report!$B48)),\"\",INDEX(Data!U:U,Report!$B48))","v":38},{"$f":"IF(ISERROR(INDEX(Data!V:V,Report!$B48)),\"\",INDEX(Data!V:V,Report!$B48))","v":3.3},null,"                 |","|||"]
[45,{"$f":"IF(ISERROR(MATCH(A49,Data!A:A,0)),\"\",MATCH(A49,Data!A:A,0))","v":""},{"$f":"IF(ISERROR(INDEX(Data!I:I,Report!$B49)),\"\",INDEX(Data!I:I,Report!$B49))","v":""},{"$f":"IF(ISERROR(INDEX(Data!J:J,Report!$B49)),\"\",INDEX(Data!J:J,Report!$B49))","v":""},{"$f":"IF(ISERROR(INDEX(Data!K:K,Report!$B49)),\"\",INDEX(Data!K:K,Report!$B49))","v":""},{"$f":"IF(ISERROR(INDEX(Data!L:L,Report!$B49)),\"\",INDEX(Data!L:L,Report!$B49))","v":""},null,{"$f":"IF(ISERROR(INDEX(Data!N:N,Report!$B49)),\"\",INDEX(Data!N:N,Report!$B49))","v":""},{"$f":"IF(ISERROR(INDEX(Data!P:P,Report!$B49)),\"\",INDEX(Data!P:P,Report!$B49))","v":""},{"$f":"IF(ISERROR(INDEX(Data!O:O,Report!$B49)),\"\",INDEX(Data!O:O,Report!$B49))","v":""},{"$f":"IF(ISERROR(INDEX(Data!Q:Q,Report!$B49)),\"\",INDEX(Data!Q:Q,Report!$B49))","v":""},{"$f":"IF(ISERROR(INDEX(Data!R:R,Report!$B49)),\"\",INDEX(Data!R:R,Report!$B49))","v":""},{"$f":"IF(ISERROR(INDEX(Data!S:S,Report!$B49)),\"\",INDEX(Data!S:S,Report!$B49))","v":""},{"$f":"IF(ISERROR(INDEX(Data!T:T,Report!$B49)),\"\",INDEX(Data!T:T,Report!$B49))","v":""},{"$f":"IF(ISERROR(INDEX(Data!U:U,Report!$B49)),\"\",INDEX(Data!U:U,Report!$B49))","v":""},{"$f":"IF(ISERROR(INDEX(Data!V:V,Report!$B49)),\"\",INDEX(Data!V:V,Report!$B49))","v":""},null,"",""]
[46,{"$f":"IF(ISERROR(MATCH(A50,Data!A:A,0)),\"\",MATCH(A50,Data!A:A,0))","v":""},{"$f":"IF(ISERROR(INDEX(Data!I:I,Report!$B50)),\"\",INDEX(Data!I:I,Report!$B50))","v":""},{"$f":"IF(ISERROR(INDEX(Data!J:J,Report!$B50)),\"\",INDEX(Data!J:J,Report!$B50))","v":""},{"$f":"IF(ISERROR(INDEX(Data!K:K,Report!$B50)),\"\",INDEX(Data!K:K,Report!$B50))","v":""},{"$f":"IF(ISERROR(INDEX(Data!L:L,Report!$B50)),\"\",INDEX(Data!L:L,Report!$B50))","v":""},null,{"$f":"IF(ISERROR(INDEX(Data!N:N,Report!$B50)),\"\",INDEX(Data!N:N,Report!$B50))","v":""},{"$f":"IF(ISERROR(INDEX(Data!P:P,Report!$B50)),\"\",INDEX(Data!P:P,Report!$B50))","v":""},{"$f":"IF(ISERROR(INDEX(Data!O:O,Report!$B50)),\"\",INDEX(Data!O:O,Report!$B50))","v":""},{"$f":"IF(ISERROR(INDEX(Data!Q:Q,Report!$B50)),\"\",INDEX(Data!Q:Q,Report!$B50))","v":""},{"$f":"IF(ISERROR(INDEX(Data!R:R,Report!$B50)),\"\",INDEX(Data!R:R,Report!$B50))","v":""},{"$f":"IF(ISERROR(INDEX(Data!S:S,Report!$B50)),\"\",INDEX(Data!S:S,Report!$B50))","v":""},{"$f":"IF(ISERROR(INDEX(Data!T:T,Report!$B50)),\"\",INDEX(Data!T:T,Report!$B50))","v":""},{"$f":"IF(ISERROR(INDEX(Data!U:U,Report!$B50)),\"\",INDEX(Data!U:U,Report!$B50))","v":""},{"$f":"IF(ISERROR(INDEX(Data!V:V,Report!$B50)),\"\",INDEX(Data!V:V,Report!$B50))","v":""},null,"",""]
[47,{"$f":"IF(ISERROR(MATCH(A51,Data!A:A,0)),\"\",MATCH(A51,Data!A:A,0))","v":""},{"$f":"IF(ISERROR(INDEX(Data!I:I,Report!$B51)),\"\",INDEX(Data!I:I,Report!$B51))","v":""},{"$f":"IF(ISERROR(INDEX(Data!J:J,Report!$B51)),\"\",INDEX(Data!J:J,Report!$B51))","v":""},{"$f":"IF(ISERROR(INDEX(Data!K:K,Report!$B51)),\"\",INDEX(Data!K:K,Report!$B51))","v":""},{"$f":"IF(ISERROR(INDEX(Data!L:L,Report!$B51)),\"\",INDEX(Data!L:L,Report!$B51))","v":""},null,{"$f":"IF(ISERROR(INDEX(Data!N:N,Report!$B51)),\"\",INDEX(Data!N:N,Report!$B51))","v":""},{"$f":"IF(ISERROR(INDEX(Data!P:P,Report!$B51)),\"\",INDEX(Data!P:P,Report!$B51))","v":""},{"$f":"IF(ISERROR(INDEX(Data!O:O,Report!$B51)),\"\",INDEX(Data!O:O,Report!$B51))","v":""},{"$f":"IF(ISERROR(INDEX(Data!Q:Q,Report!$B51)),\"\",INDEX(Data!Q:Q,Report!$B51))","v":""},{"$f":"IF(ISERROR(INDEX(Data!R:R,Report!$B51)),\"\",INDEX(Data!R:R,Report!$B51))","v":""},{"$f":"IF(ISERROR(INDEX(Data!S:S,Report!$B51)),\"\",INDEX(Data!S:S,Report!$B51))","v":""},{"$f":"IF(ISERROR(INDEX(Data!T:T,Report!$B51)),\"\",INDEX(Data!T:T,Report!$B51))","v":""},{"$f":"IF(ISERROR(INDEX(Data!U:U,Report!$B51)),\"\",INDEX(Data!U:U,Report!$B51))","v":""},{"$f":"IF(ISERROR(INDEX(Data!V:V,Report!$B51)),\"\",INDEX(Data!V:V,Report!$B51))","v":""},null,"",""]
[48,{"$f":"IF(ISERROR(MATCH(A52,Data!A:A,0)),\"\",MATCH(A52,Data!A:A,0))","v":25},{"$f":"IF(ISERROR(INDEX(Data!I:I,Report!$B52)),\"\",INDEX(Data!I:I,Report!$B52))","v":"00:32:42"},{"$f":"IF(ISERROR(INDEX(Data!J:J,Report!$B52)),\"\",INDEX(Data!J:J,Report!$B52))","v":"Game against Boomer at level 2.0  Single point data:"},{"$f":"IF(ISERROR(INDEX(Data!K:K,Report!$B52)),\"\",INDEX(Data!K:K,Report!$B52))","v":"Player's point"},{"$f":"IF(ISERROR(INDEX(Data!L:L,Report!$B52)),\"\",INDEX(Data!L:L,Report!$B52))","v":"New Point"},null,{"$f":"IF(ISERROR(INDEX(Data!N:N,Report!$B52)),\"\",INDEX(Data!N:N,Report!$B52))","v":1},{"$f":"IF(ISERROR(INDEX(Data!P:P,Report!$B52)),\"\",INDEX(Data!P:P,Report!$B52))","v":"Player Serve"},{"$f":"IF(ISERROR(INDEX(Data!O:O,Report!$B52)),\"\",INDEX(Data!O:O,Report!$B52))","v":4},{"$f":"IF(ISERROR(INDEX(Data!Q:Q,Report!$B52)),\"\",INDEX(Data!Q:Q,Report!$B52))","v":2},{"$f":"IF(ISERROR(INDEX(Data!R:R,Report!$B52)),\"\",INDEX(Data!R:R,Report!$B52))","v":16},{"$f":"IF(ISERROR(INDEX(Data!S:S,Report!$B52)),\"\",INDEX(Data!S:S,Report!$B52))","v":5},{"$f":"IF(ISERROR(INDEX(Data!T:T,Report!$B52)),\"\",INDEX(Data!T:T,Report!$B52))","v":4.0999999999999996},{"$f":"IF(ISERROR(INDEX(Data!U:U,Report!$B52)),\"\",INDEX(Data!U:U,Report!$B52))","v":109},{"$f":"IF(ISERROR(INDEX(Data!V:V,Report!$B52)),\"\",INDEX(Data!V:V,Report!$B52))","v":5.5},null,"                |","||"]
[49,{"$f":"IF(ISERROR(MATCH(A53,Data!A:A,0)),\"\",MATCH(A53,Data!A:A,0))","v":26},{"$f":"IF(ISERROR(INDEX(Data!I:I,Report!$B53)),\"\",INDEX(Data!I:I,Report!$B53))","v":"04:33:58"},{"$f":"IF(ISERROR(INDEX(Data!J:J,Report!$B53)),\"\",INDEX(Data!J:J,Report!$B53))","v":"Game against Boomer at level 3.5  Single point data:"},{"$f":"IF(ISERROR(INDEX(Data!K:K,Report!$B53)),\"\",INDEX(Data!K:K,Report!$B53))","v":"Boomer's point"},{"$f":"IF(ISERROR(INDEX(Data!L:L,Report!$B53)),\"\",INDEX(Data!L:L,Report!$B53))","v":0},null,{"$f":"IF(ISERROR(INDEX(Data!N:N,Report!$B53)),\"\",INDEX(Data!N:N,Report!$B53))","v":2},{"$f":"IF(ISERROR(INDEX(Data!P:P,Report!$B53)),\"\",INDEX(Data!P:P,Report!$B53))","v":"Topspin"},{"$f":"IF(ISERROR(INDEX(Data!O:O,Report!$B53)),\"\",INDEX(Data!O:O,Report!$B53))","v":5},{"$f":"IF(ISERROR(INDEX(Data!Q:Q,Report!$B53)),\"\",INDEX(Data!Q:Q,Report!$B53))","v":3.5},{"$f":"IF(ISERROR(INDEX(Data!R:R,Report!$B53)),\"\",INDEX(Data!R:R,Report!$B53))","v":35},{"$f":"IF(ISERROR(INDEX(Data!S:S,Report!$B53)),\"\",INDEX(Data!S:S,Report!$B53))","v":6},{"$f":"IF(ISERROR(INDEX(Data!T:T,Report!$B53)),\"\",INDEX(Data!T:T,Report!$B53))","v":6.1},{"$f":"IF(ISERROR(INDEX(Data!U:U,Report!$B53)),\"\",INDEX(Data!U:U,Report!$B53))","v":44},{"$f":"IF(ISERROR(INDEX(Data!V:V,Report!$B53)),\"\",INDEX(Data!V:V,Report!$B53))","v":4.8},null,"                                   |","|||"]
[50,{"$f":"IF(ISERROR(MATCH(A54,Data!A:A,0)),\"\",MATCH(A54,Data!A:A,0))","v":27},{"$f":"IF(ISERROR(INDEX(Data!I:I,Report!$B54)),\"\",INDEX(Data!I:I,Report!$B54))","v":" "},{"$f":"IF(ISERROR(INDEX(Data!J:J,Report!$B54)),\"\",INDEX(Data!J:J,Report!$B54))","v":"User Drill #85  3 line rated mini Tennis"},{"$f":"IF(ISERROR(INDEX(Data!K:K,Report!$B54)),\"\",INDEX(Data!K:K,Report!$B54))","v":0},{"$f":"IF(ISERROR(INDEX(Data!L:L,Report!$B54)),\"\",INDEX(Data!L:L,Report!$B54))","v":0},null,{"$f":"IF(ISERROR(INDEX(Data!N:N,Report!$B54)),\"\",INDEX(Data!N:N,Report!$B54))","v":2},{"$f":"IF(ISERROR(INDEX(Data!P:P,Report!$B54)),\"\",INDEX(Data!P:P,Report!$B54))","v":0},{"$f":"IF(ISERROR(INDEX(Data!O:O,Report!$B54)),\"\",INDEX(Data!O:O,Report!$B54))","v":4},{"$f":"IF(ISERROR(INDEX(Data!Q:Q,Report!$B54)),\"\",INDEX(Data!Q:Q,Report!$B54))","v":3.5},{"$f":"IF(ISERROR(INDEX(Data!R:R,Report!$B54)),\"\",INDEX(Data!R:R,Report!$B54))","v":0},{"$f":"IF(ISERROR(INDEX(Data!S:S,Report!$B54)),\"\",INDEX(Data!S:S,Report!$B54))","v":0},{"$f":"IF(ISERROR(INDEX(Data!T:T,Report!$B54)),\"\",INDEX(Data!T:T,Report!$B54))","v":0},{"$f":"IF(ISERROR(INDEX(Data!U:U,Report!$B54)),\"\",INDEX(Data!U:U,Report!$B54))","v":0},{"$f":"IF(ISERROR(INDEX(Data!V:V,Report!$B54)),\"\",INDEX(Data!V:V,Report!$B54))","v":0},null,"|",""]
[51,{"$f":"IF(ISERROR(MATCH(A55,Data!A:A,0)),\"\",MATCH(A55,Data!A:A,0))","v":28},{"$f":"IF(ISERROR(INDEX(Data!I:I,Report!$B55)),\"\",INDEX(Data!I:I,Report!$B55))","v":"04:33:58"},{"$f":"IF(ISERROR(INDEX(Data!J:J,Report!$B55)),\"\",INDEX(Data!J:J,Report!$B55))","v":"Game against Boomer at level 3.5  Single point data:"},{"$f":"IF(ISERROR(INDEX(Data!K:K,Report!$B55)),\"\",INDEX(Data!K:K,Report!$B55))","v":"Boomer's point"},{"$f":"IF(ISERROR(INDEX(Data!L:L,Report!$B55)),\"\",INDEX(Data!L:L,Report!$B55))","v":0},null,{"$f":"IF(ISERROR(INDEX(Data!N:N,Report!$B55)),\"\",INDEX(Data!N:N,Report!$B55))","v":3},{"$f":"IF(ISERROR(INDEX(Data!P:P,Report!$B55)),\"\",INDEX(Data!P:P,Report!$B55))","v":"Topspin"},{"$f":"IF(ISERROR(INDEX(Data!O:O,Report!$B55)),\"\",INDEX(Data!O:O,Report!$B55))","v":6},{"$f":"IF(ISERROR(INDEX(Data!Q:Q,Report!$B55)),\"\",INDEX(Data!Q:Q,Report!$B55))","v":3.5},{"$f":"IF(ISERROR(INDEX(Data!R:R,Report!$B55)),\"\",INDEX(Data!R:R,Report!$B55))","v":29},{"$f":"IF(ISERROR(INDEX(Data!S:S,Report!$B55)),\"\",INDEX(Data!S:S,Report!$B55))","v":4},{"$f":"IF(ISERROR(INDEX(Data!T:T,Report!$B55)),\"\",INDEX(Data!T:T,Report!$B55))","v":5.7},{"$f":"IF(ISERROR(INDEX(Data!U:U,Report!$B55)),\"\",INDEX(Data!U:U,Report!$B55))","v":42},{"$f":"IF(ISERROR(INDEX(Data!V:V,Report!$B55)),\"\",INDEX(Data!V:V,Report!$B55))","v":4.5},null,"                             |","||"]
[52,{"$f":"IF(ISERROR(MATCH(A56,Data!A:A,0)),\"\",MATCH(A56,Data!A:A,0))","v":29},{"$f":"IF(ISERROR(INDEX(Data!I:I,Report!$B56)),\"\",INDEX(Data!I:I,Report!$B56))","v":" "},{"$f":"IF(ISERROR(INDEX(Data!J:J,Report!$B56)),\"\",INDEX(Data!J:J,Report!$B56))","v":"User Drill #85  3 line rated mini Tennis"},{"$f":"IF(ISERROR(INDEX(Data!K:K,Report!$B56)),\"\",INDEX(Data!K:K,Report!$B56))","v":0},{"$f":"IF(ISERROR(INDEX(Data!L:L,Report!$B56)),\"\",INDEX(Data!L:L,Report!$B56))","v":0},null,{"$f":"IF(ISERROR(INDEX(Data!N:N,Report!$B56)),\"\",INDEX(Data!N:N,Report!$B56))","v":3},{"$f":"IF(ISERROR(INDEX(Data!P:P,Report!$B56)),\"\",INDEX(Data!P:P,Report!$B56))","v":0},{"$f":"IF(ISERROR(INDEX(Data!O:O,Report!$B56)),\"\",INDEX(Data!O:O,Report!$B56))","v":10},{"$f":"IF(ISERROR(INDEX(Data!Q:Q,Report!$B56)),\"\",INDEX(Data!Q:Q,Report!$B56))","v":3.5},{"$f":"IF(ISERROR(INDEX(Data!R:R,Report!$B56)),\"\",INDEX(Data!R:R,Report!$B56))","v":0},{"$f":"IF(ISERROR(INDEX(Data!S:S,Report!$B56)),\"\",INDEX(Data!S:S,Report!$B56))","v":0},{"$f":"IF(ISERROR(INDEX(Data!T:T,Report!$B56)),\"\",INDEX(Data!T:T,Report!$B56))","v":0},{"$f":"IF(ISERROR(INDEX(Data!U:U,Report!$B56)),\"\",INDEX(Data!U:U,Report!$B56))","v":0},{"$f":"IF(ISERROR(INDEX(Data!V:V,Report!$B56)),\"\",INDEX(Data!V:V,Report!$B56))","v":0},null,"|",""]
[53,{"$f":"IF(ISERROR(MATCH(A57,Data!A:A,0)),\"\",MATCH(A57,Data!A:A,0))","v":30},{"$f":"IF(ISERROR(INDEX(Data!I:I,Report!$B57)),\"\",INDEX(Data!I:I,Report!$B57))","v":"04:33:58"},{"$f":"IF(ISERROR(INDEX(Data!J:J,Report!$B57)),\"\",INDEX(Data!J:J,Report!$B57))","v":"Game against Boomer at level 3.5  Single point data:"},{"$f":"IF(ISERROR(INDEX(Data!K:K,Report!$B57)),\"\",INDEX(Data!K:K,Report!$B57))","v":"Boomer's point"},{"$f":"IF(ISERROR(INDEX(Data!L:L,Report!$B57)),\"\",INDEX(Data!L:L,Report!$B57))","v":0},null,{"$f":"IF(ISERROR(INDEX(Data!N:N,Report!$B57)),\"\",INDEX(Data!N:N,Report!$B57))","v":4},{"$f":"IF(ISERROR(INDEX(Data!P:P,Report!$B57)),\"\",INDEX(Data!P:P,Report!$B57))","v":"Topspin"},{"$f":"IF(ISERROR(INDEX(Data!O:O,Report!$B57)),\"\",INDEX(Data!O:O,Report!$B57))","v":4},{"$f":"IF(ISERROR(INDEX(Data!Q:Q,Report!$B57)),\"\",INDEX(Data!Q:Q,Report!$B57))","v":3.5},{"$f":"IF(ISERROR(INDEX(Data!R:R,Report!$B57)),\"\",INDEX(Data!R:R,Report!$B57))","v":0},{"$f":"IF(ISERROR(INDEX(Data!S:S,Report!$B57)),\"\",INDEX(Data!S:S,Report!$B57))","v":0},{"$f":"IF(ISERROR(INDEX(Data!T:T,Report!$B57)),\"\",INDEX(Data!T:T,Report!$B57))","v":0},{"$f":"IF(ISERROR(INDEX(Data!U:U,Report!$B57)),\"\",INDEX(Data!U:U,Report!$B57))","v":0},{"$f":"IF(ISERROR(INDEX(Data!V:V,Report!$B57)),\"\",INDEX(Data!V:V,Report!$B57))","v":0},null,"|",""]
[54,{"$f":"IF(ISERROR(MATCH(A58,Data!A:A,0)),\"\",MATCH(A58,Data!A:A,0))","v":""},{"$f":"IF(ISERROR(INDEX(Data!I:I,Report!$B58)),\"\",INDEX(Data!I:I,Report!$B58))","v":""},{"$f":"IF(ISERROR(INDEX(Data!J:J,Report!$B58)),\"\",INDEX(Data!J:J,Report!$B58))","v":""},{"$f":"IF(ISERROR(INDEX(Data!K:K,Report!$B58)),\"\",INDEX(Data!K:K,Report!$B58))","v":""},{"$f":"IF(ISERROR(INDEX(Data!L:L,Report!$B58)),\"\",INDEX(Data!L:L,Report!$B58))","v":""},null,{"$f":"IF(ISERROR(INDEX(Data!N:N,Report!$B58)),\"\",INDEX(Data!N:N,Report!$B58))","v":""},{"$f":"IF(ISERROR(INDEX(Data!P:P,Report!$B58)),\"\",INDEX(Data!P:P,Report!$B58))","v":""},{"$f":"IF(ISERROR(INDEX(Data!O:O,Report!$B58)),\"\",INDEX(Data!O:O,Report!$B58))","v":""},{"$f":"IF(ISERROR(INDEX(Data!Q:Q,Report!$B58)),\"\",INDEX(Data!Q:Q,Report!$B58))","v":""},{"$f":"IF(ISERROR(INDEX(Data!R:R,Report!$B58)),\"\",INDEX(Data!R:R,Report!$B58))","v":""},{"$f":"IF(ISERROR(INDEX(Data!S:S,Report!$B58)),\"\",INDEX(Data!S:S,Report!$B58))","v":""},{"$f":"IF(ISERROR(INDEX(Data!T:T,Report!$B58)),\"\",INDEX(Data!T:T,Report!$B58))","v":""},{"$f":"IF(ISERROR(INDEX(Data!U:U,Report!$B58)),\"\",INDEX(Data!U:U,Report!$B58))","v":""},{"$f":"IF(ISERROR(INDEX(Data!V:V,Report!$B58)),\"\",INDEX(Data!V:V,Report!$B58))","v":""},null,"",""]
[55,{"$f":"IF(ISERROR(MATCH(A59,Data!A:A,0)),\"\",MATCH(A59,Data!A:A,0))","v":""},{"$f":"IF(ISERROR(INDEX(Data!I:I,Report!$B59)),\"\",INDEX(Data!I:I,Report!$B59))","v":""},{"$f":"IF(ISERROR(INDEX(Data!J:J,Report!$B59)),\"\",INDEX(Data!J:J,Report!$B59))","v":""},{"$f":"IF(ISERROR(INDEX(Data!K:K,Report!$B59)),\"\",INDEX(Data!K:K,Report!$B59))","v":""},{"$f":"IF(ISERROR(INDEX(Data!L:L,Report!$B59)),\"\",INDEX(Data!L:L,Report!$B59))","v":""},null,{"$f":"IF(ISERROR(INDEX(Data!N:N,Report!$B59)),\"\",INDEX(Data!N:N,Report!$B59))","v":""},{"$f":"IF(ISERROR(INDEX(Data!P:P,Report!$B59)),\"\",INDEX(Data!P:P,Report!$B59))","v":""},{"$f":"IF(ISERROR(INDEX(Data!O:O,Report!$B59)),\"\",INDEX(Data!O:O,Report!$B59))","v":""},{"$f":"IF(ISERROR(INDEX(Data!Q:Q,Report!$B59)),\"\",INDEX(Data!Q:Q,Report!$B59))","v":""},{"$f":"IF(ISERROR(INDEX(Data!R:R,Report!$B59)),\"\",INDEX(Data!R:R,Report!$B59))","v":""},{"$f":"IF(ISERROR(INDEX(Data!S:S,Report!$B59)),\"\",INDEX(Data!S:S,Report!$B59))","v":""},{"$f":"IF(ISERROR(INDEX(Data!T:T,Report!$B59)),\"\",INDEX(Data!T:T,Report!$B59))","v":""},{"$f":"IF(ISERROR(INDEX(Data!U:U,Report!$B59)),\"\",INDEX(Data!U:U,Report!$B59))","v":""},{"$f":"IF(ISERROR(INDEX(Data!V:V,Report!$B59)),\"\",INDEX(Data!V:V,Report!$B59))","v":""},null,"",""]
[56,{"$f":"IF(ISERROR(MATCH(A60,Data!A:A,0)),\"\",MATCH(A60,Data!A:A,0))","v":""},{"$f":"IF(ISERROR(INDEX(Data!I:I,Report!$B60)),\"\",INDEX(Data!I:I,Report!$B60))","v":""},{"$f":"IF(ISERROR(INDEX(Data!J:J,Report!$B60)),\"\",INDEX(Data!J:J,Report!$B60))","v":""},{"$f":"IF(ISERROR(INDEX(Data!K:K,Report!$B60)),\"\",INDEX(Data!K:K,Report!$B60))","v":""},{"$f":"IF(ISERROR(INDEX(Data!L:L,Report!$B60)),\"\",INDEX(Data!L:L,Report!$B60))","v":""},null,{"$f":"IF(ISERROR(INDEX(Data!N:N,Report!$B60)),\"\",INDEX(Data!N:N,Report!$B60))","v":""},{"$f":"IF(ISERROR(INDEX(Data!P:P,Report!$B60)),\"\",INDEX(Data!P:P,Report!$B60))","v":""},{"$f":"IF(ISERROR(INDEX(Data!O:O,Report!$B60)),\"\",INDEX(Data!O:O,Report!$B60))","v":""},{"$f":"IF(ISERROR(INDEX(Data!Q:Q,Report!$B60)),\"\",INDEX(Data!Q:Q,Report!$B60))","v":""},{"$f":"IF(ISERROR(INDEX(Data!R:R,Report!$B60)),\"\",INDEX(Data!R:R,Report!$B60))","v":""},{"$f":"IF(ISERROR(INDEX(Data!S:S,Report!$B60)),\"\",INDEX(Data!S:S,Report!$B60))","v":""},{"$f":"IF(ISERROR(INDEX(Data!T:T,Report!$B60)),\"\",INDEX(Data!T:T,Report!$B60))","v":""},{"$f":"IF(ISERROR(INDEX(Data!U:U,Report!$B60)),\"\",INDEX(Data!U:U,Report!$B60))","v":""},{"$f":"IF(ISERROR(INDEX(Data!V:V,Report!$B60)),\"\",INDEX(Data!V:V,Report!$B60))","v":""},null,"",""]
[57,{"$f":"IF(ISERROR(MATCH(A61,Data!A:A,0)),\"\",MATCH(A61,Data!A:A,0))","v":31},{"$f":"IF(ISERROR(INDEX(Data!I:I,Report!$B61)),\"\",INDEX(Data!I:I,Report!$B61))","v":"00:33:00"},{"$f":"IF(ISERROR(INDEX(Data!J:J,Report!$B61)),\"\",INDEX(Data!J:J,Report!$B61))","v":"Game against Boomer at level 2.0  Single point data:"},{"$f":"IF(ISERROR(INDEX(Data!K:K,Report!$B61)),\"\",INDEX(Data!K:K,Report!$B61))","v":"Player's point"},{"$f":"IF(ISERROR(INDEX(Data!L:L,Report!$B61)),\"\",INDEX(Data!L:L,Report!$B61))","v":"New Point"},null,{"$f":"IF(ISERROR(INDEX(Data!N:N,Report!$B61)),\"\",INDEX(Data!N:N,Report!$B61))","v":1},{"$f":"IF(ISERROR(INDEX(Data!P:P,Report!$B61)),\"\",INDEX(Data!P:P,Report!$B61))","v":"Player Serve"},{"$f":"IF(ISERROR(INDEX(Data!O:O,Report!$B61)),\"\",INDEX(Data!O:O,Report!$B61))","v":4},{"$f":"IF(ISERROR(INDEX(Data!Q:Q,Report!$B61)),\"\",INDEX(Data!Q:Q,Report!$B61))","v":2},{"$f":"IF(ISERROR(INDEX(Data!R:R,Report!$B61)),\"\",INDEX(Data!R:R,Report!$B61))","v":18},{"$f":"IF(ISERROR(INDEX(Data!S:S,Report!$B61)),\"\",INDEX(Data!S:S,Report!$B61))","v":20},{"$f":"IF(ISERROR(INDEX(Data!T:T,Report!$B61)),\"\",INDEX(Data!T:T,Report!$B61))","v":3.9},{"$f":"IF(ISERROR(INDEX(Data!U:U,Report!$B61)),\"\",INDEX(Data!U:U,Report!$B61))","v":108},{"$f":"IF(ISERROR(INDEX(Data!V:V,Report!$B61)),\"\",INDEX(Data!V:V,Report!$B61))","v":5.3},null,"                  |","||||||||||"]
[58,{"$f":"IF(ISERROR(MATCH(A62,Data!A:A,0)),\"\",MATCH(A62,Data!A:A,0))","v":""},{"$f":"IF(ISERROR(INDEX(Data!I:I,Report!$B62)),\"\",INDEX(Data!I:I,Report!$B62))","v":""},{"$f":"IF(ISERROR(INDEX(Data!J:J,Report!$B62)),\"\",INDEX(Data!J:J,Report!$B62))","v":""},{"$f":"IF(ISERROR(INDEX(Data!K:K,Report!$B62)),\"\",INDEX(Data!K:K,Report!$B62))","v":""},{"$f":"IF(ISERROR(INDEX(Data!L:L,Report!$B62)),\"\",INDEX(Data!L:L,Report!$B62))","v":""},null,{"$f":"IF(ISERROR(INDEX(Data!N:N,Report!$B62)),\"\",INDEX(Data!N:N,Report!$B62))","v":""},{"$f":"IF(ISERROR(INDEX(Data!P:P,Report!$B62)),\"\",INDEX(Data!P:P,Report!$B62))","v":""},{"$f":"IF(ISERROR(INDEX(Data!O:O,Report!$B62)),\"\",INDEX(Data!O:O,Report!$B62))","v":""},{"$f":"IF(ISERROR(INDEX(Data!Q:Q,Report!$B62)),\"\",INDEX(Data!Q:Q,Report!$B62))","v":""},{"$f":"IF(ISERROR(INDEX(Data!R:R,Report!$B62)),\"\",INDEX(Data!R:R,Report!$B62))","v":""},{"$f":"IF(ISERROR(INDEX(Data!S:S,Report!$B62)),\"\",INDEX(Data!S:S,Report!$B62))","v":""},{"$f":"IF(ISERROR(INDEX(Data!T:T,Report!$B62)),\"\",INDEX(Data!T:T,Report!$B62))","v":""},{"$f":"IF(ISERROR(INDEX(Data!U:U,Report!$B62)),\"\",INDEX(Data!U:U,Report!$B62))","v":""},{"$f":"IF(ISERROR(INDEX(Data!V:V,Report!$B62)),\"\",INDEX(Data!V:V,Report!$B62))","v":""},null,"",""]
[59,{"$f":"IF(ISERROR(MATCH(A63,Data!A:A,0)),\"\",MATCH(A63,Data!A:A,0))","v":""},{"$f":"IF(ISERROR(INDEX(Data!I:I,Report!$B63)),\"\",INDEX(Data!I:I,Report!$B63))","v":""},{"$f":"IF(ISERROR(INDEX(Data!J:J,Report!$B63)),\"\",INDEX(Data!J:J,Report!$B63))","v":""},{"$f":"IF(ISERROR(INDEX(Data!K:K,Report!$B63)),\"\",INDEX(Data!K:K,Report!$B63))","v":""},{"$f":"IF(ISERROR(INDEX(Data!L:L,Report!$B63)),\"\",INDEX(Data!L:L,Report!$B63))","v":""},null,{"$f":"IF(ISERROR(INDEX(Data!N:N,Report!$B63)),\"\",INDEX(Data!N:N,Report!$B63))","v":""},{"$f":"IF(ISERROR(INDEX(Data!P:P,Report!$B63)),\"\",INDEX(Data!P:P,Report!$B63))","v":""},{"$f":"IF(ISERROR(INDEX(Data!O:O,Report!$B63)),\"\",INDEX(Data!O:O,Report!$B63))","v":""},{"$f":"IF(ISERROR(INDEX(Data!Q:Q,Report!$B63)),\"\",INDEX(Data!Q:Q,Report!$B63))","v":""},{"$f":"IF(ISERROR(INDEX(Data!R:R,Report!$B63)),\"\",INDEX(Data!R:R,Report!$B63))","v":""},{"$f":"IF(ISERROR(INDEX(Data!S:S,Report!$B63)),\"\",INDEX(Data!S:S,Report!$B63))","v":""},{"$f":"IF(ISERROR(INDEX(Data!T:T,Report!$B63)),\"\",INDEX(Data!T:T,Report!$B63))","v":""},{"$f":"IF(ISERROR(INDEX(Data!U:U,Report!$B63)),\"\",INDEX(Data!U:U,Report!$B63))","v":""},{"$f":"IF(ISERROR(INDEX(Data!V:V,Report!$B63)),\"\",INDEX(Data!V:V,Report!$B63))","v":""},null,"",""]
[60,{"$f":"IF(ISERROR(MATCH(A64,Data!A:A,0)),\"\",MATCH(A64,Data!A:A,0))","v":""},{"$f":"IF(ISERROR(INDEX(Data!I:I,Report!$B64)),\"\",INDEX(Data!I:I,Report!$B64))","v":""},{"$f":"IF(ISERROR(INDEX(Data!J:J,Report!$B64)),\"\",INDEX(Data!J:J,Report!$B64))","v":""},{"$f":"IF(ISERROR(INDEX(Data!K:K,Report!$B64)),\"\",INDEX(Data!K:K,Report!$B64))","v":""},{"$f":"IF(ISERROR(INDEX(Data!L:L,Report!$B64)),\"\",INDEX(Data!L:L,Report!$B64))","v":""},null,{"$f":"IF(ISERROR(INDEX(Data!N:N,Report!$B64)),\"\",INDEX(Data!N:N,Report!$B64))","v":""},{"$f":"IF(ISERROR(INDEX(Data!P:P,Report!$B64)),\"\",INDEX(Data!P:P,Report!$B64))","v":""},{"$f":"IF(ISERROR(INDEX(Data!O:O,Report!$B64)),\"\",INDEX(Data!O:O,Report!$B64))","v":""},{"$f":"IF(ISERROR(INDEX(Data!Q:Q,Report!$B64)),\"\",INDEX(Data!Q:Q,Report!$B64))","v":""},{"$f":"IF(ISERROR(INDEX(Data!R:R,Report!$B64)),\"\",INDEX(Data!R:R,Report!$B64))","v":""},{"$f":"IF(ISERROR(INDEX(Data!S:S,Report!$B64)),\"\",INDEX(Data!S:S,Report!$B64))","v":""},{"$f":"IF(ISERROR(INDEX(Data!T:T,Report!$B64)),\"\",INDEX(Data!T:T,Report!$B64))","v":""},{"$f":"IF(ISERROR(INDEX(Data!U:U,Report!$B64)),\"\",INDEX(Data!U:U,Report!$B64))","v":""},{"$f":"IF(ISERROR(INDEX(Data!V:V,Report!$B64)),\"\",INDEX(Data!V:V,Report!$B64))","v":""},null,"",""]
[61,{"$f":"IF(ISERROR(MATCH(A65,Data!A:A,0)),\"\",MATCH(A65,Data!A:A,0))","v":32},{"$f":"IF(ISERROR(INDEX(Data!I:I,Report!$B65)),\"\",INDEX(Data!I:I,Report!$B65))","v":" "},{"$f":"IF(ISERROR(INDEX(Data!J:J,Report!$B65)),\"\",INDEX(Data!J:J,Report!$B65))","v":"User Drill #85  3 line rated mini Tennis"},{"$f":"IF(ISERROR(INDEX(Data!K:K,Report!$B65)),\"\",INDEX(Data!K:K,Report!$B65))","v":0},{"$f":"IF(ISERROR(INDEX(Data!L:L,Report!$B65)),\"\",INDEX(Data!L:L,Report!$B65))","v":"New Point"},null,{"$f":"IF(ISERROR(INDEX(Data!N:N,Report!$B65)),\"\",INDEX(Data!N:N,Report!$B65))","v":1},{"$f":"IF(ISERROR(INDEX(Data!P:P,Report!$B65)),\"\",INDEX(Data!P:P,Report!$B65))","v":0},{"$f":"IF(ISERROR(INDEX(Data!O:O,Report!$B65)),\"\",INDEX(Data!O:O,Report!$B65))","v":11},{"$f":"IF(ISERROR(INDEX(Data!Q:Q,Report!$B65)),\"\",INDEX(Data!Q:Q,Report!$B65))","v":3.5},{"$f":"IF(ISERROR(INDEX(Data!R:R,Report!$B65)),\"\",INDEX(Data!R:R,Report!$B65))","v":14},{"$f":"IF(ISERROR(INDEX(Data!S:S,Report!$B65)),\"\",INDEX(Data!S:S,Report!$B65))","v":11},{"$f":"IF(ISERROR(INDEX(Data!T:T,Report!$B65)),\"\",INDEX(Data!T:T,Report!$B65))","v":2.2999999999999998},{"$f":"IF(ISERROR(INDEX(Data!U:U,Report!$B65)),\"\",INDEX(Data!U:U,Report!$B65))","v":93},{"$f":"IF(ISERROR(INDEX(Data!V:V,Report!$B65)),\"\",INDEX(Data!V:V,Report!$B65))","v":4.5999999999999996},null,"              |","|||||"]
[62,{"$f":"IF(ISERROR(MATCH(A66,Data!A:A,0)),\"\",MATCH(A66,Data!A:A,0))","v":""},{"$f":"IF(ISERROR(INDEX(Data!I:I,Report!$B66)),\"\",INDEX(Data!I:I,Report!$B66))","v":""},{"$f":"IF(ISERROR(INDEX(Data!J:J,Report!$B66)),\"\",INDEX(Data!J:J,Report!$B66))","v":""},{"$f":"IF(ISERROR(INDEX(Data!K:K,Report!$B66)),\"\",INDEX(Data!K:K,Report!$B66))","v":""},{"$f":"IF(ISERROR(INDEX(Data!L:L,Report!$B66)),\"\",INDEX(Data!L:L,Report!$B66))","v":""},null,{"$f":"IF(ISERROR(INDEX(Data!N:N,Report!$B66)),\"\",INDEX(Data!N:N,Report!$B66))","v":""},{"$f":"IF(ISERROR(INDEX(Data!P:P,Report!$B66)),\"\",INDEX(Data!P:P,Report!$B66))","v":""},{"$f":"IF(ISERROR(INDEX(Data!O:O,Report!$B66)),\"\",INDEX(Data!O:O,Report!$B66))","v":""},{"$f":"IF(ISERROR(INDEX(Data!Q:Q,Report!$B66)),\"\",INDEX(Data!Q:Q,Report!$B66))","v":""},{"$f":"IF(ISERROR(INDEX(Data!R:R,Report!$B66)),\"\",INDEX(Data!R:R,Report!$B66))","v":""},{"$f":"IF(ISERROR(INDEX(Data!S:S,Report!$B66)),\"\",INDEX(Data!S:S,Report!$B66))","v":""},{"$f":"IF(ISERROR(INDEX(Data!T:T,Report!$B66)),\"\",INDEX(Data!T:T,Report!$B66))","v":""},{"$f":"IF(ISERROR(INDEX(Data!U:U,Report!$B66)),\"\",INDEX(Data!U:U,Report!$B66))","v":""},{"$f":"IF(ISERROR(INDEX(Data!V:V,Report!$B66)),\"\",INDEX(Data!V:V,Report!$B66))","v":""},null,"",""]
[63,{"$f":"IF(ISERROR(MATCH(A67,Data!A:A,0)),\"\",MATCH(A67,Data!A:A,0))","v":""},{"$f":"IF(ISERROR(INDEX(Data!I:I,Report!$B67)),\"\",INDEX(Data!I:I,Report!$B67))","v":""},{"$f":"IF(ISERROR(INDEX(Data!J:J,Report!$B67)),\"\",INDEX(Data!J:J,Report!$B67))","v":""},{"$f":"IF(ISERROR(INDEX(Data!K:K,Report!$B67)),\"\",INDEX(Data!K:K,Report!$B67))","v":""},{"$f":"IF(ISERROR(INDEX(Data!L:L,Report!$B67)),\"\",INDEX(Data!L:L,Report!$B67))","v":""},null,{"$f":"IF(ISERROR(INDEX(Data!N:N,Report!$B67)),\"\",INDEX(Data!N:N,Report!$B67))","v":""},{"$f":"IF(ISERROR(INDEX(Data!P:P,Report!$B67)),\"\",INDEX(Data!P:P,Report!$B67))","v":""},{"$f":"IF(ISERROR(INDEX(Data!O:O,Report!$B67)),\"\",INDEX(Data!O:O,Report!$B67))","v":""},{"$f":"IF(ISERROR(INDEX(Data!Q:Q,Report!$B67)),\"\",INDEX(Data!Q:Q,Report!$B67))","v":""},{"$f":"IF(ISERROR(INDEX(Data!R:R,Report!$B67)),\"\",INDEX(Data!R:R,Report!$B67))","v":""},{"$f":"IF(ISERROR(INDEX(Data!S:S,Report!$B67)),\"\",INDEX(Data!S:S,Report!$B67))","v":""},{"$f":"IF(ISERROR(INDEX(Data!T:T,Report!$B67)),\"\",INDEX(Data!T:T,Report!$B67))","v":""},{"$f":"IF(ISERROR(INDEX(Data!U:U,Report!$B67)),\"\",INDEX(Data!U:U,Report!$B67))","v":""},{"$f":"IF(ISERROR(INDEX(Data!V:V,Report!$B67)),\"\",INDEX(Data!V:V,Report!$B67))","v":""},null,"",""]
[64,{"$f":"IF(ISERROR(MATCH(A68,Data!A:A,0)),\"\",MATCH(A68,Data!A:A,0))","v":""},{"$f":"IF(ISERROR(INDEX(Data!I:I,Report!$B68)),\"\",INDEX(Data!I:I,Report!$B68))","v":""},{"$f":"IF(ISERROR(INDEX(Data!J:J,Report!$B68)),\"\",INDEX(Data!J:J,Report!$B68))","v":""},{"$f":"IF(ISERROR(INDEX(Data!K:K,Report!$B68)),\"\",INDEX(Data!K:K,Report!$B68))","v":""},{"$f":"IF(ISERROR(INDEX(Data!L:L,Report!$B68)),\"\",INDEX(Data!L:L,Report!$B68))","v":""},null,{"$f":"IF(ISERROR(INDEX(Data!N:N,Report!$B68)),\"\",INDEX(Data!N:N,Report!$B68))","v":""},{"$f":"IF(ISERROR(INDEX(Data!P:P,Report!$B68)),\"\",INDEX(Data!P:P,Report!$B68))","v":""},{"$f":"IF(ISERROR(INDEX(Data!O:O,Report!$B68)),\"\",INDEX(Data!O:O,Report!$B68))","v":""},{"$f":"IF(ISERROR(INDEX(Data!Q:Q,Report!$B68)),\"\",INDEX(Data!Q:Q,Report!$B68))","v":""},{"$f":"IF(ISERROR(INDEX(Data!R:R,Report!$B68)),\"\",INDEX(Data!R:R,Report!$B68))","v":""},{"$f":"IF(ISERROR(INDEX(Data!S:S,Report!$B68)),\"\",INDEX(Data!S:S,Report!$B68))","v":""},{"$f":"IF(ISERROR(INDEX(Data!T:T,Report!$B68)),\"\",INDEX(Data!T:T,Report!$B68))","v":""},{"$f":"IF(ISERROR(INDEX(Data!U:U,Report!$B68)),\"\",INDEX(Data!U:U,Report!$B68))","v":""},{"$f":"IF(ISERROR(INDEX(Data!V:V,Report!$B68)),\"\",INDEX(Data!V:V,Report!$B68))","v":""},null,"",""]
[65,{"$f":"IF(ISERROR(MATCH(A69,Data!A:A,0)),\"\",MATCH(A69,Data!A:A,0))","v":33},{"$f":"IF(ISERROR(INDEX(Data!I:I,Report!$B69)),\"\",INDEX(Data!I:I,Report!$B69))","v":"04:34:28"},{"$f":"IF(ISERROR(INDEX(Data!J:J,Report!$B69)),\"\",INDEX(Data!J:J,Report!$B69))","v":"Game against Boomer at level 3.5  Single point data:"},{"$f":"IF(ISERROR(INDEX(Data!K:K,Report!$B69)),\"\",INDEX(Data!K:K,Report!$B69))","v":"Boomer's point"},{"$f":"IF(ISERROR(INDEX(Data!L:L,Report!$B69)),\"\",INDEX(Data!L:L,Report!$B69))","v":"New Point"},null,{"$f":"IF(ISERROR(INDEX(Data!N:N,Report!$B69)),\"\",INDEX(Data!N:N,Report!$B69))","v":1},{"$f":"IF(ISERROR(INDEX(Data!P:P,Report!$B69)),\"\",INDEX(Data!P:P,Report!$B69))","v":"Player Serve"},{"$f":"IF(ISERROR(INDEX(Data!O:O,Report!$B69)),\"\",INDEX(Data!O:O,Report!$B69))","v":4},{"$f":"IF(ISERROR(INDEX(Data!Q:Q,Report!$B69)),\"\",INDEX(Data!Q:Q,Report!$B69))","v":3.5},{"$f":"IF(ISERROR(INDEX(Data!R:R,Report!$B69)),\"\",INDEX(Data!R:R,Report!$B69))","v":15},{"$f":"IF(ISERROR(INDEX(Data!S:S,Report!$B69)),\"\",INDEX(Data!S:S,Report!$B69))","v":7},{"$f":"IF(ISERROR(INDEX(Data!T:T,Report!$B69)),\"\",INDEX(Data!T:T,Report!$B69))","v":3.3},{"$f":"IF(ISERROR(INDEX(Data!U:U,Report!$B69)),\"\",INDEX(Data!U:U,Report!$B69))","v":101},{"$f":"IF(ISERROR(INDEX(Data!V:V,Report!$B69)),\"\",INDEX(Data!V:V,Report!$B69))","v":4.8},null,{"$f":"IF(H69=0,\"\",IF(ISERROR(REPT(\" \",L69) & \"|\"),\"\",REPT(\" \",L69) & \"|\"))","v":"               |"},"|||"]
[66,{"$f":"IF(ISERROR(MATCH(A70,Data!A:A,0)),\"\",MATCH(A70,Data!A:A,0))","v":34},{"$f":"IF(ISERROR(INDEX(Data!I:I,Report!$B70)),\"\",INDEX(Data!I:I,Report!$B70))","v":" "},{"$f":"IF(ISERROR(INDEX(Data!J:J,Report!$B70)),\"\",INDEX(Data!J:J,Report!$B70))","v":"User Drill #85  3 line rated mini Tennis"},{"$f":"IF(ISERROR(INDEX(Data!K:K,Report!$B70)),\"\",INDEX(Data!K:K,Report!$B70))","v":0},{"$f":"IF(ISERROR(INDEX(Data!L:L,Report!$B70)),\"\",INDEX(Data!L:L,Report!$B70))","v":0},null,{"$f":"IF(ISERROR(INDEX(Data!N:N,Report!$B70)),\"\",INDEX(Data!N:N,Report!$B70))","v":2},{"$f":"IF(ISERROR(INDEX(Data!P:P,Report!$B70)),\"\",INDEX(Data!P:P,Report!$B70))","v":0},{"$f":"IF(ISERROR(INDEX(Data!O:O,Report!$B70)),\"\",INDEX(Data!O:O,Report!$B70))","v":4},{"$f":"IF(ISERROR(INDEX(Data!Q:Q,Report!$B70)),\"\",INDEX(Data!Q:Q,Report!$B70))","v":3.5},{"$f":"IF(ISERROR(INDEX(Data!R:R,Report!$B70)),\"\",INDEX(Data!R:R,Report!$B70))","v":6},{"$f":"IF(ISERROR(INDEX(Data!S:S,Report!$B70)),\"\",INDEX(Data!S:S,Report!$B70))","v":3},{"$f":"IF(ISERROR(INDEX(Data!T:T,Report!$B70)),\"\",INDEX(Data!T:T,Report!$B70))","v":6.2},{"$f":"IF(ISERROR(INDEX(Data!U:U,Report!$B70)),\"\",INDEX(Data!U:U,Report!$B70))","v":16},{"$f":"IF(ISERROR(INDEX(Data!V:V,Report!$B70)),\"\",INDEX(Data!V:V,Report!$B70))","v":4.2},null,"      |",{"$f":"IF(ISERROR(REPT(\"|\",M70/2)),\"\",REPT(\"|\",M70/2))","v":"|"}]
[{"$f":"A70+1","v":67},{"$f":"IF(ISERROR(MATCH(A71,Data!A:A,0)),\"\",MATCH(A71,Data!A:A,0))","v":35},{"$f":"IF(ISERROR(INDEX(Data!I:I,Report!$B71)),\"\",INDEX(Data!I:I,Report!$B71))","v":"04:34:28"},{"$f":"IF(ISERROR(INDEX(Data!J:J,Report!$B71)),\"\",INDEX(Data!J:J,Report!$B71))","v":"Game against Boomer at level 3.5  Single point data:"},{"$f":"IF(ISERROR(INDEX(Data!K:K,Report!$B71)),\"\",INDEX(Data!K:K,Report!$B71))","v":"Boomer's point"},{"$f":"IF(ISERROR(INDEX(Data!L:L,Report!$B71)),\"\",INDEX(Data!L:L,Report!$B71))","v":0},null,{"$f":"IF(ISERROR(INDEX(Data!N:N,Report!$B71)),\"\",INDEX(Data!N:N,Report!$B71))","v":2},{"$f":"IF(ISERROR(INDEX(Data!P:P,Report!$B71)),\"\",INDEX(Data!P:P,Report!$B71))","v":"Topspin"},{"$f":"IF(ISERROR(INDEX(Data!O:O,Report!$B71)),\"\",INDEX(Data!O:O,Report!$B71))","v":6},{"$f":"IF(ISERROR(INDEX(Data!Q:Q,Report!$B71)),\"\",INDEX(Data!Q:Q,Report!$B71))","v":3.5},{"$f":"IF(ISERROR(INDEX(Data!R:R,Report!$B71)),\"\",INDEX(Data!R:R,Report!$B71))","v":8},{"$f":"IF(ISERROR(INDEX(Data!S:S,Report!$B71)),\"\",INDEX(Data!S:S,Report!$B71))","v":18},{"$f":"IF(ISERROR(INDEX(Data!T:T,Report!$B71)),\"\",INDEX(Data!T:T,Report!$B71))","v":2.2999999999999998},{"$f":"IF(ISERROR(INDEX(Data!U:U,Report!$B71)),\"\",INDEX(Data!U:U,Report!$B71))","v":20},{"$f":"IF(ISERROR(INDEX(Data!V:V,Report!$B71)),\"\",INDEX(Data!V:V,Report!$B71))","v":1.9},null,"        |","|||||||||"]
[68,{"$f":"IF(ISERROR(MATCH(A72,Data!A:A,0)),\"\",MATCH(A72,Data!A:A,0))","v":36},{"$f":"IF(ISERROR(INDEX(Data!I:I,Report!$B72)),\"\",INDEX(Data!I:I,Report!$B72))","v":"04:34:28"},{"$f":"IF(ISERROR(INDEX(Data!J:J,Report!$B72)),\"\",INDEX(Data!J:J,Report!$B72))","v":"Game against Boomer at level 3.5  Single point data:"},{"$f":"IF(ISERROR(INDEX(Data!K:K,Report!$B72)),\"\",INDEX(Data!K:K,Report!$B72))","v":"Boomer's point"},{"$f":"IF(ISERROR(INDEX(Data!L:L,Report!$B72)),\"\",INDEX(Data!L:L,Report!$B72))","v":0},null,{"$f":"IF(ISERROR(INDEX(Data!N:N,Report!$B72)),\"\",INDEX(Data!N:N,Report!$B72))","v":3},{"$f":"IF(ISERROR(INDEX(Data!P:P,Report!$B72)),\"\",INDEX(Data!P:P,Report!$B72))","v":"Heavy Topspin"},{"$f":"IF(ISERROR(INDEX(Data!O:O,Report!$B72)),\"\",INDEX(Data!O:O,Report!$B72))","v":4},{"$f":"IF(ISERROR(INDEX(Data!Q:Q,Report!$B72)),\"\",INDEX(Data!Q:Q,Report!$B72))","v":3.5},{"$f":"IF(ISERROR(INDEX(Data!R:R,Report!$B72)),\"\",INDEX(Data!R:R,Report!$B72))","v":18},{"$f":"IF(ISERROR(INDEX(Data!S:S,Report!$B72)),\"\",INDEX(Data!S:S,Report!$B72))","v":18},{"$f":"IF(ISERROR(INDEX(Data!T:T,Report!$B72)),\"\",INDEX(Data!T:T,Report!$B72))","v":3.2},{"$f":"IF(ISERROR(INDEX(Data!U:U,Report!$B72)),\"\",INDEX(Data!U:U,Report!$B72))","v":11},{"$f":"IF(ISERROR(INDEX(Data!V:V,Report!$B72)),\"\",INDEX(Data!V:V,Report!$B72))","v":2.2000000000000002},null,"                  |","|||||||||"]
[69,{"$f":"IF(ISERROR(MATCH(A73,Data!A:A,0)),\"\",MATCH(A73,Data!A:A,0))","v":37},{"$f":"IF(ISERROR(INDEX(Data!I:I,Report!$B73)),\"\",INDEX(Data!I:I,Report!$B73))","v":" "},{"$f":"IF(ISERROR(INDEX(Data!J:J,Report!$B73)),\"\",INDEX(Data!J:J,Report!$B73))","v":"User Drill #85  3 line rated mini Tennis"},{"$f":"IF(ISERROR(INDEX(Data!K:K,Report!$B73)),\"\",INDEX(Data!K:K,Report!$B73))","v":0},{"$f":"IF(ISERROR(INDEX(Data!L:L,Report!$B73)),\"\",INDEX(Data!L:L,Report!$B73))","v":0},null,{"$f":"IF(ISERROR(INDEX(Data!N:N,Report!$B73)),\"\",INDEX(Data!N:N,Report!$B73))","v":3},{"$f":"IF(ISERROR(INDEX(Data!P:P,Report!$B73)),\"\",INDEX(Data!P:P,Report!$B73))","v":0},{"$f":"IF(ISERROR(INDEX(Data!O:O,Report!$B73)),\"\",INDEX(Data!O:O,Report!$B73))","v":10},{"$f":"IF(ISERROR(INDEX(Data!Q:Q,Report!$B73)),\"\",INDEX(Data!Q:Q,Report!$B73))","v":3.5},{"$f":"IF(ISERROR(INDEX(Data!R:R,Report!$B73)),\"\",INDEX(Data!R:R,Report!$B73))","v":0},{"$f":"IF(ISERROR(INDEX(Data!S:S,Report!$B73)),\"\",INDEX(Data!S:S,Report!$B73))","v":0},{"$f":"IF(ISERROR(INDEX(Data!T:T,Report!$B73)),\"\",INDEX(Data!T:T,Report!$B73))","v":0},{"$f":"IF(ISERROR(INDEX(Data!U:U,Report!$B73)),\"\",INDEX(Data!U:U,Report!$B73))","v":0},{"$f":"IF(ISERROR(INDEX(Data!V:V,Report!$B73)),\"\",INDEX(Data!V:V,Report!$B73))","v":0},null,"|",""]
[70,{"$f":"IF(ISERROR(MATCH(A74,Data!A:A,0)),\"\",MATCH(A74,Data!A:A,0))","v":38},{"$f":"IF(ISERROR(INDEX(Data!I:I,Report!$B74)),\"\",INDEX(Data!I:I,Report!$B74))","v":"04:34:28"},{"$f":"IF(ISERROR(INDEX(Data!J:J,Report!$B74)),\"\",INDEX(Data!J:J,Report!$B74))","v":"Game against Boomer at level 3.5  Single point data:"},{"$f":"IF(ISERROR(INDEX(Data!K:K,Report!$B74)),\"\",INDEX(Data!K:K,Report!$B74))","v":"Boomer's point"},{"$f":"IF(ISERROR(INDEX(Data!L:L,Report!$B74)),\"\",INDEX(Data!L:L,Report!$B74))","v":0},null,{"$f":"IF(ISERROR(INDEX(Data!N:N,Report!$B74)),\"\",INDEX(Data!N:N,Report!$B74))","v":4},{"$f":"IF(ISERROR(INDEX(Data!P:P,Report!$B74)),\"\",INDEX(Data!P:P,Report!$B74))","v":"Pass"},{"$f":"IF(ISERROR(INDEX(Data!O:O,Report!$B74)),\"\",INDEX(Data!O:O,Report!$B74))","v":4},{"$f":"IF(ISERROR(INDEX(Data!Q:Q,Report!$B74)),\"\",INDEX(Data!Q:Q,Report!$B74))","v":3.5},{"$f":"IF(ISERROR(INDEX(Data!R:R,Report!$B74)),\"\",INDEX(Data!R:R,Report!$B74))","v":24},{"$f":"IF(ISERROR(INDEX(Data!S:S,Report!$B74)),\"\",INDEX(Data!S:S,Report!$B74))","v":18},{"$f":"IF(ISERROR(INDEX(Data!T:T,Report!$B74)),\"\",INDEX(Data!T:T,Report!$B74))","v":4},{"$f":"IF(ISERROR(INDEX(Data!U:U,Report!$B74)),\"\",INDEX(Data!U:U,Report!$B74))","v":20},{"$f":"IF(ISERROR(INDEX(Data!V:V,Report!$B74)),\"\",INDEX(Data!V:V,Report!$B74))","v":3.1},null,"                        |","|||||||||"]
[71,{"$f":"IF(ISERROR(MATCH(A75,Data!A:A,0)),\"\",MATCH(A75,Data!A:A,0))","v":39},{"$f":"IF(ISERROR(INDEX(Data!I:I,Report!$B75)),\"\",INDEX(Data!I:I,Report!$B75))","v":"04:34:28"},{"$f":"IF(ISERROR(INDEX(Data!J:J,Report!$B75)),\"\",INDEX(Data!J:J,Report!$B75))","v":"Game against Boomer at level 3.5  Single point data:"},{"$f":"IF(ISERROR(INDEX(Data!K:K,Report!$B75)),\"\",INDEX(Data!K:K,Report!$B75))","v":"Boomer's point"},{"$f":"IF(ISERROR(INDEX(Data!L:L,Report!$B75)),\"\",INDEX(Data!L:L,Report!$B75))","v":0},null,{"$f":"IF(ISERROR(INDEX(Data!N:N,Report!$B75)),\"\",INDEX(Data!N:N,Report!$B75))","v":5},{"$f":"IF(ISERROR(INDEX(Data!P:P,Report!$B75)),\"\",INDEX(Data!P:P,Report!$B75))","v":"Lob"},{"$f":"IF(ISERROR(INDEX(Data!O:O,Report!$B75)),\"\",INDEX(Data!O:O,Report!$B75))","v":4},{"$f":"IF(ISERROR(INDEX(Data!Q:Q,Report!$B75)),\"\",INDEX(Data!Q:Q,Report!$B75))","v":3.5},{"$f":"IF(ISERROR(INDEX(Data!R:R,Report!$B75)),\"\",INDEX(Data!R:R,Report!$B75))","v":0},{"$f":"IF(ISERROR(INDEX(Data!S:S,Report!$B75)),\"\",INDEX(Data!S:S,Report!$B75))","v":0},{"$f":"IF(ISERROR(INDEX(Data!T:T,Report!$B75)),\"\",INDEX(Data!T:T,Report!$B75))","v":0},{"$f":"IF(ISERROR(INDEX(Data!U:U,Report!$B75)),\"\",INDEX(Data!U:U,Report!$B75))","v":0},{"$f":"IF(ISERROR(INDEX(Data!V:V,Report!$B75)),\"\",INDEX(Data!V:V,Report!$B75))","v":0},null,"|",""]
[72,{"$f":"IF(ISERROR(MATCH(A76,Data!A:A,0)),\"\",MATCH(A76,Data!A:A,0))","v":""},{"$f":"IF(ISERROR(INDEX(Data!I:I,Report!$B76)),\"\",INDEX(Data!I:I,Report!$B76))","v":""},{"$f":"IF(ISERROR(INDEX(Data!J:J,Report!$B76)),\"\",INDEX(Data!J:J,Report!$B76))","v":""},{"$f":"IF(ISERROR(INDEX(Data!K:K,Report!$B76)),\"\",INDEX(Data!K:K,Report!$B76))","v":""},{"$f":"IF(ISERROR(INDEX(Data!L:L,Report!$B76)),\"\",INDEX(Data!L:L,Report!$B76))","v":""},null,{"$f":"IF(ISERROR(INDEX(Data!N:N,Report!$B76)),\"\",INDEX(Data!N:N,Report!$B76))","v":""},{"$f":"IF(ISERROR(INDEX(Data!P:P,Report!$B76)),\"\",INDEX(Data!P:P,Report!$B76))","v":""},{"$f":"IF(ISERROR(INDEX(Data!O:O,Report!$B76)),\"\",INDEX(Data!O:O,Report!$B76))","v":""},{"$f":"IF(ISERROR(INDEX(Data!Q:Q,Report!$B76)),\"\",INDEX(Data!Q:Q,Report!$B76))","v":""},{"$f":"IF(ISERROR(INDEX(Data!R:R,Report!$B76)),\"\",INDEX(Data!R:R,Report!$B76))","v":""},{"$f":"IF(ISERROR(INDEX(Data!S:S,Report!$B76)),\"\",INDEX(Data!S:S,Report!$B76))","v":""},{"$f":"IF(ISERROR(INDEX(Data!T:T,Report!$B76)),\"\",INDEX(Data!T:T,Report!$B76))","v":""},{"$f":"IF(ISERROR(INDEX(Data!U:U,Report!$B76)),\"\",INDEX(Data!U:U,Report!$B76))","v":""},{"$f":"IF(ISERROR(INDEX(Data!V:V,Report!$B76)),\"\",INDEX(Data!V:V,Report!$B76))","v":""},null,"",""]
[73,{"$f":"IF(ISERROR(MATCH(A77,Data!A:A,0)),\"\",MATCH(A77,Data!A:A,0))","v":""},{"$f":"IF(ISERROR(INDEX(Data!I:I,Report!$B77)),\"\",INDEX(Data!I:I,Report!$B77))","v":""},{"$f":"IF(ISERROR(INDEX(Data!J:J,Report!$B77)),\"\",INDEX(Data!J:J,Report!$B77))","v":""},{"$f":"IF(ISERROR(INDEX(Data!K:K,Report!$B77)),\"\",INDEX(Data!K:K,Report!$B77))","v":""},{"$f":"IF(ISERROR(INDEX(Data!L:L,Report!$B77)),\"\",INDEX(Data!L:L,Report!$B77))","v":""},null,{"$f":"IF(ISERROR(INDEX(Data!N:N,Report!$B77)),\"\",INDEX(Data!N:N,Report!$B77))","v":""},{"$f":"IF(ISERROR(INDEX(Data!P:P,Report!$B77)),\"\",INDEX(Data!P:P,Report!$B77))","v":""},{"$f":"IF(ISERROR(INDEX(Data!O:O,Report!$B77)),\"\",INDEX(Data!O:O,Report!$B77))","v":""},{"$f":"IF(ISERROR(INDEX(Data!Q:Q,Report!$B77)),\"\",INDEX(Data!Q:Q,Report!$B77))","v":""},{"$f":"IF(ISERROR(INDEX(Data!R:R,Report!$B77)),\"\",INDEX(Data!R:R,Report!$B77))","v":""},{"$f":"IF(ISERROR(INDEX(Data!S:S,Report!$B77)),\"\",INDEX(Data!S:S,Report!$B77))","v":""},{"$f":"IF(ISERROR(INDEX(Data!T:T,Report!$B77)),\"\",INDEX(Data!T:T,Report!$B77))","v":""},{"$f":"IF(ISERROR(INDEX(Data!U:U,Report!$B77)),\"\",INDEX(Data!U:U,Report!$B77))","v":""},{"$f":"IF(ISERROR(INDEX(Data!V:V,Report!$B77)),\"\",INDEX(Data!V:V,Report!$B77))","v":""},null,"",""]
[74,{"$f":"IF(ISERROR(MATCH(A78,Data!A:A,0)),\"\",MATCH(A78,Data!A:A,0))","v":""},{"$f":"IF(ISERROR(INDEX(Data!I:I,Report!$B78)),\"\",INDEX(Data!I:I,Report!$B78))","v":""},{"$f":"IF(ISERROR(INDEX(Data!J:J,Report!$B78)),\"\",INDEX(Data!J:J,Report!$B78))","v":""},{"$f":"IF(ISERROR(INDEX(Data!K:K,Report!$B78)),\"\",INDEX(Data!K:K,Report!$B78))","v":""},{"$f":"IF(ISERROR(INDEX(Data!L:L,Report!$B78)),\"\",INDEX(Data!L:L,Report!$B78))","v":""},null,{"$f":"IF(ISERROR(INDEX(Data!N:N,Report!$B78)),\"\",INDEX(Data!N:N,Report!$B78))","v":""},{"$f":"IF(ISERROR(INDEX(Data!P:P,Report!$B78)),\"\",INDEX(Data!P:P,Report!$B78))","v":""},{"$f":"IF(ISERROR(INDEX(Data!O:O,Report!$B78)),\"\",INDEX(Data!O:O,Report!$B78))","v":""},{"$f":"IF(ISERROR(INDEX(Data!Q:Q,Report!$B78)),\"\",INDEX(Data!Q:Q,Report!$B78))","v":""},{"$f":"IF(ISERROR(INDEX(Data!R:R,Report!$B78)),\"\",INDEX(Data!R:R,Report!$B78))","v":""},{"$f":"IF(ISERROR(INDEX(Data!S:S,Report!$B78)),\"\",INDEX(Data!S:S,Report!$B78))","v":""},{"$f":"IF(ISERROR(INDEX(Data!T:T,Report!$B78)),\"\",INDEX(Data!T:T,Report!$B78))","v":""},{"$f":"IF(ISERROR(INDEX(Data!U:U,Report!$B78)),\"\",INDEX(Data!U:U,Report!$B78))","v":""},{"$f":"IF(ISERROR(INDEX(Data!V:V,Report!$B78)),\"\",INDEX(Data!V:V,Report!$B78))","v":""},null,"",""]
[75,{"$f":"IF(ISERROR(MATCH(A79,Data!A:A,0)),\"\",MATCH(A79,Data!A:A,0))","v":40},{"$f":"IF(ISERROR(INDEX(Data!I:I,Report!$B79)),\"\",INDEX(Data!I:I,Report!$B79))","v":" "},{"$f":"IF(ISERROR(INDEX(Data!J:J,Report!$B79)),\"\",INDEX(Data!J:J,Report!$B79))","v":"User Drill #85  3 line rated mini Tennis"},{"$f":"IF(ISERROR(INDEX(Data!K:K,Report!$B79)),\"\",INDEX(Data!K:K,Report!$B79))","v":0},{"$f":"IF(ISERROR(INDEX(Data!L:L,Report!$B79)),\"\",INDEX(Data!L:L,Report!$B79))","v":"New Point"},null,{"$f":"IF(ISERROR(INDEX(Data!N:N,Report!$B79)),\"\",INDEX(Data!N:N,Report!$B79))","v":1},{"$f":"IF(ISERROR(INDEX(Data!P:P,Report!$B79)),\"\",INDEX(Data!P:P,Report!$B79))","v":0},{"$f":"IF(ISERROR(INDEX(Data!O:O,Report!$B79)),\"\",INDEX(Data!O:O,Report!$B79))","v":11},{"$f":"IF(ISERROR(INDEX(Data!Q:Q,Report!$B79)),\"\",INDEX(Data!Q:Q,Report!$B79))","v":3.5},{"$f":"IF(ISERROR(INDEX(Data!R:R,Report!$B79)),\"\",INDEX(Data!R:R,Report!$B79))","v":0},{"$f":"IF(ISERROR(INDEX(Data!S:S,Report!$B79)),\"\",INDEX(Data!S:S,Report!$B79))","v":0},{"$f":"IF(ISERROR(INDEX(Data!T:T,Report!$B79)),\"\",INDEX(Data!T:T,Report!$B79))","v":0},{"$f":"IF(ISERROR(INDEX(Data!U:U,Report!$B79)),\"\",INDEX(Data!U:U,Report!$B79))","v":0},{"$f":"IF(ISERROR(INDEX(Data!V:V,Report!$B79)),\"\",INDEX(Data!V:V,Report!$B79))","v":0},null,"|",""]
[76,{"$f":"IF(ISERROR(MATCH(A80,Data!A:A,0)),\"\",MATCH(A80,Data!A:A,0))","v":""},{"$f":"IF(ISERROR(INDEX(Data!I:I,Report!$B80)),\"\",INDEX(Data!I:I,Report!$B80))","v":""},{"$f":"IF(ISERROR(INDEX(Data!J:J,Report!$B80)),\"\",INDEX(Data!J:J,Report!$B80))","v":""},{"$f":"IF(ISERROR(INDEX(Data!K:K,Report!$B80)),\"\",INDEX(Data!K:K,Report!$B80))","v":""},{"$f":"IF(ISERROR(INDEX(Data!L:L,Report!$B80)),\"\",INDEX(Data!L:L,Report!$B80))","v":""},null,{"$f":"IF(ISERROR(INDEX(Data!N:N,Report!$B80)),\"\",INDEX(Data!N:N,Report!$B80))","v":""},{"$f":"IF(ISERROR(INDEX(Data!P:P,Report!$B80)),\"\",INDEX(Data!P:P,Report!$B80))","v":""},{"$f":"IF(ISERROR(INDEX(Data!O:O,Report!$B80)),\"\",INDEX(Data!O:O,Report!$B80))","v":""},{"$f":"IF(ISERROR(INDEX(Data!Q:Q,Report!$B80)),\"\",INDEX(Data!Q:Q,Report!$B80))","v":""},{"$f":"IF(ISERROR(INDEX(Data!R:R,Report!$B80)),\"\",INDEX(Data!R:R,Report!$B80))","v":""},{"$f":"IF(ISERROR(INDEX(Data!S:S,Report!$B80)),\"\",INDEX(Data!S:S,Report!$B80))","v":""},{"$f":"IF(ISERROR(INDEX(Data!T:T,Report!$B80)),\"\",INDEX(Data!T:T,Report!$B80))","v":""},{"$f":"IF(ISERROR(INDEX(Data!U:U,Report!$B80)),\"\",INDEX(Data!U:U,Report!$B80))","v":""},{"$f":"IF(ISERROR(INDEX(Data!V:V,Report!$B80)),\"\",INDEX(Data!V:V,Report!$B80))","v":""},null,"",""]
[77,{"$f":"IF(ISERROR(MATCH(A81,Data!A:A,0)),\"\",MATCH(A81,Data!A:A,0))","v":""},{"$f":"IF(ISERROR(INDEX(Data!I:I,Report!$B81)),\"\",INDEX(Data!I:I,Report!$B81))","v":""},{"$f":"IF(ISERROR(INDEX(Data!J:J,Report!$B81)),\"\",INDEX(Data!J:J,Report!$B81))","v":""},{"$f":"IF(ISERROR(INDEX(Data!K:K,Report!$B81)),\"\",INDEX(Data!K:K,Report!$B81))","v":""},{"$f":"IF(ISERROR(INDEX(Data!L:L,Report!$B81)),\"\",INDEX(Data!L:L,Report!$B81))","v":""},null,{"$f":"IF(ISERROR(INDEX(Data!N:N,Report!$B81)),\"\",INDEX(Data!N:N,Report!$B81))","v":""},{"$f":"IF(ISERROR(INDEX(Data!P:P,Report!$B81)),\"\",INDEX(Data!P:P,Report!$B81))","v":""},{"$f":"IF(ISERROR(INDEX(Data!O:O,Report!$B81)),\"\",INDEX(Data!O:O,Report!$B81))","v":""},{"$f":"IF(ISERROR(INDEX(Data!Q:Q,Report!$B81)),\"\",INDEX(Data!Q:Q,Report!$B81))","v":""},{"$f":"IF(ISERROR(INDEX(Data!R:R,Report!$B81)),\"\",INDEX(Data!R:R,Report!$B81))","v":""},{"$f":"IF(ISERROR(INDEX(Data!S:S,Report!$B81)),\"\",INDEX(Data!S:S,Report!$B81))","v":""},{"$f":"IF(ISERROR(INDEX(Data!T:T,Report!$B81)),\"\",INDEX(Data!T:T,Report!$B81))","v":""},{"$f":"IF(ISERROR(INDEX(Data!U:U,Report!$B81)),\"\",INDEX(Data!U:U,Report!$B81))","v":""},{"$f":"IF(ISERROR(INDEX(Data!V:V,Report!$B81)),\"\",INDEX(Data!V:V,Report!$B81))","v":""},null,"",""]
[78,{"$f":"IF(ISERROR(MATCH(A82,Data!A:A,0)),\"\",MATCH(A82,Data!A:A,0))","v":""},{"$f":"IF(ISERROR(INDEX(Data!I:I,Report!$B82)),\"\",INDEX(Data!I:I,Report!$B82))","v":""},{"$f":"IF(ISERROR(INDEX(Data!J:J,Report!$B82)),\"\",INDEX(Data!J:J,Report!$B82))","v":""},{"$f":"IF(ISERROR(INDEX(Data!K:K,Report!$B82)),\"\",INDEX(Data!K:K,Report!$B82))","v":""},{"$f":"IF(ISERROR(INDEX(Data!L:L,Report!$B82)),\"\",INDEX(Data!L:L,Report!$B82))","v":""},null,{"$f":"IF(ISERROR(INDEX(Data!N:N,Report!$B82)),\"\",INDEX(Data!N:N,Report!$B82))","v":""},{"$f":"IF(ISERROR(INDEX(Data!P:P,Report!$B82)),\"\",INDEX(Data!P:P,Report!$B82))","v":""},{"$f":"IF(ISERROR(INDEX(Data!O:O,Report!$B82)),\"\",INDEX(Data!O:O,Report!$B82))","v":""},{"$f":"IF(ISERROR(INDEX(Data!Q:Q,Report!$B82)),\"\",INDEX(Data!Q:Q,Report!$B82))","v":""},{"$f":"IF(ISERROR(INDEX(Data!R:R,Report!$B82)),\"\",INDEX(Data!R:R,Report!$B82))","v":""},{"$f":"IF(ISERROR(INDEX(Data!S:S,Report!$B82)),\"\",INDEX(Data!S:S,Report!$B82))","v":""},{"$f":"IF(ISERROR(INDEX(Data!T:T,Report!$B82)),\"\",INDEX(Data!T:T,Report!$B82))","v":""},{"$f":"IF(ISERROR(INDEX(Data!U:U,Report!$B82)),\"\",INDEX(Data!U:U,Report!$B82))","v":""},{"$f":"IF(ISERROR(INDEX(Data!V:V,Report!$B82)),\"\",INDEX(Data!V:V,Report!$B82))","v":""},null,"",""]
[79,{"$f":"IF(ISERROR(MATCH(A83,Data!A:A,0)),\"\",MATCH(A83,Data!A:A,0))","v":41},{"$f":"IF(ISERROR(INDEX(Data!I:I,Report!$B83)),\"\",INDEX(Data!I:I,Report!$B83))","v":"00:33:20"},{"$f":"IF(ISERROR(INDEX(Data!J:J,Report!$B83)),\"\",INDEX(Data!J:J,Report!$B83))","v":"Game against Boomer at level 2.0  Single point data:"},{"$f":"IF(ISERROR(INDEX(Data!K:K,Report!$B83)),\"\",INDEX(Data!K:K,Report!$B83))","v":"Player's point"},{"$f":"IF(ISERROR(INDEX(Data!L:L,Report!$B83)),\"\",INDEX(Data!L:L,Report!$B83))","v":"New Point"},null,{"$f":"IF(ISERROR(INDEX(Data!N:N,Report!$B83)),\"\",INDEX(Data!N:N,Report!$B83))","v":1},{"$f":"IF(ISERROR(INDEX(Data!P:P,Report!$B83)),\"\",INDEX(Data!P:P,Report!$B83))","v":"Player Serve"},{"$f":"IF(ISERROR(INDEX(Data!O:O,Report!$B83)),\"\",INDEX(Data!O:O,Report!$B83))","v":4},{"$f":"IF(ISERROR(INDEX(Data!Q:Q,Report!$B83)),\"\",INDEX(Data!Q:Q,Report!$B83))","v":2},{"$f":"IF(ISERROR(INDEX(Data!R:R,Report!$B83)),\"\",INDEX(Data!R:R,Report!$B83))","v":16},{"$f":"IF(ISERROR(INDEX(Data!S:S,Report!$B83)),\"\",INDEX(Data!S:S,Report!$B83))","v":6},{"$f":"IF(ISERROR(INDEX(Data!T:T,Report!$B83)),\"\",INDEX(Data!T:T,Report!$B83))","v":3.8},{"$f":"IF(ISERROR(INDEX(Data!U:U,Report!$B83)),\"\",INDEX(Data!U:U,Report!$B83))","v":110},{"$f":"IF(ISERROR(INDEX(Data!V:V,Report!$B83)),\"\",INDEX(Data!V:V,Report!$B83))","v":5.3},null,"                |","|||"]
[80,{"$f":"IF(ISERROR(MATCH(A84,Data!A:A,0)),\"\",MATCH(A84,Data!A:A,0))","v":""},{"$f":"IF(ISERROR(INDEX(Data!I:I,Report!$B84)),\"\",INDEX(Data!I:I,Report!$B84))","v":""},{"$f":"IF(ISERROR(INDEX(Data!J:J,Report!$B84)),\"\",INDEX(Data!J:J,Report!$B84))","v":""},{"$f":"IF(ISERROR(INDEX(Data!K:K,Report!$B84)),\"\",INDEX(Data!K:K,Report!$B84))","v":""},{"$f":"IF(ISERROR(INDEX(Data!L:L,Report!$B84)),\"\",INDEX(Data!L:L,Report!$B84))","v":""},null,{"$f":"IF(ISERROR(INDEX(Data!N:N,Report!$B84)),\"\",INDEX(Data!N:N,Report!$B84))","v":""},{"$f":"IF(ISERROR(INDEX(Data!P:P,Report!$B84)),\"\",INDEX(Data!P:P,Report!$B84))","v":""},{"$f":"IF(ISERROR(INDEX(Data!O:O,Report!$B84)),\"\",INDEX(Data!O:O,Report!$B84))","v":""},{"$f":"IF(ISERROR(INDEX(Data!Q:Q,Report!$B84)),\"\",INDEX(Data!Q:Q,Report!$B84))","v":""},{"$f":"IF(ISERROR(INDEX(Data!R:R,Report!$B84)),\"\",INDEX(Data!R:R,Report!$B84))","v":""},{"$f":"IF(ISERROR(INDEX(Data!S:S,Report!$B84)),\"\",INDEX(Data!S:S,Report!$B84))","v":""},{"$f":"IF(ISERROR(INDEX(Data!T:T,Report!$B84)),\"\",INDEX(Data!T:T,Report!$B84))","v":""},{"$f":"IF(ISERROR(INDEX(Data!U:U,Report!$B84)),\"\",INDEX(Data!U:U,Report!$B84))","v":""},{"$f":"IF(ISERROR(INDEX(Data!V:V,Report!$B84)),\"\",INDEX(Data!V:V,Report!$B84))","v":""},null,"",""]
[81,{"$f":"IF(ISERROR(MATCH(A85,Data!A:A,0)),\"\",MATCH(A85,Data!A:A,0))","v":""},{"$f":"IF(ISERROR(INDEX(Data!I:I,Report!$B85)),\"\",INDEX(Data!I:I,Report!$B85))","v":""},{"$f":"IF(ISERROR(INDEX(Data!J:J,Report!$B85)),\"\",INDEX(Data!J:J,Report!$B85))","v":""},{"$f":"IF(ISERROR(INDEX(Data!K:K,Report!$B85)),\"\",INDEX(Data!K:K,Report!$B85))","v":""},{"$f":"IF(ISERROR(INDEX(Data!L:L,Report!$B85)),\"\",INDEX(Data!L:L,Report!$B85))","v":""},null,{"$f":"IF(ISERROR(INDEX(Data!N:N,Report!$B85)),\"\",INDEX(Data!N:N,Report!$B85))","v":""},{"$f":"IF(ISERROR(INDEX(Data!P:P,Report!$B85)),\"\",INDEX(Data!P:P,Report!$B85))","v":""},{"$f":"IF(ISERROR(INDEX(Data!O:O,Report!$B85)),\"\",INDEX(Data!O:O,Report!$B85))","v":""},{"$f":"IF(ISERROR(INDEX(Data!Q:Q,Report!$B85)),\"\",INDEX(Data!Q:Q,Report!$B85))","v":""},{"$f":"IF(ISERROR(INDEX(Data!R:R,Report!$B85)),\"\",INDEX(Data!R:R,Report!$B85))","v":""},{"$f":"IF(ISERROR(INDEX(Data!S:S,Report!$B85)),\"\",INDEX(Data!S:S,Report!$B85))","v":""},{"$f":"IF(ISERROR(INDEX(Data!T:T,Report!$B85)),\"\",INDEX(Data!T:T,Report!$B85))","v":""},{"$f":"IF(ISERROR(INDEX(Data!U:U,Report!$B85)),\"\",INDEX(Data!U:U,Report!$B85))","v":""},{"$f":"IF(ISERROR(INDEX(Data!V:V,Report!$B85)),\"\",INDEX(Data!V:V,Report!$B85))","v":""},null,"",""]
[82,{"$f":"IF(ISERROR(MATCH(A86,Data!A:A,0)),\"\",MATCH(A86,Data!A:A,0))","v":""},{"$f":"IF(ISERROR(INDEX(Data!I:I,Report!$B86)),\"\",INDEX(Data!I:I,Report!$B86))","v":""},{"$f":"IF(ISERROR(INDEX(Data!J:J,Report!$B86)),\"\",INDEX(Data!J:J,Report!$B86))","v":""},{"$f":"IF(ISERROR(INDEX(Data!K:K,Report!$B86)),\"\",INDEX(Data!K:K,Report!$B86))","v":""},{"$f":"IF(ISERROR(INDEX(Data!L:L,Report!$B86)),\"\",INDEX(Data!L:L,Report!$B86))","v":""},null,{"$f":"IF(ISERROR(INDEX(Data!N:N,Report!$B86)),\"\",INDEX(Data!N:N,Report!$B86))","v":""},{"$f":"IF(ISERROR(INDEX(Data!P:P,Report!$B86)),\"\",INDEX(Data!P:P,Report!$B86))","v":""},{"$f":"IF(ISERROR(INDEX(Data!O:O,Report!$B86)),\"\",INDEX(Data!O:O,Report!$B86))","v":""},{"$f":"IF(ISERROR(INDEX(Data!Q:Q,Report!$B86)),\"\",INDEX(Data!Q:Q,Report!$B86))","v":""},{"$f":"IF(ISERROR(INDEX(Data!R:R,Report!$B86)),\"\",INDEX(Data!R:R,Report!$B86))","v":""},{"$f":"IF(ISERROR(INDEX(Data!S:S,Report!$B86)),\"\",INDEX(Data!S:S,Report!$B86))","v":""},{"$f":"IF(ISERROR(INDEX(Data!T:T,Report!$B86)),\"\",INDEX(Data!T:T,Report!$B86))","v":""},{"$f":"IF(ISERROR(INDEX(Data!U:U,Report!$B86)),\"\",INDEX(Data!U:U,Report!$B86))","v":""},{"$f":"IF(ISERROR(INDEX(Data!V:V,Report!$B86)),\"\",INDEX(Data!V:V,Report!$B86))","v":""},null,"",""]
[83,{"$f":"IF(ISERROR(MATCH(A87,Data!A:A,0)),\"\",MATCH(A87,Data!A:A,0))","v":42},{"$f":"IF(ISERROR(INDEX(Data!I:I,Report!$B87)),\"\",INDEX(Data!I:I,Report!$B87))","v":"04:35:12"},{"$f":"IF(ISERROR(INDEX(Data!J:J,Report!$B87)),\"\",INDEX(Data!J:J,Report!$B87))","v":"Game against Boomer at level 3.5  Single point data:"},{"$f":"IF(ISERROR(INDEX(Data!K:K,Report!$B87)),\"\",INDEX(Data!K:K,Report!$B87))","v":"Player's point"},{"$f":"IF(ISERROR(INDEX(Data!L:L,Report!$B87)),\"\",INDEX(Data!L:L,Report!$B87))","v":"New Point"},null,{"$f":"IF(ISERROR(INDEX(Data!N:N,Report!$B87)),\"\",INDEX(Data!N:N,Report!$B87))","v":1},{"$f":"IF(ISERROR(INDEX(Data!P:P,Report!$B87)),\"\",INDEX(Data!P:P,Report!$B87))","v":"Player Serve"},{"$f":"IF(ISERROR(INDEX(Data!O:O,Report!$B87)),\"\",INDEX(Data!O:O,Report!$B87))","v":4},{"$f":"IF(ISERROR(INDEX(Data!Q:Q,Report!$B87)),\"\",INDEX(Data!Q:Q,Report!$B87))","v":3.5},{"$f":"IF(ISERROR(INDEX(Data!R:R,Report!$B87)),\"\",INDEX(Data!R:R,Report!$B87))","v":15},{"$f":"IF(ISERROR(INDEX(Data!S:S,Report!$B87)),\"\",INDEX(Data!S:S,Report!$B87))","v":18},{"$f":"IF(ISERROR(INDEX(Data!T:T,Report!$B87)),\"\",INDEX(Data!T:T,Report!$B87))","v":3.8},{"$f":"IF(ISERROR(INDEX(Data!U:U,Report!$B87)),\"\",INDEX(Data!U:U,Report!$B87))","v":93},{"$f":"IF(ISERROR(INDEX(Data!V:V,Report!$B87)),\"\",INDEX(Data!V:V,Report!$B87))","v":4.8},null,"               |","|||||||||"]
[84,{"$f":"IF(ISERROR(MATCH(A88,Data!A:A,0)),\"\",MATCH(A88,Data!A:A,0))","v":43},{"$f":"IF(ISERROR(INDEX(Data!I:I,Report!$B88)),\"\",INDEX(Data!I:I,Report!$B88))","v":" "},{"$f":"IF(ISERROR(INDEX(Data!J:J,Report!$B88)),\"\",INDEX(Data!J:J,Report!$B88))","v":"User Drill #85  3 line rated mini Tennis"},{"$f":"IF(ISERROR(INDEX(Data!K:K,Report!$B88)),\"\",INDEX(Data!K:K,Report!$B88))","v":0},{"$f":"IF(ISERROR(INDEX(Data!L:L,Report!$B88)),\"\",INDEX(Data!L:L,Report!$B88))","v":0},null,{"$f":"IF(ISERROR(INDEX(Data!N:N,Report!$B88)),\"\",INDEX(Data!N:N,Report!$B88))","v":2},{"$f":"IF(ISERROR(INDEX(Data!P:P,Report!$B88)),\"\",INDEX(Data!P:P,Report!$B88))","v":0},{"$f":"IF(ISERROR(INDEX(Data!O:O,Report!$B88)),\"\",INDEX(Data!O:O,Report!$B88))","v":4},{"$f":"IF(ISERROR(INDEX(Data!Q:Q,Report!$B88)),\"\",INDEX(Data!Q:Q,Report!$B88))","v":3.5},{"$f":"IF(ISERROR(INDEX(Data!R:R,Report!$B88)),\"\",INDEX(Data!R:R,Report!$B88))","v":0},{"$f":"IF(ISERROR(INDEX(Data!S:S,Report!$B88)),\"\",INDEX(Data!S:S,Report!$B88))","v":0},{"$f":"IF(ISERROR(INDEX(Data!T:T,Report!$B88)),\"\",INDEX(Data!T:T,Report!$B88))","v":0},{"$f":"IF(ISERROR(INDEX(Data!U:U,Report!$B88)),\"\",INDEX(Data!U:U,Report!$B88))","v":0},{"$f":"IF(ISERROR(INDEX(Data!V:V,Report!$B88)),\"\",INDEX(Data!V:V,Report!$B88))","v":0},null,"|",""]
[85,{"$f":"IF(ISERROR(MATCH(A89,Data!A:A,0)),\"\",MATCH(A89,Data!A:A,0))","v":44},{"$f":"IF(ISERROR(INDEX(Data!I:I,Report!$B89)),\"\",INDEX(Data!I:I,Report!$B89))","v":"04:35:12"},{"$f":"IF(ISERROR(INDEX(Data!J:J,Report!$B89)),\"\",INDEX(Data!J:J,Report!$B89))","v":"Game against Boomer at level 3.5  Single point data:"},{"$f":"IF(ISERROR(INDEX(Data!K:K,Report!$B89)),\"\",INDEX(Data!K:K,Report!$B89))","v":"Player's point"},{"$f":"IF(ISERROR(INDEX(Data!L:L,Report!$B89)),\"\",INDEX(Data!L:L,Report!$B89))","v":0},null,{"$f":"IF(ISERROR(INDEX(Data!N:N,Report!$B89)),\"\",INDEX(Data!N:N,Report!$B89))","v":2},{"$f":"IF(ISERROR(INDEX(Data!P:P,Report!$B89)),\"\",INDEX(Data!P:P,Report!$B89))","v":"Flat Drive"},{"$f":"IF(ISERROR(INDEX(Data!O:O,Report!$B89)),\"\",INDEX(Data!O:O,Report!$B89))","v":5},{"$f":"IF(ISERROR(INDEX(Data!Q:Q,Report!$B89)),\"\",INDEX(Data!Q:Q,Report!$B89))","v":3.5},{"$f":"IF(ISERROR(INDEX(Data!R:R,Report!$B89)),\"\",INDEX(Data!R:R,Report!$B89))","v":27},{"$f":"IF(ISERROR(INDEX(Data!S:S,Report!$B89)),\"\",INDEX(Data!S:S,Report!$B89))","v":5},{"$f":"IF(ISERROR(INDEX(Data!T:T,Report!$B89)),\"\",INDEX(Data!T:T,Report!$B89))","v":5.3},{"$f":"IF(ISERROR(INDEX(Data!U:U,Report!$B89)),\"\",INDEX(Data!U:U,Report!$B89))","v":36},{"$f":"IF(ISERROR(INDEX(Data!V:V,Report!$B89)),\"\",INDEX(Data!V:V,Report!$B89))","v":4},null,"                           |","||"]
[86,{"$f":"IF(ISERROR(MATCH(A90,Data!A:A,0)),\"\",MATCH(A90,Data!A:A,0))","v":45},{"$f":"IF(ISERROR(INDEX(Data!I:I,Report!$B90)),\"\",INDEX(Data!I:I,Report!$B90))","v":" "},{"$f":"IF(ISERROR(INDEX(Data!J:J,Report!$B90)),\"\",INDEX(Data!J:J,Report!$B90))","v":"User Drill #85  3 line rated mini Tennis"},{"$f":"IF(ISERROR(INDEX(Data!K:K,Report!$B90)),\"\",INDEX(Data!K:K,Report!$B90))","v":0},{"$f":"IF(ISERROR(INDEX(Data!L:L,Report!$B90)),\"\",INDEX(Data!L:L,Report!$B90))","v":0},null,{"$f":"IF(ISERROR(INDEX(Data!N:N,Report!$B90)),\"\",INDEX(Data!N:N,Report!$B90))","v":3},{"$f":"IF(ISERROR(INDEX(Data!P:P,Report!$B90)),\"\",INDEX(Data!P:P,Report!$B90))","v":0},{"$f":"IF(ISERROR(INDEX(Data!O:O,Report!$B90)),\"\",INDEX(Data!O:O,Report!$B90))","v":10},{"$f":"IF(ISERROR(INDEX(Data!Q:Q,Report!$B90)),\"\",INDEX(Data!Q:Q,Report!$B90))","v":3.5},{"$f":"IF(ISERROR(INDEX(Data!R:R,Report!$B90)),\"\",INDEX(Data!R:R,Report!$B90))","v":4},{"$f":"IF(ISERROR(INDEX(Data!S:S,Report!$B90)),\"\",INDEX(Data!S:S,Report!$B90))","v":7},{"$f":"IF(ISERROR(INDEX(Data!T:T,Report!$B90)),\"\",INDEX(Data!T:T,Report!$B90))","v":2.1},{"$f":"IF(ISERROR(INDEX(Data!U:U,Report!$B90)),\"\",INDEX(Data!U:U,Report!$B90))","v":26},{"$f":"IF(ISERROR(INDEX(Data!V:V,Report!$B90)),\"\",INDEX(Data!V:V,Report!$B90))","v":2.8},null,"    |","|||"]
[87,{"$f":"IF(ISERROR(MATCH(A91,Data!A:A,0)),\"\",MATCH(A91,Data!A:A,0))","v":46},{"$f":"IF(ISERROR(INDEX(Data!I:I,Report!$B91)),\"\",INDEX(Data!I:I,Report!$B91))","v":"04:35:12"},{"$f":"IF(ISERROR(INDEX(Data!J:J,Report!$B91)),\"\",INDEX(Data!J:J,Report!$B91))","v":"Game against Boomer at level 3.5  Single point data:"},{"$f":"IF(ISERROR(INDEX(Data!K:K,Report!$B91)),\"\",INDEX(Data!K:K,Report!$B91))","v":"Player's point"},{"$f":"IF(ISERROR(INDEX(Data!L:L,Report!$B91)),\"\",INDEX(Data!L:L,Report!$B91))","v":0},null,{"$f":"IF(ISERROR(INDEX(Data!N:N,Report!$B91)),\"\",INDEX(Data!N:N,Report!$B91))","v":3},{"$f":"IF(ISERROR(INDEX(Data!P:P,Report!$B91)),\"\",INDEX(Data!P:P,Report!$B91))","v":"Lob"},{"$f":"IF(ISERROR(INDEX(Data!O:O,Report!$B91)),\"\",INDEX(Data!O:O,Report!$B91))","v":4},{"$f":"IF(ISERROR(INDEX(Data!Q:Q,Report!$B91)),\"\",INDEX(Data!Q:Q,Report!$B91))","v":3.5},{"$f":"IF(ISERROR(INDEX(Data!R:R,Report!$B91)),\"\",INDEX(Data!R:R,Report!$B91))","v":33},{"$f":"IF(ISERROR(INDEX(Data!S:S,Report!$B91)),\"\",INDEX(Data!S:S,Report!$B91))","v":11},{"$f":"IF(ISERROR(INDEX(Data!T:T,Report!$B91)),\"\",INDEX(Data!T:T,Report!$B91))","v":5},{"$f":"IF(ISERROR(INDEX(Data!U:U,Report!$B91)),\"\",INDEX(Data!U:U,Report!$B91))","v":43},{"$f":"IF(ISERROR(INDEX(Data!V:V,Report!$B91)),\"\",INDEX(Data!V:V,Report!$B91))","v":4.2},null,"                                 |","|||||"]
[88,{"$f":"IF(ISERROR(MATCH(A92,Data!A:A,0)),\"\",MATCH(A92,Data!A:A,0))","v":47},{"$f":"IF(ISERROR(INDEX(Data!I:I,Report!$B92)),\"\",INDEX(Data!I:I,Report!$B92))","v":"04:35:12"},{"$f":"IF(ISERROR(INDEX(Data!J:J,Report!$B92)),\"\",INDEX(Data!J:J,Report!$B92))","v":"Game against Boomer at level 3.5  Single point data:"},{"$f":"IF(ISERROR(INDEX(Data!K:K,Report!$B92)),\"\",INDEX(Data!K:K,Report!$B92))","v":"Player's point"},{"$f":"IF(ISERROR(INDEX(Data!L:L,Report!$B92)),\"\",INDEX(Data!L:L,Report!$B92))","v":0},null,{"$f":"IF(ISERROR(INDEX(Data!N:N,Report!$B92)),\"\",INDEX(Data!N:N,Report!$B92))","v":4},{"$f":"IF(ISERROR(INDEX(Data!P:P,Report!$B92)),\"\",INDEX(Data!P:P,Report!$B92))","v":"Pass"},{"$f":"IF(ISERROR(INDEX(Data!O:O,Report!$B92)),\"\",INDEX(Data!O:O,Report!$B92))","v":5},{"$f":"IF(ISERROR(INDEX(Data!Q:Q,Report!$B92)),\"\",INDEX(Data!Q:Q,Report!$B92))","v":3.5},{"$f":"IF(ISERROR(INDEX(Data!R:R,Report!$B92)),\"\",INDEX(Data!R:R,Report!$B92))","v":22},{"$f":"IF(ISERROR(INDEX(Data!S:S,Report!$B92)),\"\",INDEX(Data!S:S,Report!$B92))","v":3},{"$f":"IF(ISERROR(INDEX(Data!T:T,Report!$B92)),\"\",INDEX(Data!T:T,Report!$B92))","v":6.2},{"$f":"IF(ISERROR(INDEX(Data!U:U,Report!$B92)),\"\",INDEX(Data!U:U,Report!$B92))","v":37},{"$f":"IF(ISERROR(INDEX(Data!V:V,Report!$B92)),\"\",INDEX(Data!V:V,Report!$B92))","v":5.2},null,"                      |","|"]
[89,{"$f":"IF(ISERROR(MATCH(A93,Data!A:A,0)),\"\",MATCH(A93,Data!A:A,0))","v":48},{"$f":"IF(ISERROR(INDEX(Data!I:I,Report!$B93)),\"\",INDEX(Data!I:I,Report!$B93))","v":"04:35:12"},{"$f":"IF(ISERROR(INDEX(Data!J:J,Report!$B93)),\"\",INDEX(Data!J:J,Report!$B93))","v":"Game against Boomer at level 3.5  Single point data:"},{"$f":"IF(ISERROR(INDEX(Data!K:K,Report!$B93)),\"\",INDEX(Data!K:K,Report!$B93))","v":"Player's point"},{"$f":"IF(ISERROR(INDEX(Data!L:L,Report!$B93)),\"\",INDEX(Data!L:L,Report!$B93))","v":0},null,{"$f":"IF(ISERROR(INDEX(Data!N:N,Report!$B93)),\"\",INDEX(Data!N:N,Report!$B93))","v":5},{"$f":"IF(ISERROR(INDEX(Data!P:P,Report!$B93)),\"\",INDEX(Data!P:P,Report!$B93))","v":"Topspin"},{"$f":"IF(ISERROR(INDEX(Data!O:O,Report!$B93)),\"\",INDEX(Data!O:O,Report!$B93))","v":4},{"$f":"IF(ISERROR(INDEX(Data!Q:Q,Report!$B93)),\"\",INDEX(Data!Q:Q,Report!$B93))","v":3.5},{"$f":"IF(ISERROR(INDEX(Data!R:R,Report!$B93)),\"\",INDEX(Data!R:R,Report!$B93))","v":23},{"$f":"IF(ISERROR(INDEX(Data!S:S,Report!$B93)),\"\",INDEX(Data!S:S,Report!$B93))","v":23},{"$f":"IF(ISERROR(INDEX(Data!T:T,Report!$B93)),\"\",INDEX(Data!T:T,Report!$B93))","v":4.9000000000000004},{"$f":"IF(ISERROR(INDEX(Data!U:U,Report!$B93)),\"\",INDEX(Data!U:U,Report!$B93))","v":48},{"$f":"IF(ISERROR(INDEX(Data!V:V,Report!$B93)),\"\",INDEX(Data!V:V,Report!$B93))","v":5.2},null,"                       |","|||||||||||"]
[90,{"$f":"IF(ISERROR(MATCH(A94,Data!A:A,0)),\"\",MATCH(A94,Data!A:A,0))","v":""},{"$f":"IF(ISERROR(INDEX(Data!I:I,Report!$B94)),\"\",INDEX(Data!I:I,Report!$B94))","v":""},{"$f":"IF(ISERROR(INDEX(Data!J:J,Report!$B94)),\"\",INDEX(Data!J:J,Report!$B94))","v":""},{"$f":"IF(ISERROR(INDEX(Data!K:K,Report!$B94)),\"\",INDEX(Data!K:K,Report!$B94))","v":""},{"$f":"IF(ISERROR(INDEX(Data!L:L,Report!$B94)),\"\",INDEX(Data!L:L,Report!$B94))","v":""},null,{"$f":"IF(ISERROR(INDEX(Data!N:N,Report!$B94)),\"\",INDEX(Data!N:N,Report!$B94))","v":""},{"$f":"IF(ISERROR(INDEX(Data!P:P,Report!$B94)),\"\",INDEX(Data!P:P,Report!$B94))","v":""},{"$f":"IF(ISERROR(INDEX(Data!O:O,Report!$B94)),\"\",INDEX(Data!O:O,Report!$B94))","v":""},{"$f":"IF(ISERROR(INDEX(Data!Q:Q,Report!$B94)),\"\",INDEX(Data!Q:Q,Report!$B94))","v":""},{"$f":"IF(ISERROR(INDEX(Data!R:R,Report!$B94)),\"\",INDEX(Data!R:R,Report!$B94))","v":""},{"$f":"IF(ISERROR(INDEX(Data!S:S,Report!$B94)),\"\",INDEX(Data!S:S,Report!$B94))","v":""},{"$f":"IF(ISERROR(INDEX(Data!T:T,Report!$B94)),\"\",INDEX(Data!T:T,Report!$B94))","v":""},{"$f":"IF(ISERROR(INDEX(Data!U:U,Report!$B94)),\"\",INDEX(Data!U:U,Report!$B94))","v":""},{"$f":"IF(ISERROR(INDEX(Data!V:V,Report!$B94)),\"\",INDEX(Data!V:V,Report!$B94))","v":""},null,"",""]
[91,{"$f":"IF(ISERROR(MATCH(A95,Data!A:A,0)),\"\",MATCH(A95,Data!A:A,0))","v":""},{"$f":"IF(ISERROR(INDEX(Data!I:I,Report!$B95)),\"\",INDEX(Data!I:I,Report!$B95))","v":""},{"$f":"IF(ISERROR(INDEX(Data!J:J,Report!$B95)),\"\",INDEX(Data!J:J,Report!$B95))","v":""},{"$f":"IF(ISERROR(INDEX(Data!K:K,Report!$B95)),\"\",INDEX(Data!K:K,Report!$B95))","v":""},{"$f":"IF(ISERROR(INDEX(Data!L:L,Report!$B95)),\"\",INDEX(Data!L:L,Report!$B95))","v":""},null,{"$f":"IF(ISERROR(INDEX(Data!N:N,Report!$B95)),\"\",INDEX(Data!N:N,Report!$B95))","v":""},{"$f":"IF(ISERROR(INDEX(Data!P:P,Report!$B95)),\"\",INDEX(Data!P:P,Report!$B95))","v":""},{"$f":"IF(ISERROR(INDEX(Data!O:O,Report!$B95)),\"\",INDEX(Data!O:O,Report!$B95))","v":""},{"$f":"IF(ISERROR(INDEX(Data!Q:Q,Report!$B95)),\"\",INDEX(Data!Q:Q,Report!$B95))","v":""},{"$f":"IF(ISERROR(INDEX(Data!R:R,Report!$B95)),\"\",INDEX(Data!R:R,Report!$B95))","v":""},{"$f":"IF(ISERROR(INDEX(Data!S:S,Report!$B95)),\"\",INDEX(Data!S:S,Report!$B95))","v":""},{"$f":"IF(ISERROR(INDEX(Data!T:T,Report!$B95)),\"\",INDEX(Data!T:T,Report!$B95))","v":""},{"$f":"IF(ISERROR(INDEX(Data!U:U,Report!$B95)),\"\",INDEX(Data!U:U,Report!$B95))","v":""},{"$f":"IF(ISERROR(INDEX(Data!V:V,Report!$B95)),\"\",INDEX(Data!V:V,Report!$B95))","v":""},null,"",""]
[92,{"$f":"IF(ISERROR(MATCH(A96,Data!A:A,0)),\"\",MATCH(A96,Data!A:A,0))","v":""},{"$f":"IF(ISERROR(INDEX(Data!I:I,Report!$B96)),\"\",INDEX(Data!I:I,Report!$B96))","v":""},{"$f":"IF(ISERROR(INDEX(Data!J:J,Report!$B96)),\"\",INDEX(Data!J:J,Report!$B96))","v":""},{"$f":"IF(ISERROR(INDEX(Data!K:K,Report!$B96)),\"\",INDEX(Data!K:K,Report!$B96))","v":""},{"$f":"IF(ISERROR(INDEX(Data!L:L,Report!$B96)),\"\",INDEX(Data!L:L,Report!$B96))","v":""},null,{"$f":"IF(ISERROR(INDEX(Data!N:N,Report!$B96)),\"\",INDEX(Data!N:N,Report!$B96))","v":""},{"$f":"IF(ISERROR(INDEX(Data!P:P,Report!$B96)),\"\",INDEX(Data!P:P,Report!$B96))","v":""},{"$f":"IF(ISERROR(INDEX(Data!O:O,Report!$B96)),\"\",INDEX(Data!O:O,Report!$B96))","v":""},{"$f":"IF(ISERROR(INDEX(Data!Q:Q,Report!$B96)),\"\",INDEX(Data!Q:Q,Report!$B96))","v":""},{"$f":"IF(ISERROR(INDEX(Data!R:R,Report!$B96)),\"\",INDEX(Data!R:R,Report!$B96))","v":""},{"$f":"IF(ISERROR(INDEX(Data!S:S,Report!$B96)),\"\",INDEX(Data!S:S,Report!$B96))","v":""},{"$f":"IF(ISERROR(INDEX(Data!T:T,Report!$B96)),\"\",INDEX(Data!T:T,Report!$B96))","v":""},{"$f":"IF(ISERROR(INDEX(Data!U:U,Report!$B96)),\"\",INDEX(Data!U:U,Report!$B96))","v":""},{"$f":"IF(ISERROR(INDEX(Data!V:V,Report!$B96)),\"\",INDEX(Data!V:V,Report!$B96))","v":""},null,"",""]
[93,{"$f":"IF(ISERROR(MATCH(A97,Data!A:A,0)),\"\",MATCH(A97,Data!A:A,0))","v":49},{"$f":"IF(ISERROR(INDEX(Data!I:I,Report!$B97)),\"\",INDEX(Data!I:I,Report!$B97))","v":"00:33:47"},{"$f":"IF(ISERROR(INDEX(Data!J:J,Report!$B97)),\"\",INDEX(Data!J:J,Report!$B97))","v":"Game against Boomer at level 2.0  Single point data:"},{"$f":"IF(ISERROR(INDEX(Data!K:K,Report!$B97)),\"\",INDEX(Data!K:K,Report!$B97))","v":"Player's point"},{"$f":"IF(ISERROR(INDEX(Data!L:L,Report!$B97)),\"\",INDEX(Data!L:L,Report!$B97))","v":"New Point"},null,{"$f":"IF(ISERROR(INDEX(Data!N:N,Report!$B97)),\"\",INDEX(Data!N:N,Report!$B97))","v":1},{"$f":"IF(ISERROR(INDEX(Data!P:P,Report!$B97)),\"\",INDEX(Data!P:P,Report!$B97))","v":"Serve"},{"$f":"IF(ISERROR(INDEX(Data!O:O,Report!$B97)),\"\",INDEX(Data!O:O,Report!$B97))","v":0},{"$f":"IF(ISERROR(INDEX(Data!Q:Q,Report!$B97)),\"\",INDEX(Data!Q:Q,Report!$B97))","v":2},{"$f":"IF(ISERROR(INDEX(Data!R:R,Report!$B97)),\"\",INDEX(Data!R:R,Report!$B97))","v":23},{"$f":"IF(ISERROR(INDEX(Data!S:S,Report!$B97)),\"\",INDEX(Data!S:S,Report!$B97))","v":23},{"$f":"IF(ISERROR(INDEX(Data!T:T,Report!$B97)),\"\",INDEX(Data!T:T,Report!$B97))","v":4.7},{"$f":"IF(ISERROR(INDEX(Data!U:U,Report!$B97)),\"\",INDEX(Data!U:U,Report!$B97))","v":47},{"$f":"IF(ISERROR(INDEX(Data!V:V,Report!$B97)),\"\",INDEX(Data!V:V,Report!$B97))","v":4.2},null,"                       |","|||||||||||"]
[94,{"$f":"IF(ISERROR(MATCH(A98,Data!A:A,0)),\"\",MATCH(A98,Data!A:A,0))","v":""},{"$f":"IF(ISERROR(INDEX(Data!I:I,Report!$B98)),\"\",INDEX(Data!I:I,Report!$B98))","v":""},{"$f":"IF(ISERROR(INDEX(Data!J:J,Report!$B98)),\"\",INDEX(Data!J:J,Report!$B98))","v":""},{"$f":"IF(ISERROR(INDEX(Data!K:K,Report!$B98)),\"\",INDEX(Data!K:K,Report!$B98))","v":""},{"$f":"IF(ISERROR(INDEX(Data!L:L,Report!$B98)),\"\",INDEX(Data!L:L,Report!$B98))","v":""},null,{"$f":"IF(ISERROR(INDEX(Data!N:N,Report!$B98)),\"\",INDEX(Data!N:N,Report!$B98))","v":""},{"$f":"IF(ISERROR(INDEX(Data!P:P,Report!$B98)),\"\",INDEX(Data!P:P,Report!$B98))","v":""},{"$f":"IF(ISERROR(INDEX(Data!O:O,Report!$B98)),\"\",INDEX(Data!O:O,Report!$B98))","v":""},{"$f":"IF(ISERROR(INDEX(Data!Q:Q,Report!$B98)),\"\",INDEX(Data!Q:Q,Report!$B98))","v":""},{"$f":"IF(ISERROR(INDEX(Data!R:R,Report!$B98)),\"\",INDEX(Data!R:R,Report!$B98))","v":""},{"$f":"IF(ISERROR(INDEX(Data!S:S,Report!$B98)),\"\",INDEX(Data!S:S,Report!$B98))","v":""},{"$f":"IF(ISERROR(INDEX(Data!T:T,Report!$B98)),\"\",INDEX(Data!T:T,Report!$B98))","v":""},{"$f":"IF(ISERROR(INDEX(Data!U:U,Report!$B98)),\"\",INDEX(Data!U:U,Report!$B98))","v":""},{"$f":"IF(ISERROR(INDEX(Data!V:V,Report!$B98)),\"\",INDEX(Data!V:V,Report!$B98))","v":""},null,"",""]
[95,{"$f":"IF(ISERROR(MATCH(A99,Data!A:A,0)),\"\",MATCH(A99,Data!A:A,0))","v":""},{"$f":"IF(ISERROR(INDEX(Data!I:I,Report!$B99)),\"\",INDEX(Data!I:I,Report!$B99))","v":""},{"$f":"IF(ISERROR(INDEX(Data!J:J,Report!$B99)),\"\",INDEX(Data!J:J,Report!$B99))","v":""},{"$f":"IF(ISERROR(INDEX(Data!K:K,Report!$B99)),\"\",INDEX(Data!K:K,Report!$B99))","v":""},{"$f":"IF(ISERROR(INDEX(Data!L:L,Report!$B99)),\"\",INDEX(Data!L:L,Report!$B99))","v":""},null,{"$f":"IF(ISERROR(INDEX(Data!N:N,Report!$B99)),\"\",INDEX(Data!N:N,Report!$B99))","v":""},{"$f":"IF(ISERROR(INDEX(Data!P:P,Report!$B99)),\"\",INDEX(Data!P:P,Report!$B99))","v":""},{"$f":"IF(ISERROR(INDEX(Data!O:O,Report!$B99)),\"\",INDEX(Data!O:O,Report!$B99))","v":""},{"$f":"IF(ISERROR(INDEX(Data!Q:Q,Report!$B99)),\"\",INDEX(Data!Q:Q,Report!$B99))","v":""},{"$f":"IF(ISERROR(INDEX(Data!R:R,Report!$B99)),\"\",INDEX(Data!R:R,Report!$B99))","v":""},{"$f":"IF(ISERROR(INDEX(Data!S:S,Report!$B99)),\"\",INDEX(Data!S:S,Report!$B99))","v":""},{"$f":"IF(ISERROR(INDEX(Data!T:T,Report!$B99)),\"\",INDEX(Data!T:T,Report!$B99))","v":""},{"$f":"IF(ISERROR(INDEX(Data!U:U,Report!$B99)),\"\",INDEX(Data!U:U,Report!$B99))","v":""},{"$f":"IF(ISERROR(INDEX(Data!V:V,Report!$B99)),\"\",INDEX(Data!V:V,Report!$B99))","v":""},null,"",""]
[96,{"$f":"IF(ISERROR(MATCH(A100,Data!A:A,0)),\"\",MATCH(A100,Data!A:A,0))","v":""},{"$f":"IF(ISERROR(INDEX(Data!I:I,Report!$B100)),\"\",INDEX(Data!I:I,Report!$B100))","v":""},{"$f":"IF(ISERROR(INDEX(Data!J:J,Report!$B100)),\"\",INDEX(Data!J:J,Report!$B100))","v":""},{"$f":"IF(ISERROR(INDEX(Data!K:K,Report!$B100)),\"\",INDEX(Data!K:K,Report!$B100))","v":""},{"$f":"IF(ISERROR(INDEX(Data!L:L,Report!$B100)),\"\",INDEX(Data!L:L,Report!$B100))","v":""},null,{"$f":"IF(ISERROR(INDEX(Data!N:N,Report!$B100)),\"\",INDEX(Data!N:N,Report!$B100))","v":""},{"$f":"IF(ISERROR(INDEX(Data!P:P,Report!$B100)),\"\",INDEX(Data!P:P,Report!$B100))","v":""},{"$f":"IF(ISERROR(INDEX(Data!O:O,Report!$B100)),\"\",INDEX(Data!O:O,Report!$B100))","v":""},{"$f":"IF(ISERROR(INDEX(Data!Q:Q,Report!$B100)),\"\",INDEX(Data!Q:Q,Report!$B100))","v":""},{"$f":"IF(ISERROR(INDEX(Data!R:R,Report!$B100)),\"\",INDEX(Data!R:R,Report!$B100))","v":""},{"$f":"IF(ISERROR(INDEX(Data!S:S,Report!$B100)),\"\",INDEX(Data!S:S,Report!$B100))","v":""},{"$f":"IF(ISERROR(INDEX(Data!T:T,Report!$B100)),\"\",INDEX(Data!T:T,Report!$B100))","v":""},{"$f":"IF(ISERROR(INDEX(Data!U:U,Report!$B100)),\"\",INDEX(Data!U:U,Report!$B100))","v":""},{"$f":"IF(ISERROR(INDEX(Data!V:V,Report!$B100)),\"\",INDEX(Data!V:V,Report!$B100))","v":""},null,"",""]
[97,{"$f":"IF(ISERROR(MATCH(A101,Data!A:A,0)),\"\",MATCH(A101,Data!A:A,0))","v":50},{"$f":"IF(ISERROR(INDEX(Data!I:I,Report!$B101)),\"\",INDEX(Data!I:I,Report!$B101))","v":"04:35:35"},{"$f":"IF(ISERROR(INDEX(Data!J:J,Report!$B101)),\"\",INDEX(Data!J:J,Report!$B101))","v":"Game against Boomer at level 3.5  Single point data:"},{"$f":"IF(ISERROR(INDEX(Data!K:K,Report!$B101)),\"\",INDEX(Data!K:K,Report!$B101))","v":"Player's point"},{"$f":"IF(ISERROR(INDEX(Data!L:L,Report!$B101)),\"\",INDEX(Data!L:L,Report!$B101))","v":"New Point"},null,{"$f":"IF(ISERROR(INDEX(Data!N:N,Report!$B101)),\"\",INDEX(Data!N:N,Report!$B101))","v":1},{"$f":"IF(ISERROR(INDEX(Data!P:P,Report!$B101)),\"\",INDEX(Data!P:P,Report!$B101))","v":"Serve"},{"$f":"IF(ISERROR(INDEX(Data!O:O,Report!$B101)),\"\",INDEX(Data!O:O,Report!$B101))","v":5},{"$f":"IF(ISERROR(INDEX(Data!Q:Q,Report!$B101)),\"\",INDEX(Data!Q:Q,Report!$B101))","v":3.5},{"$f":"IF(ISERROR(INDEX(Data!R:R,Report!$B101)),\"\",INDEX(Data!R:R,Report!$B101))","v":23},{"$f":"IF(ISERROR(INDEX(Data!S:S,Report!$B101)),\"\",INDEX(Data!S:S,Report!$B101))","v":5},{"$f":"IF(ISERROR(INDEX(Data!T:T,Report!$B101)),\"\",INDEX(Data!T:T,Report!$B101))","v":4.7},{"$f":"IF(ISERROR(INDEX(Data!U:U,Report!$B101)),\"\",INDEX(Data!U:U,Report!$B101))","v":36},{"$f":"IF(ISERROR(INDEX(Data!V:V,Report!$B101)),\"\",INDEX(Data!V:V,Report!$B101))","v":3.7},null,"                       |","||"]
[98,{"$f":"IF(ISERROR(MATCH(A102,Data!A:A,0)),\"\",MATCH(A102,Data!A:A,0))","v":""},{"$f":"IF(ISERROR(INDEX(Data!I:I,Report!$B102)),\"\",INDEX(Data!I:I,Report!$B102))","v":""},{"$f":"IF(ISERROR(INDEX(Data!J:J,Report!$B102)),\"\",INDEX(Data!J:J,Report!$B102))","v":""},{"$f":"IF(ISERROR(INDEX(Data!K:K,Report!$B102)),\"\",INDEX(Data!K:K,Report!$B102))","v":""},{"$f":"IF(ISERROR(INDEX(Data!L:L,Report!$B102)),\"\",INDEX(Data!L:L,Report!$B102))","v":""},null,{"$f":"IF(ISERROR(INDEX(Data!N:N,Report!$B102)),\"\",INDEX(Data!N:N,Report!$B102))","v":""},{"$f":"IF(ISERROR(INDEX(Data!P:P,Report!$B102)),\"\",INDEX(Data!P:P,Report!$B102))","v":""},{"$f":"IF(ISERROR(INDEX(Data!O:O,Report!$B102)),\"\",INDEX(Data!O:O,Report!$B102))","v":""},{"$f":"IF(ISERROR(INDEX(Data!Q:Q,Report!$B102)),\"\",INDEX(Data!Q:Q,Report!$B102))","v":""},{"$f":"IF(ISERROR(INDEX(Data!R:R,Report!$B102)),\"\",INDEX(Data!R:R,Report!$B102))","v":""},{"$f":"IF(ISERROR(INDEX(Data!S:S,Report!$B102)),\"\",INDEX(Data!S:S,Report!$B102))","v":""},{"$f":"IF(ISERROR(INDEX(Data!T:T,Report!$B102)),\"\",INDEX(Data!T:T,Report!$B102))","v":""},{"$f":"IF(ISERROR(INDEX(Data!U:U,Report!$B102)),\"\",INDEX(Data!U:U,Report!$B102))","v":""},{"$f":"IF(ISERROR(INDEX(Data!V:V,Report!$B102)),\"\",INDEX(Data!V:V,Report!$B102))","v":""},null,"",""]
[99,{"$f":"IF(ISERROR(MATCH(A103,Data!A:A,0)),\"\",MATCH(A103,Data!A:A,0))","v":""},{"$f":"IF(ISERROR(INDEX(Data!I:I,Report!$B103)),\"\",INDEX(Data!I:I,Report!$B103))","v":""},{"$f":"IF(ISERROR(INDEX(Data!J:J,Report!$B103)),\"\",INDEX(Data!J:J,Report!$B103))","v":""},{"$f":"IF(ISERROR(INDEX(Data!K:K,Report!$B103)),\"\",INDEX(Data!K:K,Report!$B103))","v":""},{"$f":"IF(ISERROR(INDEX(Data!L:L,Report!$B103)),\"\",INDEX(Data!L:L,Report!$B103))","v":""},null,{"$f":"IF(ISERROR(INDEX(Data!N:N,Report!$B103)),\"\",INDEX(Data!N:N,Report!$B103))","v":""},{"$f":"IF(ISERROR(INDEX(Data!P:P,Report!$B103)),\"\",INDEX(Data!P:P,Report!$B103))","v":""},{"$f":"IF(ISERROR(INDEX(Data!O:O,Report!$B103)),\"\",INDEX(Data!O:O,Report!$B103))","v":""},{"$f":"IF(ISERROR(INDEX(Data!Q:Q,Report!$B103)),\"\",INDEX(Data!Q:Q,Report!$B103))","v":""},{"$f":"IF(ISERROR(INDEX(Data!R:R,Report!$B103)),\"\",INDEX(Data!R:R,Report!$B103))","v":""},{"$f":"IF(ISERROR(INDEX(Data!S:S,Report!$B103)),\"\",INDEX(Data!S:S,Report!$B103))","v":""},{"$f":"IF(ISERROR(INDEX(Data!T:T,Report!$B103)),\"\",INDEX(Data!T:T,Report!$B103))","v":""},{"$f":"IF(ISERROR(INDEX(Data!U:U,Report!$B103)),\"\",INDEX(Data!U:U,Report!$B103))","v":""},{"$f":"IF(ISERROR(INDEX(Data!V:V,Report!$B103)),\"\",INDEX(Data!V:V,Report!$B103))","v":""},null,"",""]
[100,{"$f":"IF(ISERROR(MATCH(A104,Data!A:A,0)),\"\",MATCH(A104,Data!A:A,0))","v":""},{"$f":"IF(ISERROR(INDEX(Data!I:I,Report!$B104)),\"\",INDEX(Data!I:I,Report!$B104))","v":""},{"$f":"IF(ISERROR(INDEX(Data!J:J,Report!$B104)),\"\",INDEX(Data!J:J,Report!$B104))","v":""},{"$f":"IF(ISERROR(INDEX(Data!K:K,Report!$B104)),\"\",INDEX(Data!K:K,Report!$B104))","v":""},{"$f":"IF(ISERROR(INDEX(Data!L:L,Report!$B104)),\"\",INDEX(Data!L:L,Report!$B104))","v":""},null,{"$f":"IF(ISERROR(INDEX(Data!N:N,Report!$B104)),\"\",INDEX(Data!N:N,Report!$B104))","v":""},{"$f":"IF(ISERROR(INDEX(Data!P:P,Report!$B104)),\"\",INDEX(Data!P:P,Report!$B104))","v":""},{"$f":"IF(ISERROR(INDEX(Data!O:O,Report!$B104)),\"\",INDEX(Data!O:O,Report!$B104))","v":""},{"$f":"IF(ISERROR(INDEX(Data!Q:Q,Report!$B104)),\"\",INDEX(Data!Q:Q,Report!$B104))","v":""},{"$f":"IF(ISERROR(INDEX(Data!R:R,Report!$B104)),\"\",INDEX(Data!R:R,Report!$B104))","v":""},{"$f":"IF(ISERROR(INDEX(Data!S:S,Report!$B104)),\"\",INDEX(Data!S:S,Report!$B104))","v":""},{"$f":"IF(ISERROR(INDEX(Data!T:T,Report!$B104)),\"\",INDEX(Data!T:T,Report!$B104))","v":""},{"$f":"IF(ISERROR(INDEX(Data!U:U,Report!$B104)),\"\",INDEX(Data!U:U,Report!$B104))","v":""},{"$f":"IF(ISERROR(INDEX(Data!V:V,Report!$B104)),\"\",INDEX(Data!V:V,Report!$B104))","v":""},null,"",""]
[101,{"$f":"IF(ISERROR(MATCH(A105,Data!A:A,0)),\"\",MATCH(A105,Data!A:A,0))","v":51},{"$f":"IF(ISERROR(INDEX(Data!I:I,Report!$B105)),\"\",INDEX(Data!I:I,Report!$B105))","v":" "},{"$f":"IF(ISERROR(INDEX(Data!J:J,Report!$B105)),\"\",INDEX(Data!J:J,Report!$B105))","v":"User Drill #85  3 line rated mini Tennis"},{"$f":"IF(ISERROR(INDEX(Data!K:K,Report!$B105)),\"\",INDEX(Data!K:K,Report!$B105))","v":0},{"$f":"IF(ISERROR(INDEX(Data!L:L,Report!$B105)),\"\",INDEX(Data!L:L,Report!$B105))","v":"New Point"},null,{"$f":"IF(ISERROR(INDEX(Data!N:N,Report!$B105)),\"\",INDEX(Data!N:N,Report!$B105))","v":1},{"$f":"IF(ISERROR(INDEX(Data!P:P,Report!$B105)),\"\",INDEX(Data!P:P,Report!$B105))","v":0},{"$f":"IF(ISERROR(INDEX(Data!O:O,Report!$B105)),\"\",INDEX(Data!O:O,Report!$B105))","v":11},{"$f":"IF(ISERROR(INDEX(Data!Q:Q,Report!$B105)),\"\",INDEX(Data!Q:Q,Report!$B105))","v":3.5},{"$f":"IF(ISERROR(INDEX(Data!R:R,Report!$B105)),\"\",INDEX(Data!R:R,Report!$B105))","v":0},{"$f":"IF(ISERROR(INDEX(Data!S:S,Report!$B105)),\"\",INDEX(Data!S:S,Report!$B105))","v":0},{"$f":"IF(ISERROR(INDEX(Data!T:T,Report!$B105)),\"\",INDEX(Data!T:T,Report!$B105))","v":0},{"$f":"IF(ISERROR(INDEX(Data!U:U,Report!$B105)),\"\",INDEX(Data!U:U,Report!$B105))","v":0},{"$f":"IF(ISERROR(INDEX(Data!V:V,Report!$B105)),\"\",INDEX(Data!V:V,Report!$B105))","v":0},null,"|",""]
[102,{"$f":"IF(ISERROR(MATCH(A106,Data!A:A,0)),\"\",MATCH(A106,Data!A:A,0))","v":52},{"$f":"IF(ISERROR(INDEX(Data!I:I,Report!$B106)),\"\",INDEX(Data!I:I,Report!$B106))","v":"00:33:47"},{"$f":"IF(ISERROR(INDEX(Data!J:J,Report!$B106)),\"\",INDEX(Data!J:J,Report!$B106))","v":"Game against Boomer at level 2.0  Single point data:"},{"$f":"IF(ISERROR(INDEX(Data!K:K,Report!$B106)),\"\",INDEX(Data!K:K,Report!$B106))","v":"Player's point"},{"$f":"IF(ISERROR(INDEX(Data!L:L,Report!$B106)),\"\",INDEX(Data!L:L,Report!$B106))","v":0},null,{"$f":"IF(ISERROR(INDEX(Data!N:N,Report!$B106)),\"\",INDEX(Data!N:N,Report!$B106))","v":2},{"$f":"IF(ISERROR(INDEX(Data!P:P,Report!$B106)),\"\",INDEX(Data!P:P,Report!$B106))","v":"Heavy Topspin"},{"$f":"IF(ISERROR(INDEX(Data!O:O,Report!$B106)),\"\",INDEX(Data!O:O,Report!$B106))","v":3},{"$f":"IF(ISERROR(INDEX(Data!Q:Q,Report!$B106)),\"\",INDEX(Data!Q:Q,Report!$B106))","v":2},{"$f":"IF(ISERROR(INDEX(Data!R:R,Report!$B106)),\"\",INDEX(Data!R:R,Report!$B106))","v":22},{"$f":"IF(ISERROR(INDEX(Data!S:S,Report!$B106)),\"\",INDEX(Data!S:S,Report!$B106))","v":1},{"$f":"IF(ISERROR(INDEX(Data!T:T,Report!$B106)),\"\",INDEX(Data!T:T,Report!$B106))","v":5},{"$f":"IF(ISERROR(INDEX(Data!U:U,Report!$B106)),\"\",INDEX(Data!U:U,Report!$B106))","v":40},{"$f":"IF(ISERROR(INDEX(Data!V:V,Report!$B106)),\"\",INDEX(Data!V:V,Report!$B106))","v":4.0999999999999996},null,"                      |",""]
[103,{"$f":"IF(ISERROR(MATCH(A107,Data!A:A,0)),\"\",MATCH(A107,Data!A:A,0))","v":53},{"$f":"IF(ISERROR(INDEX(Data!I:I,Report!$B107)),\"\",INDEX(Data!I:I,Report!$B107))","v":" "},{"$f":"IF(ISERROR(INDEX(Data!J:J,Report!$B107)),\"\",INDEX(Data!J:J,Report!$B107))","v":"User Drill #85  3 line rated mini Tennis"},{"$f":"IF(ISERROR(INDEX(Data!K:K,Report!$B107)),\"\",INDEX(Data!K:K,Report!$B107))","v":0},{"$f":"IF(ISERROR(INDEX(Data!L:L,Report!$B107)),\"\",INDEX(Data!L:L,Report!$B107))","v":0},null,{"$f":"IF(ISERROR(INDEX(Data!N:N,Report!$B107)),\"\",INDEX(Data!N:N,Report!$B107))","v":2},{"$f":"IF(ISERROR(INDEX(Data!P:P,Report!$B107)),\"\",INDEX(Data!P:P,Report!$B107))","v":0},{"$f":"IF(ISERROR(INDEX(Data!O:O,Report!$B107)),\"\",INDEX(Data!O:O,Report!$B107))","v":4},{"$f":"IF(ISERROR(INDEX(Data!Q:Q,Report!$B107)),\"\",INDEX(Data!Q:Q,Report!$B107))","v":3.5},{"$f":"IF(ISERROR(INDEX(Data!R:R,Report!$B107)),\"\",INDEX(Data!R:R,Report!$B107))","v":0},{"$f":"IF(ISERROR(INDEX(Data!S:S,Report!$B107)),\"\",INDEX(Data!S:S,Report!$B107))","v":0},{"$f":"IF(ISERROR(INDEX(Data!T:T,Report!$B107)),\"\",INDEX(Data!T:T,Report!$B107))","v":0},{"$f":"IF(ISERROR(INDEX(Data!U:U,Report!$B107)),\"\",INDEX(Data!U:U,Report!$B107))","v":0},{"$f":"IF(ISERROR(INDEX(Data!V:V,Report!$B107)),\"\",INDEX(Data!V:V,Report!$B107))","v":0},null,"|",""]
[104,{"$f":"IF(ISERROR(MATCH(A108,Data!A:A,0)),\"\",MATCH(A108,Data!A:A,0))","v":54},{"$f":"IF(ISERROR(INDEX(Data!I:I,Report!$B108)),\"\",INDEX(Data!I:I,Report!$B108))","v":"04:35:35"},{"$f":"IF(ISERROR(INDEX(Data!J:J,Report!$B108)),\"\",INDEX(Data!J:J,Report!$B108))","v":"Game against Boomer at level 3.5  Single point data:"},{"$f":"IF(ISERROR(INDEX(Data!K:K,Report!$B108)),\"\",INDEX(Data!K:K,Report!$B108))","v":"Player's point"},{"$f":"IF(ISERROR(INDEX(Data!L:L,Report!$B108)),\"\",INDEX(Data!L:L,Report!$B108))","v":0},null,{"$f":"IF(ISERROR(INDEX(Data!N:N,Report!$B108)),\"\",INDEX(Data!N:N,Report!$B108))","v":2},{"$f":"IF(ISERROR(INDEX(Data!P:P,Report!$B108)),\"\",INDEX(Data!P:P,Report!$B108))","v":"Topspin"},{"$f":"IF(ISERROR(INDEX(Data!O:O,Report!$B108)),\"\",INDEX(Data!O:O,Report!$B108))","v":6},{"$f":"IF(ISERROR(INDEX(Data!Q:Q,Report!$B108)),\"\",INDEX(Data!Q:Q,Report!$B108))","v":3.5},{"$f":"IF(ISERROR(INDEX(Data!R:R,Report!$B108)),\"\",INDEX(Data!R:R,Report!$B108))","v":27},{"$f":"IF(ISERROR(INDEX(Data!S:S,Report!$B108)),\"\",INDEX(Data!S:S,Report!$B108))","v":4},{"$f":"IF(ISERROR(INDEX(Data!T:T,Report!$B108)),\"\",INDEX(Data!T:T,Report!$B108))","v":6.2},{"$f":"IF(ISERROR(INDEX(Data!U:U,Report!$B108)),\"\",INDEX(Data!U:U,Report!$B108))","v":44},{"$f":"IF(ISERROR(INDEX(Data!V:V,Report!$B108)),\"\",INDEX(Data!V:V,Report!$B108))","v":5.6},null,"                           |","||"]
[105,{"$f":"IF(ISERROR(MATCH(A109,Data!A:A,0)),\"\",MATCH(A109,Data!A:A,0))","v":55},{"$f":"IF(ISERROR(INDEX(Data!I:I,Report!$B109)),\"\",INDEX(Data!I:I,Report!$B109))","v":"00:33:47"},{"$f":"IF(ISERROR(INDEX(Data!J:J,Report!$B109)),\"\",INDEX(Data!J:J,Report!$B109))","v":"Game against Boomer at level 2.0  Single point data:"},{"$f":"IF(ISERROR(INDEX(Data!K:K,Report!$B109)),\"\",INDEX(Data!K:K,Report!$B109))","v":"Player's point"},{"$f":"IF(ISERROR(INDEX(Data!L:L,Report!$B109)),\"\",INDEX(Data!L:L,Report!$B109))","v":0},null,{"$f":"IF(ISERROR(INDEX(Data!N:N,Report!$B109)),\"\",INDEX(Data!N:N,Report!$B109))","v":3},{"$f":"IF(ISERROR(INDEX(Data!P:P,Report!$B109)),\"\",INDEX(Data!P:P,Report!$B109))","v":"Topspin"},{"$f":"IF(ISERROR(INDEX(Data!O:O,Report!$B109)),\"\",INDEX(Data!O:O,Report!$B109))","v":4},{"$f":"IF(ISERROR(INDEX(Data!Q:Q,Report!$B109)),\"\",INDEX(Data!Q:Q,Report!$B109))","v":2},{"$f":"IF(ISERROR(INDEX(Data!R:R,Report!$B109)),\"\",INDEX(Data!R:R,Report!$B109))","v":37},{"$f":"IF(ISERROR(INDEX(Data!S:S,Report!$B109)),\"\",INDEX(Data!S:S,Report!$B109))","v":2},{"$f":"IF(ISERROR(INDEX(Data!T:T,Report!$B109)),\"\",INDEX(Data!T:T,Report!$B109))","v":6.5},{"$f":"IF(ISERROR(INDEX(Data!U:U,Report!$B109)),\"\",INDEX(Data!U:U,Report!$B109))","v":49},{"$f":"IF(ISERROR(INDEX(Data!V:V,Report!$B109)),\"\",INDEX(Data!V:V,Report!$B109))","v":5.2},null,"                                     |","|"]
[106,{"$f":"IF(ISERROR(MATCH(A110,Data!A:A,0)),\"\",MATCH(A110,Data!A:A,0))","v":56},{"$f":"IF(ISERROR(INDEX(Data!I:I,Report!$B110)),\"\",INDEX(Data!I:I,Report!$B110))","v":" "},{"$f":"IF(ISERROR(INDEX(Data!J:J,Report!$B110)),\"\",INDEX(Data!J:J,Report!$B110))","v":"User Drill #85  3 line rated mini Tennis"},{"$f":"IF(ISERROR(INDEX(Data!K:K,Report!$B110)),\"\",INDEX(Data!K:K,Report!$B110))","v":0},{"$f":"IF(ISERROR(INDEX(Data!L:L,Report!$B110)),\"\",INDEX(Data!L:L,Report!$B110))","v":0},null,{"$f":"IF(ISERROR(INDEX(Data!N:N,Report!$B110)),\"\",INDEX(Data!N:N,Report!$B110))","v":3},{"$f":"IF(ISERROR(INDEX(Data!P:P,Report!$B110)),\"\",INDEX(Data!P:P,Report!$B110))","v":0},{"$f":"IF(ISERROR(INDEX(Data!O:O,Report!$B110)),\"\",INDEX(Data!O:O,Report!$B110))","v":10},{"$f":"IF(ISERROR(INDEX(Data!Q:Q,Report!$B110)),\"\",INDEX(Data!Q:Q,Report!$B110))","v":3.5},{"$f":"IF(ISERROR(INDEX(Data!R:R,Report!$B110)),\"\",INDEX(Data!R:R,Report!$B110))","v":0},{"$f":"IF(ISERROR(INDEX(Data!S:S,Report!$B110)),\"\",INDEX(Data!S:S,Report!$B110))","v":0},{"$f":"IF(ISERROR(INDEX(Data!T:T,Report!$B110)),\"\",INDEX(Data!T:T,Report!$B110))","v":0},{"$f":"IF(ISERROR(INDEX(Data!U:U,Report!$B110)),\"\",INDEX(Data!U:U,Report!$B110))","v":0},{"$f":"IF(ISERROR(INDEX(Data!V:V,Report!$B110)),\"\",INDEX(Data!V:V,Report!$B110))","v":0},null,"|",""]
[107,{"$f":"IF(ISERROR(MATCH(A111,Data!A:A,0)),\"\",MATCH(A111,Data!A:A,0))","v":""},{"$f":"IF(ISERROR(INDEX(Data!I:I,Report!$B111)),\"\",INDEX(Data!I:I,Report!$B111))","v":""},{"$f":"IF(ISERROR(INDEX(Data!J:J,Report!$B111)),\"\",INDEX(Data!J:J,Report!$B111))","v":""},{"$f":"IF(ISERROR(INDEX(Data!K:K,Report!$B111)),\"\",INDEX(Data!K:K,Report!$B111))","v":""},{"$f":"IF(ISERROR(INDEX(Data!L:L,Report!$B111)),\"\",INDEX(Data!L:L,Report!$B111))","v":""},null,{"$f":"IF(ISERROR(INDEX(Data!N:N,Report!$B111)),\"\",INDEX(Data!N:N,Report!$B111))","v":""},{"$f":"IF(ISERROR(INDEX(Data!P:P,Report!$B111)),\"\",INDEX(Data!P:P,Report!$B111))","v":""},{"$f":"IF(ISERROR(INDEX(Data!O:O,Report!$B111)),\"\",INDEX(Data!O:O,Report!$B111))","v":""},{"$f":"IF(ISERROR(INDEX(Data!Q:Q,Report!$B111)),\"\",INDEX(Data!Q:Q,Report!$B111))","v":""},{"$f":"IF(ISERROR(INDEX(Data!R:R,Report!$B111)),\"\",INDEX(Data!R:R,Report!$B111))","v":""},{"$f":"IF(ISERROR(INDEX(Data!S:S,Report!$B111)),\"\",INDEX(Data!S:S,Report!$B111))","v":""},{"$f":"IF(ISERROR(INDEX(Data!T:T,Report!$B111)),\"\",INDEX(Data!T:T,Report!$B111))","v":""},{"$f":"IF(ISERROR(INDEX(Data!U:U,Report!$B111)),\"\",INDEX(Data!U:U,Report!$B111))","v":""},{"$f":"IF(ISERROR(INDEX(Data!V:V,Report!$B111)),\"\",INDEX(Data!V:V,Report!$B111))","v":""},null,"",""]
[108,{"$f":"IF(ISERROR(MATCH(A112,Data!A:A,0)),\"\",MATCH(A112,Data!A:A,0))","v":""},{"$f":"IF(ISERROR(INDEX(Data!I:I,Report!$B112)),\"\",INDEX(Data!I:I,Report!$B112))","v":""},{"$f":"IF(ISERROR(INDEX(Data!J:J,Report!$B112)),\"\",INDEX(Data!J:J,Report!$B112))","v":""},{"$f":"IF(ISERROR(INDEX(Data!K:K,Report!$B112)),\"\",INDEX(Data!K:K,Report!$B112))","v":""},{"$f":"IF(ISERROR(INDEX(Data!L:L,Report!$B112)),\"\",INDEX(Data!L:L,Report!$B112))","v":""},null,{"$f":"IF(ISERROR(INDEX(Data!N:N,Report!$B112)),\"\",INDEX(Data!N:N,Report!$B112))","v":""},{"$f":"IF(ISERROR(INDEX(Data!P:P,Report!$B112)),\"\",INDEX(Data!P:P,Report!$B112))","v":""},{"$f":"IF(ISERROR(INDEX(Data!O:O,Report!$B112)),\"\",INDEX(Data!O:O,Report!$B112))","v":""},{"$f":"IF(ISERROR(INDEX(Data!Q:Q,Report!$B112)),\"\",INDEX(Data!Q:Q,Report!$B112))","v":""},{"$f":"IF(ISERROR(INDEX(Data!R:R,Report!$B112)),\"\",INDEX(Data!R:R,Report!$B112))","v":""},{"$f":"IF(ISERROR(INDEX(Data!S:S,Report!$B112)),\"\",INDEX(Data!S:S,Report!$B112))","v":""},{"$f":"IF(ISERROR(INDEX(Data!T:T,Report!$B112)),\"\",INDEX(Data!T:T,Report!$B112))","v":""},{"$f":"IF(ISERROR(INDEX(Data!U:U,Report!$B112)),\"\",INDEX(Data!U:U,Report!$B112))","v":""},{"$f":"IF(ISERROR(INDEX(Data!V:V,Report!$B112)),\"\",INDEX(Data!V:V,Report!$B112))","v":""},null,"",""]
[109,{"$f":"IF(ISERROR(MATCH(A113,Data!A:A,0)),\"\",MATCH(A113,Data!A:A,0))","v":""},{"$f":"IF(ISERROR(INDEX(Data!I:I,Report!$B113)),\"\",INDEX(Data!I:I,Report!$B113))","v":""},{"$f":"IF(ISERROR(INDEX(Data!J:J,Report!$B113)),\"\",INDEX(Data!J:J,Report!$B113))","v":""},{"$f":"IF(ISERROR(INDEX(Data!K:K,Report!$B113)),\"\",INDEX(Data!K:K,Report!$B113))","v":""},{"$f":"IF(ISERROR(INDEX(Data!L:L,Report!$B113)),\"\",INDEX(Data!L:L,Report!$B113))","v":""},null,{"$f":"IF(ISERROR(INDEX(Data!N:N,Report!$B113)),\"\",INDEX(Data!N:N,Report!$B113))","v":""},{"$f":"IF(ISERROR(INDEX(Data!P:P,Report!$B113)),\"\",INDEX(Data!P:P,Report!$B113))","v":""},{"$f":"IF(ISERROR(INDEX(Data!O:O,Report!$B113)),\"\",INDEX(Data!O:O,Report!$B113))","v":""},{"$f":"IF(ISERROR(INDEX(Data!Q:Q,Report!$B113)),\"\",INDEX(Data!Q:Q,Report!$B113))","v":""},{"$f":"IF(ISERROR(INDEX(Data!R:R,Report!$B113)),\"\",INDEX(Data!R:R,Report!$B113))","v":""},{"$f":"IF(ISERROR(INDEX(Data!S:S,Report!$B113)),\"\",INDEX(Data!S:S,Report!$B113))","v":""},{"$f":"IF(ISERROR(INDEX(Data!T:T,Report!$B113)),\"\",INDEX(Data!T:T,Report!$B113))","v":""},{"$f":"IF(ISERROR(INDEX(Data!U:U,Report!$B113)),\"\",INDEX(Data!U:U,Report!$B113))","v":""},{"$f":"IF(ISERROR(INDEX(Data!V:V,Report!$B113)),\"\",INDEX(Data!V:V,Report!$B113))","v":""},null,"",""]
[110,{"$f":"IF(ISERROR(MATCH(A114,Data!A:A,0)),\"\",MATCH(A114,Data!A:A,0))","v":57},{"$f":"IF(ISERROR(INDEX(Data!I:I,Report!$B114)),\"\",INDEX(Data!I:I,Report!$B114))","v":"00:34:06"},{"$f":"IF(ISERROR(INDEX(Data!J:J,Report!$B114)),\"\",INDEX(Data!J:J,Report!$B114))","v":"Game against Boomer at level 2.0  Single point data:"},{"$f":"IF(ISERROR(INDEX(Data!K:K,Report!$B114)),\"\",INDEX(Data!K:K,Report!$B114))","v":"Boomer's point"},{"$f":"IF(ISERROR(INDEX(Data!L:L,Report!$B114)),\"\",INDEX(Data!L:L,Report!$B114))","v":"New Point"},null,{"$f":"IF(ISERROR(INDEX(Data!N:N,Report!$B114)),\"\",INDEX(Data!N:N,Report!$B114))","v":1},{"$f":"IF(ISERROR(INDEX(Data!P:P,Report!$B114)),\"\",INDEX(Data!P:P,Report!$B114))","v":"Serve"},{"$f":"IF(ISERROR(INDEX(Data!O:O,Report!$B114)),\"\",INDEX(Data!O:O,Report!$B114))","v":5},{"$f":"IF(ISERROR(INDEX(Data!Q:Q,Report!$B114)),\"\",INDEX(Data!Q:Q,Report!$B114))","v":2},{"$f":"IF(ISERROR(INDEX(Data!R:R,Report!$B114)),\"\",INDEX(Data!R:R,Report!$B114))","v":22},{"$f":"IF(ISERROR(INDEX(Data!S:S,Report!$B114)),\"\",INDEX(Data!S:S,Report!$B114))","v":8},{"$f":"IF(ISERROR(INDEX(Data!T:T,Report!$B114)),\"\",INDEX(Data!T:T,Report!$B114))","v":3.9},{"$f":"IF(ISERROR(INDEX(Data!U:U,Report!$B114)),\"\",INDEX(Data!U:U,Report!$B114))","v":46},{"$f":"IF(ISERROR(INDEX(Data!V:V,Report!$B114)),\"\",INDEX(Data!V:V,Report!$B114))","v":3.7},null,"                      |","||||"]
[111,{"$f":"IF(ISERROR(MATCH(A115,Data!A:A,0)),\"\",MATCH(A115,Data!A:A,0))","v":""},{"$f":"IF(ISERROR(INDEX(Data!I:I,Report!$B115)),\"\",INDEX(Data!I:I,Report!$B115))","v":""},{"$f":"IF(ISERROR(INDEX(Data!J:J,Report!$B115)),\"\",INDEX(Data!J:J,Report!$B115))","v":""},{"$f":"IF(ISERROR(INDEX(Data!K:K,Report!$B115)),\"\",INDEX(Data!K:K,Report!$B115))","v":""},{"$f":"IF(ISERROR(INDEX(Data!L:L,Report!$B115)),\"\",INDEX(Data!L:L,Report!$B115))","v":""},null,{"$f":"IF(ISERROR(INDEX(Data!N:N,Report!$B115)),\"\",INDEX(Data!N:N,Report!$B115))","v":""},{"$f":"IF(ISERROR(INDEX(Data!P:P,Report!$B115)),\"\",INDEX(Data!P:P,Report!$B115))","v":""},{"$f":"IF(ISERROR(INDEX(Data!O:O,Report!$B115)),\"\",INDEX(Data!O:O,Report!$B115))","v":""},{"$f":"IF(ISERROR(INDEX(Data!Q:Q,Report!$B115)),\"\",INDEX(Data!Q:Q,Report!$B115))","v":""},{"$f":"IF(ISERROR(INDEX(Data!R:R,Report!$B115)),\"\",INDEX(Data!R:R,Report!$B115))","v":""},{"$f":"IF(ISERROR(INDEX(Data!S:S,Report!$B115)),\"\",INDEX(Data!S:S,Report!$B115))","v":""},{"$f":"IF(ISERROR(INDEX(Data!T:T,Report!$B115)),\"\",INDEX(Data!T:T,Report!$B115))","v":""},{"$f":"IF(ISERROR(INDEX(Data!U:U,Report!$B115)),\"\",INDEX(Data!U:U,Report!$B115))","v":""},{"$f":"IF(ISERROR(INDEX(Data!V:V,Report!$B115)),\"\",INDEX(Data!V:V,Report!$B115))","v":""},null,"",""]
[112,{"$f":"IF(ISERROR(MATCH(A116,Data!A:A,0)),\"\",MATCH(A116,Data!A:A,0))","v":""},{"$f":"IF(ISERROR(INDEX(Data!I:I,Report!$B116)),\"\",INDEX(Data!I:I,Report!$B116))","v":""},{"$f":"IF(ISERROR(INDEX(Data!J:J,Report!$B116)),\"\",INDEX(Data!J:J,Report!$B116))","v":""},{"$f":"IF(ISERROR(INDEX(Data!K:K,Report!$B116)),\"\",INDEX(Data!K:K,Report!$B116))","v":""},{"$f":"IF(ISERROR(INDEX(Data!L:L,Report!$B116)),\"\",INDEX(Data!L:L,Report!$B116))","v":""},null,{"$f":"IF(ISERROR(INDEX(Data!N:N,Report!$B116)),\"\",INDEX(Data!N:N,Report!$B116))","v":""},{"$f":"IF(ISERROR(INDEX(Data!P:P,Report!$B116)),\"\",INDEX(Data!P:P,Report!$B116))","v":""},{"$f":"IF(ISERROR(INDEX(Data!O:O,Report!$B116)),\"\",INDEX(Data!O:O,Report!$B116))","v":""},{"$f":"IF(ISERROR(INDEX(Data!Q:Q,Report!$B116)),\"\",INDEX(Data!Q:Q,Report!$B116))","v":""},{"$f":"IF(ISERROR(INDEX(Data!R:R,Report!$B116)),\"\",INDEX(Data!R:R,Report!$B116))","v":""},{"$f":"IF(ISERROR(INDEX(Data!S:S,Report!$B116)),\"\",INDEX(Data!S:S,Report!$B116))","v":""},{"$f":"IF(ISERROR(INDEX(Data!T:T,Report!$B116)),\"\",INDEX(Data!T:T,Report!$B116))","v":""},{"$f":"IF(ISERROR(INDEX(Data!U:U,Report!$B116)),\"\",INDEX(Data!U:U,Report!$B116))","v":""},{"$f":"IF(ISERROR(INDEX(Data!V:V,Report!$B116)),\"\",INDEX(Data!V:V,Report!$B116))","v":""},null,"",""]
[113,{"$f":"IF(ISERROR(MATCH(A117,Data!A:A,0)),\"\",MATCH(A117,Data!A:A,0))","v":""},{"$f":"IF(ISERROR(INDEX(Data!I:I,Report!$B117)),\"\",INDEX(Data!I:I,Report!$B117))","v":""},{"$f":"IF(ISERROR(INDEX(Data!J:J,Report!$B117)),\"\",INDEX(Data!J:J,Report!$B117))","v":""},{"$f":"IF(ISERROR(INDEX(Data!K:K,Report!$B117)),\"\",INDEX(Data!K:K,Report!$B117))","v":""},{"$f":"IF(ISERROR(INDEX(Data!L:L,Report!$B117)),\"\",INDEX(Data!L:L,Report!$B117))","v":""},null,{"$f":"IF(ISERROR(INDEX(Data!N:N,Report!$B117)),\"\",INDEX(Data!N:N,Report!$B117))","v":""},{"$f":"IF(ISERROR(INDEX(Data!P:P,Report!$B117)),\"\",INDEX(Data!P:P,Report!$B117))","v":""},{"$f":"IF(ISERROR(INDEX(Data!O:O,Report!$B117)),\"\",INDEX(Data!O:O,Report!$B117))","v":""},{"$f":"IF(ISERROR(INDEX(Data!Q:Q,Report!$B117)),\"\",INDEX(Data!Q:Q,Report!$B117))","v":""},{"$f":"IF(ISERROR(INDEX(Data!R:R,Report!$B117)),\"\",INDEX(Data!R:R,Report!$B117))","v":""},{"$f":"IF(ISERROR(INDEX(Data!S:S,Report!$B117)),\"\",INDEX(Data!S:S,Report!$B117))","v":""},{"$f":"IF(ISERROR(INDEX(Data!T:T,Report!$B117)),\"\",INDEX(Data!T:T,Report!$B117))","v":""},{"$f":"IF(ISERROR(INDEX(Data!U:U,Report!$B117)),\"\",INDEX(Data!U:U,Report!$B117))","v":""},{"$f":"IF(ISERROR(INDEX(Data!V:V,Report!$B117)),\"\",INDEX(Data!V:V,Report!$B117))","v":""},null,"",""]
[114,{"$f":"IF(ISERROR(MATCH(A118,Data!A:A,0)),\"\",MATCH(A118,Data!A:A,0))","v":58},{"$f":"IF(ISERROR(INDEX(Data!I:I,Report!$B118)),\"\",INDEX(Data!I:I,Report!$B118))","v":" "},{"$f":"IF(ISERROR(INDEX(Data!J:J,Report!$B118)),\"\",INDEX(Data!J:J,Report!$B118))","v":"User Drill #85  3 line rated mini Tennis"},{"$f":"IF(ISERROR(INDEX(Data!K:K,Report!$B118)),\"\",INDEX(Data!K:K,Report!$B118))","v":0},{"$f":"IF(ISERROR(INDEX(Data!L:L,Report!$B118)),\"\",INDEX(Data!L:L,Report!$B118))","v":"New Point"},null,{"$f":"IF(ISERROR(INDEX(Data!N:N,Report!$B118)),\"\",INDEX(Data!N:N,Report!$B118))","v":1},{"$f":"IF(ISERROR(INDEX(Data!P:P,Report!$B118)),\"\",INDEX(Data!P:P,Report!$B118))","v":0},{"$f":"IF(ISERROR(INDEX(Data!O:O,Report!$B118)),\"\",INDEX(Data!O:O,Report!$B118))","v":11},{"$f":"IF(ISERROR(INDEX(Data!Q:Q,Report!$B118)),\"\",INDEX(Data!Q:Q,Report!$B118))","v":3.5},{"$f":"IF(ISERROR(INDEX(Data!R:R,Report!$B118)),\"\",INDEX(Data!R:R,Report!$B118))","v":0},{"$f":"IF(ISERROR(INDEX(Data!S:S,Report!$B118)),\"\",INDEX(Data!S:S,Report!$B118))","v":0},{"$f":"IF(ISERROR(INDEX(Data!T:T,Report!$B118)),\"\",INDEX(Data!T:T,Report!$B118))","v":0},{"$f":"IF(ISERROR(INDEX(Data!U:U,Report!$B118)),\"\",INDEX(Data!U:U,Report!$B118))","v":0},{"$f":"IF(ISERROR(INDEX(Data!V:V,Report!$B118)),\"\",INDEX(Data!V:V,Report!$B118))","v":0},null,"|",""]
[115,{"$f":"IF(ISERROR(MATCH(A119,Data!A:A,0)),\"\",MATCH(A119,Data!A:A,0))","v":""},{"$f":"IF(ISERROR(INDEX(Data!I:I,Report!$B119)),\"\",INDEX(Data!I:I,Report!$B119))","v":""},{"$f":"IF(ISERROR(INDEX(Data!J:J,Report!$B119)),\"\",INDEX(Data!J:J,Report!$B119))","v":""},{"$f":"IF(ISERROR(INDEX(Data!K:K,Report!$B119)),\"\",INDEX(Data!K:K,Report!$B119))","v":""},{"$f":"IF(ISERROR(INDEX(Data!L:L,Report!$B119)),\"\",INDEX(Data!L:L,Report!$B119))","v":""},null,{"$f":"IF(ISERROR(INDEX(Data!N:N,Report!$B119)),\"\",INDEX(Data!N:N,Report!$B119))","v":""},{"$f":"IF(ISERROR(INDEX(Data!P:P,Report!$B119)),\"\",INDEX(Data!P:P,Report!$B119))","v":""},{"$f":"IF(ISERROR(INDEX(Data!O:O,Report!$B119)),\"\",INDEX(Data!O:O,Report!$B119))","v":""},{"$f":"IF(ISERROR(INDEX(Data!Q:Q,Report!$B119)),\"\",INDEX(Data!Q:Q,Report!$B119))","v":""},{"$f":"IF(ISERROR(INDEX(Data!R:R,Report!$B119)),\"\",INDEX(Data!R:R,Report!$B119))","v":""},{"$f":"IF(ISERROR(INDEX(Data!S:S,Report!$B119)),\"\",INDEX(Data!S:S,Report!$B119))","v":""},{"$f":"IF(ISERROR(INDEX(Data!T:T,Report!$B119)),\"\",INDEX(Data!T:T,Report!$B119))","v":""},{"$f":"IF(ISERROR(INDEX(Data!U:U,Report!$B119)),\"\",INDEX(Data!U:U,Report!$B119))","v":""},{"$f":"IF(ISERROR(INDEX(Data!V:V,Report!$B119)),\"\",INDEX(Data!V:V,Report!$B119))","v":""},null,"",""]
[116,{"$f":"IF(ISERROR(MATCH(A120,Data!A:A,0)),\"\",MATCH(A120,Data!A:A,0))","v":""},{"$f":"IF(ISERROR(INDEX(Data!I:I,Report!$B120)),\"\",INDEX(Data!I:I,Report!$B120))","v":""},{"$f":"IF(ISERROR(INDEX(Data!J:J,Report!$B120)),\"\",INDEX(Data!J:J,Report!$B120))","v":""},{"$f":"IF(ISERROR(INDEX(Data!K:K,Report!$B120)),\"\",INDEX(Data!K:K,Report!$B120))","v":""},{"$f":"IF(ISERROR(INDEX(Data!L:L,Report!$B120)),\"\",INDEX(Data!L:L,Report!$B120))","v":""},null,{"$f":"IF(ISERROR(INDEX(Data!N:N,Report!$B120)),\"\",INDEX(Data!N:N,Report!$B120))","v":""},{"$f":"IF(ISERROR(INDEX(Data!P:P,Report!$B120)),\"\",INDEX(Data!P:P,Report!$B120))","v":""},{"$f":"IF(ISERROR(INDEX(Data!O:O,Report!$B120)),\"\",INDEX(Data!O:O,Report!$B120))","v":""},{"$f":"IF(ISERROR(INDEX(Data!Q:Q,Report!$B120)),\"\",INDEX(Data!Q:Q,Report!$B120))","v":""},{"$f":"IF(ISERROR(INDEX(Data!R:R,Report!$B120)),\"\",INDEX(Data!R:R,Report!$B120))","v":""},{"$f":"IF(ISERROR(INDEX(Data!S:S,Report!$B120)),\"\",INDEX(Data!S:S,Report!$B120))","v":""},{"$f":"IF(ISERROR(INDEX(Data!T:T,Report!$B120)),\"\",INDEX(Data!T:T,Report!$B120))","v":""},{"$f":"IF(ISERROR(INDEX(Data!U:U,Report!$B120)),\"\",INDEX(Data!U:U,Report!$B120))","v":""},{"$f":"IF(ISERROR(INDEX(Data!V:V,Report!$B120)),\"\",INDEX(Data!V:V,Report!$B120))","v":""},null,"",""]
[117,{"$f":"IF(ISERROR(MATCH(A121,Data!A:A,0)),\"\",MATCH(A121,Data!A:A,0))","v":""},{"$f":"IF(ISERROR(INDEX(Data!I:I,Report!$B121)),\"\",INDEX(Data!I:I,Report!$B121))","v":""},{"$f":"IF(ISERROR(INDEX(Data!J:J,Report!$B121)),\"\",INDEX(Data!J:J,Report!$B121))","v":""},{"$f":"IF(ISERROR(INDEX(Data!K:K,Report!$B121)),\"\",INDEX(Data!K:K,Report!$B121))","v":""},{"$f":"IF(ISERROR(INDEX(Data!L:L,Report!$B121)),\"\",INDEX(Data!L:L,Report!$B121))","v":""},null,{"$f":"IF(ISERROR(INDEX(Data!N:N,Report!$B121)),\"\",INDEX(Data!N:N,Report!$B121))","v":""},{"$f":"IF(ISERROR(INDEX(Data!P:P,Report!$B121)),\"\",INDEX(Data!P:P,Report!$B121))","v":""},{"$f":"IF(ISERROR(INDEX(Data!O:O,Report!$B121)),\"\",INDEX(Data!O:O,Report!$B121))","v":""},{"$f":"IF(ISERROR(INDEX(Data!Q:Q,Report!$B121)),\"\",INDEX(Data!Q:Q,Report!$B121))","v":""},{"$f":"IF(ISERROR(INDEX(Data!R:R,Report!$B121)),\"\",INDEX(Data!R:R,Report!$B121))","v":""},{"$f":"IF(ISERROR(INDEX(Data!S:S,Report!$B121)),\"\",INDEX(Data!S:S,Report!$B121))","v":""},{"$f":"IF(ISERROR(INDEX(Data!T:T,Report!$B121)),\"\",INDEX(Data!T:T,Report!$B121))","v":""},{"$f":"IF(ISERROR(INDEX(Data!U:U,Report!$B121)),\"\",INDEX(Data!U:U,Report!$B121))","v":""},{"$f":"IF(ISERROR(INDEX(Data!V:V,Report!$B121)),\"\",INDEX(Data!V:V,Report!$B121))","v":""},null,"",""]
[118,{"$f":"IF(ISERROR(MATCH(A122,Data!A:A,0)),\"\",MATCH(A122,Data!A:A,0))","v":59},{"$f":"IF(ISERROR(INDEX(Data!I:I,Report!$B122)),\"\",INDEX(Data!I:I,Report!$B122))","v":"04:35:48"},{"$f":"IF(ISERROR(INDEX(Data!J:J,Report!$B122)),\"\",INDEX(Data!J:J,Report!$B122))","v":"Game against Boomer at level 3.5  Single point data:"},{"$f":"IF(ISERROR(INDEX(Data!K:K,Report!$B122)),\"\",INDEX(Data!K:K,Report!$B122))","v":"Boomer's point"},{"$f":"IF(ISERROR(INDEX(Data!L:L,Report!$B122)),\"\",INDEX(Data!L:L,Report!$B122))","v":"New Point"},null,{"$f":"IF(ISERROR(INDEX(Data!N:N,Report!$B122)),\"\",INDEX(Data!N:N,Report!$B122))","v":1},{"$f":"IF(ISERROR(INDEX(Data!P:P,Report!$B122)),\"\",INDEX(Data!P:P,Report!$B122))","v":"Serve"},{"$f":"IF(ISERROR(INDEX(Data!O:O,Report!$B122)),\"\",INDEX(Data!O:O,Report!$B122))","v":0},{"$f":"IF(ISERROR(INDEX(Data!Q:Q,Report!$B122)),\"\",INDEX(Data!Q:Q,Report!$B122))","v":3.5},{"$f":"IF(ISERROR(INDEX(Data!R:R,Report!$B122)),\"\",INDEX(Data!R:R,Report!$B122))","v":0},{"$f":"IF(ISERROR(INDEX(Data!S:S,Report!$B122)),\"\",INDEX(Data!S:S,Report!$B122))","v":0},{"$f":"IF(ISERROR(INDEX(Data!T:T,Report!$B122)),\"\",INDEX(Data!T:T,Report!$B122))","v":0},{"$f":"IF(ISERROR(INDEX(Data!U:U,Report!$B122)),\"\",INDEX(Data!U:U,Report!$B122))","v":0},{"$f":"IF(ISERROR(INDEX(Data!V:V,Report!$B122)),\"\",INDEX(Data!V:V,Report!$B122))","v":0},null,{"$f":"IF(H122=0,\"\",IF(ISERROR(REPT(\" \",L122) & \"|\"),\"\",REPT(\" \",L122) & \"|\"))","v":"|"},""]
[119,{"$f":"IF(ISERROR(MATCH(A123,Data!A:A,0)),\"\",MATCH(A123,Data!A:A,0))","v":60},{"$f":"IF(ISERROR(INDEX(Data!I:I,Report!$B123)),\"\",INDEX(Data!I:I,Report!$B123))","v":"00:34:06"},{"$f":"IF(ISERROR(INDEX(Data!J:J,Report!$B123)),\"\",INDEX(Data!J:J,Report!$B123))","v":"Game against Boomer at level 2.0  Single point data:"},{"$f":"IF(ISERROR(INDEX(Data!K:K,Report!$B123)),\"\",INDEX(Data!K:K,Report!$B123))","v":"Boomer's point"},{"$f":"IF(ISERROR(INDEX(Data!L:L,Report!$B123)),\"\",INDEX(Data!L:L,Report!$B123))","v":0},null,{"$f":"IF(ISERROR(INDEX(Data!N:N,Report!$B123)),\"\",INDEX(Data!N:N,Report!$B123))","v":2},{"$f":"IF(ISERROR(INDEX(Data!P:P,Report!$B123)),\"\",INDEX(Data!P:P,Report!$B123))","v":"Topspin"},{"$f":"IF(ISERROR(INDEX(Data!O:O,Report!$B123)),\"\",INDEX(Data!O:O,Report!$B123))","v":4},{"$f":"IF(ISERROR(INDEX(Data!Q:Q,Report!$B123)),\"\",INDEX(Data!Q:Q,Report!$B123))","v":2},{"$f":"IF(ISERROR(INDEX(Data!R:R,Report!$B123)),\"\",INDEX(Data!R:R,Report!$B123))","v":0},{"$f":"IF(ISERROR(INDEX(Data!S:S,Report!$B123)),\"\",INDEX(Data!S:S,Report!$B123))","v":0},{"$f":"IF(ISERROR(INDEX(Data!T:T,Report!$B123)),\"\",INDEX(Data!T:T,Report!$B123))","v":0},{"$f":"IF(ISERROR(INDEX(Data!U:U,Report!$B123)),\"\",INDEX(Data!U:U,Report!$B123))","v":0},{"$f":"IF(ISERROR(INDEX(Data!V:V,Report!$B123)),\"\",INDEX(Data!V:V,Report!$B123))","v":0},null,{"$f":"IF(H123=0,\"\",IF(ISERROR(REPT(\" \",L123) & \"|\"),\"\",REPT(\" \",L123) & \"|\"))","v":"|"},""]
[120,{"$f":"IF(ISERROR(MATCH(A124,Data!A:A,0)),\"\",MATCH(A124,Data!A:A,0))","v":61},{"$f":"IF(ISERROR(INDEX(Data!I:I,Report!$B124)),\"\",INDEX(Data!I:I,Report!$B124))","v":" "},{"$f":"IF(ISERROR(INDEX(Data!J:J,Report!$B124)),\"\",INDEX(Data!J:J,Report!$B124))","v":"User Drill #85  3 line rated mini Tennis"},{"$f":"IF(ISERROR(INDEX(Data!K:K,Report!$B124)),\"\",INDEX(Data!K:K,Report!$B124))","v":0},{"$f":"IF(ISERROR(INDEX(Data!L:L,Report!$B124)),\"\",INDEX(Data!L:L,Report!$B124))","v":0},null,{"$f":"IF(ISERROR(INDEX(Data!N:N,Report!$B124)),\"\",INDEX(Data!N:N,Report!$B124))","v":2},{"$f":"IF(ISERROR(INDEX(Data!P:P,Report!$B124)),\"\",INDEX(Data!P:P,Report!$B124))","v":0},{"$f":"IF(ISERROR(INDEX(Data!O:O,Report!$B124)),\"\",INDEX(Data!O:O,Report!$B124))","v":4},{"$f":"IF(ISERROR(INDEX(Data!Q:Q,Report!$B124)),\"\",INDEX(Data!Q:Q,Report!$B124))","v":3.5},{"$f":"IF(ISERROR(INDEX(Data!R:R,Report!$B124)),\"\",INDEX(Data!R:R,Report!$B124))","v":0},{"$f":"IF(ISERROR(INDEX(Data!S:S,Report!$B124)),\"\",INDEX(Data!S:S,Report!$B124))","v":0},{"$f":"IF(ISERROR(INDEX(Data!T:T,Report!$B124)),\"\",INDEX(Data!T:T,Report!$B124))","v":0},{"$f":"IF(ISERROR(INDEX(Data!U:U,Report!$B124)),\"\",INDEX(Data!U:U,Report!$B124))","v":0},{"$f":"IF(ISERROR(INDEX(Data!V:V,Report!$B124)),\"\",INDEX(Data!V:V,Report!$B124))","v":0},null,"|",""]
[121,{"$f":"IF(ISERROR(MATCH(A125,Data!A:A,0)),\"\",MATCH(A125,Data!A:A,0))","v":62},{"$f":"IF(ISERROR(INDEX(Data!I:I,Report!$B125)),\"\",INDEX(Data!I:I,Report!$B125))","v":" "},{"$f":"IF(ISERROR(INDEX(Data!J:J,Report!$B125)),\"\",INDEX(Data!J:J,Report!$B125))","v":"User Drill #85  3 line rated mini Tennis"},{"$f":"IF(ISERROR(INDEX(Data!K:K,Report!$B125)),\"\",INDEX(Data!K:K,Report!$B125))","v":0},{"$f":"IF(ISERROR(INDEX(Data!L:L,Report!$B125)),\"\",INDEX(Data!L:L,Report!$B125))","v":0},null,{"$f":"IF(ISERROR(INDEX(Data!N:N,Report!$B125)),\"\",INDEX(Data!N:N,Report!$B125))","v":3},{"$f":"IF(ISERROR(INDEX(Data!P:P,Report!$B125)),\"\",INDEX(Data!P:P,Report!$B125))","v":0},{"$f":"IF(ISERROR(INDEX(Data!O:O,Report!$B125)),\"\",INDEX(Data!O:O,Report!$B125))","v":10},{"$f":"IF(ISERROR(INDEX(Data!Q:Q,Report!$B125)),\"\",INDEX(Data!Q:Q,Report!$B125))","v":3.5},{"$f":"IF(ISERROR(INDEX(Data!R:R,Report!$B125)),\"\",INDEX(Data!R:R,Report!$B125))","v":0},{"$f":"IF(ISERROR(INDEX(Data!S:S,Report!$B125)),\"\",INDEX(Data!S:S,Report!$B125))","v":0},{"$f":"IF(ISERROR(INDEX(Data!T:T,Report!$B125)),\"\",INDEX(Data!T:T,Report!$B125))","v":0},{"$f":"IF(ISERROR(INDEX(Data!U:U,Report!$B125)),\"\",INDEX(Data!U:U,Report!$B125))","v":0},{"$f":"IF(ISERROR(INDEX(Data!V:V,Report!$B125)),\"\",INDEX(Data!V:V,Report!$B125))","v":0},null,"|",""]
[122,{"$f":"IF(ISERROR(MATCH(A126,Data!A:A,0)),\"\",MATCH(A126,Data!A:A,0))","v":""},{"$f":"IF(ISERROR(INDEX(Data!I:I,Report!$B126)),\"\",INDEX(Data!I:I,Report!$B126))","v":""},{"$f":"IF(ISERROR(INDEX(Data!J:J,Report!$B126)),\"\",INDEX(Data!J:J,Report!$B126))","v":""},{"$f":"IF(ISERROR(INDEX(Data!K:K,Report!$B126)),\"\",INDEX(Data!K:K,Report!$B126))","v":""},{"$f":"IF(ISERROR(INDEX(Data!L:L,Report!$B126)),\"\",INDEX(Data!L:L,Report!$B126))","v":""},null,{"$f":"IF(ISERROR(INDEX(Data!N:N,Report!$B126)),\"\",INDEX(Data!N:N,Report!$B126))","v":""},{"$f":"IF(ISERROR(INDEX(Data!P:P,Report!$B126)),\"\",INDEX(Data!P:P,Report!$B126))","v":""},{"$f":"IF(ISERROR(INDEX(Data!O:O,Report!$B126)),\"\",INDEX(Data!O:O,Report!$B126))","v":""},{"$f":"IF(ISERROR(INDEX(Data!Q:Q,Report!$B126)),\"\",INDEX(Data!Q:Q,Report!$B126))","v":""},{"$f":"IF(ISERROR(INDEX(Data!R:R,Report!$B126)),\"\",INDEX(Data!R:R,Report!$B126))","v":""},{"$f":"IF(ISERROR(INDEX(Data!S:S,Report!$B126)),\"\",INDEX(Data!S:S,Report!$B126))","v":""},{"$f":"IF(ISERROR(INDEX(Data!T:T,Report!$B126)),\"\",INDEX(Data!T:T,Report!$B126))","v":""},{"$f":"IF(ISERROR(INDEX(Data!U:U,Report!$B126)),\"\",INDEX(Data!U:U,Report!$B126))","v":""},{"$f":"IF(ISERROR(INDEX(Data!V:V,Report!$B126)),\"\",INDEX(Data!V:V,Report!$B126))","v":""},null,"",""]
[123,{"$f":"IF(ISERROR(MATCH(A127,Data!A:A,0)),\"\",MATCH(A127,Data!A:A,0))","v":""},{"$f":"IF(ISERROR(INDEX(Data!I:I,Report!$B127)),\"\",INDEX(Data!I:I,Report!$B127))","v":""},{"$f":"IF(ISERROR(INDEX(Data!J:J,Report!$B127)),\"\",INDEX(Data!J:J,Report!$B127))","v":""},{"$f":"IF(ISERROR(INDEX(Data!K:K,Report!$B127)),\"\",INDEX(Data!K:K,Report!$B127))","v":""},{"$f":"IF(ISERROR(INDEX(Data!L:L,Report!$B127)),\"\",INDEX(Data!L:L,Report!$B127))","v":""},null,{"$f":"IF(ISERROR(INDEX(Data!N:N,Report!$B127)),\"\",INDEX(Data!N:N,Report!$B127))","v":""},{"$f":"IF(ISERROR(INDEX(Data!P:P,Report!$B127)),\"\",INDEX(Data!P:P,Report!$B127))","v":""},{"$f":"IF(ISERROR(INDEX(Data!O:O,Report!$B127)),\"\",INDEX(Data!O:O,Report!$B127))","v":""},{"$f":"IF(ISERROR(INDEX(Data!Q:Q,Report!$B127)),\"\",INDEX(Data!Q:Q,Report!$B127))","v":""},{"$f":"IF(ISERROR(INDEX(Data!R:R,Report!$B127)),\"\",INDEX(Data!R:R,Report!$B127))","v":""},{"$f":"IF(ISERROR(INDEX(Data!S:S,Report!$B127)),\"\",INDEX(Data!S:S,Report!$B127))","v":""},{"$f":"IF(ISERROR(INDEX(Data!T:T,Report!$B127)),\"\",INDEX(Data!T:T,Report!$B127))","v":""},{"$f":"IF(ISERROR(INDEX(Data!U:U,Report!$B127)),\"\",INDEX(Data!U:U,Report!$B127))","v":""},{"$f":"IF(ISERROR(INDEX(Data!V:V,Report!$B127)),\"\",INDEX(Data!V:V,Report!$B127))","v":""},null,"",""]
[124,{"$f":"IF(ISERROR(MATCH(A128,Data!A:A,0)),\"\",MATCH(A128,Data!A:A,0))","v":""},{"$f":"IF(ISERROR(INDEX(Data!I:I,Report!$B128)),\"\",INDEX(Data!I:I,Report!$B128))","v":""},{"$f":"IF(ISERROR(INDEX(Data!J:J,Report!$B128)),\"\",INDEX(Data!J:J,Report!$B128))","v":""},{"$f":"IF(ISERROR(INDEX(Data!K:K,Report!$B128)),\"\",INDEX(Data!K:K,Report!$B128))","v":""},{"$f":"IF(ISERROR(INDEX(Data!L:L,Report!$B128)),\"\",INDEX(Data!L:L,Report!$B128))","v":""},null,{"$f":"IF(ISERROR(INDEX(Data!N:N,Report!$B128)),\"\",INDEX(Data!N:N,Report!$B128))","v":""},{"$f":"IF(ISERROR(INDEX(Data!P:P,Report!$B128)),\"\",INDEX(Data!P:P,Report!$B128))","v":""},{"$f":"IF(ISERROR(INDEX(Data!O:O,Report!$B128)),\"\",INDEX(Data!O:O,Report!$B128))","v":""},{"$f":"IF(ISERROR(INDEX(Data!Q:Q,Report!$B128)),\"\",INDEX(Data!Q:Q,Report!$B128))","v":""},{"$f":"IF(ISERROR(INDEX(Data!R:R,Report!$B128)),\"\",INDEX(Data!R:R,Report!$B128))","v":""},{"$f":"IF(ISERROR(INDEX(Data!S:S,Report!$B128)),\"\",INDEX(Data!S:S,Report!$B128))","v":""},{"$f":"IF(ISERROR(INDEX(Data!T:T,Report!$B128)),\"\",INDEX(Data!T:T,Report!$B128))","v":""},{"$f":"IF(ISERROR(INDEX(Data!U:U,Report!$B128)),\"\",INDEX(Data!U:U,Report!$B128))","v":""},{"$f":"IF(ISERROR(INDEX(Data!V:V,Report!$B128)),\"\",INDEX(Data!V:V,Report!$B128))","v":""},null,"",""]
[125,{"$f":"IF(ISERROR(MATCH(A129,Data!A:A,0)),\"\",MATCH(A129,Data!A:A,0))","v":63},{"$f":"IF(ISERROR(INDEX(Data!I:I,Report!$B129)),\"\",INDEX(Data!I:I,Report!$B129))","v":"04:36:22"},{"$f":"IF(ISERROR(INDEX(Data!J:J,Report!$B129)),\"\",INDEX(Data!J:J,Report!$B129))","v":"Game against Boomer at level 3.5  Single point data:"},{"$f":"IF(ISERROR(INDEX(Data!K:K,Report!$B129)),\"\",INDEX(Data!K:K,Report!$B129))","v":"Player's point"},{"$f":"IF(ISERROR(INDEX(Data!L:L,Report!$B129)),\"\",INDEX(Data!L:L,Report!$B129))","v":"New Point"},null,{"$f":"IF(ISERROR(INDEX(Data!N:N,Report!$B129)),\"\",INDEX(Data!N:N,Report!$B129))","v":1},{"$f":"IF(ISERROR(INDEX(Data!P:P,Report!$B129)),\"\",INDEX(Data!P:P,Report!$B129))","v":"Player Serve"},{"$f":"IF(ISERROR(INDEX(Data!O:O,Report!$B129)),\"\",INDEX(Data!O:O,Report!$B129))","v":4},{"$f":"IF(ISERROR(INDEX(Data!Q:Q,Report!$B129)),\"\",INDEX(Data!Q:Q,Report!$B129))","v":3.5},{"$f":"IF(ISERROR(INDEX(Data!R:R,Report!$B129)),\"\",INDEX(Data!R:R,Report!$B129))","v":11},{"$f":"IF(ISERROR(INDEX(Data!S:S,Report!$B129)),\"\",INDEX(Data!S:S,Report!$B129))","v":6},{"$f":"IF(ISERROR(INDEX(Data!T:T,Report!$B129)),\"\",INDEX(Data!T:T,Report!$B129))","v":2.5},{"$f":"IF(ISERROR(INDEX(Data!U:U,Report!$B129)),\"\",INDEX(Data!U:U,Report!$B129))","v":96},{"$f":"IF(ISERROR(INDEX(Data!V:V,Report!$B129)),\"\",INDEX(Data!V:V,Report!$B129))","v":4.3},null,"           |","|||"]
[126,{"$f":"IF(ISERROR(MATCH(A130,Data!A:A,0)),\"\",MATCH(A130,Data!A:A,0))","v":""},{"$f":"IF(ISERROR(INDEX(Data!I:I,Report!$B130)),\"\",INDEX(Data!I:I,Report!$B130))","v":""},{"$f":"IF(ISERROR(INDEX(Data!J:J,Report!$B130)),\"\",INDEX(Data!J:J,Report!$B130))","v":""},{"$f":"IF(ISERROR(INDEX(Data!K:K,Report!$B130)),\"\",INDEX(Data!K:K,Report!$B130))","v":""},{"$f":"IF(ISERROR(INDEX(Data!L:L,Report!$B130)),\"\",INDEX(Data!L:L,Report!$B130))","v":""},null,{"$f":"IF(ISERROR(INDEX(Data!N:N,Report!$B130)),\"\",INDEX(Data!N:N,Report!$B130))","v":""},{"$f":"IF(ISERROR(INDEX(Data!P:P,Report!$B130)),\"\",INDEX(Data!P:P,Report!$B130))","v":""},{"$f":"IF(ISERROR(INDEX(Data!O:O,Report!$B130)),\"\",INDEX(Data!O:O,Report!$B130))","v":""},{"$f":"IF(ISERROR(INDEX(Data!Q:Q,Report!$B130)),\"\",INDEX(Data!Q:Q,Report!$B130))","v":""},{"$f":"IF(ISERROR(INDEX(Data!R:R,Report!$B130)),\"\",INDEX(Data!R:R,Report!$B130))","v":""},{"$f":"IF(ISERROR(INDEX(Data!S:S,Report!$B130)),\"\",INDEX(Data!S:S,Report!$B130))","v":""},{"$f":"IF(ISERROR(INDEX(Data!T:T,Report!$B130)),\"\",INDEX(Data!T:T,Report!$B130))","v":""},{"$f":"IF(ISERROR(INDEX(Data!U:U,Report!$B130)),\"\",INDEX(Data!U:U,Report!$B130))","v":""},{"$f":"IF(ISERROR(INDEX(Data!V:V,Report!$B130)),\"\",INDEX(Data!V:V,Report!$B130))","v":""},null,"",""]
[127,{"$f":"IF(ISERROR(MATCH(A131,Data!A:A,0)),\"\",MATCH(A131,Data!A:A,0))","v":""},{"$f":"IF(ISERROR(INDEX(Data!I:I,Report!$B131)),\"\",INDEX(Data!I:I,Report!$B131))","v":""},{"$f":"IF(ISERROR(INDEX(Data!J:J,Report!$B131)),\"\",INDEX(Data!J:J,Report!$B131))","v":""},{"$f":"IF(ISERROR(INDEX(Data!K:K,Report!$B131)),\"\",INDEX(Data!K:K,Report!$B131))","v":""},{"$f":"IF(ISERROR(INDEX(Data!L:L,Report!$B131)),\"\",INDEX(Data!L:L,Report!$B131))","v":""},null,{"$f":"IF(ISERROR(INDEX(Data!N:N,Report!$B131)),\"\",INDEX(Data!N:N,Report!$B131))","v":""},{"$f":"IF(ISERROR(INDEX(Data!P:P,Report!$B131)),\"\",INDEX(Data!P:P,Report!$B131))","v":""},{"$f":"IF(ISERROR(INDEX(Data!O:O,Report!$B131)),\"\",INDEX(Data!O:O,Report!$B131))","v":""},{"$f":"IF(ISERROR(INDEX(Data!Q:Q,Report!$B131)),\"\",INDEX(Data!Q:Q,Report!$B131))","v":""},{"$f":"IF(ISERROR(INDEX(Data!R:R,Report!$B131)),\"\",INDEX(Data!R:R,Report!$B131))","v":""},{"$f":"IF(ISERROR(INDEX(Data!S:S,Report!$B131)),\"\",INDEX(Data!S:S,Report!$B131))","v":""},{"$f":"IF(ISERROR(INDEX(Data!T:T,Report!$B131)),\"\",INDEX(Data!T:T,Report!$B131))","v":""},{"$f":"IF(ISERROR(INDEX(Data!U:U,Report!$B131)),\"\",INDEX(Data!U:U,Report!$B131))","v":""},{"$f":"IF(ISERROR(INDEX(Data!V:V,Report!$B131)),\"\",INDEX(Data!V:V,Report!$B131))","v":""},null,"",""]
[128,{"$f":"IF(ISERROR(MATCH(A132,Data!A:A,0)),\"\",MATCH(A132,Data!A:A,0))","v":""},{"$f":"IF(ISERROR(INDEX(Data!I:I,Report!$B132)),\"\",INDEX(Data!I:I,Report!$B132))","v":""},{"$f":"IF(ISERROR(INDEX(Data!J:J,Report!$B132)),\"\",INDEX(Data!J:J,Report!$B132))","v":""},{"$f":"IF(ISERROR(INDEX(Data!K:K,Report!$B132)),\"\",INDEX(Data!K:K,Report!$B132))","v":""},{"$f":"IF(ISERROR(INDEX(Data!L:L,Report!$B132)),\"\",INDEX(Data!L:L,Report!$B132))","v":""},null,{"$f":"IF(ISERROR(INDEX(Data!N:N,Report!$B132)),\"\",INDEX(Data!N:N,Report!$B132))","v":""},{"$f":"IF(ISERROR(INDEX(Data!P:P,Report!$B132)),\"\",INDEX(Data!P:P,Report!$B132))","v":""},{"$f":"IF(ISERROR(INDEX(Data!O:O,Report!$B132)),\"\",INDEX(Data!O:O,Report!$B132))","v":""},{"$f":"IF(ISERROR(INDEX(Data!Q:Q,Report!$B132)),\"\",INDEX(Data!Q:Q,Report!$B132))","v":""},{"$f":"IF(ISERROR(INDEX(Data!R:R,Report!$B132)),\"\",INDEX(Data!R:R,Report!$B132))","v":""},{"$f":"IF(ISERROR(INDEX(Data!S:S,Report!$B132)),\"\",INDEX(Data!S:S,Report!$B132))","v":""},{"$f":"IF(ISERROR(INDEX(Data!T:T,Report!$B132)),\"\",INDEX(Data!T:T,Report!$B132))","v":""},{"$f":"IF(ISERROR(INDEX(Data!U:U,Report!$B132)),\"\",INDEX(Data!U:U,Report!$B132))","v":""},{"$f":"IF(ISERROR(INDEX(Data!V:V,Report!$B132)),\"\",INDEX(Data!V:V,Report!$B132))","v":""},null,"",""]
[129,{"$f":"IF(ISERROR(MATCH(A133,Data!A:A,0)),\"\",MATCH(A133,Data!A:A,0))","v":64},{"$f":"IF(ISERROR(INDEX(Data!I:I,Report!$B133)),\"\",INDEX(Data!I:I,Report!$B133))","v":" "},{"$f":"IF(ISERROR(INDEX(Data!J:J,Report!$B133)),\"\",INDEX(Data!J:J,Report!$B133))","v":"User Drill #85  3 line rated mini Tennis"},{"$f":"IF(ISERROR(INDEX(Data!K:K,Report!$B133)),\"\",INDEX(Data!K:K,Report!$B133))","v":0},{"$f":"IF(ISERROR(INDEX(Data!L:L,Report!$B133)),\"\",INDEX(Data!L:L,Report!$B133))","v":"New Point"},null,{"$f":"IF(ISERROR(INDEX(Data!N:N,Report!$B133)),\"\",INDEX(Data!N:N,Report!$B133))","v":1},{"$f":"IF(ISERROR(INDEX(Data!P:P,Report!$B133)),\"\",INDEX(Data!P:P,Report!$B133))","v":0},{"$f":"IF(ISERROR(INDEX(Data!O:O,Report!$B133)),\"\",INDEX(Data!O:O,Report!$B133))","v":11},{"$f":"IF(ISERROR(INDEX(Data!Q:Q,Report!$B133)),\"\",INDEX(Data!Q:Q,Report!$B133))","v":3.5},{"$f":"IF(ISERROR(INDEX(Data!R:R,Report!$B133)),\"\",INDEX(Data!R:R,Report!$B133))","v":0},{"$f":"IF(ISERROR(INDEX(Data!S:S,Report!$B133)),\"\",INDEX(Data!S:S,Report!$B133))","v":0},{"$f":"IF(ISERROR(INDEX(Data!T:T,Report!$B133)),\"\",INDEX(Data!T:T,Report!$B133))","v":0},{"$f":"IF(ISERROR(INDEX(Data!U:U,Report!$B133)),\"\",INDEX(Data!U:U,Report!$B133))","v":0},{"$f":"IF(ISERROR(INDEX(Data!V:V,Report!$B133)),\"\",INDEX(Data!V:V,Report!$B133))","v":0},null,"|",""]
[130,{"$f":"IF(ISERROR(MATCH(A134,Data!A:A,0)),\"\",MATCH(A134,Data!A:A,0))","v":""},{"$f":"IF(ISERROR(INDEX(Data!I:I,Report!$B134)),\"\",INDEX(Data!I:I,Report!$B134))","v":""},{"$f":"IF(ISERROR(INDEX(Data!J:J,Report!$B134)),\"\",INDEX(Data!J:J,Report!$B134))","v":""},{"$f":"IF(ISERROR(INDEX(Data!K:K,Report!$B134)),\"\",INDEX(Data!K:K,Report!$B134))","v":""},{"$f":"IF(ISERROR(INDEX(Data!L:L,Report!$B134)),\"\",INDEX(Data!L:L,Report!$B134))","v":""},null,{"$f":"IF(ISERROR(INDEX(Data!N:N,Report!$B134)),\"\",INDEX(Data!N:N,Report!$B134))","v":""},{"$f":"IF(ISERROR(INDEX(Data!P:P,Report!$B134)),\"\",INDEX(Data!P:P,Report!$B134))","v":""},{"$f":"IF(ISERROR(INDEX(Data!O:O,Report!$B134)),\"\",INDEX(Data!O:O,Report!$B134))","v":""},{"$f":"IF(ISERROR(INDEX(Data!Q:Q,Report!$B134)),\"\",INDEX(Data!Q:Q,Report!$B134))","v":""},{"$f":"IF(ISERROR(INDEX(Data!R:R,Report!$B134)),\"\",INDEX(Data!R:R,Report!$B134))","v":""},{"$f":"IF(ISERROR(INDEX(Data!S:S,Report!$B134)),\"\",INDEX(Data!S:S,Report!$B134))","v":""},{"$f":"IF(ISERROR(INDEX(Data!T:T,Report!$B134)),\"\",INDEX(Data!T:T,Report!$B134))","v":""},{"$f":"IF(ISERROR(INDEX(Data!U:U,Report!$B134)),\"\",INDEX(Data!U:U,Report!$B134))","v":""},{"$f":"IF(ISERROR(INDEX(Data!V:V,Report!$B134)),\"\",INDEX(Data!V:V,Report!$B134))","v":""},null,"",{"$f":"IF(ISERROR(REPT(\"|\",M134/2)),\"\",REPT(\"|\",M134/2))","v":""}]
[{"$f":"A134+1","v":131},{"$f":"IF(ISERROR(MATCH(A135,Data!A:A,0)),\"\",MATCH(A135,Data!A:A,0))","v":""},{"$f":"IF(ISERROR(INDEX(Data!I:I,Report!$B135)),\"\",INDEX(Data!I:I,Report!$B135))","v":""},{"$f":"IF(ISERROR(INDEX(Data!J:J,Report!$B135)),\"\",INDEX(Data!J:J,Report!$B135))","v":""},{"$f":"IF(ISERROR(INDEX(Data!K:K,Report!$B135)),\"\",INDEX(Data!K:K,Report!$B135))","v":""},{"$f":"IF(ISERROR(INDEX(Data!L:L,Report!$B135)),\"\",INDEX(Data!L:L,Report!$B135))","v":""},null,{"$f":"IF(ISERROR(INDEX(Data!N:N,Report!$B135)),\"\",INDEX(Data!N:N,Report!$B135))","v":""},"Game against Boomer at level 3.5  Single point data:",{"$f":"IF(ISERROR(INDEX(Data!O:O,Report!$B135)),\"\",INDEX(Data!O:O,Report!$B135))","v":""},null,null,{"$f":"IF(ISERROR(INDEX(Data!S:S,Report!$B135)),\"\",INDEX(Data!S:S,Report!$B135))","v":""},{"$f":"IF(ISERROR(INDEX(Data!T:T,Report!$B135)),\"\",INDEX(Data!T:T,Report!$B135))","v":""},{"$f":"IF(ISERROR(INDEX(Data!U:U,Report!$B135)),\"\",INDEX(Data!U:U,Report!$B135))","v":""},{"$f":"IF(ISERROR(INDEX(Data!V:V,Report!$B135)),\"\",INDEX(Data!V:V,Report!$B135))","v":""},null,"|",""]
[132,{"$f":"IF(ISERROR(MATCH(A136,Data!A:A,0)),\"\",MATCH(A136,Data!A:A,0))","v":""},{"$f":"IF(ISERROR(INDEX(Data!I:I,Report!$B136)),\"\",INDEX(Data!I:I,Report!$B136))","v":""},{"$f":"IF(ISERROR(INDEX(Data!J:J,Report!$B136)),\"\",INDEX(Data!J:J,Report!$B136))","v":""},{"$f":"IF(ISERROR(INDEX(Data!K:K,Report!$B136)),\"\",INDEX(Data!K:K,Report!$B136))","v":""},{"$f":"IF(ISERROR(INDEX(Data!L:L,Report!$B136)),\"\",INDEX(Data!L:L,Report!$B136))","v":""},null,{"$f":"IF(ISERROR(INDEX(Data!N:N,Report!$B136)),\"\",INDEX(Data!N:N,Report!$B136))","v":""},"Boomer serving",{"$f":"IF(ISERROR(INDEX(Data!O:O,Report!$B136)),\"\",INDEX(Data!O:O,Report!$B136))","v":""},{"$f":"IF(ISERROR(INDEX(Data!Q:Q,Report!$B135)),\"\",INDEX(Data!Q:Q,Report!$B135))","v":""},null,{"$f":"IF(ISERROR(INDEX(Data!S:S,Report!$B136)),\"\",INDEX(Data!S:S,Report!$B136))","v":""},{"$f":"IF(ISERROR(INDEX(Data!T:T,Report!$B136)),\"\",INDEX(Data!T:T,Report!$B136))","v":""},{"$f":"IF(ISERROR(INDEX(Data!U:U,Report!$B136)),\"\",INDEX(Data!U:U,Report!$B136))","v":""},{"$f":"IF(ISERROR(INDEX(Data!V:V,Report!$B136)),\"\",INDEX(Data!V:V,Report!$B136))","v":""},null,"|",""]
[133,{"$f":"IF(ISERROR(MATCH(A137,Data!A:A,0)),\"\",MATCH(A137,Data!A:A,0))","v":65},{"$f":"IF(ISERROR(INDEX(Data!I:I,Report!$B137)),\"\",INDEX(Data!I:I,Report!$B137))","v":"00:34:26"},{"$f":"IF(ISERROR(INDEX(Data!J:J,Report!$B137)),\"\",INDEX(Data!J:J,Report!$B137))","v":"Game against Boomer at level 2.0  Single point data:"},{"$f":"IF(ISERROR(INDEX(Data!K:K,Report!$B137)),\"\",INDEX(Data!K:K,Report!$B137))","v":"Player's point"},{"$f":"IF(ISERROR(INDEX(Data!L:L,Report!$B137)),\"\",INDEX(Data!L:L,Report!$B137))","v":"New Point"},{"$f":"IF(ISERROR(INDEX(Data!M:M,Report!$B137)),\"\",INDEX(Data!M:M,Report!$B137))","v":"Boomer serving"},{"$f":"IF(ISERROR(INDEX(Data!N:N,Report!$B137)),\"\",INDEX(Data!N:N,Report!$B137))","v":1},{"$f":"IF(ISERROR(INDEX(Data!P:P,Report!$B137)),\"\",INDEX(Data!P:P,Report!$B137))","v":"Serve"},{"$f":"IF(ISERROR(INDEX(Data!O:O,Report!$B137)),\"\",INDEX(Data!O:O,Report!$B137))","v":0},{"$f":"IF(ISERROR(INDEX(Data!Q:Q,Report!$B137)),\"\",INDEX(Data!Q:Q,Report!$B137))","v":2},{"$f":"IF(ISERROR(INDEX(Data!R:R,Report!$B137)),\"\",INDEX(Data!R:R,Report!$B137))","v":25},{"$f":"IF(ISERROR(INDEX(Data!S:S,Report!$B137)),\"\",INDEX(Data!S:S,Report!$B137))","v":25},{"$f":"IF(ISERROR(INDEX(Data!T:T,Report!$B137)),\"\",INDEX(Data!T:T,Report!$B137))","v":5.3},{"$f":"IF(ISERROR(INDEX(Data!U:U,Report!$B137)),\"\",INDEX(Data!U:U,Report!$B137))","v":45},{"$f":"IF(ISERROR(INDEX(Data!V:V,Report!$B137)),\"\",INDEX(Data!V:V,Report!$B137))","v":4.4000000000000004},null,"                         |","||||||||||||"]
[134,{"$f":"IF(ISERROR(MATCH(A138,Data!A:A,0)),\"\",MATCH(A138,Data!A:A,0))","v":66},{"$f":"IF(ISERROR(INDEX(Data!I:I,Report!$B138)),\"\",INDEX(Data!I:I,Report!$B138))","v":" "},{"$f":"IF(ISERROR(INDEX(Data!J:J,Report!$B138)),\"\",INDEX(Data!J:J,Report!$B138))","v":"User Drill #85  3 line rated mini Tennis"},{"$f":"IF(ISERROR(INDEX(Data!K:K,Report!$B138)),\"\",INDEX(Data!K:K,Report!$B138))","v":0},{"$f":"IF(ISERROR(INDEX(Data!L:L,Report!$B138)),\"\",INDEX(Data!L:L,Report!$B138))","v":0},null,{"$f":"IF(ISERROR(INDEX(Data!N:N,Report!$B138)),\"\",INDEX(Data!N:N,Report!$B138))","v":2},{"$f":"IF(ISERROR(INDEX(Data!P:P,Report!$B138)),\"\",INDEX(Data!P:P,Report!$B138))","v":0},{"$f":"IF(ISERROR(INDEX(Data!O:O,Report!$B138)),\"\",INDEX(Data!O:O,Report!$B138))","v":4},{"$f":"IF(ISERROR(INDEX(Data!Q:Q,Report!$B138)),\"\",INDEX(Data!Q:Q,Report!$B138))","v":3.5},{"$f":"IF(ISERROR(INDEX(Data!R:R,Report!$B138)),\"\",INDEX(Data!R:R,Report!$B138))","v":0},{"$f":"IF(ISERROR(INDEX(Data!S:S,Report!$B138)),\"\",INDEX(Data!S:S,Report!$B138))","v":0},{"$f":"IF(ISERROR(INDEX(Data!T:T,Report!$B138)),\"\",INDEX(Data!T:T,Report!$B138))","v":0},{"$f":"IF(ISERROR(INDEX(Data!U:U,Report!$B138)),\"\",INDEX(Data!U:U,Report!$B138))","v":0},{"$f":"IF(ISERROR(INDEX(Data!V:V,Report!$B138)),\"\",INDEX(Data!V:V,Report!$B138))","v":0},null,"|",""]
[135,{"$f":"IF(ISERROR(MATCH(A139,Data!A:A,0)),\"\",MATCH(A139,Data!A:A,0))","v":67},{"$f":"IF(ISERROR(INDEX(Data!I:I,Report!$B139)),\"\",INDEX(Data!I:I,Report!$B139))","v":"00:34:26"},{"$f":"IF(ISERROR(INDEX(Data!J:J,Report!$B139)),\"\",INDEX(Data!J:J,Report!$B139))","v":"Game against Boomer at level 2.0  Single point data:"},{"$f":"IF(ISERROR(INDEX(Data!K:K,Report!$B139)),\"\",INDEX(Data!K:K,Report!$B139))","v":"Player's point"},{"$f":"IF(ISERROR(INDEX(Data!L:L,Report!$B139)),\"\",INDEX(Data!L:L,Report!$B139))","v":0},null,{"$f":"IF(ISERROR(INDEX(Data!N:N,Report!$B139)),\"\",INDEX(Data!N:N,Report!$B139))","v":2},"Boomer's point",{"$f":"IF(ISERROR(INDEX(Data!O:O,Report!$B139)),\"\",INDEX(Data!O:O,Report!$B139))","v":5},{"$f":"IF(ISERROR(INDEX(Data!Q:Q,Report!$B139)),\"\",INDEX(Data!Q:Q,Report!$B139))","v":2},{"$f":"IF(ISERROR(INDEX(Data!R:R,Report!$B139)),\"\",INDEX(Data!R:R,Report!$B139))","v":29},{"$f":"IF(ISERROR(INDEX(Data!S:S,Report!$B139)),\"\",INDEX(Data!S:S,Report!$B139))","v":21},{"$f":"IF(ISERROR(INDEX(Data!T:T,Report!$B139)),\"\",INDEX(Data!T:T,Report!$B139))","v":5.3},{"$f":"IF(ISERROR(INDEX(Data!U:U,Report!$B139)),\"\",INDEX(Data!U:U,Report!$B139))","v":47},{"$f":"IF(ISERROR(INDEX(Data!V:V,Report!$B139)),\"\",INDEX(Data!V:V,Report!$B139))","v":4.5},null,"                             |","||||||||||"]
[136,{"$f":"IF(ISERROR(MATCH(A140,Data!A:A,0)),\"\",MATCH(A140,Data!A:A,0))","v":68},{"$f":"IF(ISERROR(INDEX(Data!I:I,Report!$B140)),\"\",INDEX(Data!I:I,Report!$B140))","v":"04:36:22"},{"$f":"IF(ISERROR(INDEX(Data!J:J,Report!$B140)),\"\",INDEX(Data!J:J,Report!$B140))","v":"Game against Boomer at level 3.5  Single point data:"},{"$f":"IF(ISERROR(INDEX(Data!K:K,Report!$B140)),\"\",INDEX(Data!K:K,Report!$B140))","v":"Player's point"},{"$f":"IF(ISERROR(INDEX(Data!L:L,Report!$B140)),\"\",INDEX(Data!L:L,Report!$B140))","v":0},null,{"$f":"IF(ISERROR(INDEX(Data!N:N,Report!$B140)),\"\",INDEX(Data!N:N,Report!$B140))","v":2},{"$f":"IF(ISERROR(INDEX(Data!P:P,Report!$B140)),\"\",INDEX(Data!P:P,Report!$B140))","v":"Topspin"},{"$f":"IF(ISERROR(INDEX(Data!O:O,Report!$B140)),\"\",INDEX(Data!O:O,Report!$B140))","v":4},{"$f":"IF(ISERROR(INDEX(Data!Q:Q,Report!$B140)),\"\",INDEX(Data!Q:Q,Report!$B140))","v":3.5},{"$f":"IF(ISERROR(INDEX(Data!R:R,Report!$B140)),\"\",INDEX(Data!R:R,Report!$B140))","v":28},{"$f":"IF(ISERROR(INDEX(Data!S:S,Report!$B140)),\"\",INDEX(Data!S:S,Report!$B140))","v":23},{"$f":"IF(ISERROR(INDEX(Data!T:T,Report!$B140)),\"\",INDEX(Data!T:T,Report!$B140))","v":5.7},{"$f":"IF(ISERROR(INDEX(Data!U:U,Report!$B140)),\"\",INDEX(Data!U:U,Report!$B140))","v":43},{"$f":"IF(ISERROR(INDEX(Data!V:V,Report!$B140)),\"\",INDEX(Data!V:V,Report!$B140))","v":4.5},null,"                            |","|||||||||||"]
[137,{"$f":"IF(ISERROR(MATCH(A141,Data!A:A,0)),\"\",MATCH(A141,Data!A:A,0))","v":69},{"$f":"IF(ISERROR(INDEX(Data!I:I,Report!$B141)),\"\",INDEX(Data!I:I,Report!$B141))","v":"04:36:22"},{"$f":"IF(ISERROR(INDEX(Data!J:J,Report!$B141)),\"\",INDEX(Data!J:J,Report!$B141))","v":"Game against Boomer at level 3.5  Single point data:"},{"$f":"IF(ISERROR(INDEX(Data!K:K,Report!$B141)),\"\",INDEX(Data!K:K,Report!$B141))","v":"Player's point"},{"$f":"IF(ISERROR(INDEX(Data!L:L,Report!$B141)),\"\",INDEX(Data!L:L,Report!$B141))","v":0},null,{"$f":"IF(ISERROR(INDEX(Data!N:N,Report!$B141)),\"\",INDEX(Data!N:N,Report!$B141))","v":3},{"$f":"IF(ISERROR(INDEX(Data!P:P,Report!$B141)),\"\",INDEX(Data!P:P,Report!$B141))","v":"Drop Shot"},{"$f":"IF(ISERROR(INDEX(Data!O:O,Report!$B141)),\"\",INDEX(Data!O:O,Report!$B141))","v":5},{"$f":"IF(ISERROR(INDEX(Data!Q:Q,Report!$B141)),\"\",INDEX(Data!Q:Q,Report!$B141))","v":3.5},{"$f":"IF(ISERROR(INDEX(Data!R:R,Report!$B141)),\"\",INDEX(Data!R:R,Report!$B141))","v":31},{"$f":"IF(ISERROR(INDEX(Data!S:S,Report!$B141)),\"\",INDEX(Data!S:S,Report!$B141))","v":7},{"$f":"IF(ISERROR(INDEX(Data!T:T,Report!$B141)),\"\",INDEX(Data!T:T,Report!$B141))","v":5.3},{"$f":"IF(ISERROR(INDEX(Data!U:U,Report!$B141)),\"\",INDEX(Data!U:U,Report!$B141))","v":41},{"$f":"IF(ISERROR(INDEX(Data!V:V,Report!$B141)),\"\",INDEX(Data!V:V,Report!$B141))","v":4.2},null,"                               |","|||"]
[138,{"$f":"IF(ISERROR(MATCH(A142,Data!A:A,0)),\"\",MATCH(A142,Data!A:A,0))","v":70},{"$f":"IF(ISERROR(INDEX(Data!I:I,Report!$B142)),\"\",INDEX(Data!I:I,Report!$B142))","v":" "},{"$f":"IF(ISERROR(INDEX(Data!J:J,Report!$B142)),\"\",INDEX(Data!J:J,Report!$B142))","v":"User Drill #85  3 line rated mini Tennis"},{"$f":"IF(ISERROR(INDEX(Data!K:K,Report!$B142)),\"\",INDEX(Data!K:K,Report!$B142))","v":0},{"$f":"IF(ISERROR(INDEX(Data!L:L,Report!$B142)),\"\",INDEX(Data!L:L,Report!$B142))","v":0},null,{"$f":"IF(ISERROR(INDEX(Data!N:N,Report!$B142)),\"\",INDEX(Data!N:N,Report!$B142))","v":3},{"$f":"IF(ISERROR(INDEX(Data!P:P,Report!$B142)),\"\",INDEX(Data!P:P,Report!$B142))","v":0},{"$f":"IF(ISERROR(INDEX(Data!O:O,Report!$B142)),\"\",INDEX(Data!O:O,Report!$B142))","v":10},{"$f":"IF(ISERROR(INDEX(Data!Q:Q,Report!$B142)),\"\",INDEX(Data!Q:Q,Report!$B142))","v":3.5},{"$f":"IF(ISERROR(INDEX(Data!R:R,Report!$B142)),\"\",INDEX(Data!R:R,Report!$B142))","v":0},{"$f":"IF(ISERROR(INDEX(Data!S:S,Report!$B142)),\"\",INDEX(Data!S:S,Report!$B142))","v":0},{"$f":"IF(ISERROR(INDEX(Data!T:T,Report!$B142)),\"\",INDEX(Data!T:T,Report!$B142))","v":0},{"$f":"IF(ISERROR(INDEX(Data!U:U,Report!$B142)),\"\",INDEX(Data!U:U,Report!$B142))","v":0},{"$f":"IF(ISERROR(INDEX(Data!V:V,Report!$B142)),\"\",INDEX(Data!V:V,Report!$B142))","v":0},null,"|",""]
[139,{"$f":"IF(ISERROR(MATCH(A143,Data!A:A,0)),\"\",MATCH(A143,Data!A:A,0))","v":71},{"$f":"IF(ISERROR(INDEX(Data!I:I,Report!$B143)),\"\",INDEX(Data!I:I,Report!$B143))","v":"04:36:22"},{"$f":"IF(ISERROR(INDEX(Data!J:J,Report!$B143)),\"\",INDEX(Data!J:J,Report!$B143))","v":"Game against Boomer at level 3.5  Single point data:"},{"$f":"IF(ISERROR(INDEX(Data!K:K,Report!$B143)),\"\",INDEX(Data!K:K,Report!$B143))","v":"Player's point"},{"$f":"IF(ISERROR(INDEX(Data!L:L,Report!$B143)),\"\",INDEX(Data!L:L,Report!$B143))","v":0},null,{"$f":"IF(ISERROR(INDEX(Data!N:N,Report!$B143)),\"\",INDEX(Data!N:N,Report!$B143))","v":4},{"$f":"IF(ISERROR(INDEX(Data!P:P,Report!$B143)),\"\",INDEX(Data!P:P,Report!$B143))","v":"Lob"},{"$f":"IF(ISERROR(INDEX(Data!O:O,Report!$B143)),\"\",INDEX(Data!O:O,Report!$B143))","v":3},{"$f":"IF(ISERROR(INDEX(Data!Q:Q,Report!$B143)),\"\",INDEX(Data!Q:Q,Report!$B143))","v":3.5},{"$f":"IF(ISERROR(INDEX(Data!R:R,Report!$B143)),\"\",INDEX(Data!R:R,Report!$B143))","v":19},{"$f":"IF(ISERROR(INDEX(Data!S:S,Report!$B143)),\"\",INDEX(Data!S:S,Report!$B143))","v":17},{"$f":"IF(ISERROR(INDEX(Data!T:T,Report!$B143)),\"\",INDEX(Data!T:T,Report!$B143))","v":3.2},{"$f":"IF(ISERROR(INDEX(Data!U:U,Report!$B143)),\"\",INDEX(Data!U:U,Report!$B143))","v":106},{"$f":"IF(ISERROR(INDEX(Data!V:V,Report!$B143)),\"\",INDEX(Data!V:V,Report!$B143))","v":7},null,"                   |","||||||||"]
[140,{"$f":"IF(ISERROR(MATCH(A144,Data!A:A,0)),\"\",MATCH(A144,Data!A:A,0))","v":""},{"$f":"IF(ISERROR(INDEX(Data!I:I,Report!$B144)),\"\",INDEX(Data!I:I,Report!$B144))","v":""},{"$f":"IF(ISERROR(INDEX(Data!J:J,Report!$B144)),\"\",INDEX(Data!J:J,Report!$B144))","v":""},{"$f":"IF(ISERROR(INDEX(Data!K:K,Report!$B144)),\"\",INDEX(Data!K:K,Report!$B144))","v":""},{"$f":"IF(ISERROR(INDEX(Data!L:L,Report!$B144)),\"\",INDEX(Data!L:L,Report!$B144))","v":""},null,{"$f":"IF(ISERROR(INDEX(Data!N:N,Report!$B144)),\"\",INDEX(Data!N:N,Report!$B144))","v":""},{"$f":"IF(ISERROR(INDEX(Data!P:P,Report!$B144)),\"\",INDEX(Data!P:P,Report!$B144))","v":""},{"$f":"IF(ISERROR(INDEX(Data!O:O,Report!$B144)),\"\",INDEX(Data!O:O,Report!$B144))","v":""},{"$f":"IF(ISERROR(INDEX(Data!Q:Q,Report!$B144)),\"\",INDEX(Data!Q:Q,Report!$B144))","v":""},{"$f":"IF(ISERROR(INDEX(Data!R:R,Report!$B144)),\"\",INDEX(Data!R:R,Report!$B144))","v":""},{"$f":"IF(ISERROR(INDEX(Data!S:S,Report!$B144)),\"\",INDEX(Data!S:S,Report!$B144))","v":""},{"$f":"IF(ISERROR(INDEX(Data!T:T,Report!$B144)),\"\",INDEX(Data!T:T,Report!$B144))","v":""},{"$f":"IF(ISERROR(INDEX(Data!U:U,Report!$B144)),\"\",INDEX(Data!U:U,Report!$B144))","v":""},{"$f":"IF(ISERROR(INDEX(Data!V:V,Report!$B144)),\"\",INDEX(Data!V:V,Report!$B144))","v":""},null,"",""]
[141,{"$f":"IF(ISERROR(MATCH(A145,Data!A:A,0)),\"\",MATCH(A145,Data!A:A,0))","v":""},{"$f":"IF(ISERROR(INDEX(Data!I:I,Report!$B145)),\"\",INDEX(Data!I:I,Report!$B145))","v":""},{"$f":"IF(ISERROR(INDEX(Data!J:J,Report!$B145)),\"\",INDEX(Data!J:J,Report!$B145))","v":""},{"$f":"IF(ISERROR(INDEX(Data!K:K,Report!$B145)),\"\",INDEX(Data!K:K,Report!$B145))","v":""},{"$f":"IF(ISERROR(INDEX(Data!L:L,Report!$B145)),\"\",INDEX(Data!L:L,Report!$B145))","v":""},null,{"$f":"IF(ISERROR(INDEX(Data!N:N,Report!$B145)),\"\",INDEX(Data!N:N,Report!$B145))","v":""},{"$f":"IF(ISERROR(INDEX(Data!P:P,Report!$B145)),\"\",INDEX(Data!P:P,Report!$B145))","v":""},{"$f":"IF(ISERROR(INDEX(Data!O:O,Report!$B145)),\"\",INDEX(Data!O:O,Report!$B145))","v":""},{"$f":"IF(ISERROR(INDEX(Data!Q:Q,Report!$B145)),\"\",INDEX(Data!Q:Q,Report!$B145))","v":""},{"$f":"IF(ISERROR(INDEX(Data!R:R,Report!$B145)),\"\",INDEX(Data!R:R,Report!$B145))","v":""},{"$f":"IF(ISERROR(INDEX(Data!S:S,Report!$B145)),\"\",INDEX(Data!S:S,Report!$B145))","v":""},{"$f":"IF(ISERROR(INDEX(Data!T:T,Report!$B145)),\"\",INDEX(Data!T:T,Report!$B145))","v":""},{"$f":"IF(ISERROR(INDEX(Data!U:U,Report!$B145)),\"\",INDEX(Data!U:U,Report!$B145))","v":""},{"$f":"IF(ISERROR(INDEX(Data!V:V,Report!$B145)),\"\",INDEX(Data!V:V,Report!$B145))","v":""},null,"",""]
[142,{"$f":"IF(ISERROR(MATCH(A146,Data!A:A,0)),\"\",MATCH(A146,Data!A:A,0))","v":""},{"$f":"IF(ISERROR(INDEX(Data!I:I,Report!$B146)),\"\",INDEX(Data!I:I,Report!$B146))","v":""},{"$f":"IF(ISERROR(INDEX(Data!J:J,Report!$B146)),\"\",INDEX(Data!J:J,Report!$B146))","v":""},{"$f":"IF(ISERROR(INDEX(Data!K:K,Report!$B146)),\"\",INDEX(Data!K:K,Report!$B146))","v":""},{"$f":"IF(ISERROR(INDEX(Data!L:L,Report!$B146)),\"\",INDEX(Data!L:L,Report!$B146))","v":""},null,{"$f":"IF(ISERROR(INDEX(Data!N:N,Report!$B146)),\"\",INDEX(Data!N:N,Report!$B146))","v":""},{"$f":"IF(ISERROR(INDEX(Data!P:P,Report!$B146)),\"\",INDEX(Data!P:P,Report!$B146))","v":""},{"$f":"IF(ISERROR(INDEX(Data!O:O,Report!$B146)),\"\",INDEX(Data!O:O,Report!$B146))","v":""},{"$f":"IF(ISERROR(INDEX(Data!Q:Q,Report!$B146)),\"\",INDEX(Data!Q:Q,Report!$B146))","v":""},{"$f":"IF(ISERROR(INDEX(Data!R:R,Report!$B146)),\"\",INDEX(Data!R:R,Report!$B146))","v":""},{"$f":"IF(ISERROR(INDEX(Data!S:S,Report!$B146)),\"\",INDEX(Data!S:S,Report!$B146))","v":""},{"$f":"IF(ISERROR(INDEX(Data!T:T,Report!$B146)),\"\",INDEX(Data!T:T,Report!$B146))","v":""},{"$f":"IF(ISERROR(INDEX(Data!U:U,Report!$B146)),\"\",INDEX(Data!U:U,Report!$B146))","v":""},{"$f":"IF(ISERROR(INDEX(Data!V:V,Report!$B146)),\"\",INDEX(Data!V:V,Report!$B146))","v":""},null,"",""]
[143,{"$f":"IF(ISERROR(MATCH(A147,Data!A:A,0)),\"\",MATCH(A147,Data!A:A,0))","v":72},{"$f":"IF(ISERROR(INDEX(Data!I:I,Report!$B147)),\"\",INDEX(Data!I:I,Report!$B147))","v":"04:36:41"},{"$f":"IF(ISERROR(INDEX(Data!J:J,Report!$B147)),\"\",INDEX(Data!J:J,Report!$B147))","v":"Game against Boomer at level 3.5  Single point data:"},{"$f":"IF(ISERROR(INDEX(Data!K:K,Report!$B147)),\"\",INDEX(Data!K:K,Report!$B147))","v":"Player's point"},{"$f":"IF(ISERROR(INDEX(Data!L:L,Report!$B147)),\"\",INDEX(Data!L:L,Report!$B147))","v":"New Point"},null,{"$f":"IF(ISERROR(INDEX(Data!N:N,Report!$B147)),\"\",INDEX(Data!N:N,Report!$B147))","v":1},{"$f":"IF(ISERROR(INDEX(Data!P:P,Report!$B147)),\"\",INDEX(Data!P:P,Report!$B147))","v":"Player Serve"},{"$f":"IF(ISERROR(INDEX(Data!O:O,Report!$B147)),\"\",INDEX(Data!O:O,Report!$B147))","v":4},{"$f":"IF(ISERROR(INDEX(Data!Q:Q,Report!$B147)),\"\",INDEX(Data!Q:Q,Report!$B147))","v":3.5},{"$f":"IF(ISERROR(INDEX(Data!R:R,Report!$B147)),\"\",INDEX(Data!R:R,Report!$B147))","v":16},{"$f":"IF(ISERROR(INDEX(Data!S:S,Report!$B147)),\"\",INDEX(Data!S:S,Report!$B147))","v":20},{"$f":"IF(ISERROR(INDEX(Data!T:T,Report!$B147)),\"\",INDEX(Data!T:T,Report!$B147))","v":3.5},{"$f":"IF(ISERROR(INDEX(Data!U:U,Report!$B147)),\"\",INDEX(Data!U:U,Report!$B147))","v":111},{"$f":"IF(ISERROR(INDEX(Data!V:V,Report!$B147)),\"\",INDEX(Data!V:V,Report!$B147))","v":5.2},null,"                |","||||||||||"]
[144,{"$f":"IF(ISERROR(MATCH(A148,Data!A:A,0)),\"\",MATCH(A148,Data!A:A,0))","v":""},{"$f":"IF(ISERROR(INDEX(Data!I:I,Report!$B148)),\"\",INDEX(Data!I:I,Report!$B148))","v":""},{"$f":"IF(ISERROR(INDEX(Data!J:J,Report!$B148)),\"\",INDEX(Data!J:J,Report!$B148))","v":""},{"$f":"IF(ISERROR(INDEX(Data!K:K,Report!$B148)),\"\",INDEX(Data!K:K,Report!$B148))","v":""},{"$f":"IF(ISERROR(INDEX(Data!L:L,Report!$B148)),\"\",INDEX(Data!L:L,Report!$B148))","v":""},null,{"$f":"IF(ISERROR(INDEX(Data!N:N,Report!$B148)),\"\",INDEX(Data!N:N,Report!$B148))","v":""},{"$f":"IF(ISERROR(INDEX(Data!P:P,Report!$B148)),\"\",INDEX(Data!P:P,Report!$B148))","v":""},{"$f":"IF(ISERROR(INDEX(Data!O:O,Report!$B148)),\"\",INDEX(Data!O:O,Report!$B148))","v":""},{"$f":"IF(ISERROR(INDEX(Data!Q:Q,Report!$B148)),\"\",INDEX(Data!Q:Q,Report!$B148))","v":""},{"$f":"IF(ISERROR(INDEX(Data!R:R,Report!$B148)),\"\",INDEX(Data!R:R,Report!$B148))","v":""},{"$f":"IF(ISERROR(INDEX(Data!S:S,Report!$B148)),\"\",INDEX(Data!S:S,Report!$B148))","v":""},{"$f":"IF(ISERROR(INDEX(Data!T:T,Report!$B148)),\"\",INDEX(Data!T:T,Report!$B148))","v":""},{"$f":"IF(ISERROR(INDEX(Data!U:U,Report!$B148)),\"\",INDEX(Data!U:U,Report!$B148))","v":""},{"$f":"IF(ISERROR(INDEX(Data!V:V,Report!$B148)),\"\",INDEX(Data!V:V,Report!$B148))","v":""},null,"",""]
[145,{"$f":"IF(ISERROR(MATCH(A149,Data!A:A,0)),\"\",MATCH(A149,Data!A:A,0))","v":""},{"$f":"IF(ISERROR(INDEX(Data!I:I,Report!$B149)),\"\",INDEX(Data!I:I,Report!$B149))","v":""},{"$f":"IF(ISERROR(INDEX(Data!J:J,Report!$B149)),\"\",INDEX(Data!J:J,Report!$B149))","v":""},{"$f":"IF(ISERROR(INDEX(Data!K:K,Report!$B149)),\"\",INDEX(Data!K:K,Report!$B149))","v":""},{"$f":"IF(ISERROR(INDEX(Data!L:L,Report!$B149)),\"\",INDEX(Data!L:L,Report!$B149))","v":""},null,{"$f":"IF(ISERROR(INDEX(Data!N:N,Report!$B149)),\"\",INDEX(Data!N:N,Report!$B149))","v":""},{"$f":"IF(ISERROR(INDEX(Data!P:P,Report!$B149)),\"\",INDEX(Data!P:P,Report!$B149))","v":""},{"$f":"IF(ISERROR(INDEX(Data!O:O,Report!$B149)),\"\",INDEX(Data!O:O,Report!$B149))","v":""},{"$f":"IF(ISERROR(INDEX(Data!Q:Q,Report!$B149)),\"\",INDEX(Data!Q:Q,Report!$B149))","v":""},{"$f":"IF(ISERROR(INDEX(Data!R:R,Report!$B149)),\"\",INDEX(Data!R:R,Report!$B149))","v":""},{"$f":"IF(ISERROR(INDEX(Data!S:S,Report!$B149)),\"\",INDEX(Data!S:S,Report!$B149))","v":""},{"$f":"IF(ISERROR(INDEX(Data!T:T,Report!$B149)),\"\",INDEX(Data!T:T,Report!$B149))","v":""},{"$f":"IF(ISERROR(INDEX(Data!U:U,Report!$B149)),\"\",INDEX(Data!U:U,Report!$B149))","v":""},{"$f":"IF(ISERROR(INDEX(Data!V:V,Report!$B149)),\"\",INDEX(Data!V:V,Report!$B149))","v":""},null,"",""]
[146,{"$f":"IF(ISERROR(MATCH(A150,Data!A:A,0)),\"\",MATCH(A150,Data!A:A,0))","v":""},{"$f":"IF(ISERROR(INDEX(Data!I:I,Report!$B150)),\"\",INDEX(Data!I:I,Report!$B150))","v":""},{"$f":"IF(ISERROR(INDEX(Data!J:J,Report!$B150)),\"\",INDEX(Data!J:J,Report!$B150))","v":""},{"$f":"IF(ISERROR(INDEX(Data!K:K,Report!$B150)),\"\",INDEX(Data!K:K,Report!$B150))","v":""},{"$f":"IF(ISERROR(INDEX(Data!L:L,Report!$B150)),\"\",INDEX(Data!L:L,Report!$B150))","v":""},null,{"$f":"IF(ISERROR(INDEX(Data!N:N,Report!$B150)),\"\",INDEX(Data!N:N,Report!$B150))","v":""},{"$f":"IF(ISERROR(INDEX(Data!P:P,Report!$B150)),\"\",INDEX(Data!P:P,Report!$B150))","v":""},{"$f":"IF(ISERROR(INDEX(Data!O:O,Report!$B150)),\"\",INDEX(Data!O:O,Report!$B150))","v":""},{"$f":"IF(ISERROR(INDEX(Data!Q:Q,Report!$B150)),\"\",INDEX(Data!Q:Q,Report!$B150))","v":""},{"$f":"IF(ISERROR(INDEX(Data!R:R,Report!$B150)),\"\",INDEX(Data!R:R,Report!$B150))","v":""},{"$f":"IF(ISERROR(INDEX(Data!S:S,Report!$B150)),\"\",INDEX(Data!S:S,Report!$B150))","v":""},{"$f":"IF(ISERROR(INDEX(Data!T:T,Report!$B150)),\"\",INDEX(Data!T:T,Report!$B150))","v":""},{"$f":"IF(ISERROR(INDEX(Data!U:U,Report!$B150)),\"\",INDEX(Data!U:U,Report!$B150))","v":""},{"$f":"IF(ISERROR(INDEX(Data!V:V,Report!$B150)),\"\",INDEX(Data!V:V,Report!$B150))","v":""},null,"",""]
[147,{"$f":"IF(ISERROR(MATCH(A151,Data!A:A,0)),\"\",MATCH(A151,Data!A:A,0))","v":73},{"$f":"IF(ISERROR(INDEX(Data!I:I,Report!$B151)),\"\",INDEX(Data!I:I,Report!$B151))","v":" "},{"$f":"IF(ISERROR(INDEX(Data!J:J,Report!$B151)),\"\",INDEX(Data!J:J,Report!$B151))","v":"User Drill #85  3 line rated mini Tennis"},{"$f":"IF(ISERROR(INDEX(Data!K:K,Report!$B151)),\"\",INDEX(Data!K:K,Report!$B151))","v":0},{"$f":"IF(ISERROR(INDEX(Data!L:L,Report!$B151)),\"\",INDEX(Data!L:L,Report!$B151))","v":"New Point"},null,{"$f":"IF(ISERROR(INDEX(Data!N:N,Report!$B151)),\"\",INDEX(Data!N:N,Report!$B151))","v":1},{"$f":"IF(ISERROR(INDEX(Data!P:P,Report!$B151)),\"\",INDEX(Data!P:P,Report!$B151))","v":0},{"$f":"IF(ISERROR(INDEX(Data!O:O,Report!$B151)),\"\",INDEX(Data!O:O,Report!$B151))","v":11},{"$f":"IF(ISERROR(INDEX(Data!Q:Q,Report!$B151)),\"\",INDEX(Data!Q:Q,Report!$B151))","v":3.5},{"$f":"IF(ISERROR(INDEX(Data!R:R,Report!$B151)),\"\",INDEX(Data!R:R,Report!$B151))","v":0},{"$f":"IF(ISERROR(INDEX(Data!S:S,Report!$B151)),\"\",INDEX(Data!S:S,Report!$B151))","v":0},{"$f":"IF(ISERROR(INDEX(Data!T:T,Report!$B151)),\"\",INDEX(Data!T:T,Report!$B151))","v":0},{"$f":"IF(ISERROR(INDEX(Data!U:U,Report!$B151)),\"\",INDEX(Data!U:U,Report!$B151))","v":0},{"$f":"IF(ISERROR(INDEX(Data!V:V,Report!$B151)),\"\",INDEX(Data!V:V,Report!$B151))","v":0},null,"|",""]
[148,{"$f":"IF(ISERROR(MATCH(A152,Data!A:A,0)),\"\",MATCH(A152,Data!A:A,0))","v":""},{"$f":"IF(ISERROR(INDEX(Data!I:I,Report!$B152)),\"\",INDEX(Data!I:I,Report!$B152))","v":""},{"$f":"IF(ISERROR(INDEX(Data!J:J,Report!$B152)),\"\",INDEX(Data!J:J,Report!$B152))","v":""},{"$f":"IF(ISERROR(INDEX(Data!K:K,Report!$B152)),\"\",INDEX(Data!K:K,Report!$B152))","v":""},{"$f":"IF(ISERROR(INDEX(Data!L:L,Report!$B152)),\"\",INDEX(Data!L:L,Report!$B152))","v":""},null,{"$f":"IF(ISERROR(INDEX(Data!N:N,Report!$B152)),\"\",INDEX(Data!N:N,Report!$B152))","v":""},{"$f":"IF(ISERROR(INDEX(Data!P:P,Report!$B152)),\"\",INDEX(Data!P:P,Report!$B152))","v":""},{"$f":"IF(ISERROR(INDEX(Data!O:O,Report!$B152)),\"\",INDEX(Data!O:O,Report!$B152))","v":""},{"$f":"IF(ISERROR(INDEX(Data!Q:Q,Report!$B152)),\"\",INDEX(Data!Q:Q,Report!$B152))","v":""},{"$f":"IF(ISERROR(INDEX(Data!R:R,Report!$B152)),\"\",INDEX(Data!R:R,Report!$B152))","v":""},{"$f":"IF(ISERROR(INDEX(Data!S:S,Report!$B152)),\"\",INDEX(Data!S:S,Report!$B152))","v":""},{"$f":"IF(ISERROR(INDEX(Data!T:T,Report!$B152)),\"\",INDEX(Data!T:T,Report!$B152))","v":""},{"$f":"IF(ISERROR(INDEX(Data!U:U,Report!$B152)),\"\",INDEX(Data!U:U,Report!$B152))","v":""},{"$f":"IF(ISERROR(INDEX(Data!V:V,Report!$B152)),\"\",INDEX(Data!V:V,Report!$B152))","v":""},null,"",""]
[149,{"$f":"IF(ISERROR(MATCH(A153,Data!A:A,0)),\"\",MATCH(A153,Data!A:A,0))","v":""},{"$f":"IF(ISERROR(INDEX(Data!I:I,Report!$B153)),\"\",INDEX(Data!I:I,Report!$B153))","v":""},{"$f":"IF(ISERROR(INDEX(Data!J:J,Report!$B153)),\"\",INDEX(Data!J:J,Report!$B153))","v":""},{"$f":"IF(ISERROR(INDEX(Data!K:K,Report!$B153)),\"\",INDEX(Data!K:K,Report!$B153))","v":""},{"$f":"IF(ISERROR(INDEX(Data!L:L,Report!$B153)),\"\",INDEX(Data!L:L,Report!$B153))","v":""},null,{"$f":"IF(ISERROR(INDEX(Data!N:N,Report!$B153)),\"\",INDEX(Data!N:N,Report!$B153))","v":""},{"$f":"IF(ISERROR(INDEX(Data!P:P,Report!$B153)),\"\",INDEX(Data!P:P,Report!$B153))","v":""},{"$f":"IF(ISERROR(INDEX(Data!O:O,Report!$B153)),\"\",INDEX(Data!O:O,Report!$B153))","v":""},{"$f":"IF(ISERROR(INDEX(Data!Q:Q,Report!$B153)),\"\",INDEX(Data!Q:Q,Report!$B153))","v":""},{"$f":"IF(ISERROR(INDEX(Data!R:R,Report!$B153)),\"\",INDEX(Data!R:R,Report!$B153))","v":""},{"$f":"IF(ISERROR(INDEX(Data!S:S,Report!$B153)),\"\",INDEX(Data!S:S,Report!$B153))","v":""},{"$f":"IF(ISERROR(INDEX(Data!T:T,Report!$B153)),\"\",INDEX(Data!T:T,Report!$B153))","v":""},{"$f":"IF(ISERROR(INDEX(Data!U:U,Report!$B153)),\"\",INDEX(Data!U:U,Report!$B153))","v":""},{"$f":"IF(ISERROR(INDEX(Data!V:V,Report!$B153)),\"\",INDEX(Data!V:V,Report!$B153))","v":""},null,"",""]
[150,{"$f":"IF(ISERROR(MATCH(A154,Data!A:A,0)),\"\",MATCH(A154,Data!A:A,0))","v":""},{"$f":"IF(ISERROR(INDEX(Data!I:I,Report!$B154)),\"\",INDEX(Data!I:I,Report!$B154))","v":""},{"$f":"IF(ISERROR(INDEX(Data!J:J,Report!$B154)),\"\",INDEX(Data!J:J,Report!$B154))","v":""},{"$f":"IF(ISERROR(INDEX(Data!K:K,Report!$B154)),\"\",INDEX(Data!K:K,Report!$B154))","v":""},{"$f":"IF(ISERROR(INDEX(Data!L:L,Report!$B154)),\"\",INDEX(Data!L:L,Report!$B154))","v":""},null,{"$f":"IF(ISERROR(INDEX(Data!N:N,Report!$B154)),\"\",INDEX(Data!N:N,Report!$B154))","v":""},{"$f":"IF(ISERROR(INDEX(Data!P:P,Report!$B154)),\"\",INDEX(Data!P:P,Report!$B154))","v":""},{"$f":"IF(ISERROR(INDEX(Data!O:O,Report!$B154)),\"\",INDEX(Data!O:O,Report!$B154))","v":""},{"$f":"IF(ISERROR(INDEX(Data!Q:Q,Report!$B154)),\"\",INDEX(Data!Q:Q,Report!$B154))","v":""},{"$f":"IF(ISERROR(INDEX(Data!R:R,Report!$B154)),\"\",INDEX(Data!R:R,Report!$B154))","v":""},{"$f":"IF(ISERROR(INDEX(Data!S:S,Report!$B154)),\"\",INDEX(Data!S:S,Report!$B154))","v":""},{"$f":"IF(ISERROR(INDEX(Data!T:T,Report!$B154)),\"\",INDEX(Data!T:T,Report!$B154))","v":""},{"$f":"IF(ISERROR(INDEX(Data!U:U,Report!$B154)),\"\",INDEX(Data!U:U,Report!$B154))","v":""},{"$f":"IF(ISERROR(INDEX(Data!V:V,Report!$B154)),\"\",INDEX(Data!V:V,Report!$B154))","v":""},null,"",""]
[151,{"$f":"IF(ISERROR(MATCH(A155,Data!A:A,0)),\"\",MATCH(A155,Data!A:A,0))","v":74},{"$f":"IF(ISERROR(INDEX(Data!I:I,Report!$B155)),\"\",INDEX(Data!I:I,Report!$B155))","v":"00:34:50"},{"$f":"IF(ISERROR(INDEX(Data!J:J,Report!$B155)),\"\",INDEX(Data!J:J,Report!$B155))","v":"Game against Boomer at level 2.0  Single point data:"},{"$f":"IF(ISERROR(INDEX(Data!K:K,Report!$B155)),\"\",INDEX(Data!K:K,Report!$B155))","v":"Player's point"},{"$f":"IF(ISERROR(INDEX(Data!L:L,Report!$B155)),\"\",INDEX(Data!L:L,Report!$B155))","v":"New Point"},null,{"$f":"IF(ISERROR(INDEX(Data!N:N,Report!$B155)),\"\",INDEX(Data!N:N,Report!$B155))","v":1},{"$f":"IF(ISERROR(INDEX(Data!P:P,Report!$B155)),\"\",INDEX(Data!P:P,Report!$B155))","v":"Serve"},{"$f":"IF(ISERROR(INDEX(Data!O:O,Report!$B155)),\"\",INDEX(Data!O:O,Report!$B155))","v":8},{"$f":"IF(ISERROR(INDEX(Data!Q:Q,Report!$B155)),\"\",INDEX(Data!Q:Q,Report!$B155))","v":2},{"$f":"IF(ISERROR(INDEX(Data!R:R,Report!$B155)),\"\",INDEX(Data!R:R,Report!$B155))","v":28},{"$f":"IF(ISERROR(INDEX(Data!S:S,Report!$B155)),\"\",INDEX(Data!S:S,Report!$B155))","v":4},{"$f":"IF(ISERROR(INDEX(Data!T:T,Report!$B155)),\"\",INDEX(Data!T:T,Report!$B155))","v":5.3},{"$f":"IF(ISERROR(INDEX(Data!U:U,Report!$B155)),\"\",INDEX(Data!U:U,Report!$B155))","v":49},{"$f":"IF(ISERROR(INDEX(Data!V:V,Report!$B155)),\"\",INDEX(Data!V:V,Report!$B155))","v":4.5999999999999996},null,"                            |","||"]
[152,{"$f":"IF(ISERROR(MATCH(A156,Data!A:A,0)),\"\",MATCH(A156,Data!A:A,0))","v":75},{"$f":"IF(ISERROR(INDEX(Data!I:I,Report!$B156)),\"\",INDEX(Data!I:I,Report!$B156))","v":" "},{"$f":"IF(ISERROR(INDEX(Data!J:J,Report!$B156)),\"\",INDEX(Data!J:J,Report!$B156))","v":"User Drill #85  3 line rated mini Tennis"},{"$f":"IF(ISERROR(INDEX(Data!K:K,Report!$B156)),\"\",INDEX(Data!K:K,Report!$B156))","v":0},{"$f":"IF(ISERROR(INDEX(Data!L:L,Report!$B156)),\"\",INDEX(Data!L:L,Report!$B156))","v":0},null,{"$f":"IF(ISERROR(INDEX(Data!N:N,Report!$B156)),\"\",INDEX(Data!N:N,Report!$B156))","v":2},{"$f":"IF(ISERROR(INDEX(Data!P:P,Report!$B156)),\"\",INDEX(Data!P:P,Report!$B156))","v":0},{"$f":"IF(ISERROR(INDEX(Data!O:O,Report!$B156)),\"\",INDEX(Data!O:O,Report!$B156))","v":4},{"$f":"IF(ISERROR(INDEX(Data!Q:Q,Report!$B156)),\"\",INDEX(Data!Q:Q,Report!$B156))","v":3.5},{"$f":"IF(ISERROR(INDEX(Data!R:R,Report!$B156)),\"\",INDEX(Data!R:R,Report!$B156))","v":25},{"$f":"IF(ISERROR(INDEX(Data!S:S,Report!$B156)),\"\",INDEX(Data!S:S,Report!$B156))","v":19},{"$f":"IF(ISERROR(INDEX(Data!T:T,Report!$B156)),\"\",INDEX(Data!T:T,Report!$B156))","v":4.3},{"$f":"IF(ISERROR(INDEX(Data!U:U,Report!$B156)),\"\",INDEX(Data!U:U,Report!$B156))","v":35},{"$f":"IF(ISERROR(INDEX(Data!V:V,Report!$B156)),\"\",INDEX(Data!V:V,Report!$B156))","v":4.5999999999999996},null,"                         |","|||||||||"]
[153,{"$f":"IF(ISERROR(MATCH(A157,Data!A:A,0)),\"\",MATCH(A157,Data!A:A,0))","v":76},{"$f":"IF(ISERROR(INDEX(Data!I:I,Report!$B157)),\"\",INDEX(Data!I:I,Report!$B157))","v":"00:34:50"},{"$f":"IF(ISERROR(INDEX(Data!J:J,Report!$B157)),\"\",INDEX(Data!J:J,Report!$B157))","v":"Game against Boomer at level 2.0  Single point data:"},{"$f":"IF(ISERROR(INDEX(Data!K:K,Report!$B157)),\"\",INDEX(Data!K:K,Report!$B157))","v":"Player's point"},{"$f":"IF(ISERROR(INDEX(Data!L:L,Report!$B157)),\"\",INDEX(Data!L:L,Report!$B157))","v":0},null,{"$f":"IF(ISERROR(INDEX(Data!N:N,Report!$B157)),\"\",INDEX(Data!N:N,Report!$B157))","v":2},{"$f":"IF(ISERROR(INDEX(Data!P:P,Report!$B157)),\"\",INDEX(Data!P:P,Report!$B157))","v":"Heavy Topspin"},{"$f":"IF(ISERROR(INDEX(Data!O:O,Report!$B157)),\"\",INDEX(Data!O:O,Report!$B157))","v":5},{"$f":"IF(ISERROR(INDEX(Data!Q:Q,Report!$B157)),\"\",INDEX(Data!Q:Q,Report!$B157))","v":2},{"$f":"IF(ISERROR(INDEX(Data!R:R,Report!$B157)),\"\",INDEX(Data!R:R,Report!$B157))","v":20},{"$f":"IF(ISERROR(INDEX(Data!S:S,Report!$B157)),\"\",INDEX(Data!S:S,Report!$B157))","v":5},{"$f":"IF(ISERROR(INDEX(Data!T:T,Report!$B157)),\"\",INDEX(Data!T:T,Report!$B157))","v":4.2},{"$f":"IF(ISERROR(INDEX(Data!U:U,Report!$B157)),\"\",INDEX(Data!U:U,Report!$B157))","v":46},{"$f":"IF(ISERROR(INDEX(Data!V:V,Report!$B157)),\"\",INDEX(Data!V:V,Report!$B157))","v":3.9},null,"                    |","||"]
[154,{"$f":"IF(ISERROR(MATCH(A158,Data!A:A,0)),\"\",MATCH(A158,Data!A:A,0))","v":77},{"$f":"IF(ISERROR(INDEX(Data!I:I,Report!$B158)),\"\",INDEX(Data!I:I,Report!$B158))","v":"00:34:50"},{"$f":"IF(ISERROR(INDEX(Data!J:J,Report!$B158)),\"\",INDEX(Data!J:J,Report!$B158))","v":"Game against Boomer at level 2.0  Single point data:"},{"$f":"IF(ISERROR(INDEX(Data!K:K,Report!$B158)),\"\",INDEX(Data!K:K,Report!$B158))","v":"Player's point"},{"$f":"IF(ISERROR(INDEX(Data!L:L,Report!$B158)),\"\",INDEX(Data!L:L,Report!$B158))","v":0},null,{"$f":"IF(ISERROR(INDEX(Data!N:N,Report!$B158)),\"\",INDEX(Data!N:N,Report!$B158))","v":3},{"$f":"IF(ISERROR(INDEX(Data!P:P,Report!$B158)),\"\",INDEX(Data!P:P,Report!$B158))","v":"Pass"},{"$f":"IF(ISERROR(INDEX(Data!O:O,Report!$B158)),\"\",INDEX(Data!O:O,Report!$B158))","v":3},{"$f":"IF(ISERROR(INDEX(Data!Q:Q,Report!$B158)),\"\",INDEX(Data!Q:Q,Report!$B158))","v":2},{"$f":"IF(ISERROR(INDEX(Data!R:R,Report!$B158)),\"\",INDEX(Data!R:R,Report!$B158))","v":25},{"$f":"IF(ISERROR(INDEX(Data!S:S,Report!$B158)),\"\",INDEX(Data!S:S,Report!$B158))","v":3},{"$f":"IF(ISERROR(INDEX(Data!T:T,Report!$B158)),\"\",INDEX(Data!T:T,Report!$B158))","v":5.3},{"$f":"IF(ISERROR(INDEX(Data!U:U,Report!$B158)),\"\",INDEX(Data!U:U,Report!$B158))","v":50},{"$f":"IF(ISERROR(INDEX(Data!V:V,Report!$B158)),\"\",INDEX(Data!V:V,Report!$B158))","v":4.5999999999999996},null,"                         |","|"]
[155,{"$f":"IF(ISERROR(MATCH(A159,Data!A:A,0)),\"\",MATCH(A159,Data!A:A,0))","v":78},{"$f":"IF(ISERROR(INDEX(Data!I:I,Report!$B159)),\"\",INDEX(Data!I:I,Report!$B159))","v":" "},{"$f":"IF(ISERROR(INDEX(Data!J:J,Report!$B159)),\"\",INDEX(Data!J:J,Report!$B159))","v":"User Drill #85  3 line rated mini Tennis"},{"$f":"IF(ISERROR(INDEX(Data!K:K,Report!$B159)),\"\",INDEX(Data!K:K,Report!$B159))","v":0},{"$f":"IF(ISERROR(INDEX(Data!L:L,Report!$B159)),\"\",INDEX(Data!L:L,Report!$B159))","v":0},null,{"$f":"IF(ISERROR(INDEX(Data!N:N,Report!$B159)),\"\",INDEX(Data!N:N,Report!$B159))","v":3},{"$f":"IF(ISERROR(INDEX(Data!P:P,Report!$B159)),\"\",INDEX(Data!P:P,Report!$B159))","v":0},{"$f":"IF(ISERROR(INDEX(Data!O:O,Report!$B159)),\"\",INDEX(Data!O:O,Report!$B159))","v":10},{"$f":"IF(ISERROR(INDEX(Data!Q:Q,Report!$B159)),\"\",INDEX(Data!Q:Q,Report!$B159))","v":3.5},{"$f":"IF(ISERROR(INDEX(Data!R:R,Report!$B159)),\"\",INDEX(Data!R:R,Report!$B159))","v":0},{"$f":"IF(ISERROR(INDEX(Data!S:S,Report!$B159)),\"\",INDEX(Data!S:S,Report!$B159))","v":0},{"$f":"IF(ISERROR(INDEX(Data!T:T,Report!$B159)),\"\",INDEX(Data!T:T,Report!$B159))","v":0},{"$f":"IF(ISERROR(INDEX(Data!U:U,Report!$B159)),\"\",INDEX(Data!U:U,Report!$B159))","v":0},{"$f":"IF(ISERROR(INDEX(Data!V:V,Report!$B159)),\"\",INDEX(Data!V:V,Report!$B159))","v":0},null,"|",""]
[156,{"$f":"IF(ISERROR(MATCH(A160,Data!A:A,0)),\"\",MATCH(A160,Data!A:A,0))","v":""},{"$f":"IF(ISERROR(INDEX(Data!I:I,Report!$B160)),\"\",INDEX(Data!I:I,Report!$B160))","v":""},{"$f":"IF(ISERROR(INDEX(Data!J:J,Report!$B160)),\"\",INDEX(Data!J:J,Report!$B160))","v":""},{"$f":"IF(ISERROR(INDEX(Data!K:K,Report!$B160)),\"\",INDEX(Data!K:K,Report!$B160))","v":""},{"$f":"IF(ISERROR(INDEX(Data!L:L,Report!$B160)),\"\",INDEX(Data!L:L,Report!$B160))","v":""},null,{"$f":"IF(ISERROR(INDEX(Data!N:N,Report!$B160)),\"\",INDEX(Data!N:N,Report!$B160))","v":""},{"$f":"IF(ISERROR(INDEX(Data!P:P,Report!$B160)),\"\",INDEX(Data!P:P,Report!$B160))","v":""},{"$f":"IF(ISERROR(INDEX(Data!O:O,Report!$B160)),\"\",INDEX(Data!O:O,Report!$B160))","v":""},{"$f":"IF(ISERROR(INDEX(Data!Q:Q,Report!$B160)),\"\",INDEX(Data!Q:Q,Report!$B160))","v":""},{"$f":"IF(ISERROR(INDEX(Data!R:R,Report!$B160)),\"\",INDEX(Data!R:R,Report!$B160))","v":""},{"$f":"IF(ISERROR(INDEX(Data!S:S,Report!$B160)),\"\",INDEX(Data!S:S,Report!$B160))","v":""},{"$f":"IF(ISERROR(INDEX(Data!T:T,Report!$B160)),\"\",INDEX(Data!T:T,Report!$B160))","v":""},{"$f":"IF(ISERROR(INDEX(Data!U:U,Report!$B160)),\"\",INDEX(Data!U:U,Report!$B160))","v":""},{"$f":"IF(ISERROR(INDEX(Data!V:V,Report!$B160)),\"\",INDEX(Data!V:V,Report!$B160))","v":""},null,"",""]
[157,{"$f":"IF(ISERROR(MATCH(A161,Data!A:A,0)),\"\",MATCH(A161,Data!A:A,0))","v":""},{"$f":"IF(ISERROR(INDEX(Data!I:I,Report!$B161)),\"\",INDEX(Data!I:I,Report!$B161))","v":""},{"$f":"IF(ISERROR(INDEX(Data!J:J,Report!$B161)),\"\",INDEX(Data!J:J,Report!$B161))","v":""},{"$f":"IF(ISERROR(INDEX(Data!K:K,Report!$B161)),\"\",INDEX(Data!K:K,Report!$B161))","v":""},{"$f":"IF(ISERROR(INDEX(Data!L:L,Report!$B161)),\"\",INDEX(Data!L:L,Report!$B161))","v":""},null,{"$f":"IF(ISERROR(INDEX(Data!N:N,Report!$B161)),\"\",INDEX(Data!N:N,Report!$B161))","v":""},{"$f":"IF(ISERROR(INDEX(Data!P:P,Report!$B161)),\"\",INDEX(Data!P:P,Report!$B161))","v":""},{"$f":"IF(ISERROR(INDEX(Data!O:O,Report!$B161)),\"\",INDEX(Data!O:O,Report!$B161))","v":""},{"$f":"IF(ISERROR(INDEX(Data!Q:Q,Report!$B161)),\"\",INDEX(Data!Q:Q,Report!$B161))","v":""},{"$f":"IF(ISERROR(INDEX(Data!R:R,Report!$B161)),\"\",INDEX(Data!R:R,Report!$B161))","v":""},{"$f":"IF(ISERROR(INDEX(Data!S:S,Report!$B161)),\"\",INDEX(Data!S:S,Report!$B161))","v":""},{"$f":"IF(ISERROR(INDEX(Data!T:T,Report!$B161)),\"\",INDEX(Data!T:T,Report!$B161))","v":""},{"$f":"IF(ISERROR(INDEX(Data!U:U,Report!$B161)),\"\",INDEX(Data!U:U,Report!$B161))","v":""},{"$f":"IF(ISERROR(INDEX(Data!V:V,Report!$B161)),\"\",INDEX(Data!V:V,Report!$B161))","v":""},null,"",""]
[158,{"$f":"IF(ISERROR(MATCH(A162,Data!A:A,0)),\"\",MATCH(A162,Data!A:A,0))","v":""},{"$f":"IF(ISERROR(INDEX(Data!I:I,Report!$B162)),\"\",INDEX(Data!I:I,Report!$B162))","v":""},{"$f":"IF(ISERROR(INDEX(Data!J:J,Report!$B162)),\"\",INDEX(Data!J:J,Report!$B162))","v":""},{"$f":"IF(ISERROR(INDEX(Data!K:K,Report!$B162)),\"\",INDEX(Data!K:K,Report!$B162))","v":""},{"$f":"IF(ISERROR(INDEX(Data!L:L,Report!$B162)),\"\",INDEX(Data!L:L,Report!$B162))","v":""},null,{"$f":"IF(ISERROR(INDEX(Data!N:N,Report!$B162)),\"\",INDEX(Data!N:N,Report!$B162))","v":""},{"$f":"IF(ISERROR(INDEX(Data!P:P,Report!$B162)),\"\",INDEX(Data!P:P,Report!$B162))","v":""},{"$f":"IF(ISERROR(INDEX(Data!O:O,Report!$B162)),\"\",INDEX(Data!O:O,Report!$B162))","v":""},{"$f":"IF(ISERROR(INDEX(Data!Q:Q,Report!$B162)),\"\",INDEX(Data!Q:Q,Report!$B162))","v":""},{"$f":"IF(ISERROR(INDEX(Data!R:R,Report!$B162)),\"\",INDEX(Data!R:R,Report!$B162))","v":""},{"$f":"IF(ISERROR(INDEX(Data!S:S,Report!$B162)),\"\",INDEX(Data!S:S,Report!$B162))","v":""},{"$f":"IF(ISERROR(INDEX(Data!T:T,Report!$B162)),\"\",INDEX(Data!T:T,Report!$B162))","v":""},{"$f":"IF(ISERROR(INDEX(Data!U:U,Report!$B162)),\"\",INDEX(Data!U:U,Report!$B162))","v":""},{"$f":"IF(ISERROR(INDEX(Data!V:V,Report!$B162)),\"\",INDEX(Data!V:V,Report!$B162))","v":""},null,"",""]
[159,{"$f":"IF(ISERROR(MATCH(A163,Data!A:A,0)),\"\",MATCH(A163,Data!A:A,0))","v":79},{"$f":"IF(ISERROR(INDEX(Data!I:I,Report!$B163)),\"\",INDEX(Data!I:I,Report!$B163))","v":" "},{"$f":"IF(ISERROR(INDEX(Data!J:J,Report!$B163)),\"\",INDEX(Data!J:J,Report!$B163))","v":"User Drill #85  3 line rated mini Tennis"},{"$f":"IF(ISERROR(INDEX(Data!K:K,Report!$B163)),\"\",INDEX(Data!K:K,Report!$B163))","v":0},{"$f":"IF(ISERROR(INDEX(Data!L:L,Report!$B163)),\"\",INDEX(Data!L:L,Report!$B163))","v":"New Point"},null,{"$f":"IF(ISERROR(INDEX(Data!N:N,Report!$B163)),\"\",INDEX(Data!N:N,Report!$B163))","v":1},{"$f":"IF(ISERROR(INDEX(Data!P:P,Report!$B163)),\"\",INDEX(Data!P:P,Report!$B163))","v":0},{"$f":"IF(ISERROR(INDEX(Data!O:O,Report!$B163)),\"\",INDEX(Data!O:O,Report!$B163))","v":11},{"$f":"IF(ISERROR(INDEX(Data!Q:Q,Report!$B163)),\"\",INDEX(Data!Q:Q,Report!$B163))","v":3.5},{"$f":"IF(ISERROR(INDEX(Data!R:R,Report!$B163)),\"\",INDEX(Data!R:R,Report!$B163))","v":0},{"$f":"IF(ISERROR(INDEX(Data!S:S,Report!$B163)),\"\",INDEX(Data!S:S,Report!$B163))","v":0},{"$f":"IF(ISERROR(INDEX(Data!T:T,Report!$B163)),\"\",INDEX(Data!T:T,Report!$B163))","v":0},{"$f":"IF(ISERROR(INDEX(Data!U:U,Report!$B163)),\"\",INDEX(Data!U:U,Report!$B163))","v":0},{"$f":"IF(ISERROR(INDEX(Data!V:V,Report!$B163)),\"\",INDEX(Data!V:V,Report!$B163))","v":0},null,"|",""]
[160,{"$f":"IF(ISERROR(MATCH(A164,Data!A:A,0)),\"\",MATCH(A164,Data!A:A,0))","v":""},{"$f":"IF(ISERROR(INDEX(Data!I:I,Report!$B164)),\"\",INDEX(Data!I:I,Report!$B164))","v":""},{"$f":"IF(ISERROR(INDEX(Data!J:J,Report!$B164)),\"\",INDEX(Data!J:J,Report!$B164))","v":""},{"$f":"IF(ISERROR(INDEX(Data!K:K,Report!$B164)),\"\",INDEX(Data!K:K,Report!$B164))","v":""},{"$f":"IF(ISERROR(INDEX(Data!L:L,Report!$B164)),\"\",INDEX(Data!L:L,Report!$B164))","v":""},null,{"$f":"IF(ISERROR(INDEX(Data!N:N,Report!$B164)),\"\",INDEX(Data!N:N,Report!$B164))","v":""},{"$f":"IF(ISERROR(INDEX(Data!P:P,Report!$B164)),\"\",INDEX(Data!P:P,Report!$B164))","v":""},{"$f":"IF(ISERROR(INDEX(Data!O:O,Report!$B164)),\"\",INDEX(Data!O:O,Report!$B164))","v":""},{"$f":"IF(ISERROR(INDEX(Data!Q:Q,Report!$B164)),\"\",INDEX(Data!Q:Q,Report!$B164))","v":""},{"$f":"IF(ISERROR(INDEX(Data!R:R,Report!$B164)),\"\",INDEX(Data!R:R,Report!$B164))","v":""},{"$f":"IF(ISERROR(INDEX(Data!S:S,Report!$B164)),\"\",INDEX(Data!S:S,Report!$B164))","v":""},{"$f":"IF(ISERROR(INDEX(Data!T:T,Report!$B164)),\"\",INDEX(Data!T:T,Report!$B164))","v":""},{"$f":"IF(ISERROR(INDEX(Data!U:U,Report!$B164)),\"\",INDEX(Data!U:U,Report!$B164))","v":""},{"$f":"IF(ISERROR(INDEX(Data!V:V,Report!$B164)),\"\",INDEX(Data!V:V,Report!$B164))","v":""},null,"",""]
[161,{"$f":"IF(ISERROR(MATCH(A165,Data!A:A,0)),\"\",MATCH(A165,Data!A:A,0))","v":""},{"$f":"IF(ISERROR(INDEX(Data!I:I,Report!$B165)),\"\",INDEX(Data!I:I,Report!$B165))","v":""},{"$f":"IF(ISERROR(INDEX(Data!J:J,Report!$B165)),\"\",INDEX(Data!J:J,Report!$B165))","v":""},{"$f":"IF(ISERROR(INDEX(Data!K:K,Report!$B165)),\"\",INDEX(Data!K:K,Report!$B165))","v":""},{"$f":"IF(ISERROR(INDEX(Data!L:L,Report!$B165)),\"\",INDEX(Data!L:L,Report!$B165))","v":""},null,{"$f":"IF(ISERROR(INDEX(Data!N:N,Report!$B165)),\"\",INDEX(Data!N:N,Report!$B165))","v":""},{"$f":"IF(ISERROR(INDEX(Data!P:P,Report!$B165)),\"\",INDEX(Data!P:P,Report!$B165))","v":""},{"$f":"IF(ISERROR(INDEX(Data!O:O,Report!$B165)),\"\",INDEX(Data!O:O,Report!$B165))","v":""},{"$f":"IF(ISERROR(INDEX(Data!Q:Q,Report!$B165)),\"\",INDEX(Data!Q:Q,Report!$B165))","v":""},{"$f":"IF(ISERROR(INDEX(Data!R:R,Report!$B165)),\"\",INDEX(Data!R:R,Report!$B165))","v":""},{"$f":"IF(ISERROR(INDEX(Data!S:S,Report!$B165)),\"\",INDEX(Data!S:S,Report!$B165))","v":""},{"$f":"IF(ISERROR(INDEX(Data!T:T,Report!$B165)),\"\",INDEX(Data!T:T,Report!$B165))","v":""},{"$f":"IF(ISERROR(INDEX(Data!U:U,Report!$B165)),\"\",INDEX(Data!U:U,Report!$B165))","v":""},{"$f":"IF(ISERROR(INDEX(Data!V:V,Report!$B165)),\"\",INDEX(Data!V:V,Report!$B165))","v":""},null,"",""]
[162,{"$f":"IF(ISERROR(MATCH(A166,Data!A:A,0)),\"\",MATCH(A166,Data!A:A,0))","v":""},{"$f":"IF(ISERROR(INDEX(Data!I:I,Report!$B166)),\"\",INDEX(Data!I:I,Report!$B166))","v":""},{"$f":"IF(ISERROR(INDEX(Data!J:J,Report!$B166)),\"\",INDEX(Data!J:J,Report!$B166))","v":""},{"$f":"IF(ISERROR(INDEX(Data!K:K,Report!$B166)),\"\",INDEX(Data!K:K,Report!$B166))","v":""},{"$f":"IF(ISERROR(INDEX(Data!L:L,Report!$B166)),\"\",INDEX(Data!L:L,Report!$B166))","v":""},null,{"$f":"IF(ISERROR(INDEX(Data!N:N,Report!$B166)),\"\",INDEX(Data!N:N,Report!$B166))","v":""},{"$f":"IF(ISERROR(INDEX(Data!P:P,Report!$B166)),\"\",INDEX(Data!P:P,Report!$B166))","v":""},{"$f":"IF(ISERROR(INDEX(Data!O:O,Report!$B166)),\"\",INDEX(Data!O:O,Report!$B166))","v":""},{"$f":"IF(ISERROR(INDEX(Data!Q:Q,Report!$B166)),\"\",INDEX(Data!Q:Q,Report!$B166))","v":""},{"$f":"IF(ISERROR(INDEX(Data!R:R,Report!$B166)),\"\",INDEX(Data!R:R,Report!$B166))","v":""},{"$f":"IF(ISERROR(INDEX(Data!S:S,Report!$B166)),\"\",INDEX(Data!S:S,Report!$B166))","v":""},{"$f":"IF(ISERROR(INDEX(Data!T:T,Report!$B166)),\"\",INDEX(Data!T:T,Report!$B166))","v":""},{"$f":"IF(ISERROR(INDEX(Data!U:U,Report!$B166)),\"\",INDEX(Data!U:U,Report!$B166))","v":""},{"$f":"IF(ISERROR(INDEX(Data!V:V,Report!$B166)),\"\",INDEX(Data!V:V,Report!$B166))","v":""},null,"",""]
[163,{"$f":"IF(ISERROR(MATCH(A167,Data!A:A,0)),\"\",MATCH(A167,Data!A:A,0))","v":80},{"$f":"IF(ISERROR(INDEX(Data!I:I,Report!$B167)),\"\",INDEX(Data!I:I,Report!$B167))","v":"04:37:06"},{"$f":"IF(ISERROR(INDEX(Data!J:J,Report!$B167)),\"\",INDEX(Data!J:J,Report!$B167))","v":"Game against Boomer at level 3.5  Single point data:"},{"$f":"IF(ISERROR(INDEX(Data!K:K,Report!$B167)),\"\",INDEX(Data!K:K,Report!$B167))","v":"Boomer's point"},{"$f":"IF(ISERROR(INDEX(Data!L:L,Report!$B167)),\"\",INDEX(Data!L:L,Report!$B167))","v":"New Point"},null,{"$f":"IF(ISERROR(INDEX(Data!N:N,Report!$B167)),\"\",INDEX(Data!N:N,Report!$B167))","v":1},{"$f":"IF(ISERROR(INDEX(Data!P:P,Report!$B167)),\"\",INDEX(Data!P:P,Report!$B167))","v":"Serve"},{"$f":"IF(ISERROR(INDEX(Data!O:O,Report!$B167)),\"\",INDEX(Data!O:O,Report!$B167))","v":8},{"$f":"IF(ISERROR(INDEX(Data!Q:Q,Report!$B167)),\"\",INDEX(Data!Q:Q,Report!$B167))","v":3.5},{"$f":"IF(ISERROR(INDEX(Data!R:R,Report!$B167)),\"\",INDEX(Data!R:R,Report!$B167))","v":28},{"$f":"IF(ISERROR(INDEX(Data!S:S,Report!$B167)),\"\",INDEX(Data!S:S,Report!$B167))","v":10},{"$f":"IF(ISERROR(INDEX(Data!T:T,Report!$B167)),\"\",INDEX(Data!T:T,Report!$B167))","v":4.5},{"$f":"IF(ISERROR(INDEX(Data!U:U,Report!$B167)),\"\",INDEX(Data!U:U,Report!$B167))","v":35},{"$f":"IF(ISERROR(INDEX(Data!V:V,Report!$B167)),\"\",INDEX(Data!V:V,Report!$B167))","v":3.6},null,"                            |","|||||"]
[164,{"$f":"IF(ISERROR(MATCH(A168,Data!A:A,0)),\"\",MATCH(A168,Data!A:A,0))","v":""},{"$f":"IF(ISERROR(INDEX(Data!I:I,Report!$B168)),\"\",INDEX(Data!I:I,Report!$B168))","v":""},{"$f":"IF(ISERROR(INDEX(Data!J:J,Report!$B168)),\"\",INDEX(Data!J:J,Report!$B168))","v":""},{"$f":"IF(ISERROR(INDEX(Data!K:K,Report!$B168)),\"\",INDEX(Data!K:K,Report!$B168))","v":""},{"$f":"IF(ISERROR(INDEX(Data!L:L,Report!$B168)),\"\",INDEX(Data!L:L,Report!$B168))","v":""},null,{"$f":"IF(ISERROR(INDEX(Data!N:N,Report!$B168)),\"\",INDEX(Data!N:N,Report!$B168))","v":""},{"$f":"IF(ISERROR(INDEX(Data!P:P,Report!$B168)),\"\",INDEX(Data!P:P,Report!$B168))","v":""},{"$f":"IF(ISERROR(INDEX(Data!O:O,Report!$B168)),\"\",INDEX(Data!O:O,Report!$B168))","v":""},{"$f":"IF(ISERROR(INDEX(Data!Q:Q,Report!$B168)),\"\",INDEX(Data!Q:Q,Report!$B168))","v":""},{"$f":"IF(ISERROR(INDEX(Data!R:R,Report!$B168)),\"\",INDEX(Data!R:R,Report!$B168))","v":""},{"$f":"IF(ISERROR(INDEX(Data!S:S,Report!$B168)),\"\",INDEX(Data!S:S,Report!$B168))","v":""},{"$f":"IF(ISERROR(INDEX(Data!T:T,Report!$B168)),\"\",INDEX(Data!T:T,Report!$B168))","v":""},{"$f":"IF(ISERROR(INDEX(Data!U:U,Report!$B168)),\"\",INDEX(Data!U:U,Report!$B168))","v":""},{"$f":"IF(ISERROR(INDEX(Data!V:V,Report!$B168)),\"\",INDEX(Data!V:V,Report!$B168))","v":""},null,"",""]
[165,{"$f":"IF(ISERROR(MATCH(A169,Data!A:A,0)),\"\",MATCH(A169,Data!A:A,0))","v":""},{"$f":"IF(ISERROR(INDEX(Data!I:I,Report!$B169)),\"\",INDEX(Data!I:I,Report!$B169))","v":""},{"$f":"IF(ISERROR(INDEX(Data!J:J,Report!$B169)),\"\",INDEX(Data!J:J,Report!$B169))","v":""},{"$f":"IF(ISERROR(INDEX(Data!K:K,Report!$B169)),\"\",INDEX(Data!K:K,Report!$B169))","v":""},{"$f":"IF(ISERROR(INDEX(Data!L:L,Report!$B169)),\"\",INDEX(Data!L:L,Report!$B169))","v":""},null,{"$f":"IF(ISERROR(INDEX(Data!N:N,Report!$B169)),\"\",INDEX(Data!N:N,Report!$B169))","v":""},{"$f":"IF(ISERROR(INDEX(Data!P:P,Report!$B169)),\"\",INDEX(Data!P:P,Report!$B169))","v":""},{"$f":"IF(ISERROR(INDEX(Data!O:O,Report!$B169)),\"\",INDEX(Data!O:O,Report!$B169))","v":""},{"$f":"IF(ISERROR(INDEX(Data!Q:Q,Report!$B169)),\"\",INDEX(Data!Q:Q,Report!$B169))","v":""},{"$f":"IF(ISERROR(INDEX(Data!R:R,Report!$B169)),\"\",INDEX(Data!R:R,Report!$B169))","v":""},{"$f":"IF(ISERROR(INDEX(Data!S:S,Report!$B169)),\"\",INDEX(Data!S:S,Report!$B169))","v":""},{"$f":"IF(ISERROR(INDEX(Data!T:T,Report!$B169)),\"\",INDEX(Data!T:T,Report!$B169))","v":""},{"$f":"IF(ISERROR(INDEX(Data!U:U,Report!$B169)),\"\",INDEX(Data!U:U,Report!$B169))","v":""},{"$f":"IF(ISERROR(INDEX(Data!V:V,Report!$B169)),\"\",INDEX(Data!V:V,Report!$B169))","v":""},null,"",""]
[166,{"$f":"IF(ISERROR(MATCH(A170,Data!A:A,0)),\"\",MATCH(A170,Data!A:A,0))","v":""},{"$f":"IF(ISERROR(INDEX(Data!I:I,Report!$B170)),\"\",INDEX(Data!I:I,Report!$B170))","v":""},{"$f":"IF(ISERROR(INDEX(Data!J:J,Report!$B170)),\"\",INDEX(Data!J:J,Report!$B170))","v":""},{"$f":"IF(ISERROR(INDEX(Data!K:K,Report!$B170)),\"\",INDEX(Data!K:K,Report!$B170))","v":""},{"$f":"IF(ISERROR(INDEX(Data!L:L,Report!$B170)),\"\",INDEX(Data!L:L,Report!$B170))","v":""},null,{"$f":"IF(ISERROR(INDEX(Data!N:N,Report!$B170)),\"\",INDEX(Data!N:N,Report!$B170))","v":""},{"$f":"IF(ISERROR(INDEX(Data!P:P,Report!$B170)),\"\",INDEX(Data!P:P,Report!$B170))","v":""},{"$f":"IF(ISERROR(INDEX(Data!O:O,Report!$B170)),\"\",INDEX(Data!O:O,Report!$B170))","v":""},{"$f":"IF(ISERROR(INDEX(Data!Q:Q,Report!$B170)),\"\",INDEX(Data!Q:Q,Report!$B170))","v":""},{"$f":"IF(ISERROR(INDEX(Data!R:R,Report!$B170)),\"\",INDEX(Data!R:R,Report!$B170))","v":""},{"$f":"IF(ISERROR(INDEX(Data!S:S,Report!$B170)),\"\",INDEX(Data!S:S,Report!$B170))","v":""},{"$f":"IF(ISERROR(INDEX(Data!T:T,Report!$B170)),\"\",INDEX(Data!T:T,Report!$B170))","v":""},{"$f":"IF(ISERROR(INDEX(Data!U:U,Report!$B170)),\"\",INDEX(Data!U:U,Report!$B170))","v":""},{"$f":"IF(ISERROR(INDEX(Data!V:V,Report!$B170)),\"\",INDEX(Data!V:V,Report!$B170))","v":""},null,"",""]
[167,{"$f":"IF(ISERROR(MATCH(A171,Data!A:A,0)),\"\",MATCH(A171,Data!A:A,0))","v":81},{"$f":"IF(ISERROR(INDEX(Data!I:I,Report!$B171)),\"\",INDEX(Data!I:I,Report!$B171))","v":"00:35:20"},{"$f":"IF(ISERROR(INDEX(Data!J:J,Report!$B171)),\"\",INDEX(Data!J:J,Report!$B171))","v":"Game against Boomer at level 2.0  Single point data:"},{"$f":"IF(ISERROR(INDEX(Data!K:K,Report!$B171)),\"\",INDEX(Data!K:K,Report!$B171))","v":"Player's point"},{"$f":"IF(ISERROR(INDEX(Data!L:L,Report!$B171)),\"\",INDEX(Data!L:L,Report!$B171))","v":"New Point"},null,{"$f":"IF(ISERROR(INDEX(Data!N:N,Report!$B171)),\"\",INDEX(Data!N:N,Report!$B171))","v":1},{"$f":"IF(ISERROR(INDEX(Data!P:P,Report!$B171)),\"\",INDEX(Data!P:P,Report!$B171))","v":"Serve"},{"$f":"IF(ISERROR(INDEX(Data!O:O,Report!$B171)),\"\",INDEX(Data!O:O,Report!$B171))","v":3},{"$f":"IF(ISERROR(INDEX(Data!Q:Q,Report!$B171)),\"\",INDEX(Data!Q:Q,Report!$B171))","v":2},{"$f":"IF(ISERROR(INDEX(Data!R:R,Report!$B171)),\"\",INDEX(Data!R:R,Report!$B171))","v":31},{"$f":"IF(ISERROR(INDEX(Data!S:S,Report!$B171)),\"\",INDEX(Data!S:S,Report!$B171))","v":4},{"$f":"IF(ISERROR(INDEX(Data!T:T,Report!$B171)),\"\",INDEX(Data!T:T,Report!$B171))","v":5.9},{"$f":"IF(ISERROR(INDEX(Data!U:U,Report!$B171)),\"\",INDEX(Data!U:U,Report!$B171))","v":50},{"$f":"IF(ISERROR(INDEX(Data!V:V,Report!$B171)),\"\",INDEX(Data!V:V,Report!$B171))","v":4.9000000000000004},null,"                               |","||"]
[168,{"$f":"IF(ISERROR(MATCH(A172,Data!A:A,0)),\"\",MATCH(A172,Data!A:A,0))","v":82},{"$f":"IF(ISERROR(INDEX(Data!I:I,Report!$B172)),\"\",INDEX(Data!I:I,Report!$B172))","v":"04:37:06"},{"$f":"IF(ISERROR(INDEX(Data!J:J,Report!$B172)),\"\",INDEX(Data!J:J,Report!$B172))","v":"Game against Boomer at level 3.5  Single point data:"},{"$f":"IF(ISERROR(INDEX(Data!K:K,Report!$B172)),\"\",INDEX(Data!K:K,Report!$B172))","v":"Boomer's point"},{"$f":"IF(ISERROR(INDEX(Data!L:L,Report!$B172)),\"\",INDEX(Data!L:L,Report!$B172))","v":0},null,{"$f":"IF(ISERROR(INDEX(Data!N:N,Report!$B172)),\"\",INDEX(Data!N:N,Report!$B172))","v":2},{"$f":"IF(ISERROR(INDEX(Data!P:P,Report!$B172)),\"\",INDEX(Data!P:P,Report!$B172))","v":"Topspin"},{"$f":"IF(ISERROR(INDEX(Data!O:O,Report!$B172)),\"\",INDEX(Data!O:O,Report!$B172))","v":4},{"$f":"IF(ISERROR(INDEX(Data!Q:Q,Report!$B172)),\"\",INDEX(Data!Q:Q,Report!$B172))","v":3.5},{"$f":"IF(ISERROR(INDEX(Data!R:R,Report!$B172)),\"\",INDEX(Data!R:R,Report!$B172))","v":16},{"$f":"IF(ISERROR(INDEX(Data!S:S,Report!$B172)),\"\",INDEX(Data!S:S,Report!$B172))","v":19},{"$f":"IF(ISERROR(INDEX(Data!T:T,Report!$B172)),\"\",INDEX(Data!T:T,Report!$B172))","v":2.9},{"$f":"IF(ISERROR(INDEX(Data!U:U,Report!$B172)),\"\",INDEX(Data!U:U,Report!$B172))","v":41},{"$f":"IF(ISERROR(INDEX(Data!V:V,Report!$B172)),\"\",INDEX(Data!V:V,Report!$B172))","v":3.8},null,"                |","|||||||||"]
[169,{"$f":"IF(ISERROR(MATCH(A173,Data!A:A,0)),\"\",MATCH(A173,Data!A:A,0))","v":83},{"$f":"IF(ISERROR(INDEX(Data!I:I,Report!$B173)),\"\",INDEX(Data!I:I,Report!$B173))","v":" "},{"$f":"IF(ISERROR(INDEX(Data!J:J,Report!$B173)),\"\",INDEX(Data!J:J,Report!$B173))","v":"User Drill #85  3 line rated mini Tennis"},{"$f":"IF(ISERROR(INDEX(Data!K:K,Report!$B173)),\"\",INDEX(Data!K:K,Report!$B173))","v":0},{"$f":"IF(ISERROR(INDEX(Data!L:L,Report!$B173)),\"\",INDEX(Data!L:L,Report!$B173))","v":0},null,{"$f":"IF(ISERROR(INDEX(Data!N:N,Report!$B173)),\"\",INDEX(Data!N:N,Report!$B173))","v":2},{"$f":"IF(ISERROR(INDEX(Data!P:P,Report!$B173)),\"\",INDEX(Data!P:P,Report!$B173))","v":0},{"$f":"IF(ISERROR(INDEX(Data!O:O,Report!$B173)),\"\",INDEX(Data!O:O,Report!$B173))","v":4},{"$f":"IF(ISERROR(INDEX(Data!Q:Q,Report!$B173)),\"\",INDEX(Data!Q:Q,Report!$B173))","v":3.5},{"$f":"IF(ISERROR(INDEX(Data!R:R,Report!$B173)),\"\",INDEX(Data!R:R,Report!$B173))","v":21},{"$f":"IF(ISERROR(INDEX(Data!S:S,Report!$B173)),\"\",INDEX(Data!S:S,Report!$B173))","v":7},{"$f":"IF(ISERROR(INDEX(Data!T:T,Report!$B173)),\"\",INDEX(Data!T:T,Report!$B173))","v":4},{"$f":"IF(ISERROR(INDEX(Data!U:U,Report!$B173)),\"\",INDEX(Data!U:U,Report!$B173))","v":30},{"$f":"IF(ISERROR(INDEX(Data!V:V,Report!$B173)),\"\",INDEX(Data!V:V,Report!$B173))","v":4.0999999999999996},null,"                     |","|||"]
[170,{"$f":"IF(ISERROR(MATCH(A174,Data!A:A,0)),\"\",MATCH(A174,Data!A:A,0))","v":84},{"$f":"IF(ISERROR(INDEX(Data!I:I,Report!$B174)),\"\",INDEX(Data!I:I,Report!$B174))","v":"00:35:20"},{"$f":"IF(ISERROR(INDEX(Data!J:J,Report!$B174)),\"\",INDEX(Data!J:J,Report!$B174))","v":"Game against Boomer at level 2.0  Single point data:"},{"$f":"IF(ISERROR(INDEX(Data!K:K,Report!$B174)),\"\",INDEX(Data!K:K,Report!$B174))","v":"Player's point"},{"$f":"IF(ISERROR(INDEX(Data!L:L,Report!$B174)),\"\",INDEX(Data!L:L,Report!$B174))","v":0},null,{"$f":"IF(ISERROR(INDEX(Data!N:N,Report!$B174)),\"\",INDEX(Data!N:N,Report!$B174))","v":2},{"$f":"IF(ISERROR(INDEX(Data!P:P,Report!$B174)),\"\",INDEX(Data!P:P,Report!$B174))","v":"Heavy Topspin"},{"$f":"IF(ISERROR(INDEX(Data!O:O,Report!$B174)),\"\",INDEX(Data!O:O,Report!$B174))","v":3},{"$f":"IF(ISERROR(INDEX(Data!Q:Q,Report!$B174)),\"\",INDEX(Data!Q:Q,Report!$B174))","v":2},{"$f":"IF(ISERROR(INDEX(Data!R:R,Report!$B174)),\"\",INDEX(Data!R:R,Report!$B174))","v":35},{"$f":"IF(ISERROR(INDEX(Data!S:S,Report!$B174)),\"\",INDEX(Data!S:S,Report!$B174))","v":2},{"$f":"IF(ISERROR(INDEX(Data!T:T,Report!$B174)),\"\",INDEX(Data!T:T,Report!$B174))","v":6.5},{"$f":"IF(ISERROR(INDEX(Data!U:U,Report!$B174)),\"\",INDEX(Data!U:U,Report!$B174))","v":54},{"$f":"IF(ISERROR(INDEX(Data!V:V,Report!$B174)),\"\",INDEX(Data!V:V,Report!$B174))","v":5.4},null,"                                   |","|"]
[171,{"$f":"IF(ISERROR(MATCH(A175,Data!A:A,0)),\"\",MATCH(A175,Data!A:A,0))","v":85},{"$f":"IF(ISERROR(INDEX(Data!I:I,Report!$B175)),\"\",INDEX(Data!I:I,Report!$B175))","v":" "},{"$f":"IF(ISERROR(INDEX(Data!J:J,Report!$B175)),\"\",INDEX(Data!J:J,Report!$B175))","v":"User Drill #85  3 line rated mini Tennis"},{"$f":"IF(ISERROR(INDEX(Data!K:K,Report!$B175)),\"\",INDEX(Data!K:K,Report!$B175))","v":0},{"$f":"IF(ISERROR(INDEX(Data!L:L,Report!$B175)),\"\",INDEX(Data!L:L,Report!$B175))","v":0},null,{"$f":"IF(ISERROR(INDEX(Data!N:N,Report!$B175)),\"\",INDEX(Data!N:N,Report!$B175))","v":3},{"$f":"IF(ISERROR(INDEX(Data!P:P,Report!$B175)),\"\",INDEX(Data!P:P,Report!$B175))","v":0},{"$f":"IF(ISERROR(INDEX(Data!O:O,Report!$B175)),\"\",INDEX(Data!O:O,Report!$B175))","v":10},{"$f":"IF(ISERROR(INDEX(Data!Q:Q,Report!$B175)),\"\",INDEX(Data!Q:Q,Report!$B175))","v":3.5},{"$f":"IF(ISERROR(INDEX(Data!R:R,Report!$B175)),\"\",INDEX(Data!R:R,Report!$B175))","v":0},{"$f":"IF(ISERROR(INDEX(Data!S:S,Report!$B175)),\"\",INDEX(Data!S:S,Report!$B175))","v":0},{"$f":"IF(ISERROR(INDEX(Data!T:T,Report!$B175)),\"\",INDEX(Data!T:T,Report!$B175))","v":0},{"$f":"IF(ISERROR(INDEX(Data!U:U,Report!$B175)),\"\",INDEX(Data!U:U,Report!$B175))","v":0},{"$f":"IF(ISERROR(INDEX(Data!V:V,Report!$B175)),\"\",INDEX(Data!V:V,Report!$B175))","v":0},null,"|",""]
[172,{"$f":"IF(ISERROR(MATCH(A176,Data!A:A,0)),\"\",MATCH(A176,Data!A:A,0))","v":86},{"$f":"IF(ISERROR(INDEX(Data!I:I,Report!$B176)),\"\",INDEX(Data!I:I,Report!$B176))","v":"04:37:06"},{"$f":"IF(ISERROR(INDEX(Data!J:J,Report!$B176)),\"\",INDEX(Data!J:J,Report!$B176))","v":"Game against Boomer at level 3.5  Single point data:"},{"$f":"IF(ISERROR(INDEX(Data!K:K,Report!$B176)),\"\",INDEX(Data!K:K,Report!$B176))","v":"Boomer's point"},{"$f":"IF(ISERROR(INDEX(Data!L:L,Report!$B176)),\"\",INDEX(Data!L:L,Report!$B176))","v":0},null,{"$f":"IF(ISERROR(INDEX(Data!N:N,Report!$B176)),\"\",INDEX(Data!N:N,Report!$B176))","v":3},{"$f":"IF(ISERROR(INDEX(Data!P:P,Report!$B176)),\"\",INDEX(Data!P:P,Report!$B176))","v":"Topspin"},{"$f":"IF(ISERROR(INDEX(Data!O:O,Report!$B176)),\"\",INDEX(Data!O:O,Report!$B176))","v":5},{"$f":"IF(ISERROR(INDEX(Data!Q:Q,Report!$B176)),\"\",INDEX(Data!Q:Q,Report!$B176))","v":3.5},{"$f":"IF(ISERROR(INDEX(Data!R:R,Report!$B176)),\"\",INDEX(Data!R:R,Report!$B176))","v":14},{"$f":"IF(ISERROR(INDEX(Data!S:S,Report!$B176)),\"\",INDEX(Data!S:S,Report!$B176))","v":9},{"$f":"IF(ISERROR(INDEX(Data!T:T,Report!$B176)),\"\",INDEX(Data!T:T,Report!$B176))","v":2.6},{"$f":"IF(ISERROR(INDEX(Data!U:U,Report!$B176)),\"\",INDEX(Data!U:U,Report!$B176))","v":44},{"$f":"IF(ISERROR(INDEX(Data!V:V,Report!$B176)),\"\",INDEX(Data!V:V,Report!$B176))","v":3.8},null,"              |","||||"]
[173,{"$f":"IF(ISERROR(MATCH(A177,Data!A:A,0)),\"\",MATCH(A177,Data!A:A,0))","v":87},{"$f":"IF(ISERROR(INDEX(Data!I:I,Report!$B177)),\"\",INDEX(Data!I:I,Report!$B177))","v":"04:37:06"},{"$f":"IF(ISERROR(INDEX(Data!J:J,Report!$B177)),\"\",INDEX(Data!J:J,Report!$B177))","v":"Game against Boomer at level 3.5  Single point data:"},{"$f":"IF(ISERROR(INDEX(Data!K:K,Report!$B177)),\"\",INDEX(Data!K:K,Report!$B177))","v":"Boomer's point"},{"$f":"IF(ISERROR(INDEX(Data!L:L,Report!$B177)),\"\",INDEX(Data!L:L,Report!$B177))","v":0},null,{"$f":"IF(ISERROR(INDEX(Data!N:N,Report!$B177)),\"\",INDEX(Data!N:N,Report!$B177))","v":4},{"$f":"IF(ISERROR(INDEX(Data!P:P,Report!$B177)),\"\",INDEX(Data!P:P,Report!$B177))","v":"Lob"},{"$f":"IF(ISERROR(INDEX(Data!O:O,Report!$B177)),\"\",INDEX(Data!O:O,Report!$B177))","v":4},{"$f":"IF(ISERROR(INDEX(Data!Q:Q,Report!$B177)),\"\",INDEX(Data!Q:Q,Report!$B177))","v":3.5},{"$f":"IF(ISERROR(INDEX(Data!R:R,Report!$B177)),\"\",INDEX(Data!R:R,Report!$B177))","v":0},{"$f":"IF(ISERROR(INDEX(Data!S:S,Report!$B177)),\"\",INDEX(Data!S:S,Report!$B177))","v":0},{"$f":"IF(ISERROR(INDEX(Data!T:T,Report!$B177)),\"\",INDEX(Data!T:T,Report!$B177))","v":0},{"$f":"IF(ISERROR(INDEX(Data!U:U,Report!$B177)),\"\",INDEX(Data!U:U,Report!$B177))","v":0},{"$f":"IF(ISERROR(INDEX(Data!V:V,Report!$B177)),\"\",INDEX(Data!V:V,Report!$B177))","v":0},null,"|",""]
[174,{"$f":"IF(ISERROR(MATCH(A178,Data!A:A,0)),\"\",MATCH(A178,Data!A:A,0))","v":""},{"$f":"IF(ISERROR(INDEX(Data!I:I,Report!$B178)),\"\",INDEX(Data!I:I,Report!$B178))","v":""},{"$f":"IF(ISERROR(INDEX(Data!J:J,Report!$B178)),\"\",INDEX(Data!J:J,Report!$B178))","v":""},{"$f":"IF(ISERROR(INDEX(Data!K:K,Report!$B178)),\"\",INDEX(Data!K:K,Report!$B178))","v":""},{"$f":"IF(ISERROR(INDEX(Data!L:L,Report!$B178)),\"\",INDEX(Data!L:L,Report!$B178))","v":""},null,{"$f":"IF(ISERROR(INDEX(Data!N:N,Report!$B178)),\"\",INDEX(Data!N:N,Report!$B178))","v":""},{"$f":"IF(ISERROR(INDEX(Data!P:P,Report!$B178)),\"\",INDEX(Data!P:P,Report!$B178))","v":""},{"$f":"IF(ISERROR(INDEX(Data!O:O,Report!$B178)),\"\",INDEX(Data!O:O,Report!$B178))","v":""},{"$f":"IF(ISERROR(INDEX(Data!Q:Q,Report!$B178)),\"\",INDEX(Data!Q:Q,Report!$B178))","v":""},{"$f":"IF(ISERROR(INDEX(Data!R:R,Report!$B178)),\"\",INDEX(Data!R:R,Report!$B178))","v":""},{"$f":"IF(ISERROR(INDEX(Data!S:S,Report!$B178)),\"\",INDEX(Data!S:S,Report!$B178))","v":""},{"$f":"IF(ISERROR(INDEX(Data!T:T,Report!$B178)),\"\",INDEX(Data!T:T,Report!$B178))","v":""},{"$f":"IF(ISERROR(INDEX(Data!U:U,Report!$B178)),\"\",INDEX(Data!U:U,Report!$B178))","v":""},{"$f":"IF(ISERROR(INDEX(Data!V:V,Report!$B178)),\"\",INDEX(Data!V:V,Report!$B178))","v":""},null,"",""]
[175,{"$f":"IF(ISERROR(MATCH(A179,Data!A:A,0)),\"\",MATCH(A179,Data!A:A,0))","v":""},{"$f":"IF(ISERROR(INDEX(Data!I:I,Report!$B179)),\"\",INDEX(Data!I:I,Report!$B179))","v":""},{"$f":"IF(ISERROR(INDEX(Data!J:J,Report!$B179)),\"\",INDEX(Data!J:J,Report!$B179))","v":""},{"$f":"IF(ISERROR(INDEX(Data!K:K,Report!$B179)),\"\",INDEX(Data!K:K,Report!$B179))","v":""},{"$f":"IF(ISERROR(INDEX(Data!L:L,Report!$B179)),\"\",INDEX(Data!L:L,Report!$B179))","v":""},null,{"$f":"IF(ISERROR(INDEX(Data!N:N,Report!$B179)),\"\",INDEX(Data!N:N,Report!$B179))","v":""},{"$f":"IF(ISERROR(INDEX(Data!P:P,Report!$B179)),\"\",INDEX(Data!P:P,Report!$B179))","v":""},{"$f":"IF(ISERROR(INDEX(Data!O:O,Report!$B179)),\"\",INDEX(Data!O:O,Report!$B179))","v":""},{"$f":"IF(ISERROR(INDEX(Data!Q:Q,Report!$B179)),\"\",INDEX(Data!Q:Q,Report!$B179))","v":""},{"$f":"IF(ISERROR(INDEX(Data!R:R,Report!$B179)),\"\",INDEX(Data!R:R,Report!$B179))","v":""},{"$f":"IF(ISERROR(INDEX(Data!S:S,Report!$B179)),\"\",INDEX(Data!S:S,Report!$B179))","v":""},{"$f":"IF(ISERROR(INDEX(Data!T:T,Report!$B179)),\"\",INDEX(Data!T:T,Report!$B179))","v":""},{"$f":"IF(ISERROR(INDEX(Data!U:U,Report!$B179)),\"\",INDEX(Data!U:U,Report!$B179))","v":""},{"$f":"IF(ISERROR(INDEX(Data!V:V,Report!$B179)),\"\",INDEX(Data!V:V,Report!$B179))","v":""},null,"",""]
[176,{"$f":"IF(ISERROR(MATCH(A180,Data!A:A,0)),\"\",MATCH(A180,Data!A:A,0))","v":""},{"$f":"IF(ISERROR(INDEX(Data!I:I,Report!$B180)),\"\",INDEX(Data!I:I,Report!$B180))","v":""},{"$f":"IF(ISERROR(INDEX(Data!J:J,Report!$B180)),\"\",INDEX(Data!J:J,Report!$B180))","v":""},{"$f":"IF(ISERROR(INDEX(Data!K:K,Report!$B180)),\"\",INDEX(Data!K:K,Report!$B180))","v":""},{"$f":"IF(ISERROR(INDEX(Data!L:L,Report!$B180)),\"\",INDEX(Data!L:L,Report!$B180))","v":""},null,{"$f":"IF(ISERROR(INDEX(Data!N:N,Report!$B180)),\"\",INDEX(Data!N:N,Report!$B180))","v":""},{"$f":"IF(ISERROR(INDEX(Data!P:P,Report!$B180)),\"\",INDEX(Data!P:P,Report!$B180))","v":""},{"$f":"IF(ISERROR(INDEX(Data!O:O,Report!$B180)),\"\",INDEX(Data!O:O,Report!$B180))","v":""},{"$f":"IF(ISERROR(INDEX(Data!Q:Q,Report!$B180)),\"\",INDEX(Data!Q:Q,Report!$B180))","v":""},{"$f":"IF(ISERROR(INDEX(Data!R:R,Report!$B180)),\"\",INDEX(Data!R:R,Report!$B180))","v":""},{"$f":"IF(ISERROR(INDEX(Data!S:S,Report!$B180)),\"\",INDEX(Data!S:S,Report!$B180))","v":""},{"$f":"IF(ISERROR(INDEX(Data!T:T,Report!$B180)),\"\",INDEX(Data!T:T,Report!$B180))","v":""},{"$f":"IF(ISERROR(INDEX(Data!U:U,Report!$B180)),\"\",INDEX(Data!U:U,Report!$B180))","v":""},{"$f":"IF(ISERROR(INDEX(Data!V:V,Report!$B180)),\"\",INDEX(Data!V:V,Report!$B180))","v":""},null,"",""]
[177,{"$f":"IF(ISERROR(MATCH(A181,Data!A:A,0)),\"\",MATCH(A181,Data!A:A,0))","v":88},{"$f":"IF(ISERROR(INDEX(Data!I:I,Report!$B181)),\"\",INDEX(Data!I:I,Report!$B181))","v":"04:37:32"},{"$f":"IF(ISERROR(INDEX(Data!J:J,Report!$B181)),\"\",INDEX(Data!J:J,Report!$B181))","v":"Game against Boomer at level 3.5  Single point data:"},{"$f":"IF(ISERROR(INDEX(Data!K:K,Report!$B181)),\"\",INDEX(Data!K:K,Report!$B181))","v":"Player's point"},{"$f":"IF(ISERROR(INDEX(Data!L:L,Report!$B181)),\"\",INDEX(Data!L:L,Report!$B181))","v":"New Point"},null,{"$f":"IF(ISERROR(INDEX(Data!N:N,Report!$B181)),\"\",INDEX(Data!N:N,Report!$B181))","v":1},{"$f":"IF(ISERROR(INDEX(Data!P:P,Report!$B181)),\"\",INDEX(Data!P:P,Report!$B181))","v":"Serve"},{"$f":"IF(ISERROR(INDEX(Data!O:O,Report!$B181)),\"\",INDEX(Data!O:O,Report!$B181))","v":3},{"$f":"IF(ISERROR(INDEX(Data!Q:Q,Report!$B181)),\"\",INDEX(Data!Q:Q,Report!$B181))","v":3.5},{"$f":"IF(ISERROR(INDEX(Data!R:R,Report!$B181)),\"\",INDEX(Data!R:R,Report!$B181))","v":27},{"$f":"IF(ISERROR(INDEX(Data!S:S,Report!$B181)),\"\",INDEX(Data!S:S,Report!$B181))","v":9},{"$f":"IF(ISERROR(INDEX(Data!T:T,Report!$B181)),\"\",INDEX(Data!T:T,Report!$B181))","v":4.7},{"$f":"IF(ISERROR(INDEX(Data!U:U,Report!$B181)),\"\",INDEX(Data!U:U,Report!$B181))","v":35},{"$f":"IF(ISERROR(INDEX(Data!V:V,Report!$B181)),\"\",INDEX(Data!V:V,Report!$B181))","v":3.7},null,"                           |","||||"]
[178,{"$f":"IF(ISERROR(MATCH(A182,Data!A:A,0)),\"\",MATCH(A182,Data!A:A,0))","v":""},{"$f":"IF(ISERROR(INDEX(Data!I:I,Report!$B182)),\"\",INDEX(Data!I:I,Report!$B182))","v":""},{"$f":"IF(ISERROR(INDEX(Data!J:J,Report!$B182)),\"\",INDEX(Data!J:J,Report!$B182))","v":""},{"$f":"IF(ISERROR(INDEX(Data!K:K,Report!$B182)),\"\",INDEX(Data!K:K,Report!$B182))","v":""},{"$f":"IF(ISERROR(INDEX(Data!L:L,Report!$B182)),\"\",INDEX(Data!L:L,Report!$B182))","v":""},null,{"$f":"IF(ISERROR(INDEX(Data!N:N,Report!$B182)),\"\",INDEX(Data!N:N,Report!$B182))","v":""},{"$f":"IF(ISERROR(INDEX(Data!P:P,Report!$B182)),\"\",INDEX(Data!P:P,Report!$B182))","v":""},{"$f":"IF(ISERROR(INDEX(Data!O:O,Report!$B182)),\"\",INDEX(Data!O:O,Report!$B182))","v":""},{"$f":"IF(ISERROR(INDEX(Data!Q:Q,Report!$B182)),\"\",INDEX(Data!Q:Q,Report!$B182))","v":""},{"$f":"IF(ISERROR(INDEX(Data!R:R,Report!$B182)),\"\",INDEX(Data!R:R,Report!$B182))","v":""},{"$f":"IF(ISERROR(INDEX(Data!S:S,Report!$B182)),\"\",INDEX(Data!S:S,Report!$B182))","v":""},{"$f":"IF(ISERROR(INDEX(Data!T:T,Report!$B182)),\"\",INDEX(Data!T:T,Report!$B182))","v":""},{"$f":"IF(ISERROR(INDEX(Data!U:U,Report!$B182)),\"\",INDEX(Data!U:U,Report!$B182))","v":""},{"$f":"IF(ISERROR(INDEX(Data!V:V,Report!$B182)),\"\",INDEX(Data!V:V,Report!$B182))","v":""},null,"",""]
[179,{"$f":"IF(ISERROR(MATCH(A183,Data!A:A,0)),\"\",MATCH(A183,Data!A:A,0))","v":""},{"$f":"IF(ISERROR(INDEX(Data!I:I,Report!$B183)),\"\",INDEX(Data!I:I,Report!$B183))","v":""},{"$f":"IF(ISERROR(INDEX(Data!J:J,Report!$B183)),\"\",INDEX(Data!J:J,Report!$B183))","v":""},{"$f":"IF(ISERROR(INDEX(Data!K:K,Report!$B183)),\"\",INDEX(Data!K:K,Report!$B183))","v":""},{"$f":"IF(ISERROR(INDEX(Data!L:L,Report!$B183)),\"\",INDEX(Data!L:L,Report!$B183))","v":""},null,{"$f":"IF(ISERROR(INDEX(Data!N:N,Report!$B183)),\"\",INDEX(Data!N:N,Report!$B183))","v":""},{"$f":"IF(ISERROR(INDEX(Data!P:P,Report!$B183)),\"\",INDEX(Data!P:P,Report!$B183))","v":""},{"$f":"IF(ISERROR(INDEX(Data!O:O,Report!$B183)),\"\",INDEX(Data!O:O,Report!$B183))","v":""},{"$f":"IF(ISERROR(INDEX(Data!Q:Q,Report!$B183)),\"\",INDEX(Data!Q:Q,Report!$B183))","v":""},{"$f":"IF(ISERROR(INDEX(Data!R:R,Report!$B183)),\"\",INDEX(Data!R:R,Report!$B183))","v":""},{"$f":"IF(ISERROR(INDEX(Data!S:S,Report!$B183)),\"\",INDEX(Data!S:S,Report!$B183))","v":""},{"$f":"IF(ISERROR(INDEX(Data!T:T,Report!$B183)),\"\",INDEX(Data!T:T,Report!$B183))","v":""},{"$f":"IF(ISERROR(INDEX(Data!U:U,Report!$B183)),\"\",INDEX(Data!U:U,Report!$B183))","v":""},{"$f":"IF(ISERROR(INDEX(Data!V:V,Report!$B183)),\"\",INDEX(Data!V:V,Report!$B183))","v":""},null,"",""]
[180,{"$f":"IF(ISERROR(MATCH(A184,Data!A:A,0)),\"\",MATCH(A184,Data!A:A,0))","v":""},{"$f":"IF(ISERROR(INDEX(Data!I:I,Report!$B184)),\"\",INDEX(Data!I:I,Report!$B184))","v":""},{"$f":"IF(ISERROR(INDEX(Data!J:J,Report!$B184)),\"\",INDEX(Data!J:J,Report!$B184))","v":""},{"$f":"IF(ISERROR(INDEX(Data!K:K,Report!$B184)),\"\",INDEX(Data!K:K,Report!$B184))","v":""},{"$f":"IF(ISERROR(INDEX(Data!L:L,Report!$B184)),\"\",INDEX(Data!L:L,Report!$B184))","v":""},null,{"$f":"IF(ISERROR(INDEX(Data!N:N,Report!$B184)),\"\",INDEX(Data!N:N,Report!$B184))","v":""},{"$f":"IF(ISERROR(INDEX(Data!P:P,Report!$B184)),\"\",INDEX(Data!P:P,Report!$B184))","v":""},{"$f":"IF(ISERROR(INDEX(Data!O:O,Report!$B184)),\"\",INDEX(Data!O:O,Report!$B184))","v":""},{"$f":"IF(ISERROR(INDEX(Data!Q:Q,Report!$B184)),\"\",INDEX(Data!Q:Q,Report!$B184))","v":""},{"$f":"IF(ISERROR(INDEX(Data!R:R,Report!$B184)),\"\",INDEX(Data!R:R,Report!$B184))","v":""},{"$f":"IF(ISERROR(INDEX(Data!S:S,Report!$B184)),\"\",INDEX(Data!S:S,Report!$B184))","v":""},{"$f":"IF(ISERROR(INDEX(Data!T:T,Report!$B184)),\"\",INDEX(Data!T:T,Report!$B184))","v":""},{"$f":"IF(ISERROR(INDEX(Data!U:U,Report!$B184)),\"\",INDEX(Data!U:U,Report!$B184))","v":""},{"$f":"IF(ISERROR(INDEX(Data!V:V,Report!$B184)),\"\",INDEX(Data!V:V,Report!$B184))","v":""},null,"",""]
[181,{"$f":"IF(ISERROR(MATCH(A185,Data!A:A,0)),\"\",MATCH(A185,Data!A:A,0))","v":89},{"$f":"IF(ISERROR(INDEX(Data!I:I,Report!$B185)),\"\",INDEX(Data!I:I,Report!$B185))","v":"00:35:41"},{"$f":"IF(ISERROR(INDEX(Data!J:J,Report!$B185)),\"\",INDEX(Data!J:J,Report!$B185))","v":"Game against Boomer at level 2.0  Single point data:"},{"$f":"IF(ISERROR(INDEX(Data!K:K,Report!$B185)),\"\",INDEX(Data!K:K,Report!$B185))","v":"Player's point"},{"$f":"IF(ISERROR(INDEX(Data!L:L,Report!$B185)),\"\",INDEX(Data!L:L,Report!$B185))","v":"New Point"},null,{"$f":"IF(ISERROR(INDEX(Data!N:N,Report!$B185)),\"\",INDEX(Data!N:N,Report!$B185))","v":1},{"$f":"IF(ISERROR(INDEX(Data!P:P,Report!$B185)),\"\",INDEX(Data!P:P,Report!$B185))","v":"Player Serve"},{"$f":"IF(ISERROR(INDEX(Data!O:O,Report!$B185)),\"\",INDEX(Data!O:O,Report!$B185))","v":4},{"$f":"IF(ISERROR(INDEX(Data!Q:Q,Report!$B185)),\"\",INDEX(Data!Q:Q,Report!$B185))","v":2},{"$f":"IF(ISERROR(INDEX(Data!R:R,Report!$B185)),\"\",INDEX(Data!R:R,Report!$B185))","v":19},{"$f":"IF(ISERROR(INDEX(Data!S:S,Report!$B185)),\"\",INDEX(Data!S:S,Report!$B185))","v":17},{"$f":"IF(ISERROR(INDEX(Data!T:T,Report!$B185)),\"\",INDEX(Data!T:T,Report!$B185))","v":5.4},{"$f":"IF(ISERROR(INDEX(Data!U:U,Report!$B185)),\"\",INDEX(Data!U:U,Report!$B185))","v":108},{"$f":"IF(ISERROR(INDEX(Data!V:V,Report!$B185)),\"\",INDEX(Data!V:V,Report!$B185))","v":6.1},null,"                   |","||||||||"]
[182,{"$f":"IF(ISERROR(MATCH(A186,Data!A:A,0)),\"\",MATCH(A186,Data!A:A,0))","v":""},{"$f":"IF(ISERROR(INDEX(Data!I:I,Report!$B186)),\"\",INDEX(Data!I:I,Report!$B186))","v":""},{"$f":"IF(ISERROR(INDEX(Data!J:J,Report!$B186)),\"\",INDEX(Data!J:J,Report!$B186))","v":""},{"$f":"IF(ISERROR(INDEX(Data!K:K,Report!$B186)),\"\",INDEX(Data!K:K,Report!$B186))","v":""},{"$f":"IF(ISERROR(INDEX(Data!L:L,Report!$B186)),\"\",INDEX(Data!L:L,Report!$B186))","v":""},null,{"$f":"IF(ISERROR(INDEX(Data!N:N,Report!$B186)),\"\",INDEX(Data!N:N,Report!$B186))","v":""},{"$f":"IF(ISERROR(INDEX(Data!P:P,Report!$B186)),\"\",INDEX(Data!P:P,Report!$B186))","v":""},{"$f":"IF(ISERROR(INDEX(Data!O:O,Report!$B186)),\"\",INDEX(Data!O:O,Report!$B186))","v":""},{"$f":"IF(ISERROR(INDEX(Data!Q:Q,Report!$B186)),\"\",INDEX(Data!Q:Q,Report!$B186))","v":""},{"$f":"IF(ISERROR(INDEX(Data!R:R,Report!$B186)),\"\",INDEX(Data!R:R,Report!$B186))","v":""},{"$f":"IF(ISERROR(INDEX(Data!S:S,Report!$B186)),\"\",INDEX(Data!S:S,Report!$B186))","v":""},{"$f":"IF(ISERROR(INDEX(Data!T:T,Report!$B186)),\"\",INDEX(Data!T:T,Report!$B186))","v":""},{"$f":"IF(ISERROR(INDEX(Data!U:U,Report!$B186)),\"\",INDEX(Data!U:U,Report!$B186))","v":""},{"$f":"IF(ISERROR(INDEX(Data!V:V,Report!$B186)),\"\",INDEX(Data!V:V,Report!$B186))","v":""},null,"",""]
[183,{"$f":"IF(ISERROR(MATCH(A187,Data!A:A,0)),\"\",MATCH(A187,Data!A:A,0))","v":""},{"$f":"IF(ISERROR(INDEX(Data!I:I,Report!$B187)),\"\",INDEX(Data!I:I,Report!$B187))","v":""},{"$f":"IF(ISERROR(INDEX(Data!J:J,Report!$B187)),\"\",INDEX(Data!J:J,Report!$B187))","v":""},{"$f":"IF(ISERROR(INDEX(Data!K:K,Report!$B187)),\"\",INDEX(Data!K:K,Report!$B187))","v":""},{"$f":"IF(ISERROR(INDEX(Data!L:L,Report!$B187)),\"\",INDEX(Data!L:L,Report!$B187))","v":""},null,{"$f":"IF(ISERROR(INDEX(Data!N:N,Report!$B187)),\"\",INDEX(Data!N:N,Report!$B187))","v":""},{"$f":"IF(ISERROR(INDEX(Data!P:P,Report!$B187)),\"\",INDEX(Data!P:P,Report!$B187))","v":""},{"$f":"IF(ISERROR(INDEX(Data!O:O,Report!$B187)),\"\",INDEX(Data!O:O,Report!$B187))","v":""},{"$f":"IF(ISERROR(INDEX(Data!Q:Q,Report!$B187)),\"\",INDEX(Data!Q:Q,Report!$B187))","v":""},{"$f":"IF(ISERROR(INDEX(Data!R:R,Report!$B187)),\"\",INDEX(Data!R:R,Report!$B187))","v":""},{"$f":"IF(ISERROR(INDEX(Data!S:S,Report!$B187)),\"\",INDEX(Data!S:S,Report!$B187))","v":""},{"$f":"IF(ISERROR(INDEX(Data!T:T,Report!$B187)),\"\",INDEX(Data!T:T,Report!$B187))","v":""},{"$f":"IF(ISERROR(INDEX(Data!U:U,Report!$B187)),\"\",INDEX(Data!U:U,Report!$B187))","v":""},{"$f":"IF(ISERROR(INDEX(Data!V:V,Report!$B187)),\"\",INDEX(Data!V:V,Report!$B187))","v":""},null,{"$f":"IF(H187=0,\"\",IF(ISERROR(REPT(\" \",L187) & \"|\"),\"\",REPT(\" \",L187) & \"|\"))","v":""},""]
[184,{"$f":"IF(ISERROR(MATCH(A188,Data!A:A,0)),\"\",MATCH(A188,Data!A:A,0))","v":""},{"$f":"IF(ISERROR(INDEX(Data!I:I,Report!$B188)),\"\",INDEX(Data!I:I,Report!$B188))","v":""},{"$f":"IF(ISERROR(INDEX(Data!J:J,Report!$B188)),\"\",INDEX(Data!J:J,Report!$B188))","v":""},{"$f":"IF(ISERROR(INDEX(Data!K:K,Report!$B188)),\"\",INDEX(Data!K:K,Report!$B188))","v":""},{"$f":"IF(ISERROR(INDEX(Data!L:L,Report!$B188)),\"\",INDEX(Data!L:L,Report!$B188))","v":""},null,{"$f":"IF(ISERROR(INDEX(Data!N:N,Report!$B188)),\"\",INDEX(Data!N:N,Report!$B188))","v":""},{"$f":"IF(ISERROR(INDEX(Data!P:P,Report!$B188)),\"\",INDEX(Data!P:P,Report!$B188))","v":""},{"$f":"IF(ISERROR(INDEX(Data!O:O,Report!$B188)),\"\",INDEX(Data!O:O,Report!$B188))","v":""},{"$f":"IF(ISERROR(INDEX(Data!Q:Q,Report!$B188)),\"\",INDEX(Data!Q:Q,Report!$B188))","v":""},{"$f":"IF(ISERROR(INDEX(Data!R:R,Report!$B188)),\"\",INDEX(Data!R:R,Report!$B188))","v":""},{"$f":"IF(ISERROR(INDEX(Data!S:S,Report!$B188)),\"\",INDEX(Data!S:S,Report!$B188))","v":""},{"$f":"IF(ISERROR(INDEX(Data!T:T,Report!$B188)),\"\",INDEX(Data!T:T,Report!$B188))","v":""},{"$f":"IF(ISERROR(INDEX(Data!U:U,Report!$B188)),\"\",INDEX(Data!U:U,Report!$B188))","v":""},{"$f":"IF(ISERROR(INDEX(Data!V:V,Report!$B188)),\"\",INDEX(Data!V:V,Report!$B188))","v":""},null,"",""]
[185,{"$f":"IF(ISERROR(MATCH(A189,Data!A:A,0)),\"\",MATCH(A189,Data!A:A,0))","v":90},{"$f":"IF(ISERROR(INDEX(Data!I:I,Report!$B189)),\"\",INDEX(Data!I:I,Report!$B189))","v":" "},{"$f":"IF(ISERROR(INDEX(Data!J:J,Report!$B189)),\"\",INDEX(Data!J:J,Report!$B189))","v":"User Drill #85  3 line rated mini Tennis"},{"$f":"IF(ISERROR(INDEX(Data!K:K,Report!$B189)),\"\",INDEX(Data!K:K,Report!$B189))","v":0},{"$f":"IF(ISERROR(INDEX(Data!L:L,Report!$B189)),\"\",INDEX(Data!L:L,Report!$B189))","v":"New Point"},null,{"$f":"IF(ISERROR(INDEX(Data!N:N,Report!$B189)),\"\",INDEX(Data!N:N,Report!$B189))","v":1},{"$f":"IF(ISERROR(INDEX(Data!P:P,Report!$B189)),\"\",INDEX(Data!P:P,Report!$B189))","v":0},{"$f":"IF(ISERROR(INDEX(Data!O:O,Report!$B189)),\"\",INDEX(Data!O:O,Report!$B189))","v":11},{"$f":"IF(ISERROR(INDEX(Data!Q:Q,Report!$B189)),\"\",INDEX(Data!Q:Q,Report!$B189))","v":3.5},{"$f":"IF(ISERROR(INDEX(Data!R:R,Report!$B189)),\"\",INDEX(Data!R:R,Report!$B189))","v":0},{"$f":"IF(ISERROR(INDEX(Data!S:S,Report!$B189)),\"\",INDEX(Data!S:S,Report!$B189))","v":0},{"$f":"IF(ISERROR(INDEX(Data!T:T,Report!$B189)),\"\",INDEX(Data!T:T,Report!$B189))","v":0},{"$f":"IF(ISERROR(INDEX(Data!U:U,Report!$B189)),\"\",INDEX(Data!U:U,Report!$B189))","v":0},{"$f":"IF(ISERROR(INDEX(Data!V:V,Report!$B189)),\"\",INDEX(Data!V:V,Report!$B189))","v":0},null,"|",""]
[186,{"$f":"IF(ISERROR(MATCH(A190,Data!A:A,0)),\"\",MATCH(A190,Data!A:A,0))","v":91},{"$f":"IF(ISERROR(INDEX(Data!I:I,Report!$B190)),\"\",INDEX(Data!I:I,Report!$B190))","v":"04:37:32"},{"$f":"IF(ISERROR(INDEX(Data!J:J,Report!$B190)),\"\",INDEX(Data!J:J,Report!$B190))","v":"Game against Boomer at level 3.5  Single point data:"},{"$f":"IF(ISERROR(INDEX(Data!K:K,Report!$B190)),\"\",INDEX(Data!K:K,Report!$B190))","v":"Player's point"},{"$f":"IF(ISERROR(INDEX(Data!L:L,Report!$B190)),\"\",INDEX(Data!L:L,Report!$B190))","v":0},null,{"$f":"IF(ISERROR(INDEX(Data!N:N,Report!$B190)),\"\",INDEX(Data!N:N,Report!$B190))","v":2},{"$f":"IF(ISERROR(INDEX(Data!P:P,Report!$B190)),\"\",INDEX(Data!P:P,Report!$B190))","v":"Topspin"},{"$f":"IF(ISERROR(INDEX(Data!O:O,Report!$B190)),\"\",INDEX(Data!O:O,Report!$B190))","v":3},{"$f":"IF(ISERROR(INDEX(Data!Q:Q,Report!$B190)),\"\",INDEX(Data!Q:Q,Report!$B190))","v":3.5},{"$f":"IF(ISERROR(INDEX(Data!R:R,Report!$B190)),\"\",INDEX(Data!R:R,Report!$B190))","v":24},{"$f":"IF(ISERROR(INDEX(Data!S:S,Report!$B190)),\"\",INDEX(Data!S:S,Report!$B190))","v":19},{"$f":"IF(ISERROR(INDEX(Data!T:T,Report!$B190)),\"\",INDEX(Data!T:T,Report!$B190))","v":4},{"$f":"IF(ISERROR(INDEX(Data!U:U,Report!$B190)),\"\",INDEX(Data!U:U,Report!$B190))","v":55},{"$f":"IF(ISERROR(INDEX(Data!V:V,Report!$B190)),\"\",INDEX(Data!V:V,Report!$B190))","v":5.2},null,"                        |","|||||||||"]
[187,{"$f":"IF(ISERROR(MATCH(A191,Data!A:A,0)),\"\",MATCH(A191,Data!A:A,0))","v":92},{"$f":"IF(ISERROR(INDEX(Data!I:I,Report!$B191)),\"\",INDEX(Data!I:I,Report!$B191))","v":" "},{"$f":"IF(ISERROR(INDEX(Data!J:J,Report!$B191)),\"\",INDEX(Data!J:J,Report!$B191))","v":"User Drill #85  3 line rated mini Tennis"},{"$f":"IF(ISERROR(INDEX(Data!K:K,Report!$B191)),\"\",INDEX(Data!K:K,Report!$B191))","v":0},{"$f":"IF(ISERROR(INDEX(Data!L:L,Report!$B191)),\"\",INDEX(Data!L:L,Report!$B191))","v":0},null,{"$f":"IF(ISERROR(INDEX(Data!N:N,Report!$B191)),\"\",INDEX(Data!N:N,Report!$B191))","v":2},{"$f":"IF(ISERROR(INDEX(Data!P:P,Report!$B191)),\"\",INDEX(Data!P:P,Report!$B191))","v":0},{"$f":"IF(ISERROR(INDEX(Data!O:O,Report!$B191)),\"\",INDEX(Data!O:O,Report!$B191))","v":4},{"$f":"IF(ISERROR(INDEX(Data!Q:Q,Report!$B191)),\"\",INDEX(Data!Q:Q,Report!$B191))","v":3.5},{"$f":"IF(ISERROR(INDEX(Data!R:R,Report!$B191)),\"\",INDEX(Data!R:R,Report!$B191))","v":0},{"$f":"IF(ISERROR(INDEX(Data!S:S,Report!$B191)),\"\",INDEX(Data!S:S,Report!$B191))","v":0},{"$f":"IF(ISERROR(INDEX(Data!T:T,Report!$B191)),\"\",INDEX(Data!T:T,Report!$B191))","v":0},{"$f":"IF(ISERROR(INDEX(Data!U:U,Report!$B191)),\"\",INDEX(Data!U:U,Report!$B191))","v":0},{"$f":"IF(ISERROR(INDEX(Data!V:V,Report!$B191)),\"\",INDEX(Data!V:V,Report!$B191))","v":0},null,"|",""]
[188,{"$f":"IF(ISERROR(MATCH(A192,Data!A:A,0)),\"\",MATCH(A192,Data!A:A,0))","v":93},{"$f":"IF(ISERROR(INDEX(Data!I:I,Report!$B192)),\"\",INDEX(Data!I:I,Report!$B192))","v":"04:37:32"},{"$f":"IF(ISERROR(INDEX(Data!J:J,Report!$B192)),\"\",INDEX(Data!J:J,Report!$B192))","v":"Game against Boomer at level 3.5  Single point data:"},{"$f":"IF(ISERROR(INDEX(Data!K:K,Report!$B192)),\"\",INDEX(Data!K:K,Report!$B192))","v":"Player's point"},{"$f":"IF(ISERROR(INDEX(Data!L:L,Report!$B192)),\"\",INDEX(Data!L:L,Report!$B192))","v":0},null,{"$f":"IF(ISERROR(INDEX(Data!N:N,Report!$B192)),\"\",INDEX(Data!N:N,Report!$B192))","v":3},{"$f":"IF(ISERROR(INDEX(Data!P:P,Report!$B192)),\"\",INDEX(Data!P:P,Report!$B192))","v":"Flat Drive"},{"$f":"IF(ISERROR(INDEX(Data!O:O,Report!$B192)),\"\",INDEX(Data!O:O,Report!$B192))","v":2},{"$f":"IF(ISERROR(INDEX(Data!Q:Q,Report!$B192)),\"\",INDEX(Data!Q:Q,Report!$B192))","v":3.5},{"$f":"IF(ISERROR(INDEX(Data!R:R,Report!$B192)),\"\",INDEX(Data!R:R,Report!$B192))","v":21},{"$f":"IF(ISERROR(INDEX(Data!S:S,Report!$B192)),\"\",INDEX(Data!S:S,Report!$B192))","v":5},{"$f":"IF(ISERROR(INDEX(Data!T:T,Report!$B192)),\"\",INDEX(Data!T:T,Report!$B192))","v":4.9000000000000004},{"$f":"IF(ISERROR(INDEX(Data!U:U,Report!$B192)),\"\",INDEX(Data!U:U,Report!$B192))","v":37},{"$f":"IF(ISERROR(INDEX(Data!V:V,Report!$B192)),\"\",INDEX(Data!V:V,Report!$B192))","v":4.5999999999999996},null,"                     |","||"]
[189,{"$f":"IF(ISERROR(MATCH(A193,Data!A:A,0)),\"\",MATCH(A193,Data!A:A,0))","v":94},{"$f":"IF(ISERROR(INDEX(Data!I:I,Report!$B193)),\"\",INDEX(Data!I:I,Report!$B193))","v":" "},{"$f":"IF(ISERROR(INDEX(Data!J:J,Report!$B193)),\"\",INDEX(Data!J:J,Report!$B193))","v":"User Drill #85  3 line rated mini Tennis"},{"$f":"IF(ISERROR(INDEX(Data!K:K,Report!$B193)),\"\",INDEX(Data!K:K,Report!$B193))","v":0},{"$f":"IF(ISERROR(INDEX(Data!L:L,Report!$B193)),\"\",INDEX(Data!L:L,Report!$B193))","v":0},null,{"$f":"IF(ISERROR(INDEX(Data!N:N,Report!$B193)),\"\",INDEX(Data!N:N,Report!$B193))","v":3},{"$f":"IF(ISERROR(INDEX(Data!P:P,Report!$B193)),\"\",INDEX(Data!P:P,Report!$B193))","v":0},{"$f":"IF(ISERROR(INDEX(Data!O:O,Report!$B193)),\"\",INDEX(Data!O:O,Report!$B193))","v":10},{"$f":"IF(ISERROR(INDEX(Data!Q:Q,Report!$B193)),\"\",INDEX(Data!Q:Q,Report!$B193))","v":3.5},{"$f":"IF(ISERROR(INDEX(Data!R:R,Report!$B193)),\"\",INDEX(Data!R:R,Report!$B193))","v":0},{"$f":"IF(ISERROR(INDEX(Data!S:S,Report!$B193)),\"\",INDEX(Data!S:S,Report!$B193))","v":0},{"$f":"IF(ISERROR(INDEX(Data!T:T,Report!$B193)),\"\",INDEX(Data!T:T,Report!$B193))","v":0},{"$f":"IF(ISERROR(INDEX(Data!U:U,Report!$B193)),\"\",INDEX(Data!U:U,Report!$B193))","v":0},{"$f":"IF(ISERROR(INDEX(Data!V:V,Report!$B193)),\"\",INDEX(Data!V:V,Report!$B193))","v":0},null,"|",""]
[190,{"$f":"IF(ISERROR(MATCH(A194,Data!A:A,0)),\"\",MATCH(A194,Data!A:A,0))","v":95},{"$f":"IF(ISERROR(INDEX(Data!I:I,Report!$B194)),\"\",INDEX(Data!I:I,Report!$B194))","v":"04:37:32"},{"$f":"IF(ISERROR(INDEX(Data!J:J,Report!$B194)),\"\",INDEX(Data!J:J,Report!$B194))","v":"Game against Boomer at level 3.5  Single point data:"},{"$f":"IF(ISERROR(INDEX(Data!K:K,Report!$B194)),\"\",INDEX(Data!K:K,Report!$B194))","v":"Player's point"},{"$f":"IF(ISERROR(INDEX(Data!L:L,Report!$B194)),\"\",INDEX(Data!L:L,Report!$B194))","v":0},null,{"$f":"IF(ISERROR(INDEX(Data!N:N,Report!$B194)),\"\",INDEX(Data!N:N,Report!$B194))","v":4},{"$f":"IF(ISERROR(INDEX(Data!P:P,Report!$B194)),\"\",INDEX(Data!P:P,Report!$B194))","v":"Lob"},{"$f":"IF(ISERROR(INDEX(Data!O:O,Report!$B194)),\"\",INDEX(Data!O:O,Report!$B194))","v":4},{"$f":"IF(ISERROR(INDEX(Data!Q:Q,Report!$B194)),\"\",INDEX(Data!Q:Q,Report!$B194))","v":3.5},{"$f":"IF(ISERROR(INDEX(Data!R:R,Report!$B194)),\"\",INDEX(Data!R:R,Report!$B194))","v":33},{"$f":"IF(ISERROR(INDEX(Data!S:S,Report!$B194)),\"\",INDEX(Data!S:S,Report!$B194))","v":17},{"$f":"IF(ISERROR(INDEX(Data!T:T,Report!$B194)),\"\",INDEX(Data!T:T,Report!$B194))","v":4.9000000000000004},{"$f":"IF(ISERROR(INDEX(Data!U:U,Report!$B194)),\"\",INDEX(Data!U:U,Report!$B194))","v":93},{"$f":"IF(ISERROR(INDEX(Data!V:V,Report!$B194)),\"\",INDEX(Data!V:V,Report!$B194))","v":7},null,"                                 |","||||||||"]
[191,{"$f":"IF(ISERROR(MATCH(A195,Data!A:A,0)),\"\",MATCH(A195,Data!A:A,0))","v":""},{"$f":"IF(ISERROR(INDEX(Data!I:I,Report!$B195)),\"\",INDEX(Data!I:I,Report!$B195))","v":""},{"$f":"IF(ISERROR(INDEX(Data!J:J,Report!$B195)),\"\",INDEX(Data!J:J,Report!$B195))","v":""},{"$f":"IF(ISERROR(INDEX(Data!K:K,Report!$B195)),\"\",INDEX(Data!K:K,Report!$B195))","v":""},{"$f":"IF(ISERROR(INDEX(Data!L:L,Report!$B195)),\"\",INDEX(Data!L:L,Report!$B195))","v":""},null,{"$f":"IF(ISERROR(INDEX(Data!N:N,Report!$B195)),\"\",INDEX(Data!N:N,Report!$B195))","v":""},{"$f":"IF(ISERROR(INDEX(Data!P:P,Report!$B195)),\"\",INDEX(Data!P:P,Report!$B195))","v":""},{"$f":"IF(ISERROR(INDEX(Data!O:O,Report!$B195)),\"\",INDEX(Data!O:O,Report!$B195))","v":""},{"$f":"IF(ISERROR(INDEX(Data!Q:Q,Report!$B195)),\"\",INDEX(Data!Q:Q,Report!$B195))","v":""},{"$f":"IF(ISERROR(INDEX(Data!R:R,Report!$B195)),\"\",INDEX(Data!R:R,Report!$B195))","v":""},{"$f":"IF(ISERROR(INDEX(Data!S:S,Report!$B195)),\"\",INDEX(Data!S:S,Report!$B195))","v":""},{"$f":"IF(ISERROR(INDEX(Data!T:T,Report!$B195)),\"\",INDEX(Data!T:T,Report!$B195))","v":""},{"$f":"IF(ISERROR(INDEX(Data!U:U,Report!$B195)),\"\",INDEX(Data!U:U,Report!$B195))","v":""},{"$f":"IF(ISERROR(INDEX(Data!V:V,Report!$B195)),\"\",INDEX(Data!V:V,Report!$B195))","v":""},null,"",""]
[192,{"$f":"IF(ISERROR(MATCH(A196,Data!A:A,0)),\"\",MATCH(A196,Data!A:A,0))","v":""},{"$f":"IF(ISERROR(INDEX(Data!I:I,Report!$B196)),\"\",INDEX(Data!I:I,Report!$B196))","v":""},{"$f":"IF(ISERROR(INDEX(Data!J:J,Report!$B196)),\"\",INDEX(Data!J:J,Report!$B196))","v":""},{"$f":"IF(ISERROR(INDEX(Data!K:K,Report!$B196)),\"\",INDEX(Data!K:K,Report!$B196))","v":""},{"$f":"IF(ISERROR(INDEX(Data!L:L,Report!$B196)),\"\",INDEX(Data!L:L,Report!$B196))","v":""},null,{"$f":"IF(ISERROR(INDEX(Data!N:N,Report!$B196)),\"\",INDEX(Data!N:N,Report!$B196))","v":""},{"$f":"IF(ISERROR(INDEX(Data!P:P,Report!$B196)),\"\",INDEX(Data!P:P,Report!$B196))","v":""},{"$f":"IF(ISERROR(INDEX(Data!O:O,Report!$B196)),\"\",INDEX(Data!O:O,Report!$B196))","v":""},{"$f":"IF(ISERROR(INDEX(Data!Q:Q,Report!$B196)),\"\",INDEX(Data!Q:Q,Report!$B196))","v":""},{"$f":"IF(ISERROR(INDEX(Data!R:R,Report!$B196)),\"\",INDEX(Data!R:R,Report!$B196))","v":""},{"$f":"IF(ISERROR(INDEX(Data!S:S,Report!$B196)),\"\",INDEX(Data!S:S,Report!$B196))","v":""},{"$f":"IF(ISERROR(INDEX(Data!T:T,Report!$B196)),\"\",INDEX(Data!T:T,Report!$B196))","v":""},{"$f":"IF(ISERROR(INDEX(Data!U:U,Report!$B196)),\"\",INDEX(Data!U:U,Report!$B196))","v":""},{"$f":"IF(ISERROR(INDEX(Data!V:V,Report!$B196)),\"\",INDEX(Data!V:V,Report!$B196))","v":""},null,"",""]
[193,{"$f":"IF(ISERROR(MATCH(A197,Data!A:A,0)),\"\",MATCH(A197,Data!A:A,0))","v":""},{"$f":"IF(ISERROR(INDEX(Data!I:I,Report!$B197)),\"\",INDEX(Data!I:I,Report!$B197))","v":""},{"$f":"IF(ISERROR(INDEX(Data!J:J,Report!$B197)),\"\",INDEX(Data!J:J,Report!$B197))","v":""},{"$f":"IF(ISERROR(INDEX(Data!K:K,Report!$B197)),\"\",INDEX(Data!K:K,Report!$B197))","v":""},{"$f":"IF(ISERROR(INDEX(Data!L:L,Report!$B197)),\"\",INDEX(Data!L:L,Report!$B197))","v":""},null,{"$f":"IF(ISERROR(INDEX(Data!N:N,Report!$B197)),\"\",INDEX(Data!N:N,Report!$B197))","v":""},{"$f":"IF(ISERROR(INDEX(Data!P:P,Report!$B197)),\"\",INDEX(Data!P:P,Report!$B197))","v":""},{"$f":"IF(ISERROR(INDEX(Data!O:O,Report!$B197)),\"\",INDEX(Data!O:O,Report!$B197))","v":""},{"$f":"IF(ISERROR(INDEX(Data!Q:Q,Report!$B197)),\"\",INDEX(Data!Q:Q,Report!$B197))","v":""},{"$f":"IF(ISERROR(INDEX(Data!R:R,Report!$B197)),\"\",INDEX(Data!R:R,Report!$B197))","v":""},{"$f":"IF(ISERROR(INDEX(Data!S:S,Report!$B197)),\"\",INDEX(Data!S:S,Report!$B197))","v":""},{"$f":"IF(ISERROR(INDEX(Data!T:T,Report!$B197)),\"\",INDEX(Data!T:T,Report!$B197))","v":""},{"$f":"IF(ISERROR(INDEX(Data!U:U,Report!$B197)),\"\",INDEX(Data!U:U,Report!$B197))","v":""},{"$f":"IF(ISERROR(INDEX(Data!V:V,Report!$B197)),\"\",INDEX(Data!V:V,Report!$B197))","v":""},null,"",""]
[194,{"$f":"IF(ISERROR(MATCH(A198,Data!A:A,0)),\"\",MATCH(A198,Data!A:A,0))","v":96},{"$f":"IF(ISERROR(INDEX(Data!I:I,Report!$B198)),\"\",INDEX(Data!I:I,Report!$B198))","v":"04:38:00"},{"$f":"IF(ISERROR(INDEX(Data!J:J,Report!$B198)),\"\",INDEX(Data!J:J,Report!$B198))","v":"Game against Boomer at level 3.5  Single point data:"},{"$f":"IF(ISERROR(INDEX(Data!K:K,Report!$B198)),\"\",INDEX(Data!K:K,Report!$B198))","v":"Player's point"},{"$f":"IF(ISERROR(INDEX(Data!L:L,Report!$B198)),\"\",INDEX(Data!L:L,Report!$B198))","v":"New Point"},null,{"$f":"IF(ISERROR(INDEX(Data!N:N,Report!$B198)),\"\",INDEX(Data!N:N,Report!$B198))","v":1},{"$f":"IF(ISERROR(INDEX(Data!P:P,Report!$B198)),\"\",INDEX(Data!P:P,Report!$B198))","v":"Serve"},{"$f":"IF(ISERROR(INDEX(Data!O:O,Report!$B198)),\"\",INDEX(Data!O:O,Report!$B198))","v":0},{"$f":"IF(ISERROR(INDEX(Data!Q:Q,Report!$B198)),\"\",INDEX(Data!Q:Q,Report!$B198))","v":3.5},{"$f":"IF(ISERROR(INDEX(Data!R:R,Report!$B198)),\"\",INDEX(Data!R:R,Report!$B198))","v":30},{"$f":"IF(ISERROR(INDEX(Data!S:S,Report!$B198)),\"\",INDEX(Data!S:S,Report!$B198))","v":5},{"$f":"IF(ISERROR(INDEX(Data!T:T,Report!$B198)),\"\",INDEX(Data!T:T,Report!$B198))","v":5.7},{"$f":"IF(ISERROR(INDEX(Data!U:U,Report!$B198)),\"\",INDEX(Data!U:U,Report!$B198))","v":42},{"$f":"IF(ISERROR(INDEX(Data!V:V,Report!$B198)),\"\",INDEX(Data!V:V,Report!$B198))","v":4.5},null,"                              |",{"$f":"IF(ISERROR(REPT(\"|\",M198/2)),\"\",REPT(\"|\",M198/2))","v":"||"}]
[{"$f":"A198+1","v":195},{"$f":"IF(ISERROR(MATCH(A199,Data!A:A,0)),\"\",MATCH(A199,Data!A:A,0))","v":""},{"$f":"IF(ISERROR(INDEX(Data!I:I,Report!$B199)),\"\",INDEX(Data!I:I,Report!$B199))","v":""},{"$f":"IF(ISERROR(INDEX(Data!J:J,Report!$B199)),\"\",INDEX(Data!J:J,Report!$B199))","v":""},{"$f":"IF(ISERROR(INDEX(Data!K:K,Report!$B199)),\"\",INDEX(Data!K:K,Report!$B199))","v":""},{"$f":"IF(ISERROR(INDEX(Data!L:L,Report!$B199)),\"\",INDEX(Data!L:L,Report!$B199))","v":""},null,{"$f":"IF(ISERROR(INDEX(Data!N:N,Report!$B199)),\"\",INDEX(Data!N:N,Report!$B199))","v":""},{"$f":"IF(ISERROR(INDEX(Data!P:P,Report!$B199)),\"\",INDEX(Data!P:P,Report!$B199))","v":""},{"$f":"IF(ISERROR(INDEX(Data!O:O,Report!$B199)),\"\",INDEX(Data!O:O,Report!$B199))","v":""},{"$f":"IF(ISERROR(INDEX(Data!Q:Q,Report!$B199)),\"\",INDEX(Data!Q:Q,Report!$B199))","v":""},{"$f":"IF(ISERROR(INDEX(Data!R:R,Report!$B199)),\"\",INDEX(Data!R:R,Report!$B199))","v":""},{"$f":"IF(ISERROR(INDEX(Data!S:S,Report!$B199)),\"\",INDEX(Data!S:S,Report!$B199))","v":""},{"$f":"IF(ISERROR(INDEX(Data!T:T,Report!$B199)),\"\",INDEX(Data!T:T,Report!$B199))","v":""},{"$f":"IF(ISERROR(INDEX(Data!U:U,Report!$B199)),\"\",INDEX(Data!U:U,Report!$B199))","v":""},{"$f":"IF(ISERROR(INDEX(Data!V:V,Report!$B199)),\"\",INDEX(Data!V:V,Report!$B199))","v":""},null,"",""]
[196,{"$f":"IF(ISERROR(MATCH(A200,Data!A:A,0)),\"\",MATCH(A200,Data!A:A,0))","v":""},{"$f":"IF(ISERROR(INDEX(Data!I:I,Report!$B200)),\"\",INDEX(Data!I:I,Report!$B200))","v":""},{"$f":"IF(ISERROR(INDEX(Data!J:J,Report!$B200)),\"\",INDEX(Data!J:J,Report!$B200))","v":""},{"$f":"IF(ISERROR(INDEX(Data!K:K,Report!$B200)),\"\",INDEX(Data!K:K,Report!$B200))","v":""},{"$f":"IF(ISERROR(INDEX(Data!L:L,Report!$B200)),\"\",INDEX(Data!L:L,Report!$B200))","v":""},null,{"$f":"IF(ISERROR(INDEX(Data!N:N,Report!$B200)),\"\",INDEX(Data!N:N,Report!$B200))","v":""},{"$f":"IF(ISERROR(INDEX(Data!P:P,Report!$B200)),\"\",INDEX(Data!P:P,Report!$B200))","v":""},{"$f":"IF(ISERROR(INDEX(Data!O:O,Report!$B200)),\"\",INDEX(Data!O:O,Report!$B200))","v":""},{"$f":"IF(ISERROR(INDEX(Data!Q:Q,Report!$B200)),\"\",INDEX(Data!Q:Q,Report!$B200))","v":""},{"$f":"IF(ISERROR(INDEX(Data!R:R,Report!$B200)),\"\",INDEX(Data!R:R,Report!$B200))","v":""},{"$f":"IF(ISERROR(INDEX(Data!S:S,Report!$B200)),\"\",INDEX(Data!S:S,Report!$B200))","v":""},{"$f":"IF(ISERROR(INDEX(Data!T:T,Report!$B200)),\"\",INDEX(Data!T:T,Report!$B200))","v":""},{"$f":"IF(ISERROR(INDEX(Data!U:U,Report!$B200)),\"\",INDEX(Data!U:U,Report!$B200))","v":""},{"$f":"IF(ISERROR(INDEX(Data!V:V,Report!$B200)),\"\",INDEX(Data!V:V,Report!$B200))","v":""},null,"",""]
[197,{"$f":"IF(ISERROR(MATCH(A201,Data!A:A,0)),\"\",MATCH(A201,Data!A:A,0))","v":""},{"$f":"IF(ISERROR(INDEX(Data!I:I,Report!$B201)),\"\",INDEX(Data!I:I,Report!$B201))","v":""},{"$f":"IF(ISERROR(INDEX(Data!J:J,Report!$B201)),\"\",INDEX(Data!J:J,Report!$B201))","v":""},{"$f":"IF(ISERROR(INDEX(Data!K:K,Report!$B201)),\"\",INDEX(Data!K:K,Report!$B201))","v":""},{"$f":"IF(ISERROR(INDEX(Data!L:L,Report!$B201)),\"\",INDEX(Data!L:L,Report!$B201))","v":""},null,{"$f":"IF(ISERROR(INDEX(Data!N:N,Report!$B201)),\"\",INDEX(Data!N:N,Report!$B201))","v":""},{"$f":"IF(ISERROR(INDEX(Data!P:P,Report!$B201)),\"\",INDEX(Data!P:P,Report!$B201))","v":""},{"$f":"IF(ISERROR(INDEX(Data!O:O,Report!$B201)),\"\",INDEX(Data!O:O,Report!$B201))","v":""},{"$f":"IF(ISERROR(INDEX(Data!Q:Q,Report!$B201)),\"\",INDEX(Data!Q:Q,Report!$B201))","v":""},{"$f":"IF(ISERROR(INDEX(Data!R:R,Report!$B201)),\"\",INDEX(Data!R:R,Report!$B201))","v":""},{"$f":"IF(ISERROR(INDEX(Data!S:S,Report!$B201)),\"\",INDEX(Data!S:S,Report!$B201))","v":""},{"$f":"IF(ISERROR(INDEX(Data!T:T,Report!$B201)),\"\",INDEX(Data!T:T,Report!$B201))","v":""},{"$f":"IF(ISERROR(INDEX(Data!U:U,Report!$B201)),\"\",INDEX(Data!U:U,Report!$B201))","v":""},{"$f":"IF(ISERROR(INDEX(Data!V:V,Report!$B201)),\"\",INDEX(Data!V:V,Report!$B201))","v":""},null,"",""]
[198,{"$f":"IF(ISERROR(MATCH(A202,Data!A:A,0)),\"\",MATCH(A202,Data!A:A,0))","v":97},{"$f":"IF(ISERROR(INDEX(Data!I:I,Report!$B202)),\"\",INDEX(Data!I:I,Report!$B202))","v":" "},{"$f":"IF(ISERROR(INDEX(Data!J:J,Report!$B202)),\"\",INDEX(Data!J:J,Report!$B202))","v":"User Drill #85  3 line rated mini Tennis"},{"$f":"IF(ISERROR(INDEX(Data!K:K,Report!$B202)),\"\",INDEX(Data!K:K,Report!$B202))","v":0},{"$f":"IF(ISERROR(INDEX(Data!L:L,Report!$B202)),\"\",INDEX(Data!L:L,Report!$B202))","v":"New Point"},null,{"$f":"IF(ISERROR(INDEX(Data!N:N,Report!$B202)),\"\",INDEX(Data!N:N,Report!$B202))","v":1},{"$f":"IF(ISERROR(INDEX(Data!P:P,Report!$B202)),\"\",INDEX(Data!P:P,Report!$B202))","v":0},{"$f":"IF(ISERROR(INDEX(Data!O:O,Report!$B202)),\"\",INDEX(Data!O:O,Report!$B202))","v":11},{"$f":"IF(ISERROR(INDEX(Data!Q:Q,Report!$B202)),\"\",INDEX(Data!Q:Q,Report!$B202))","v":3.5},{"$f":"IF(ISERROR(INDEX(Data!R:R,Report!$B202)),\"\",INDEX(Data!R:R,Report!$B202))","v":0},{"$f":"IF(ISERROR(INDEX(Data!S:S,Report!$B202)),\"\",INDEX(Data!S:S,Report!$B202))","v":0},{"$f":"IF(ISERROR(INDEX(Data!T:T,Report!$B202)),\"\",INDEX(Data!T:T,Report!$B202))","v":0},{"$f":"IF(ISERROR(INDEX(Data!U:U,Report!$B202)),\"\",INDEX(Data!U:U,Report!$B202))","v":0},{"$f":"IF(ISERROR(INDEX(Data!V:V,Report!$B202)),\"\",INDEX(Data!V:V,Report!$B202))","v":0},null,"|",""]
[199,{"$f":"IF(ISERROR(MATCH(A203,Data!A:A,0)),\"\",MATCH(A203,Data!A:A,0))","v":""},{"$f":"IF(ISERROR(INDEX(Data!I:I,Report!$B203)),\"\",INDEX(Data!I:I,Report!$B203))","v":""},{"$f":"IF(ISERROR(INDEX(Data!J:J,Report!$B203)),\"\",INDEX(Data!J:J,Report!$B203))","v":""},{"$f":"IF(ISERROR(INDEX(Data!K:K,Report!$B203)),\"\",INDEX(Data!K:K,Report!$B203))","v":""},{"$f":"IF(ISERROR(INDEX(Data!L:L,Report!$B203)),\"\",INDEX(Data!L:L,Report!$B203))","v":""},null,{"$f":"IF(ISERROR(INDEX(Data!N:N,Report!$B203)),\"\",INDEX(Data!N:N,Report!$B203))","v":""},{"$f":"IF(ISERROR(INDEX(Data!P:P,Report!$B203)),\"\",INDEX(Data!P:P,Report!$B203))","v":""},{"$f":"IF(ISERROR(INDEX(Data!O:O,Report!$B203)),\"\",INDEX(Data!O:O,Report!$B203))","v":""},{"$f":"IF(ISERROR(INDEX(Data!Q:Q,Report!$B203)),\"\",INDEX(Data!Q:Q,Report!$B203))","v":""},{"$f":"IF(ISERROR(INDEX(Data!R:R,Report!$B203)),\"\",INDEX(Data!R:R,Report!$B203))","v":""},{"$f":"IF(ISERROR(INDEX(Data!S:S,Report!$B203)),\"\",INDEX(Data!S:S,Report!$B203))","v":""},{"$f":"IF(ISERROR(INDEX(Data!T:T,Report!$B203)),\"\",INDEX(Data!T:T,Report!$B203))","v":""},{"$f":"IF(ISERROR(INDEX(Data!U:U,Report!$B203)),\"\",INDEX(Data!U:U,Report!$B203))","v":""},{"$f":"IF(ISERROR(INDEX(Data!V:V,Report!$B203)),\"\",INDEX(Data!V:V,Report!$B203))","v":""},null,"",""]
[200,{"$f":"IF(ISERROR(MATCH(A204,Data!A:A,0)),\"\",MATCH(A204,Data!A:A,0))","v":""},{"$f":"IF(ISERROR(INDEX(Data!I:I,Report!$B204)),\"\",INDEX(Data!I:I,Report!$B204))","v":""},{"$f":"IF(ISERROR(INDEX(Data!J:J,Report!$B204)),\"\",INDEX(Data!J:J,Report!$B204))","v":""},{"$f":"IF(ISERROR(INDEX(Data!K:K,Report!$B204)),\"\",INDEX(Data!K:K,Report!$B204))","v":""},{"$f":"IF(ISERROR(INDEX(Data!L:L,Report!$B204)),\"\",INDEX(Data!L:L,Report!$B204))","v":""},null,{"$f":"IF(ISERROR(INDEX(Data!N:N,Report!$B204)),\"\",INDEX(Data!N:N,Report!$B204))","v":""},{"$f":"IF(ISERROR(INDEX(Data!P:P,Report!$B204)),\"\",INDEX(Data!P:P,Report!$B204))","v":""},{"$f":"IF(ISERROR(INDEX(Data!O:O,Report!$B204)),\"\",INDEX(Data!O:O,Report!$B204))","v":""},{"$f":"IF(ISERROR(INDEX(Data!Q:Q,Report!$B204)),\"\",INDEX(Data!Q:Q,Report!$B204))","v":""},{"$f":"IF(ISERROR(INDEX(Data!R:R,Report!$B204)),\"\",INDEX(Data!R:R,Report!$B204))","v":""},{"$f":"IF(ISERROR(INDEX(Data!S:S,Report!$B204)),\"\",INDEX(Data!S:S,Report!$B204))","v":""},{"$f":"IF(ISERROR(INDEX(Data!T:T,Report!$B204)),\"\",INDEX(Data!T:T,Report!$B204))","v":""},{"$f":"IF(ISERROR(INDEX(Data!U:U,Report!$B204)),\"\",INDEX(Data!U:U,Report!$B204))","v":""},{"$f":"IF(ISERROR(INDEX(Data!V:V,Report!$B204)),\"\",INDEX(Data!V:V,Report!$B204))","v":""},null,"",""]
[201,{"$f":"IF(ISERROR(MATCH(A205,Data!A:A,0)),\"\",MATCH(A205,Data!A:A,0))","v":""},{"$f":"IF(ISERROR(INDEX(Data!I:I,Report!$B205)),\"\",INDEX(Data!I:I,Report!$B205))","v":""},{"$f":"IF(ISERROR(INDEX(Data!J:J,Report!$B205)),\"\",INDEX(Data!J:J,Report!$B205))","v":""},{"$f":"IF(ISERROR(INDEX(Data!K:K,Report!$B205)),\"\",INDEX(Data!K:K,Report!$B205))","v":""},{"$f":"IF(ISERROR(INDEX(Data!L:L,Report!$B205)),\"\",INDEX(Data!L:L,Report!$B205))","v":""},null,{"$f":"IF(ISERROR(INDEX(Data!N:N,Report!$B205)),\"\",INDEX(Data!N:N,Report!$B205))","v":""},{"$f":"IF(ISERROR(INDEX(Data!P:P,Report!$B205)),\"\",INDEX(Data!P:P,Report!$B205))","v":""},{"$f":"IF(ISERROR(INDEX(Data!O:O,Report!$B205)),\"\",INDEX(Data!O:O,Report!$B205))","v":""},{"$f":"IF(ISERROR(INDEX(Data!Q:Q,Report!$B205)),\"\",INDEX(Data!Q:Q,Report!$B205))","v":""},{"$f":"IF(ISERROR(INDEX(Data!R:R,Report!$B205)),\"\",INDEX(Data!R:R,Report!$B205))","v":""},{"$f":"IF(ISERROR(INDEX(Data!S:S,Report!$B205)),\"\",INDEX(Data!S:S,Report!$B205))","v":""},{"$f":"IF(ISERROR(INDEX(Data!T:T,Report!$B205)),\"\",INDEX(Data!T:T,Report!$B205))","v":""},{"$f":"IF(ISERROR(INDEX(Data!U:U,Report!$B205)),\"\",INDEX(Data!U:U,Report!$B205))","v":""},{"$f":"IF(ISERROR(INDEX(Data!V:V,Report!$B205)),\"\",INDEX(Data!V:V,Report!$B205))","v":""},null,"",""]
[202,{"$f":"IF(ISERROR(MATCH(A206,Data!A:A,0)),\"\",MATCH(A206,Data!A:A,0))","v":98},{"$f":"IF(ISERROR(INDEX(Data!I:I,Report!$B206)),\"\",INDEX(Data!I:I,Report!$B206))","v":"00:35:58"},{"$f":"IF(ISERROR(INDEX(Data!J:J,Report!$B206)),\"\",INDEX(Data!J:J,Report!$B206))","v":"Game against Boomer at level 2.0  Single point data:"},{"$f":"IF(ISERROR(INDEX(Data!K:K,Report!$B206)),\"\",INDEX(Data!K:K,Report!$B206))","v":"Player's point"},{"$f":"IF(ISERROR(INDEX(Data!L:L,Report!$B206)),\"\",INDEX(Data!L:L,Report!$B206))","v":"New Point"},null,{"$f":"IF(ISERROR(INDEX(Data!N:N,Report!$B206)),\"\",INDEX(Data!N:N,Report!$B206))","v":1},{"$f":"IF(ISERROR(INDEX(Data!P:P,Report!$B206)),\"\",INDEX(Data!P:P,Report!$B206))","v":"Player Serve"},{"$f":"IF(ISERROR(INDEX(Data!O:O,Report!$B206)),\"\",INDEX(Data!O:O,Report!$B206))","v":4},{"$f":"IF(ISERROR(INDEX(Data!Q:Q,Report!$B206)),\"\",INDEX(Data!Q:Q,Report!$B206))","v":2},{"$f":"IF(ISERROR(INDEX(Data!R:R,Report!$B206)),\"\",INDEX(Data!R:R,Report!$B206))","v":19},{"$f":"IF(ISERROR(INDEX(Data!S:S,Report!$B206)),\"\",INDEX(Data!S:S,Report!$B206))","v":3},{"$f":"IF(ISERROR(INDEX(Data!T:T,Report!$B206)),\"\",INDEX(Data!T:T,Report!$B206))","v":5.2},{"$f":"IF(ISERROR(INDEX(Data!U:U,Report!$B206)),\"\",INDEX(Data!U:U,Report!$B206))","v":111},{"$f":"IF(ISERROR(INDEX(Data!V:V,Report!$B206)),\"\",INDEX(Data!V:V,Report!$B206))","v":6.1},null,"                   |","|"]
[203,{"$f":"IF(ISERROR(MATCH(A207,Data!A:A,0)),\"\",MATCH(A207,Data!A:A,0))","v":99},{"$f":"IF(ISERROR(INDEX(Data!I:I,Report!$B207)),\"\",INDEX(Data!I:I,Report!$B207))","v":"04:38:00"},{"$f":"IF(ISERROR(INDEX(Data!J:J,Report!$B207)),\"\",INDEX(Data!J:J,Report!$B207))","v":"Game against Boomer at level 3.5  Single point data:"},{"$f":"IF(ISERROR(INDEX(Data!K:K,Report!$B207)),\"\",INDEX(Data!K:K,Report!$B207))","v":"Player's point"},{"$f":"IF(ISERROR(INDEX(Data!L:L,Report!$B207)),\"\",INDEX(Data!L:L,Report!$B207))","v":0},null,{"$f":"IF(ISERROR(INDEX(Data!N:N,Report!$B207)),\"\",INDEX(Data!N:N,Report!$B207))","v":2},{"$f":"IF(ISERROR(INDEX(Data!P:P,Report!$B207)),\"\",INDEX(Data!P:P,Report!$B207))","v":"Topspin"},{"$f":"IF(ISERROR(INDEX(Data!O:O,Report!$B207)),\"\",INDEX(Data!O:O,Report!$B207))","v":4},{"$f":"IF(ISERROR(INDEX(Data!Q:Q,Report!$B207)),\"\",INDEX(Data!Q:Q,Report!$B207))","v":3.5},{"$f":"IF(ISERROR(INDEX(Data!R:R,Report!$B207)),\"\",INDEX(Data!R:R,Report!$B207))","v":21},{"$f":"IF(ISERROR(INDEX(Data!S:S,Report!$B207)),\"\",INDEX(Data!S:S,Report!$B207))","v":4},{"$f":"IF(ISERROR(INDEX(Data!T:T,Report!$B207)),\"\",INDEX(Data!T:T,Report!$B207))","v":4.7},{"$f":"IF(ISERROR(INDEX(Data!U:U,Report!$B207)),\"\",INDEX(Data!U:U,Report!$B207))","v":52},{"$f":"IF(ISERROR(INDEX(Data!V:V,Report!$B207)),\"\",INDEX(Data!V:V,Report!$B207))","v":4.4000000000000004},null,"                     |","||"]
[204,{"$f":"IF(ISERROR(MATCH(A208,Data!A:A,0)),\"\",MATCH(A208,Data!A:A,0))","v":100},{"$f":"IF(ISERROR(INDEX(Data!I:I,Report!$B208)),\"\",INDEX(Data!I:I,Report!$B208))","v":" "},{"$f":"IF(ISERROR(INDEX(Data!J:J,Report!$B208)),\"\",INDEX(Data!J:J,Report!$B208))","v":"User Drill #85  3 line rated mini Tennis"},{"$f":"IF(ISERROR(INDEX(Data!K:K,Report!$B208)),\"\",INDEX(Data!K:K,Report!$B208))","v":0},{"$f":"IF(ISERROR(INDEX(Data!L:L,Report!$B208)),\"\",INDEX(Data!L:L,Report!$B208))","v":0},null,{"$f":"IF(ISERROR(INDEX(Data!N:N,Report!$B208)),\"\",INDEX(Data!N:N,Report!$B208))","v":2},{"$f":"IF(ISERROR(INDEX(Data!P:P,Report!$B208)),\"\",INDEX(Data!P:P,Report!$B208))","v":0},{"$f":"IF(ISERROR(INDEX(Data!O:O,Report!$B208)),\"\",INDEX(Data!O:O,Report!$B208))","v":4},{"$f":"IF(ISERROR(INDEX(Data!Q:Q,Report!$B208)),\"\",INDEX(Data!Q:Q,Report!$B208))","v":3.5},{"$f":"IF(ISERROR(INDEX(Data!R:R,Report!$B208)),\"\",INDEX(Data!R:R,Report!$B208))","v":0},{"$f":"IF(ISERROR(INDEX(Data!S:S,Report!$B208)),\"\",INDEX(Data!S:S,Report!$B208))","v":0},{"$f":"IF(ISERROR(INDEX(Data!T:T,Report!$B208)),\"\",INDEX(Data!T:T,Report!$B208))","v":0},{"$f":"IF(ISERROR(INDEX(Data!U:U,Report!$B208)),\"\",INDEX(Data!U:U,Report!$B208))","v":0},{"$f":"IF(ISERROR(INDEX(Data!V:V,Report!$B208)),\"\",INDEX(Data!V:V,Report!$B208))","v":0},null,"|",""]
[205,{"$f":"IF(ISERROR(MATCH(A209,Data!A:A,0)),\"\",MATCH(A209,Data!A:A,0))","v":101},{"$f":"IF(ISERROR(INDEX(Data!I:I,Report!$B209)),\"\",INDEX(Data!I:I,Report!$B209))","v":"04:38:00"},{"$f":"IF(ISERROR(INDEX(Data!J:J,Report!$B209)),\"\",INDEX(Data!J:J,Report!$B209))","v":"Game against Boomer at level 3.5  Single point data:"},{"$f":"IF(ISERROR(INDEX(Data!K:K,Report!$B209)),\"\",INDEX(Data!K:K,Report!$B209))","v":"Player's point"},{"$f":"IF(ISERROR(INDEX(Data!L:L,Report!$B209)),\"\",INDEX(Data!L:L,Report!$B209))","v":0},null,{"$f":"IF(ISERROR(INDEX(Data!N:N,Report!$B209)),\"\",INDEX(Data!N:N,Report!$B209))","v":3},{"$f":"IF(ISERROR(INDEX(Data!P:P,Report!$B209)),\"\",INDEX(Data!P:P,Report!$B209))","v":"Topspin"},{"$f":"IF(ISERROR(INDEX(Data!O:O,Report!$B209)),\"\",INDEX(Data!O:O,Report!$B209))","v":4},{"$f":"IF(ISERROR(INDEX(Data!Q:Q,Report!$B209)),\"\",INDEX(Data!Q:Q,Report!$B209))","v":3.5},{"$f":"IF(ISERROR(INDEX(Data!R:R,Report!$B209)),\"\",INDEX(Data!R:R,Report!$B209))","v":17},{"$f":"IF(ISERROR(INDEX(Data!S:S,Report!$B209)),\"\",INDEX(Data!S:S,Report!$B209))","v":19},{"$f":"IF(ISERROR(INDEX(Data!T:T,Report!$B209)),\"\",INDEX(Data!T:T,Report!$B209))","v":3.2},{"$f":"IF(ISERROR(INDEX(Data!U:U,Report!$B209)),\"\",INDEX(Data!U:U,Report!$B209))","v":46},{"$f":"IF(ISERROR(INDEX(Data!V:V,Report!$B209)),\"\",INDEX(Data!V:V,Report!$B209))","v":4.2},null,"                 |","|||||||||"]
[206,{"$f":"IF(ISERROR(MATCH(A210,Data!A:A,0)),\"\",MATCH(A210,Data!A:A,0))","v":102},{"$f":"IF(ISERROR(INDEX(Data!I:I,Report!$B210)),\"\",INDEX(Data!I:I,Report!$B210))","v":" "},{"$f":"IF(ISERROR(INDEX(Data!J:J,Report!$B210)),\"\",INDEX(Data!J:J,Report!$B210))","v":"User Drill #85  3 line rated mini Tennis"},{"$f":"IF(ISERROR(INDEX(Data!K:K,Report!$B210)),\"\",INDEX(Data!K:K,Report!$B210))","v":0},{"$f":"IF(ISERROR(INDEX(Data!L:L,Report!$B210)),\"\",INDEX(Data!L:L,Report!$B210))","v":0},null,{"$f":"IF(ISERROR(INDEX(Data!N:N,Report!$B210)),\"\",INDEX(Data!N:N,Report!$B210))","v":3},{"$f":"IF(ISERROR(INDEX(Data!P:P,Report!$B210)),\"\",INDEX(Data!P:P,Report!$B210))","v":0},{"$f":"IF(ISERROR(INDEX(Data!O:O,Report!$B210)),\"\",INDEX(Data!O:O,Report!$B210))","v":10},{"$f":"IF(ISERROR(INDEX(Data!Q:Q,Report!$B210)),\"\",INDEX(Data!Q:Q,Report!$B210))","v":3.5},{"$f":"IF(ISERROR(INDEX(Data!R:R,Report!$B210)),\"\",INDEX(Data!R:R,Report!$B210))","v":0},{"$f":"IF(ISERROR(INDEX(Data!S:S,Report!$B210)),\"\",INDEX(Data!S:S,Report!$B210))","v":0},{"$f":"IF(ISERROR(INDEX(Data!T:T,Report!$B210)),\"\",INDEX(Data!T:T,Report!$B210))","v":0},{"$f":"IF(ISERROR(INDEX(Data!U:U,Report!$B210)),\"\",INDEX(Data!U:U,Report!$B210))","v":0},{"$f":"IF(ISERROR(INDEX(Data!V:V,Report!$B210)),\"\",INDEX(Data!V:V,Report!$B210))","v":0},null,"|",""]
[207,{"$f":"IF(ISERROR(MATCH(A211,Data!A:A,0)),\"\",MATCH(A211,Data!A:A,0))","v":103},{"$f":"IF(ISERROR(INDEX(Data!I:I,Report!$B211)),\"\",INDEX(Data!I:I,Report!$B211))","v":"04:38:00"},{"$f":"IF(ISERROR(INDEX(Data!J:J,Report!$B211)),\"\",INDEX(Data!J:J,Report!$B211))","v":"Game against Boomer at level 3.5  Single point data:"},{"$f":"IF(ISERROR(INDEX(Data!K:K,Report!$B211)),\"\",INDEX(Data!K:K,Report!$B211))","v":"Player's point"},{"$f":"IF(ISERROR(INDEX(Data!L:L,Report!$B211)),\"\",INDEX(Data!L:L,Report!$B211))","v":0},null,{"$f":"IF(ISERROR(INDEX(Data!N:N,Report!$B211)),\"\",INDEX(Data!N:N,Report!$B211))","v":4},{"$f":"IF(ISERROR(INDEX(Data!P:P,Report!$B211)),\"\",INDEX(Data!P:P,Report!$B211))","v":"Pass"},{"$f":"IF(ISERROR(INDEX(Data!O:O,Report!$B211)),\"\",INDEX(Data!O:O,Report!$B211))","v":4},{"$f":"IF(ISERROR(INDEX(Data!Q:Q,Report!$B211)),\"\",INDEX(Data!Q:Q,Report!$B211))","v":3.5},{"$f":"IF(ISERROR(INDEX(Data!R:R,Report!$B211)),\"\",INDEX(Data!R:R,Report!$B211))","v":14},{"$f":"IF(ISERROR(INDEX(Data!S:S,Report!$B211)),\"\",INDEX(Data!S:S,Report!$B211))","v":9},{"$f":"IF(ISERROR(INDEX(Data!T:T,Report!$B211)),\"\",INDEX(Data!T:T,Report!$B211))","v":2.6},{"$f":"IF(ISERROR(INDEX(Data!U:U,Report!$B211)),\"\",INDEX(Data!U:U,Report!$B211))","v":37},{"$f":"IF(ISERROR(INDEX(Data!V:V,Report!$B211)),\"\",INDEX(Data!V:V,Report!$B211))","v":3.4},null,"              |","||||"]
[208,{"$f":"IF(ISERROR(MATCH(A212,Data!A:A,0)),\"\",MATCH(A212,Data!A:A,0))","v":""},{"$f":"IF(ISERROR(INDEX(Data!I:I,Report!$B212)),\"\",INDEX(Data!I:I,Report!$B212))","v":""},{"$f":"IF(ISERROR(INDEX(Data!J:J,Report!$B212)),\"\",INDEX(Data!J:J,Report!$B212))","v":""},{"$f":"IF(ISERROR(INDEX(Data!K:K,Report!$B212)),\"\",INDEX(Data!K:K,Report!$B212))","v":""},{"$f":"IF(ISERROR(INDEX(Data!L:L,Report!$B212)),\"\",INDEX(Data!L:L,Report!$B212))","v":""},null,{"$f":"IF(ISERROR(INDEX(Data!N:N,Report!$B212)),\"\",INDEX(Data!N:N,Report!$B212))","v":""},{"$f":"IF(ISERROR(INDEX(Data!P:P,Report!$B212)),\"\",INDEX(Data!P:P,Report!$B212))","v":""},{"$f":"IF(ISERROR(INDEX(Data!O:O,Report!$B212)),\"\",INDEX(Data!O:O,Report!$B212))","v":""},{"$f":"IF(ISERROR(INDEX(Data!Q:Q,Report!$B212)),\"\",INDEX(Data!Q:Q,Report!$B212))","v":""},{"$f":"IF(ISERROR(INDEX(Data!R:R,Report!$B212)),\"\",INDEX(Data!R:R,Report!$B212))","v":""},{"$f":"IF(ISERROR(INDEX(Data!S:S,Report!$B212)),\"\",INDEX(Data!S:S,Report!$B212))","v":""},{"$f":"IF(ISERROR(INDEX(Data!T:T,Report!$B212)),\"\",INDEX(Data!T:T,Report!$B212))","v":""},{"$f":"IF(ISERROR(INDEX(Data!U:U,Report!$B212)),\"\",INDEX(Data!U:U,Report!$B212))","v":""},{"$f":"IF(ISERROR(INDEX(Data!V:V,Report!$B212)),\"\",INDEX(Data!V:V,Report!$B212))","v":""},null,"",""]
[209,{"$f":"IF(ISERROR(MATCH(A213,Data!A:A,0)),\"\",MATCH(A213,Data!A:A,0))","v":""},{"$f":"IF(ISERROR(INDEX(Data!I:I,Report!$B213)),\"\",INDEX(Data!I:I,Report!$B213))","v":""},{"$f":"IF(ISERROR(INDEX(Data!J:J,Report!$B213)),\"\",INDEX(Data!J:J,Report!$B213))","v":""},{"$f":"IF(ISERROR(INDEX(Data!K:K,Report!$B213)),\"\",INDEX(Data!K:K,Report!$B213))","v":""},{"$f":"IF(ISERROR(INDEX(Data!L:L,Report!$B213)),\"\",INDEX(Data!L:L,Report!$B213))","v":""},null,{"$f":"IF(ISERROR(INDEX(Data!N:N,Report!$B213)),\"\",INDEX(Data!N:N,Report!$B213))","v":""},{"$f":"IF(ISERROR(INDEX(Data!P:P,Report!$B213)),\"\",INDEX(Data!P:P,Report!$B213))","v":""},{"$f":"IF(ISERROR(INDEX(Data!O:O,Report!$B213)),\"\",INDEX(Data!O:O,Report!$B213))","v":""},{"$f":"IF(ISERROR(INDEX(Data!Q:Q,Report!$B213)),\"\",INDEX(Data!Q:Q,Report!$B213))","v":""},{"$f":"IF(ISERROR(INDEX(Data!R:R,Report!$B213)),\"\",INDEX(Data!R:R,Report!$B213))","v":""},{"$f":"IF(ISERROR(INDEX(Data!S:S,Report!$B213)),\"\",INDEX(Data!S:S,Report!$B213))","v":""},{"$f":"IF(ISERROR(INDEX(Data!T:T,Report!$B213)),\"\",INDEX(Data!T:T,Report!$B213))","v":""},{"$f":"IF(ISERROR(INDEX(Data!U:U,Report!$B213)),\"\",INDEX(Data!U:U,Report!$B213))","v":""},{"$f":"IF(ISERROR(INDEX(Data!V:V,Report!$B213)),\"\",INDEX(Data!V:V,Report!$B213))","v":""},null,"",""]
[210,{"$f":"IF(ISERROR(MATCH(A214,Data!A:A,0)),\"\",MATCH(A214,Data!A:A,0))","v":""},{"$f":"IF(ISERROR(INDEX(Data!I:I,Report!$B214)),\"\",INDEX(Data!I:I,Report!$B214))","v":""},{"$f":"IF(ISERROR(INDEX(Data!J:J,Report!$B214)),\"\",INDEX(Data!J:J,Report!$B214))","v":""},{"$f":"IF(ISERROR(INDEX(Data!K:K,Report!$B214)),\"\",INDEX(Data!K:K,Report!$B214))","v":""},{"$f":"IF(ISERROR(INDEX(Data!L:L,Report!$B214)),\"\",INDEX(Data!L:L,Report!$B214))","v":""},null,{"$f":"IF(ISERROR(INDEX(Data!N:N,Report!$B214)),\"\",INDEX(Data!N:N,Report!$B214))","v":""},{"$f":"IF(ISERROR(INDEX(Data!P:P,Report!$B214)),\"\",INDEX(Data!P:P,Report!$B214))","v":""},{"$f":"IF(ISERROR(INDEX(Data!O:O,Report!$B214)),\"\",INDEX(Data!O:O,Report!$B214))","v":""},{"$f":"IF(ISERROR(INDEX(Data!Q:Q,Report!$B214)),\"\",INDEX(Data!Q:Q,Report!$B214))","v":""},{"$f":"IF(ISERROR(INDEX(Data!R:R,Report!$B214)),\"\",INDEX(Data!R:R,Report!$B214))","v":""},{"$f":"IF(ISERROR(INDEX(Data!S:S,Report!$B214)),\"\",INDEX(Data!S:S,Report!$B214))","v":""},{"$f":"IF(ISERROR(INDEX(Data!T:T,Report!$B214)),\"\",INDEX(Data!T:T,Report!$B214))","v":""},{"$f":"IF(ISERROR(INDEX(Data!U:U,Report!$B214)),\"\",INDEX(Data!U:U,Report!$B214))","v":""},{"$f":"IF(ISERROR(INDEX(Data!V:V,Report!$B214)),\"\",INDEX(Data!V:V,Report!$B214))","v":""},null,"",""]
[211,{"$f":"IF(ISERROR(MATCH(A215,Data!A:A,0)),\"\",MATCH(A215,Data!A:A,0))","v":104},{"$f":"IF(ISERROR(INDEX(Data!I:I,Report!$B215)),\"\",INDEX(Data!I:I,Report!$B215))","v":"04:38:32"},{"$f":"IF(ISERROR(INDEX(Data!J:J,Report!$B215)),\"\",INDEX(Data!J:J,Report!$B215))","v":"Game against Boomer at level 3.5  Single point data:"},{"$f":"IF(ISERROR(INDEX(Data!K:K,Report!$B215)),\"\",INDEX(Data!K:K,Report!$B215))","v":"Player's point"},{"$f":"IF(ISERROR(INDEX(Data!L:L,Report!$B215)),\"\",INDEX(Data!L:L,Report!$B215))","v":"New Point"},null,{"$f":"IF(ISERROR(INDEX(Data!N:N,Report!$B215)),\"\",INDEX(Data!N:N,Report!$B215))","v":1},{"$f":"IF(ISERROR(INDEX(Data!P:P,Report!$B215)),\"\",INDEX(Data!P:P,Report!$B215))","v":"Player Serve"},{"$f":"IF(ISERROR(INDEX(Data!O:O,Report!$B215)),\"\",INDEX(Data!O:O,Report!$B215))","v":4},{"$f":"IF(ISERROR(INDEX(Data!Q:Q,Report!$B215)),\"\",INDEX(Data!Q:Q,Report!$B215))","v":3.5},{"$f":"IF(ISERROR(INDEX(Data!R:R,Report!$B215)),\"\",INDEX(Data!R:R,Report!$B215))","v":15},{"$f":"IF(ISERROR(INDEX(Data!S:S,Report!$B215)),\"\",INDEX(Data!S:S,Report!$B215))","v":7},{"$f":"IF(ISERROR(INDEX(Data!T:T,Report!$B215)),\"\",INDEX(Data!T:T,Report!$B215))","v":3.3},{"$f":"IF(ISERROR(INDEX(Data!U:U,Report!$B215)),\"\",INDEX(Data!U:U,Report!$B215))","v":113},{"$f":"IF(ISERROR(INDEX(Data!V:V,Report!$B215)),\"\",INDEX(Data!V:V,Report!$B215))","v":5.0999999999999996},null,"               |","|||"]
[212,{"$f":"IF(ISERROR(MATCH(A216,Data!A:A,0)),\"\",MATCH(A216,Data!A:A,0))","v":""},{"$f":"IF(ISERROR(INDEX(Data!I:I,Report!$B216)),\"\",INDEX(Data!I:I,Report!$B216))","v":""},{"$f":"IF(ISERROR(INDEX(Data!J:J,Report!$B216)),\"\",INDEX(Data!J:J,Report!$B216))","v":""},{"$f":"IF(ISERROR(INDEX(Data!K:K,Report!$B216)),\"\",INDEX(Data!K:K,Report!$B216))","v":""},{"$f":"IF(ISERROR(INDEX(Data!L:L,Report!$B216)),\"\",INDEX(Data!L:L,Report!$B216))","v":""},null,{"$f":"IF(ISERROR(INDEX(Data!N:N,Report!$B216)),\"\",INDEX(Data!N:N,Report!$B216))","v":""},{"$f":"IF(ISERROR(INDEX(Data!P:P,Report!$B216)),\"\",INDEX(Data!P:P,Report!$B216))","v":""},{"$f":"IF(ISERROR(INDEX(Data!O:O,Report!$B216)),\"\",INDEX(Data!O:O,Report!$B216))","v":""},{"$f":"IF(ISERROR(INDEX(Data!Q:Q,Report!$B216)),\"\",INDEX(Data!Q:Q,Report!$B216))","v":""},{"$f":"IF(ISERROR(INDEX(Data!R:R,Report!$B216)),\"\",INDEX(Data!R:R,Report!$B216))","v":""},{"$f":"IF(ISERROR(INDEX(Data!S:S,Report!$B216)),\"\",INDEX(Data!S:S,Report!$B216))","v":""},{"$f":"IF(ISERROR(INDEX(Data!T:T,Report!$B216)),\"\",INDEX(Data!T:T,Report!$B216))","v":""},{"$f":"IF(ISERROR(INDEX(Data!U:U,Report!$B216)),\"\",INDEX(Data!U:U,Report!$B216))","v":""},{"$f":"IF(ISERROR(INDEX(Data!V:V,Report!$B216)),\"\",INDEX(Data!V:V,Report!$B216))","v":""},null,"",""]
[213,{"$f":"IF(ISERROR(MATCH(A217,Data!A:A,0)),\"\",MATCH(A217,Data!A:A,0))","v":""},{"$f":"IF(ISERROR(INDEX(Data!I:I,Report!$B217)),\"\",INDEX(Data!I:I,Report!$B217))","v":""},{"$f":"IF(ISERROR(INDEX(Data!J:J,Report!$B217)),\"\",INDEX(Data!J:J,Report!$B217))","v":""},{"$f":"IF(ISERROR(INDEX(Data!K:K,Report!$B217)),\"\",INDEX(Data!K:K,Report!$B217))","v":""},{"$f":"IF(ISERROR(INDEX(Data!L:L,Report!$B217)),\"\",INDEX(Data!L:L,Report!$B217))","v":""},null,{"$f":"IF(ISERROR(INDEX(Data!N:N,Report!$B217)),\"\",INDEX(Data!N:N,Report!$B217))","v":""},{"$f":"IF(ISERROR(INDEX(Data!P:P,Report!$B217)),\"\",INDEX(Data!P:P,Report!$B217))","v":""},{"$f":"IF(ISERROR(INDEX(Data!O:O,Report!$B217)),\"\",INDEX(Data!O:O,Report!$B217))","v":""},{"$f":"IF(ISERROR(INDEX(Data!Q:Q,Report!$B217)),\"\",INDEX(Data!Q:Q,Report!$B217))","v":""},{"$f":"IF(ISERROR(INDEX(Data!R:R,Report!$B217)),\"\",INDEX(Data!R:R,Report!$B217))","v":""},{"$f":"IF(ISERROR(INDEX(Data!S:S,Report!$B217)),\"\",INDEX(Data!S:S,Report!$B217))","v":""},{"$f":"IF(ISERROR(INDEX(Data!T:T,Report!$B217)),\"\",INDEX(Data!T:T,Report!$B217))","v":""},{"$f":"IF(ISERROR(INDEX(Data!U:U,Report!$B217)),\"\",INDEX(Data!U:U,Report!$B217))","v":""},{"$f":"IF(ISERROR(INDEX(Data!V:V,Report!$B217)),\"\",INDEX(Data!V:V,Report!$B217))","v":""},null,"",""]
[214,{"$f":"IF(ISERROR(MATCH(A218,Data!A:A,0)),\"\",MATCH(A218,Data!A:A,0))","v":""},{"$f":"IF(ISERROR(INDEX(Data!I:I,Report!$B218)),\"\",INDEX(Data!I:I,Report!$B218))","v":""},{"$f":"IF(ISERROR(INDEX(Data!J:J,Report!$B218)),\"\",INDEX(Data!J:J,Report!$B218))","v":""},{"$f":"IF(ISERROR(INDEX(Data!K:K,Report!$B218)),\"\",INDEX(Data!K:K,Report!$B218))","v":""},{"$f":"IF(ISERROR(INDEX(Data!L:L,Report!$B218)),\"\",INDEX(Data!L:L,Report!$B218))","v":""},null,{"$f":"IF(ISERROR(INDEX(Data!N:N,Report!$B218)),\"\",INDEX(Data!N:N,Report!$B218))","v":""},{"$f":"IF(ISERROR(INDEX(Data!P:P,Report!$B218)),\"\",INDEX(Data!P:P,Report!$B218))","v":""},{"$f":"IF(ISERROR(INDEX(Data!O:O,Report!$B218)),\"\",INDEX(Data!O:O,Report!$B218))","v":""},{"$f":"IF(ISERROR(INDEX(Data!Q:Q,Report!$B218)),\"\",INDEX(Data!Q:Q,Report!$B218))","v":""},{"$f":"IF(ISERROR(INDEX(Data!R:R,Report!$B218)),\"\",INDEX(Data!R:R,Report!$B218))","v":""},{"$f":"IF(ISERROR(INDEX(Data!S:S,Report!$B218)),\"\",INDEX(Data!S:S,Report!$B218))","v":""},{"$f":"IF(ISERROR(INDEX(Data!T:T,Report!$B218)),\"\",INDEX(Data!T:T,Report!$B218))","v":""},{"$f":"IF(ISERROR(INDEX(Data!U:U,Report!$B218)),\"\",INDEX(Data!U:U,Report!$B218))","v":""},{"$f":"IF(ISERROR(INDEX(Data!V:V,Report!$B218)),\"\",INDEX(Data!V:V,Report!$B218))","v":""},null,"",""]
[215,{"$f":"IF(ISERROR(MATCH(A219,Data!A:A,0)),\"\",MATCH(A219,Data!A:A,0))","v":105},{"$f":"IF(ISERROR(INDEX(Data!I:I,Report!$B219)),\"\",INDEX(Data!I:I,Report!$B219))","v":"00:36:22"},{"$f":"IF(ISERROR(INDEX(Data!J:J,Report!$B219)),\"\",INDEX(Data!J:J,Report!$B219))","v":"Game against Boomer at level 2.0  Single point data:"},{"$f":"IF(ISERROR(INDEX(Data!K:K,Report!$B219)),\"\",INDEX(Data!K:K,Report!$B219))","v":"Player's point"},{"$f":"IF(ISERROR(INDEX(Data!L:L,Report!$B219)),\"\",INDEX(Data!L:L,Report!$B219))","v":"New Point"},null,{"$f":"IF(ISERROR(INDEX(Data!N:N,Report!$B219)),\"\",INDEX(Data!N:N,Report!$B219))","v":1},{"$f":"IF(ISERROR(INDEX(Data!P:P,Report!$B219)),\"\",INDEX(Data!P:P,Report!$B219))","v":"Player Serve"},{"$f":"IF(ISERROR(INDEX(Data!O:O,Report!$B219)),\"\",INDEX(Data!O:O,Report!$B219))","v":4},{"$f":"IF(ISERROR(INDEX(Data!Q:Q,Report!$B219)),\"\",INDEX(Data!Q:Q,Report!$B219))","v":2},{"$f":"IF(ISERROR(INDEX(Data!R:R,Report!$B219)),\"\",INDEX(Data!R:R,Report!$B219))","v":0},{"$f":"IF(ISERROR(INDEX(Data!S:S,Report!$B219)),\"\",INDEX(Data!S:S,Report!$B219))","v":0},{"$f":"IF(ISERROR(INDEX(Data!T:T,Report!$B219)),\"\",INDEX(Data!T:T,Report!$B219))","v":0},{"$f":"IF(ISERROR(INDEX(Data!U:U,Report!$B219)),\"\",INDEX(Data!U:U,Report!$B219))","v":0},{"$f":"IF(ISERROR(INDEX(Data!V:V,Report!$B219)),\"\",INDEX(Data!V:V,Report!$B219))","v":0},null,"|",""]
[216,{"$f":"IF(ISERROR(MATCH(A220,Data!A:A,0)),\"\",MATCH(A220,Data!A:A,0))","v":""},{"$f":"IF(ISERROR(INDEX(Data!I:I,Report!$B220)),\"\",INDEX(Data!I:I,Report!$B220))","v":""},{"$f":"IF(ISERROR(INDEX(Data!J:J,Report!$B220)),\"\",INDEX(Data!J:J,Report!$B220))","v":""},{"$f":"IF(ISERROR(INDEX(Data!K:K,Report!$B220)),\"\",INDEX(Data!K:K,Report!$B220))","v":""},{"$f":"IF(ISERROR(INDEX(Data!L:L,Report!$B220)),\"\",INDEX(Data!L:L,Report!$B220))","v":""},null,{"$f":"IF(ISERROR(INDEX(Data!N:N,Report!$B220)),\"\",INDEX(Data!N:N,Report!$B220))","v":""},{"$f":"IF(ISERROR(INDEX(Data!P:P,Report!$B220)),\"\",INDEX(Data!P:P,Report!$B220))","v":""},{"$f":"IF(ISERROR(INDEX(Data!O:O,Report!$B220)),\"\",INDEX(Data!O:O,Report!$B220))","v":""},{"$f":"IF(ISERROR(INDEX(Data!Q:Q,Report!$B220)),\"\",INDEX(Data!Q:Q,Report!$B220))","v":""},{"$f":"IF(ISERROR(INDEX(Data!R:R,Report!$B220)),\"\",INDEX(Data!R:R,Report!$B220))","v":""},{"$f":"IF(ISERROR(INDEX(Data!S:S,Report!$B220)),\"\",INDEX(Data!S:S,Report!$B220))","v":""},{"$f":"IF(ISERROR(INDEX(Data!T:T,Report!$B220)),\"\",INDEX(Data!T:T,Report!$B220))","v":""},{"$f":"IF(ISERROR(INDEX(Data!U:U,Report!$B220)),\"\",INDEX(Data!U:U,Report!$B220))","v":""},{"$f":"IF(ISERROR(INDEX(Data!V:V,Report!$B220)),\"\",INDEX(Data!V:V,Report!$B220))","v":""},null,"",""]
[217,{"$f":"IF(ISERROR(MATCH(A221,Data!A:A,0)),\"\",MATCH(A221,Data!A:A,0))","v":""},{"$f":"IF(ISERROR(INDEX(Data!I:I,Report!$B221)),\"\",INDEX(Data!I:I,Report!$B221))","v":""},{"$f":"IF(ISERROR(INDEX(Data!J:J,Report!$B221)),\"\",INDEX(Data!J:J,Report!$B221))","v":""},{"$f":"IF(ISERROR(INDEX(Data!K:K,Report!$B221)),\"\",INDEX(Data!K:K,Report!$B221))","v":""},{"$f":"IF(ISERROR(INDEX(Data!L:L,Report!$B221)),\"\",INDEX(Data!L:L,Report!$B221))","v":""},null,{"$f":"IF(ISERROR(INDEX(Data!N:N,Report!$B221)),\"\",INDEX(Data!N:N,Report!$B221))","v":""},{"$f":"IF(ISERROR(INDEX(Data!P:P,Report!$B221)),\"\",INDEX(Data!P:P,Report!$B221))","v":""},{"$f":"IF(ISERROR(INDEX(Data!O:O,Report!$B221)),\"\",INDEX(Data!O:O,Report!$B221))","v":""},{"$f":"IF(ISERROR(INDEX(Data!Q:Q,Report!$B221)),\"\",INDEX(Data!Q:Q,Report!$B221))","v":""},{"$f":"IF(ISERROR(INDEX(Data!R:R,Report!$B221)),\"\",INDEX(Data!R:R,Report!$B221))","v":""},{"$f":"IF(ISERROR(INDEX(Data!S:S,Report!$B221)),\"\",INDEX(Data!S:S,Report!$B221))","v":""},{"$f":"IF(ISERROR(INDEX(Data!T:T,Report!$B221)),\"\",INDEX(Data!T:T,Report!$B221))","v":""},{"$f":"IF(ISERROR(INDEX(Data!U:U,Report!$B221)),\"\",INDEX(Data!U:U,Report!$B221))","v":""},{"$f":"IF(ISERROR(INDEX(Data!V:V,Report!$B221)),\"\",INDEX(Data!V:V,Report!$B221))","v":""},null,"",""]
[218,{"$f":"IF(ISERROR(MATCH(A222,Data!A:A,0)),\"\",MATCH(A222,Data!A:A,0))","v":""},{"$f":"IF(ISERROR(INDEX(Data!I:I,Report!$B222)),\"\",INDEX(Data!I:I,Report!$B222))","v":""},{"$f":"IF(ISERROR(INDEX(Data!J:J,Report!$B222)),\"\",INDEX(Data!J:J,Report!$B222))","v":""},{"$f":"IF(ISERROR(INDEX(Data!K:K,Report!$B222)),\"\",INDEX(Data!K:K,Report!$B222))","v":""},{"$f":"IF(ISERROR(INDEX(Data!L:L,Report!$B222)),\"\",INDEX(Data!L:L,Report!$B222))","v":""},null,{"$f":"IF(ISERROR(INDEX(Data!N:N,Report!$B222)),\"\",INDEX(Data!N:N,Report!$B222))","v":""},{"$f":"IF(ISERROR(INDEX(Data!P:P,Report!$B222)),\"\",INDEX(Data!P:P,Report!$B222))","v":""},{"$f":"IF(ISERROR(INDEX(Data!O:O,Report!$B222)),\"\",INDEX(Data!O:O,Report!$B222))","v":""},{"$f":"IF(ISERROR(INDEX(Data!Q:Q,Report!$B222)),\"\",INDEX(Data!Q:Q,Report!$B222))","v":""},{"$f":"IF(ISERROR(INDEX(Data!R:R,Report!$B222)),\"\",INDEX(Data!R:R,Report!$B222))","v":""},{"$f":"IF(ISERROR(INDEX(Data!S:S,Report!$B222)),\"\",INDEX(Data!S:S,Report!$B222))","v":""},{"$f":"IF(ISERROR(INDEX(Data!T:T,Report!$B222)),\"\",INDEX(Data!T:T,Report!$B222))","v":""},{"$f":"IF(ISERROR(INDEX(Data!U:U,Report!$B222)),\"\",INDEX(Data!U:U,Report!$B222))","v":""},{"$f":"IF(ISERROR(INDEX(Data!V:V,Report!$B222)),\"\",INDEX(Data!V:V,Report!$B222))","v":""},null,"",""]
[219,{"$f":"IF(ISERROR(MATCH(A223,Data!A:A,0)),\"\",MATCH(A223,Data!A:A,0))","v":106},{"$f":"IF(ISERROR(INDEX(Data!I:I,Report!$B223)),\"\",INDEX(Data!I:I,Report!$B223))","v":" "},{"$f":"IF(ISERROR(INDEX(Data!J:J,Report!$B223)),\"\",INDEX(Data!J:J,Report!$B223))","v":"User Drill #85  3 line rated mini Tennis"},{"$f":"IF(ISERROR(INDEX(Data!K:K,Report!$B223)),\"\",INDEX(Data!K:K,Report!$B223))","v":0},{"$f":"IF(ISERROR(INDEX(Data!L:L,Report!$B223)),\"\",INDEX(Data!L:L,Report!$B223))","v":"New Point"},null,{"$f":"IF(ISERROR(INDEX(Data!N:N,Report!$B223)),\"\",INDEX(Data!N:N,Report!$B223))","v":1},{"$f":"IF(ISERROR(INDEX(Data!P:P,Report!$B223)),\"\",INDEX(Data!P:P,Report!$B223))","v":0},{"$f":"IF(ISERROR(INDEX(Data!O:O,Report!$B223)),\"\",INDEX(Data!O:O,Report!$B223))","v":11},{"$f":"IF(ISERROR(INDEX(Data!Q:Q,Report!$B223)),\"\",INDEX(Data!Q:Q,Report!$B223))","v":3.5},{"$f":"IF(ISERROR(INDEX(Data!R:R,Report!$B223)),\"\",INDEX(Data!R:R,Report!$B223))","v":0},{"$f":"IF(ISERROR(INDEX(Data!S:S,Report!$B223)),\"\",INDEX(Data!S:S,Report!$B223))","v":0},{"$f":"IF(ISERROR(INDEX(Data!T:T,Report!$B223)),\"\",INDEX(Data!T:T,Report!$B223))","v":0},{"$f":"IF(ISERROR(INDEX(Data!U:U,Report!$B223)),\"\",INDEX(Data!U:U,Report!$B223))","v":0},{"$f":"IF(ISERROR(INDEX(Data!V:V,Report!$B223)),\"\",INDEX(Data!V:V,Report!$B223))","v":0},null,"|",""]
[220,{"$f":"IF(ISERROR(MATCH(A224,Data!A:A,0)),\"\",MATCH(A224,Data!A:A,0))","v":107},{"$f":"IF(ISERROR(INDEX(Data!I:I,Report!$B224)),\"\",INDEX(Data!I:I,Report!$B224))","v":"00:36:22"},{"$f":"IF(ISERROR(INDEX(Data!J:J,Report!$B224)),\"\",INDEX(Data!J:J,Report!$B224))","v":"Game against Boomer at level 2.0  Single point data:"},{"$f":"IF(ISERROR(INDEX(Data!K:K,Report!$B224)),\"\",INDEX(Data!K:K,Report!$B224))","v":"Player's point"},{"$f":"IF(ISERROR(INDEX(Data!L:L,Report!$B224)),\"\",INDEX(Data!L:L,Report!$B224))","v":0},null,{"$f":"IF(ISERROR(INDEX(Data!N:N,Report!$B224)),\"\",INDEX(Data!N:N,Report!$B224))","v":2},{"$f":"IF(ISERROR(INDEX(Data!P:P,Report!$B224)),\"\",INDEX(Data!P:P,Report!$B224))","v":"Player Serve"},{"$f":"IF(ISERROR(INDEX(Data!O:O,Report!$B224)),\"\",INDEX(Data!O:O,Report!$B224))","v":4},{"$f":"IF(ISERROR(INDEX(Data!Q:Q,Report!$B224)),\"\",INDEX(Data!Q:Q,Report!$B224))","v":2},{"$f":"IF(ISERROR(INDEX(Data!R:R,Report!$B224)),\"\",INDEX(Data!R:R,Report!$B224))","v":19},{"$f":"IF(ISERROR(INDEX(Data!S:S,Report!$B224)),\"\",INDEX(Data!S:S,Report!$B224))","v":19},{"$f":"IF(ISERROR(INDEX(Data!T:T,Report!$B224)),\"\",INDEX(Data!T:T,Report!$B224))","v":4.5999999999999996},{"$f":"IF(ISERROR(INDEX(Data!U:U,Report!$B224)),\"\",INDEX(Data!U:U,Report!$B224))","v":104},{"$f":"IF(ISERROR(INDEX(Data!V:V,Report!$B224)),\"\",INDEX(Data!V:V,Report!$B224))","v":5.6},null,"                   |","|||||||||"]
[221,{"$f":"IF(ISERROR(MATCH(A225,Data!A:A,0)),\"\",MATCH(A225,Data!A:A,0))","v":108},{"$f":"IF(ISERROR(INDEX(Data!I:I,Report!$B225)),\"\",INDEX(Data!I:I,Report!$B225))","v":" "},{"$f":"IF(ISERROR(INDEX(Data!J:J,Report!$B225)),\"\",INDEX(Data!J:J,Report!$B225))","v":"User Drill #85  3 line rated mini Tennis"},{"$f":"IF(ISERROR(INDEX(Data!K:K,Report!$B225)),\"\",INDEX(Data!K:K,Report!$B225))","v":0},{"$f":"IF(ISERROR(INDEX(Data!L:L,Report!$B225)),\"\",INDEX(Data!L:L,Report!$B225))","v":0},null,{"$f":"IF(ISERROR(INDEX(Data!N:N,Report!$B225)),\"\",INDEX(Data!N:N,Report!$B225))","v":2},{"$f":"IF(ISERROR(INDEX(Data!P:P,Report!$B225)),\"\",INDEX(Data!P:P,Report!$B225))","v":0},{"$f":"IF(ISERROR(INDEX(Data!O:O,Report!$B225)),\"\",INDEX(Data!O:O,Report!$B225))","v":4},{"$f":"IF(ISERROR(INDEX(Data!Q:Q,Report!$B225)),\"\",INDEX(Data!Q:Q,Report!$B225))","v":3.5},{"$f":"IF(ISERROR(INDEX(Data!R:R,Report!$B225)),\"\",INDEX(Data!R:R,Report!$B225))","v":0},{"$f":"IF(ISERROR(INDEX(Data!S:S,Report!$B225)),\"\",INDEX(Data!S:S,Report!$B225))","v":0},{"$f":"IF(ISERROR(INDEX(Data!T:T,Report!$B225)),\"\",INDEX(Data!T:T,Report!$B225))","v":0},{"$f":"IF(ISERROR(INDEX(Data!U:U,Report!$B225)),\"\",INDEX(Data!U:U,Report!$B225))","v":0},{"$f":"IF(ISERROR(INDEX(Data!V:V,Report!$B225)),\"\",INDEX(Data!V:V,Report!$B225))","v":0},null,"|",""]
[222,{"$f":"IF(ISERROR(MATCH(A226,Data!A:A,0)),\"\",MATCH(A226,Data!A:A,0))","v":109},{"$f":"IF(ISERROR(INDEX(Data!I:I,Report!$B226)),\"\",INDEX(Data!I:I,Report!$B226))","v":"04:38:32"},{"$f":"IF(ISERROR(INDEX(Data!J:J,Report!$B226)),\"\",INDEX(Data!J:J,Report!$B226))","v":"Game against Boomer at level 3.5  Single point data:"},{"$f":"IF(ISERROR(INDEX(Data!K:K,Report!$B226)),\"\",INDEX(Data!K:K,Report!$B226))","v":"Player's point"},{"$f":"IF(ISERROR(INDEX(Data!L:L,Report!$B226)),\"\",INDEX(Data!L:L,Report!$B226))","v":0},null,{"$f":"IF(ISERROR(INDEX(Data!N:N,Report!$B226)),\"\",INDEX(Data!N:N,Report!$B226))","v":2},{"$f":"IF(ISERROR(INDEX(Data!P:P,Report!$B226)),\"\",INDEX(Data!P:P,Report!$B226))","v":"Heavy Topspin"},{"$f":"IF(ISERROR(INDEX(Data!O:O,Report!$B226)),\"\",INDEX(Data!O:O,Report!$B226))","v":3},{"$f":"IF(ISERROR(INDEX(Data!Q:Q,Report!$B226)),\"\",INDEX(Data!Q:Q,Report!$B226))","v":3.5},{"$f":"IF(ISERROR(INDEX(Data!R:R,Report!$B226)),\"\",INDEX(Data!R:R,Report!$B226))","v":35},{"$f":"IF(ISERROR(INDEX(Data!S:S,Report!$B226)),\"\",INDEX(Data!S:S,Report!$B226))","v":23},{"$f":"IF(ISERROR(INDEX(Data!T:T,Report!$B226)),\"\",INDEX(Data!T:T,Report!$B226))","v":6.1},{"$f":"IF(ISERROR(INDEX(Data!U:U,Report!$B226)),\"\",INDEX(Data!U:U,Report!$B226))","v":41},{"$f":"IF(ISERROR(INDEX(Data!V:V,Report!$B226)),\"\",INDEX(Data!V:V,Report!$B226))","v":4.5999999999999996},null,"                                   |","|||||||||||"]
[223,{"$f":"IF(ISERROR(MATCH(A227,Data!A:A,0)),\"\",MATCH(A227,Data!A:A,0))","v":110},{"$f":"IF(ISERROR(INDEX(Data!I:I,Report!$B227)),\"\",INDEX(Data!I:I,Report!$B227))","v":" "},{"$f":"IF(ISERROR(INDEX(Data!J:J,Report!$B227)),\"\",INDEX(Data!J:J,Report!$B227))","v":"User Drill #85  3 line rated mini Tennis"},{"$f":"IF(ISERROR(INDEX(Data!K:K,Report!$B227)),\"\",INDEX(Data!K:K,Report!$B227))","v":0},{"$f":"IF(ISERROR(INDEX(Data!L:L,Report!$B227)),\"\",INDEX(Data!L:L,Report!$B227))","v":0},null,{"$f":"IF(ISERROR(INDEX(Data!N:N,Report!$B227)),\"\",INDEX(Data!N:N,Report!$B227))","v":3},{"$f":"IF(ISERROR(INDEX(Data!P:P,Report!$B227)),\"\",INDEX(Data!P:P,Report!$B227))","v":0},{"$f":"IF(ISERROR(INDEX(Data!O:O,Report!$B227)),\"\",INDEX(Data!O:O,Report!$B227))","v":10},{"$f":"IF(ISERROR(INDEX(Data!Q:Q,Report!$B227)),\"\",INDEX(Data!Q:Q,Report!$B227))","v":3.5},{"$f":"IF(ISERROR(INDEX(Data!R:R,Report!$B227)),\"\",INDEX(Data!R:R,Report!$B227))","v":0},{"$f":"IF(ISERROR(INDEX(Data!S:S,Report!$B227)),\"\",INDEX(Data!S:S,Report!$B227))","v":0},{"$f":"IF(ISERROR(INDEX(Data!T:T,Report!$B227)),\"\",INDEX(Data!T:T,Report!$B227))","v":0},{"$f":"IF(ISERROR(INDEX(Data!U:U,Report!$B227)),\"\",INDEX(Data!U:U,Report!$B227))","v":0},{"$f":"IF(ISERROR(INDEX(Data!V:V,Report!$B227)),\"\",INDEX(Data!V:V,Report!$B227))","v":0},null,"|",""]
[224,{"$f":"IF(ISERROR(MATCH(A228,Data!A:A,0)),\"\",MATCH(A228,Data!A:A,0))","v":111},{"$f":"IF(ISERROR(INDEX(Data!I:I,Report!$B228)),\"\",INDEX(Data!I:I,Report!$B228))","v":"04:38:32"},{"$f":"IF(ISERROR(INDEX(Data!J:J,Report!$B228)),\"\",INDEX(Data!J:J,Report!$B228))","v":"Game against Boomer at level 3.5  Single point data:"},{"$f":"IF(ISERROR(INDEX(Data!K:K,Report!$B228)),\"\",INDEX(Data!K:K,Report!$B228))","v":"Player's point"},{"$f":"IF(ISERROR(INDEX(Data!L:L,Report!$B228)),\"\",INDEX(Data!L:L,Report!$B228))","v":0},null,{"$f":"IF(ISERROR(INDEX(Data!N:N,Report!$B228)),\"\",INDEX(Data!N:N,Report!$B228))","v":3},{"$f":"IF(ISERROR(INDEX(Data!P:P,Report!$B228)),\"\",INDEX(Data!P:P,Report!$B228))","v":"Topspin"},{"$f":"IF(ISERROR(INDEX(Data!O:O,Report!$B228)),\"\",INDEX(Data!O:O,Report!$B228))","v":4},{"$f":"IF(ISERROR(INDEX(Data!Q:Q,Report!$B228)),\"\",INDEX(Data!Q:Q,Report!$B228))","v":3.5},{"$f":"IF(ISERROR(INDEX(Data!R:R,Report!$B228)),\"\",INDEX(Data!R:R,Report!$B228))","v":23},{"$f":"IF(ISERROR(INDEX(Data!S:S,Report!$B228)),\"\",INDEX(Data!S:S,Report!$B228))","v":7},{"$f":"IF(ISERROR(INDEX(Data!T:T,Report!$B228)),\"\",INDEX(Data!T:T,Report!$B228))","v":4.5},{"$f":"IF(ISERROR(INDEX(Data!U:U,Report!$B228)),\"\",INDEX(Data!U:U,Report!$B228))","v":47},{"$f":"IF(ISERROR(INDEX(Data!V:V,Report!$B228)),\"\",INDEX(Data!V:V,Report!$B228))","v":4.0999999999999996},null,"                       |","|||"]
[225,{"$f":"IF(ISERROR(MATCH(A229,Data!A:A,0)),\"\",MATCH(A229,Data!A:A,0))","v":112},{"$f":"IF(ISERROR(INDEX(Data!I:I,Report!$B229)),\"\",INDEX(Data!I:I,Report!$B229))","v":"04:38:32"},{"$f":"IF(ISERROR(INDEX(Data!J:J,Report!$B229)),\"\",INDEX(Data!J:J,Report!$B229))","v":"Game against Boomer at level 3.5  Single point data:"},{"$f":"IF(ISERROR(INDEX(Data!K:K,Report!$B229)),\"\",INDEX(Data!K:K,Report!$B229))","v":"Player's point"},{"$f":"IF(ISERROR(INDEX(Data!L:L,Report!$B229)),\"\",INDEX(Data!L:L,Report!$B229))","v":0},null,{"$f":"IF(ISERROR(INDEX(Data!N:N,Report!$B229)),\"\",INDEX(Data!N:N,Report!$B229))","v":4},{"$f":"IF(ISERROR(INDEX(Data!P:P,Report!$B229)),\"\",INDEX(Data!P:P,Report!$B229))","v":"Topspin"},{"$f":"IF(ISERROR(INDEX(Data!O:O,Report!$B229)),\"\",INDEX(Data!O:O,Report!$B229))","v":4},{"$f":"IF(ISERROR(INDEX(Data!Q:Q,Report!$B229)),\"\",INDEX(Data!Q:Q,Report!$B229))","v":3.5},{"$f":"IF(ISERROR(INDEX(Data!R:R,Report!$B229)),\"\",INDEX(Data!R:R,Report!$B229))","v":27},{"$f":"IF(ISERROR(INDEX(Data!S:S,Report!$B229)),\"\",INDEX(Data!S:S,Report!$B229))","v":24},{"$f":"IF(ISERROR(INDEX(Data!T:T,Report!$B229)),\"\",INDEX(Data!T:T,Report!$B229))","v":6.2},{"$f":"IF(ISERROR(INDEX(Data!U:U,Report!$B229)),\"\",INDEX(Data!U:U,Report!$B229))","v":42},{"$f":"IF(ISERROR(INDEX(Data!V:V,Report!$B229)),\"\",INDEX(Data!V:V,Report!$B229))","v":5.5},null,"                           |","||||||||||||"]
[226,{"$f":"IF(ISERROR(MATCH(A230,Data!A:A,0)),\"\",MATCH(A230,Data!A:A,0))","v":""},{"$f":"IF(ISERROR(INDEX(Data!I:I,Report!$B230)),\"\",INDEX(Data!I:I,Report!$B230))","v":""},{"$f":"IF(ISERROR(INDEX(Data!J:J,Report!$B230)),\"\",INDEX(Data!J:J,Report!$B230))","v":""},{"$f":"IF(ISERROR(INDEX(Data!K:K,Report!$B230)),\"\",INDEX(Data!K:K,Report!$B230))","v":""},{"$f":"IF(ISERROR(INDEX(Data!L:L,Report!$B230)),\"\",INDEX(Data!L:L,Report!$B230))","v":""},null,{"$f":"IF(ISERROR(INDEX(Data!N:N,Report!$B230)),\"\",INDEX(Data!N:N,Report!$B230))","v":""},{"$f":"IF(ISERROR(INDEX(Data!P:P,Report!$B230)),\"\",INDEX(Data!P:P,Report!$B230))","v":""},{"$f":"IF(ISERROR(INDEX(Data!O:O,Report!$B230)),\"\",INDEX(Data!O:O,Report!$B230))","v":""},{"$f":"IF(ISERROR(INDEX(Data!Q:Q,Report!$B230)),\"\",INDEX(Data!Q:Q,Report!$B230))","v":""},{"$f":"IF(ISERROR(INDEX(Data!R:R,Report!$B230)),\"\",INDEX(Data!R:R,Report!$B230))","v":""},{"$f":"IF(ISERROR(INDEX(Data!S:S,Report!$B230)),\"\",INDEX(Data!S:S,Report!$B230))","v":""},{"$f":"IF(ISERROR(INDEX(Data!T:T,Report!$B230)),\"\",INDEX(Data!T:T,Report!$B230))","v":""},{"$f":"IF(ISERROR(INDEX(Data!U:U,Report!$B230)),\"\",INDEX(Data!U:U,Report!$B230))","v":""},{"$f":"IF(ISERROR(INDEX(Data!V:V,Report!$B230)),\"\",INDEX(Data!V:V,Report!$B230))","v":""},null,"",""]
[227,{"$f":"IF(ISERROR(MATCH(A231,Data!A:A,0)),\"\",MATCH(A231,Data!A:A,0))","v":""},{"$f":"IF(ISERROR(INDEX(Data!I:I,Report!$B231)),\"\",INDEX(Data!I:I,Report!$B231))","v":""},{"$f":"IF(ISERROR(INDEX(Data!J:J,Report!$B231)),\"\",INDEX(Data!J:J,Report!$B231))","v":""},{"$f":"IF(ISERROR(INDEX(Data!K:K,Report!$B231)),\"\",INDEX(Data!K:K,Report!$B231))","v":""},{"$f":"IF(ISERROR(INDEX(Data!L:L,Report!$B231)),\"\",INDEX(Data!L:L,Report!$B231))","v":""},null,{"$f":"IF(ISERROR(INDEX(Data!N:N,Report!$B231)),\"\",INDEX(Data!N:N,Report!$B231))","v":""},{"$f":"IF(ISERROR(INDEX(Data!P:P,Report!$B231)),\"\",INDEX(Data!P:P,Report!$B231))","v":""},{"$f":"IF(ISERROR(INDEX(Data!O:O,Report!$B231)),\"\",INDEX(Data!O:O,Report!$B231))","v":""},{"$f":"IF(ISERROR(INDEX(Data!Q:Q,Report!$B231)),\"\",INDEX(Data!Q:Q,Report!$B231))","v":""},{"$f":"IF(ISERROR(INDEX(Data!R:R,Report!$B231)),\"\",INDEX(Data!R:R,Report!$B231))","v":""},{"$f":"IF(ISERROR(INDEX(Data!S:S,Report!$B231)),\"\",INDEX(Data!S:S,Report!$B231))","v":""},{"$f":"IF(ISERROR(INDEX(Data!T:T,Report!$B231)),\"\",INDEX(Data!T:T,Report!$B231))","v":""},{"$f":"IF(ISERROR(INDEX(Data!U:U,Report!$B231)),\"\",INDEX(Data!U:U,Report!$B231))","v":""},{"$f":"IF(ISERROR(INDEX(Data!V:V,Report!$B231)),\"\",INDEX(Data!V:V,Report!$B231))","v":""},null,"",""]
[228,{"$f":"IF(ISERROR(MATCH(A232,Data!A:A,0)),\"\",MATCH(A232,Data!A:A,0))","v":""},{"$f":"IF(ISERROR(INDEX(Data!I:I,Report!$B232)),\"\",INDEX(Data!I:I,Report!$B232))","v":""},{"$f":"IF(ISERROR(INDEX(Data!J:J,Report!$B232)),\"\",INDEX(Data!J:J,Report!$B232))","v":""},{"$f":"IF(ISERROR(INDEX(Data!K:K,Report!$B232)),\"\",INDEX(Data!K:K,Report!$B232))","v":""},{"$f":"IF(ISERROR(INDEX(Data!L:L,Report!$B232)),\"\",INDEX(Data!L:L,Report!$B232))","v":""},null,{"$f":"IF(ISERROR(INDEX(Data!N:N,Report!$B232)),\"\",INDEX(Data!N:N,Report!$B232))","v":""},{"$f":"IF(ISERROR(INDEX(Data!P:P,Report!$B232)),\"\",INDEX(Data!P:P,Report!$B232))","v":""},{"$f":"IF(ISERROR(INDEX(Data!O:O,Report!$B232)),\"\",INDEX(Data!O:O,Report!$B232))","v":""},{"$f":"IF(ISERROR(INDEX(Data!Q:Q,Report!$B232)),\"\",INDEX(Data!Q:Q,Report!$B232))","v":""},{"$f":"IF(ISERROR(INDEX(Data!R:R,Report!$B232)),\"\",INDEX(Data!R:R,Report!$B232))","v":""},{"$f":"IF(ISERROR(INDEX(Data!S:S,Report!$B232)),\"\",INDEX(Data!S:S,Report!$B232))","v":""},{"$f":"IF(ISERROR(INDEX(Data!T:T,Report!$B232)),\"\",INDEX(Data!T:T,Report!$B232))","v":""},{"$f":"IF(ISERROR(INDEX(Data!U:U,Report!$B232)),\"\",INDEX(Data!U:U,Report!$B232))","v":""},{"$f":"IF(ISERROR(INDEX(Data!V:V,Report!$B232)),\"\",INDEX(Data!V:V,Report!$B232))","v":""},null,"",""]
[229,{"$f":"IF(ISERROR(MATCH(A233,Data!A:A,0)),\"\",MATCH(A233,Data!A:A,0))","v":113},{"$f":"IF(ISERROR(INDEX(Data!I:I,Report!$B233)),\"\",INDEX(Data!I:I,Report!$B233))","v":"00:36:50"},{"$f":"IF(ISERROR(INDEX(Data!J:J,Report!$B233)),\"\",INDEX(Data!J:J,Report!$B233))","v":"Game against Boomer at level 2.0  Single point data:"},{"$f":"IF(ISERROR(INDEX(Data!K:K,Report!$B233)),\"\",INDEX(Data!K:K,Report!$B233))","v":"Player's point"},{"$f":"IF(ISERROR(INDEX(Data!L:L,Report!$B233)),\"\",INDEX(Data!L:L,Report!$B233))","v":"New Point"},null,{"$f":"IF(ISERROR(INDEX(Data!N:N,Report!$B233)),\"\",INDEX(Data!N:N,Report!$B233))","v":1},{"$f":"IF(ISERROR(INDEX(Data!P:P,Report!$B233)),\"\",INDEX(Data!P:P,Report!$B233))","v":"Player Serve"},{"$f":"IF(ISERROR(INDEX(Data!O:O,Report!$B233)),\"\",INDEX(Data!O:O,Report!$B233))","v":4},{"$f":"IF(ISERROR(INDEX(Data!Q:Q,Report!$B233)),\"\",INDEX(Data!Q:Q,Report!$B233))","v":2},{"$f":"IF(ISERROR(INDEX(Data!R:R,Report!$B233)),\"\",INDEX(Data!R:R,Report!$B233))","v":0},{"$f":"IF(ISERROR(INDEX(Data!S:S,Report!$B233)),\"\",INDEX(Data!S:S,Report!$B233))","v":0},{"$f":"IF(ISERROR(INDEX(Data!T:T,Report!$B233)),\"\",INDEX(Data!T:T,Report!$B233))","v":0},{"$f":"IF(ISERROR(INDEX(Data!U:U,Report!$B233)),\"\",INDEX(Data!U:U,Report!$B233))","v":0},{"$f":"IF(ISERROR(INDEX(Data!V:V,Report!$B233)),\"\",INDEX(Data!V:V,Report!$B233))","v":0},null,"|",""]
[230,{"$f":"IF(ISERROR(MATCH(A234,Data!A:A,0)),\"\",MATCH(A234,Data!A:A,0))","v":""},{"$f":"IF(ISERROR(INDEX(Data!I:I,Report!$B234)),\"\",INDEX(Data!I:I,Report!$B234))","v":""},{"$f":"IF(ISERROR(INDEX(Data!J:J,Report!$B234)),\"\",INDEX(Data!J:J,Report!$B234))","v":""},{"$f":"IF(ISERROR(INDEX(Data!K:K,Report!$B234)),\"\",INDEX(Data!K:K,Report!$B234))","v":""},{"$f":"IF(ISERROR(INDEX(Data!L:L,Report!$B234)),\"\",INDEX(Data!L:L,Report!$B234))","v":""},null,{"$f":"IF(ISERROR(INDEX(Data!N:N,Report!$B234)),\"\",INDEX(Data!N:N,Report!$B234))","v":""},{"$f":"IF(ISERROR(INDEX(Data!P:P,Report!$B234)),\"\",INDEX(Data!P:P,Report!$B234))","v":""},{"$f":"IF(ISERROR(INDEX(Data!O:O,Report!$B234)),\"\",INDEX(Data!O:O,Report!$B234))","v":""},{"$f":"IF(ISERROR(INDEX(Data!Q:Q,Report!$B234)),\"\",INDEX(Data!Q:Q,Report!$B234))","v":""},{"$f":"IF(ISERROR(INDEX(Data!R:R,Report!$B234)),\"\",INDEX(Data!R:R,Report!$B234))","v":""},{"$f":"IF(ISERROR(INDEX(Data!S:S,Report!$B234)),\"\",INDEX(Data!S:S,Report!$B234))","v":""},{"$f":"IF(ISERROR(INDEX(Data!T:T,Report!$B234)),\"\",INDEX(Data!T:T,Report!$B234))","v":""},{"$f":"IF(ISERROR(INDEX(Data!U:U,Report!$B234)),\"\",INDEX(Data!U:U,Report!$B234))","v":""},{"$f":"IF(ISERROR(INDEX(Data!V:V,Report!$B234)),\"\",INDEX(Data!V:V,Report!$B234))","v":""},null,"",""]
[231,{"$f":"IF(ISERROR(MATCH(A235,Data!A:A,0)),\"\",MATCH(A235,Data!A:A,0))","v":""},{"$f":"IF(ISERROR(INDEX(Data!I:I,Report!$B235)),\"\",INDEX(Data!I:I,Report!$B235))","v":""},{"$f":"IF(ISERROR(INDEX(Data!J:J,Report!$B235)),\"\",INDEX(Data!J:J,Report!$B235))","v":""},{"$f":"IF(ISERROR(INDEX(Data!K:K,Report!$B235)),\"\",INDEX(Data!K:K,Report!$B235))","v":""},{"$f":"IF(ISERROR(INDEX(Data!L:L,Report!$B235)),\"\",INDEX(Data!L:L,Report!$B235))","v":""},null,{"$f":"IF(ISERROR(INDEX(Data!N:N,Report!$B235)),\"\",INDEX(Data!N:N,Report!$B235))","v":""},{"$f":"IF(ISERROR(INDEX(Data!P:P,Report!$B235)),\"\",INDEX(Data!P:P,Report!$B235))","v":""},{"$f":"IF(ISERROR(INDEX(Data!O:O,Report!$B235)),\"\",INDEX(Data!O:O,Report!$B235))","v":""},{"$f":"IF(ISERROR(INDEX(Data!Q:Q,Report!$B235)),\"\",INDEX(Data!Q:Q,Report!$B235))","v":""},{"$f":"IF(ISERROR(INDEX(Data!R:R,Report!$B235)),\"\",INDEX(Data!R:R,Report!$B235))","v":""},{"$f":"IF(ISERROR(INDEX(Data!S:S,Report!$B235)),\"\",INDEX(Data!S:S,Report!$B235))","v":""},{"$f":"IF(ISERROR(INDEX(Data!T:T,Report!$B235)),\"\",INDEX(Data!T:T,Report!$B235))","v":""},{"$f":"IF(ISERROR(INDEX(Data!U:U,Report!$B235)),\"\",INDEX(Data!U:U,Report!$B235))","v":""},{"$f":"IF(ISERROR(INDEX(Data!V:V,Report!$B235)),\"\",INDEX(Data!V:V,Report!$B235))","v":""},null,"",""]
[232,{"$f":"IF(ISERROR(MATCH(A236,Data!A:A,0)),\"\",MATCH(A236,Data!A:A,0))","v":""},{"$f":"IF(ISERROR(INDEX(Data!I:I,Report!$B236)),\"\",INDEX(Data!I:I,Report!$B236))","v":""},{"$f":"IF(ISERROR(INDEX(Data!J:J,Report!$B236)),\"\",INDEX(Data!J:J,Report!$B236))","v":""},{"$f":"IF(ISERROR(INDEX(Data!K:K,Report!$B236)),\"\",INDEX(Data!K:K,Report!$B236))","v":""},{"$f":"IF(ISERROR(INDEX(Data!L:L,Report!$B236)),\"\",INDEX(Data!L:L,Report!$B236))","v":""},null,{"$f":"IF(ISERROR(INDEX(Data!N:N,Report!$B236)),\"\",INDEX(Data!N:N,Report!$B236))","v":""},{"$f":"IF(ISERROR(INDEX(Data!P:P,Report!$B236)),\"\",INDEX(Data!P:P,Report!$B236))","v":""},{"$f":"IF(ISERROR(INDEX(Data!O:O,Report!$B236)),\"\",INDEX(Data!O:O,Report!$B236))","v":""},{"$f":"IF(ISERROR(INDEX(Data!Q:Q,Report!$B236)),\"\",INDEX(Data!Q:Q,Report!$B236))","v":""},{"$f":"IF(ISERROR(INDEX(Data!R:R,Report!$B236)),\"\",INDEX(Data!R:R,Report!$B236))","v":""},{"$f":"IF(ISERROR(INDEX(Data!S:S,Report!$B236)),\"\",INDEX(Data!S:S,Report!$B236))","v":""},{"$f":"IF(ISERROR(INDEX(Data!T:T,Report!$B236)),\"\",INDEX(Data!T:T,Report!$B236))","v":""},{"$f":"IF(ISERROR(INDEX(Data!U:U,Report!$B236)),\"\",INDEX(Data!U:U,Report!$B236))","v":""},{"$f":"IF(ISERROR(INDEX(Data!V:V,Report!$B236)),\"\",INDEX(Data!V:V,Report!$B236))","v":""},null,"",""]
[233,{"$f":"IF(ISERROR(MATCH(A237,Data!A:A,0)),\"\",MATCH(A237,Data!A:A,0))","v":114},{"$f":"IF(ISERROR(INDEX(Data!I:I,Report!$B237)),\"\",INDEX(Data!I:I,Report!$B237))","v":" "},{"$f":"IF(ISERROR(INDEX(Data!J:J,Report!$B237)),\"\",INDEX(Data!J:J,Report!$B237))","v":"User Drill #85  3 line rated mini Tennis"},{"$f":"IF(ISERROR(INDEX(Data!K:K,Report!$B237)),\"\",INDEX(Data!K:K,Report!$B237))","v":0},{"$f":"IF(ISERROR(INDEX(Data!L:L,Report!$B237)),\"\",INDEX(Data!L:L,Report!$B237))","v":"New Point"},null,{"$f":"IF(ISERROR(INDEX(Data!N:N,Report!$B237)),\"\",INDEX(Data!N:N,Report!$B237))","v":1},{"$f":"IF(ISERROR(INDEX(Data!P:P,Report!$B237)),\"\",INDEX(Data!P:P,Report!$B237))","v":0},{"$f":"IF(ISERROR(INDEX(Data!O:O,Report!$B237)),\"\",INDEX(Data!O:O,Report!$B237))","v":11},{"$f":"IF(ISERROR(INDEX(Data!Q:Q,Report!$B237)),\"\",INDEX(Data!Q:Q,Report!$B237))","v":3.5},{"$f":"IF(ISERROR(INDEX(Data!R:R,Report!$B237)),\"\",INDEX(Data!R:R,Report!$B237))","v":0},{"$f":"IF(ISERROR(INDEX(Data!S:S,Report!$B237)),\"\",INDEX(Data!S:S,Report!$B237))","v":0},{"$f":"IF(ISERROR(INDEX(Data!T:T,Report!$B237)),\"\",INDEX(Data!T:T,Report!$B237))","v":0},{"$f":"IF(ISERROR(INDEX(Data!U:U,Report!$B237)),\"\",INDEX(Data!U:U,Report!$B237))","v":0},{"$f":"IF(ISERROR(INDEX(Data!V:V,Report!$B237)),\"\",INDEX(Data!V:V,Report!$B237))","v":0},null,"|",""]
[234,{"$f":"IF(ISERROR(MATCH(A238,Data!A:A,0)),\"\",MATCH(A238,Data!A:A,0))","v":""},{"$f":"IF(ISERROR(INDEX(Data!I:I,Report!$B238)),\"\",INDEX(Data!I:I,Report!$B238))","v":""},{"$f":"IF(ISERROR(INDEX(Data!J:J,Report!$B238)),\"\",INDEX(Data!J:J,Report!$B238))","v":""},{"$f":"IF(ISERROR(INDEX(Data!K:K,Report!$B238)),\"\",INDEX(Data!K:K,Report!$B238))","v":""},{"$f":"IF(ISERROR(INDEX(Data!L:L,Report!$B238)),\"\",INDEX(Data!L:L,Report!$B238))","v":""},null,{"$f":"IF(ISERROR(INDEX(Data!N:N,Report!$B238)),\"\",INDEX(Data!N:N,Report!$B238))","v":""},{"$f":"IF(ISERROR(INDEX(Data!P:P,Report!$B238)),\"\",INDEX(Data!P:P,Report!$B238))","v":""},{"$f":"IF(ISERROR(INDEX(Data!O:O,Report!$B238)),\"\",INDEX(Data!O:O,Report!$B238))","v":""},{"$f":"IF(ISERROR(INDEX(Data!Q:Q,Report!$B238)),\"\",INDEX(Data!Q:Q,Report!$B238))","v":""},{"$f":"IF(ISERROR(INDEX(Data!R:R,Report!$B238)),\"\",INDEX(Data!R:R,Report!$B238))","v":""},{"$f":"IF(ISERROR(INDEX(Data!S:S,Report!$B238)),\"\",INDEX(Data!S:S,Report!$B238))","v":""},{"$f":"IF(ISERROR(INDEX(Data!T:T,Report!$B238)),\"\",INDEX(Data!T:T,Report!$B238))","v":""},{"$f":"IF(ISERROR(INDEX(Data!U:U,Report!$B238)),\"\",INDEX(Data!U:U,Report!$B238))","v":""},{"$f":"IF(ISERROR(INDEX(Data!V:V,Report!$B238)),\"\",INDEX(Data!V:V,Report!$B238))","v":""},null,"",""]
[235,{"$f":"IF(ISERROR(MATCH(A239,Data!A:A,0)),\"\",MATCH(A239,Data!A:A,0))","v":""},{"$f":"IF(ISERROR(INDEX(Data!I:I,Report!$B239)),\"\",INDEX(Data!I:I,Report!$B239))","v":""},{"$f":"IF(ISERROR(INDEX(Data!J:J,Report!$B239)),\"\",INDEX(Data!J:J,Report!$B239))","v":""},{"$f":"IF(ISERROR(INDEX(Data!K:K,Report!$B239)),\"\",INDEX(Data!K:K,Report!$B239))","v":""},{"$f":"IF(ISERROR(INDEX(Data!L:L,Report!$B239)),\"\",INDEX(Data!L:L,Report!$B239))","v":""},null,{"$f":"IF(ISERROR(INDEX(Data!N:N,Report!$B239)),\"\",INDEX(Data!N:N,Report!$B239))","v":""},{"$f":"IF(ISERROR(INDEX(Data!P:P,Report!$B239)),\"\",INDEX(Data!P:P,Report!$B239))","v":""},{"$f":"IF(ISERROR(INDEX(Data!O:O,Report!$B239)),\"\",INDEX(Data!O:O,Report!$B239))","v":""},{"$f":"IF(ISERROR(INDEX(Data!Q:Q,Report!$B239)),\"\",INDEX(Data!Q:Q,Report!$B239))","v":""},{"$f":"IF(ISERROR(INDEX(Data!R:R,Report!$B239)),\"\",INDEX(Data!R:R,Report!$B239))","v":""},{"$f":"IF(ISERROR(INDEX(Data!S:S,Report!$B239)),\"\",INDEX(Data!S:S,Report!$B239))","v":""},{"$f":"IF(ISERROR(INDEX(Data!T:T,Report!$B239)),\"\",INDEX(Data!T:T,Report!$B239))","v":""},{"$f":"IF(ISERROR(INDEX(Data!U:U,Report!$B239)),\"\",INDEX(Data!U:U,Report!$B239))","v":""},{"$f":"IF(ISERROR(INDEX(Data!V:V,Report!$B239)),\"\",INDEX(Data!V:V,Report!$B239))","v":""},null,"",""]
[236,{"$f":"IF(ISERROR(MATCH(A240,Data!A:A,0)),\"\",MATCH(A240,Data!A:A,0))","v":""},{"$f":"IF(ISERROR(INDEX(Data!I:I,Report!$B240)),\"\",INDEX(Data!I:I,Report!$B240))","v":""},{"$f":"IF(ISERROR(INDEX(Data!J:J,Report!$B240)),\"\",INDEX(Data!J:J,Report!$B240))","v":""},{"$f":"IF(ISERROR(INDEX(Data!K:K,Report!$B240)),\"\",INDEX(Data!K:K,Report!$B240))","v":""},{"$f":"IF(ISERROR(INDEX(Data!L:L,Report!$B240)),\"\",INDEX(Data!L:L,Report!$B240))","v":""},null,{"$f":"IF(ISERROR(INDEX(Data!N:N,Report!$B240)),\"\",INDEX(Data!N:N,Report!$B240))","v":""},{"$f":"IF(ISERROR(INDEX(Data!P:P,Report!$B240)),\"\",INDEX(Data!P:P,Report!$B240))","v":""},{"$f":"IF(ISERROR(INDEX(Data!O:O,Report!$B240)),\"\",INDEX(Data!O:O,Report!$B240))","v":""},{"$f":"IF(ISERROR(INDEX(Data!Q:Q,Report!$B240)),\"\",INDEX(Data!Q:Q,Report!$B240))","v":""},{"$f":"IF(ISERROR(INDEX(Data!R:R,Report!$B240)),\"\",INDEX(Data!R:R,Report!$B240))","v":""},{"$f":"IF(ISERROR(INDEX(Data!S:S,Report!$B240)),\"\",INDEX(Data!S:S,Report!$B240))","v":""},{"$f":"IF(ISERROR(INDEX(Data!T:T,Report!$B240)),\"\",INDEX(Data!T:T,Report!$B240))","v":""},{"$f":"IF(ISERROR(INDEX(Data!U:U,Report!$B240)),\"\",INDEX(Data!U:U,Report!$B240))","v":""},{"$f":"IF(ISERROR(INDEX(Data!V:V,Report!$B240)),\"\",INDEX(Data!V:V,Report!$B240))","v":""},null,"",""]
[237,{"$f":"IF(ISERROR(MATCH(A241,Data!A:A,0)),\"\",MATCH(A241,Data!A:A,0))","v":115},{"$f":"IF(ISERROR(INDEX(Data!I:I,Report!$B241)),\"\",INDEX(Data!I:I,Report!$B241))","v":"04:38:53"},{"$f":"IF(ISERROR(INDEX(Data!J:J,Report!$B241)),\"\",INDEX(Data!J:J,Report!$B241))","v":"Game against Boomer at level 3.5  Single point data:"},{"$f":"IF(ISERROR(INDEX(Data!K:K,Report!$B241)),\"\",INDEX(Data!K:K,Report!$B241))","v":"Player's point"},{"$f":"IF(ISERROR(INDEX(Data!L:L,Report!$B241)),\"\",INDEX(Data!L:L,Report!$B241))","v":"New Point"},null,{"$f":"IF(ISERROR(INDEX(Data!N:N,Report!$B241)),\"\",INDEX(Data!N:N,Report!$B241))","v":1},{"$f":"IF(ISERROR(INDEX(Data!P:P,Report!$B241)),\"\",INDEX(Data!P:P,Report!$B241))","v":"Player Serve"},{"$f":"IF(ISERROR(INDEX(Data!O:O,Report!$B241)),\"\",INDEX(Data!O:O,Report!$B241))","v":4},{"$f":"IF(ISERROR(INDEX(Data!Q:Q,Report!$B241)),\"\",INDEX(Data!Q:Q,Report!$B241))","v":3.5},{"$f":"IF(ISERROR(INDEX(Data!R:R,Report!$B241)),\"\",INDEX(Data!R:R,Report!$B241))","v":13},{"$f":"IF(ISERROR(INDEX(Data!S:S,Report!$B241)),\"\",INDEX(Data!S:S,Report!$B241))","v":20},{"$f":"IF(ISERROR(INDEX(Data!T:T,Report!$B241)),\"\",INDEX(Data!T:T,Report!$B241))","v":2.8},{"$f":"IF(ISERROR(INDEX(Data!U:U,Report!$B241)),\"\",INDEX(Data!U:U,Report!$B241))","v":89},{"$f":"IF(ISERROR(INDEX(Data!V:V,Report!$B241)),\"\",INDEX(Data!V:V,Report!$B241))","v":4.2},null,"             |","||||||||||"]
[238,{"$f":"IF(ISERROR(MATCH(A242,Data!A:A,0)),\"\",MATCH(A242,Data!A:A,0))","v":116},{"$f":"IF(ISERROR(INDEX(Data!I:I,Report!$B242)),\"\",INDEX(Data!I:I,Report!$B242))","v":" "},{"$f":"IF(ISERROR(INDEX(Data!J:J,Report!$B242)),\"\",INDEX(Data!J:J,Report!$B242))","v":"User Drill #85  3 line rated mini Tennis"},{"$f":"IF(ISERROR(INDEX(Data!K:K,Report!$B242)),\"\",INDEX(Data!K:K,Report!$B242))","v":0},{"$f":"IF(ISERROR(INDEX(Data!L:L,Report!$B242)),\"\",INDEX(Data!L:L,Report!$B242))","v":0},null,{"$f":"IF(ISERROR(INDEX(Data!N:N,Report!$B242)),\"\",INDEX(Data!N:N,Report!$B242))","v":2},{"$f":"IF(ISERROR(INDEX(Data!P:P,Report!$B242)),\"\",INDEX(Data!P:P,Report!$B242))","v":0},{"$f":"IF(ISERROR(INDEX(Data!O:O,Report!$B242)),\"\",INDEX(Data!O:O,Report!$B242))","v":4},{"$f":"IF(ISERROR(INDEX(Data!Q:Q,Report!$B242)),\"\",INDEX(Data!Q:Q,Report!$B242))","v":3.5},{"$f":"IF(ISERROR(INDEX(Data!R:R,Report!$B242)),\"\",INDEX(Data!R:R,Report!$B242))","v":0},{"$f":"IF(ISERROR(INDEX(Data!S:S,Report!$B242)),\"\",INDEX(Data!S:S,Report!$B242))","v":0},{"$f":"IF(ISERROR(INDEX(Data!T:T,Report!$B242)),\"\",INDEX(Data!T:T,Report!$B242))","v":0},{"$f":"IF(ISERROR(INDEX(Data!U:U,Report!$B242)),\"\",INDEX(Data!U:U,Report!$B242))","v":0},{"$f":"IF(ISERROR(INDEX(Data!V:V,Report!$B242)),\"\",INDEX(Data!V:V,Report!$B242))","v":0},null,"|",""]
[239,{"$f":"IF(ISERROR(MATCH(A243,Data!A:A,0)),\"\",MATCH(A243,Data!A:A,0))","v":117},{"$f":"IF(ISERROR(INDEX(Data!I:I,Report!$B243)),\"\",INDEX(Data!I:I,Report!$B243))","v":"00:36:50"},{"$f":"IF(ISERROR(INDEX(Data!J:J,Report!$B243)),\"\",INDEX(Data!J:J,Report!$B243))","v":"Game against Boomer at level 2.0  Single point data:"},{"$f":"IF(ISERROR(INDEX(Data!K:K,Report!$B243)),\"\",INDEX(Data!K:K,Report!$B243))","v":"Player's point"},{"$f":"IF(ISERROR(INDEX(Data!L:L,Report!$B243)),\"\",INDEX(Data!L:L,Report!$B243))","v":0},null,{"$f":"IF(ISERROR(INDEX(Data!N:N,Report!$B243)),\"\",INDEX(Data!N:N,Report!$B243))","v":2},{"$f":"IF(ISERROR(INDEX(Data!P:P,Report!$B243)),\"\",INDEX(Data!P:P,Report!$B243))","v":"Player Serve"},{"$f":"IF(ISERROR(INDEX(Data!O:O,Report!$B243)),\"\",INDEX(Data!O:O,Report!$B243))","v":4},{"$f":"IF(ISERROR(INDEX(Data!Q:Q,Report!$B243)),\"\",INDEX(Data!Q:Q,Report!$B243))","v":2},{"$f":"IF(ISERROR(INDEX(Data!R:R,Report!$B243)),\"\",INDEX(Data!R:R,Report!$B243))","v":17},{"$f":"IF(ISERROR(INDEX(Data!S:S,Report!$B243)),\"\",INDEX(Data!S:S,Report!$B243))","v":6},{"$f":"IF(ISERROR(INDEX(Data!T:T,Report!$B243)),\"\",INDEX(Data!T:T,Report!$B243))","v":4.0999999999999996},{"$f":"IF(ISERROR(INDEX(Data!U:U,Report!$B243)),\"\",INDEX(Data!U:U,Report!$B243))","v":41},{"$f":"IF(ISERROR(INDEX(Data!V:V,Report!$B243)),\"\",INDEX(Data!V:V,Report!$B243))","v":3.3},null,"                 |","|||"]
[240,{"$f":"IF(ISERROR(MATCH(A244,Data!A:A,0)),\"\",MATCH(A244,Data!A:A,0))","v":118},{"$f":"IF(ISERROR(INDEX(Data!I:I,Report!$B244)),\"\",INDEX(Data!I:I,Report!$B244))","v":"04:38:53"},{"$f":"IF(ISERROR(INDEX(Data!J:J,Report!$B244)),\"\",INDEX(Data!J:J,Report!$B244))","v":"Game against Boomer at level 3.5  Single point data:"},{"$f":"IF(ISERROR(INDEX(Data!K:K,Report!$B244)),\"\",INDEX(Data!K:K,Report!$B244))","v":"Player's point"},{"$f":"IF(ISERROR(INDEX(Data!L:L,Report!$B244)),\"\",INDEX(Data!L:L,Report!$B244))","v":0},null,{"$f":"IF(ISERROR(INDEX(Data!N:N,Report!$B244)),\"\",INDEX(Data!N:N,Report!$B244))","v":2},{"$f":"IF(ISERROR(INDEX(Data!P:P,Report!$B244)),\"\",INDEX(Data!P:P,Report!$B244))","v":"Drop Shot"},{"$f":"IF(ISERROR(INDEX(Data!O:O,Report!$B244)),\"\",INDEX(Data!O:O,Report!$B244))","v":4},{"$f":"IF(ISERROR(INDEX(Data!Q:Q,Report!$B244)),\"\",INDEX(Data!Q:Q,Report!$B244))","v":3.5},{"$f":"IF(ISERROR(INDEX(Data!R:R,Report!$B244)),\"\",INDEX(Data!R:R,Report!$B244))","v":36},{"$f":"IF(ISERROR(INDEX(Data!S:S,Report!$B244)),\"\",INDEX(Data!S:S,Report!$B244))","v":0},{"$f":"IF(ISERROR(INDEX(Data!T:T,Report!$B244)),\"\",INDEX(Data!T:T,Report!$B244))","v":7},{"$f":"IF(ISERROR(INDEX(Data!U:U,Report!$B244)),\"\",INDEX(Data!U:U,Report!$B244))","v":51},{"$f":"IF(ISERROR(INDEX(Data!V:V,Report!$B244)),\"\",INDEX(Data!V:V,Report!$B244))","v":6.4},null,"                                    |",""]
[241,{"$f":"IF(ISERROR(MATCH(A245,Data!A:A,0)),\"\",MATCH(A245,Data!A:A,0))","v":119},{"$f":"IF(ISERROR(INDEX(Data!I:I,Report!$B245)),\"\",INDEX(Data!I:I,Report!$B245))","v":" "},{"$f":"IF(ISERROR(INDEX(Data!J:J,Report!$B245)),\"\",INDEX(Data!J:J,Report!$B245))","v":"User Drill #85  3 line rated mini Tennis"},{"$f":"IF(ISERROR(INDEX(Data!K:K,Report!$B245)),\"\",INDEX(Data!K:K,Report!$B245))","v":0},{"$f":"IF(ISERROR(INDEX(Data!L:L,Report!$B245)),\"\",INDEX(Data!L:L,Report!$B245))","v":0},null,{"$f":"IF(ISERROR(INDEX(Data!N:N,Report!$B245)),\"\",INDEX(Data!N:N,Report!$B245))","v":3},{"$f":"IF(ISERROR(INDEX(Data!P:P,Report!$B245)),\"\",INDEX(Data!P:P,Report!$B245))","v":0},{"$f":"IF(ISERROR(INDEX(Data!O:O,Report!$B245)),\"\",INDEX(Data!O:O,Report!$B245))","v":10},{"$f":"IF(ISERROR(INDEX(Data!Q:Q,Report!$B245)),\"\",INDEX(Data!Q:Q,Report!$B245))","v":3.5},{"$f":"IF(ISERROR(INDEX(Data!R:R,Report!$B245)),\"\",INDEX(Data!R:R,Report!$B245))","v":0},{"$f":"IF(ISERROR(INDEX(Data!S:S,Report!$B245)),\"\",INDEX(Data!S:S,Report!$B245))","v":0},{"$f":"IF(ISERROR(INDEX(Data!T:T,Report!$B245)),\"\",INDEX(Data!T:T,Report!$B245))","v":0},{"$f":"IF(ISERROR(INDEX(Data!U:U,Report!$B245)),\"\",INDEX(Data!U:U,Report!$B245))","v":0},{"$f":"IF(ISERROR(INDEX(Data!V:V,Report!$B245)),\"\",INDEX(Data!V:V,Report!$B245))","v":0},null,"|",""]
[242,{"$f":"IF(ISERROR(MATCH(A246,Data!A:A,0)),\"\",MATCH(A246,Data!A:A,0))","v":120},{"$f":"IF(ISERROR(INDEX(Data!I:I,Report!$B246)),\"\",INDEX(Data!I:I,Report!$B246))","v":"00:36:50"},{"$f":"IF(ISERROR(INDEX(Data!J:J,Report!$B246)),\"\",INDEX(Data!J:J,Report!$B246))","v":"Game against Boomer at level 2.0  Single point data:"},{"$f":"IF(ISERROR(INDEX(Data!K:K,Report!$B246)),\"\",INDEX(Data!K:K,Report!$B246))","v":"Player's point"},{"$f":"IF(ISERROR(INDEX(Data!L:L,Report!$B246)),\"\",INDEX(Data!L:L,Report!$B246))","v":0},null,{"$f":"IF(ISERROR(INDEX(Data!N:N,Report!$B246)),\"\",INDEX(Data!N:N,Report!$B246))","v":3},{"$f":"IF(ISERROR(INDEX(Data!P:P,Report!$B246)),\"\",INDEX(Data!P:P,Report!$B246))","v":"Topspin"},{"$f":"IF(ISERROR(INDEX(Data!O:O,Report!$B246)),\"\",INDEX(Data!O:O,Report!$B246))","v":3},{"$f":"IF(ISERROR(INDEX(Data!Q:Q,Report!$B246)),\"\",INDEX(Data!Q:Q,Report!$B246))","v":2},{"$f":"IF(ISERROR(INDEX(Data!R:R,Report!$B246)),\"\",INDEX(Data!R:R,Report!$B246))","v":30},{"$f":"IF(ISERROR(INDEX(Data!S:S,Report!$B246)),\"\",INDEX(Data!S:S,Report!$B246))","v":4},{"$f":"IF(ISERROR(INDEX(Data!T:T,Report!$B246)),\"\",INDEX(Data!T:T,Report!$B246))","v":5.7},{"$f":"IF(ISERROR(INDEX(Data!U:U,Report!$B246)),\"\",INDEX(Data!U:U,Report!$B246))","v":51},{"$f":"IF(ISERROR(INDEX(Data!V:V,Report!$B246)),\"\",INDEX(Data!V:V,Report!$B246))","v":4.8},null,"                              |","||"]
[243,{"$f":"IF(ISERROR(MATCH(A247,Data!A:A,0)),\"\",MATCH(A247,Data!A:A,0))","v":""},{"$f":"IF(ISERROR(INDEX(Data!I:I,Report!$B247)),\"\",INDEX(Data!I:I,Report!$B247))","v":""},{"$f":"IF(ISERROR(INDEX(Data!J:J,Report!$B247)),\"\",INDEX(Data!J:J,Report!$B247))","v":""},{"$f":"IF(ISERROR(INDEX(Data!K:K,Report!$B247)),\"\",INDEX(Data!K:K,Report!$B247))","v":""},{"$f":"IF(ISERROR(INDEX(Data!L:L,Report!$B247)),\"\",INDEX(Data!L:L,Report!$B247))","v":""},null,{"$f":"IF(ISERROR(INDEX(Data!N:N,Report!$B247)),\"\",INDEX(Data!N:N,Report!$B247))","v":""},{"$f":"IF(ISERROR(INDEX(Data!P:P,Report!$B247)),\"\",INDEX(Data!P:P,Report!$B247))","v":""},{"$f":"IF(ISERROR(INDEX(Data!O:O,Report!$B247)),\"\",INDEX(Data!O:O,Report!$B247))","v":""},{"$f":"IF(ISERROR(INDEX(Data!Q:Q,Report!$B247)),\"\",INDEX(Data!Q:Q,Report!$B247))","v":""},{"$f":"IF(ISERROR(INDEX(Data!R:R,Report!$B247)),\"\",INDEX(Data!R:R,Report!$B247))","v":""},{"$f":"IF(ISERROR(INDEX(Data!S:S,Report!$B247)),\"\",INDEX(Data!S:S,Report!$B247))","v":""},{"$f":"IF(ISERROR(INDEX(Data!T:T,Report!$B247)),\"\",INDEX(Data!T:T,Report!$B247))","v":""},{"$f":"IF(ISERROR(INDEX(Data!U:U,Report!$B247)),\"\",INDEX(Data!U:U,Report!$B247))","v":""},{"$f":"IF(ISERROR(INDEX(Data!V:V,Report!$B247)),\"\",INDEX(Data!V:V,Report!$B247))","v":""},null,"",""]
[244,{"$f":"IF(ISERROR(MATCH(A248,Data!A:A,0)),\"\",MATCH(A248,Data!A:A,0))","v":""},{"$f":"IF(ISERROR(INDEX(Data!I:I,Report!$B248)),\"\",INDEX(Data!I:I,Report!$B248))","v":""},{"$f":"IF(ISERROR(INDEX(Data!J:J,Report!$B248)),\"\",INDEX(Data!J:J,Report!$B248))","v":""},{"$f":"IF(ISERROR(INDEX(Data!K:K,Report!$B248)),\"\",INDEX(Data!K:K,Report!$B248))","v":""},{"$f":"IF(ISERROR(INDEX(Data!L:L,Report!$B248)),\"\",INDEX(Data!L:L,Report!$B248))","v":""},null,{"$f":"IF(ISERROR(INDEX(Data!N:N,Report!$B248)),\"\",INDEX(Data!N:N,Report!$B248))","v":""},{"$f":"IF(ISERROR(INDEX(Data!P:P,Report!$B248)),\"\",INDEX(Data!P:P,Report!$B248))","v":""},{"$f":"IF(ISERROR(INDEX(Data!O:O,Report!$B248)),\"\",INDEX(Data!O:O,Report!$B248))","v":""},{"$f":"IF(ISERROR(INDEX(Data!Q:Q,Report!$B248)),\"\",INDEX(Data!Q:Q,Report!$B248))","v":""},{"$f":"IF(ISERROR(INDEX(Data!R:R,Report!$B248)),\"\",INDEX(Data!R:R,Report!$B248))","v":""},{"$f":"IF(ISERROR(INDEX(Data!S:S,Report!$B248)),\"\",INDEX(Data!S:S,Report!$B248))","v":""},{"$f":"IF(ISERROR(INDEX(Data!T:T,Report!$B248)),\"\",INDEX(Data!T:T,Report!$B248))","v":""},{"$f":"IF(ISERROR(INDEX(Data!U:U,Report!$B248)),\"\",INDEX(Data!U:U,Report!$B248))","v":""},{"$f":"IF(ISERROR(INDEX(Data!V:V,Report!$B248)),\"\",INDEX(Data!V:V,Report!$B248))","v":""},null,"",""]
[245,{"$f":"IF(ISERROR(MATCH(A249,Data!A:A,0)),\"\",MATCH(A249,Data!A:A,0))","v":""},{"$f":"IF(ISERROR(INDEX(Data!I:I,Report!$B249)),\"\",INDEX(Data!I:I,Report!$B249))","v":""},{"$f":"IF(ISERROR(INDEX(Data!J:J,Report!$B249)),\"\",INDEX(Data!J:J,Report!$B249))","v":""},{"$f":"IF(ISERROR(INDEX(Data!K:K,Report!$B249)),\"\",INDEX(Data!K:K,Report!$B249))","v":""},{"$f":"IF(ISERROR(INDEX(Data!L:L,Report!$B249)),\"\",INDEX(Data!L:L,Report!$B249))","v":""},null,{"$f":"IF(ISERROR(INDEX(Data!N:N,Report!$B249)),\"\",INDEX(Data!N:N,Report!$B249))","v":""},{"$f":"IF(ISERROR(INDEX(Data!P:P,Report!$B249)),\"\",INDEX(Data!P:P,Report!$B249))","v":""},{"$f":"IF(ISERROR(INDEX(Data!O:O,Report!$B249)),\"\",INDEX(Data!O:O,Report!$B249))","v":""},{"$f":"IF(ISERROR(INDEX(Data!Q:Q,Report!$B249)),\"\",INDEX(Data!Q:Q,Report!$B249))","v":""},{"$f":"IF(ISERROR(INDEX(Data!R:R,Report!$B249)),\"\",INDEX(Data!R:R,Report!$B249))","v":""},{"$f":"IF(ISERROR(INDEX(Data!S:S,Report!$B249)),\"\",INDEX(Data!S:S,Report!$B249))","v":""},{"$f":"IF(ISERROR(INDEX(Data!T:T,Report!$B249)),\"\",INDEX(Data!T:T,Report!$B249))","v":""},{"$f":"IF(ISERROR(INDEX(Data!U:U,Report!$B249)),\"\",INDEX(Data!U:U,Report!$B249))","v":""},{"$f":"IF(ISERROR(INDEX(Data!V:V,Report!$B249)),\"\",INDEX(Data!V:V,Report!$B249))","v":""},null,"",""]
[246,{"$f":"IF(ISERROR(MATCH(A250,Data!A:A,0)),\"\",MATCH(A250,Data!A:A,0))","v":121},{"$f":"IF(ISERROR(INDEX(Data!I:I,Report!$B250)),\"\",INDEX(Data!I:I,Report!$B250))","v":" "},{"$f":"IF(ISERROR(INDEX(Data!J:J,Report!$B250)),\"\",INDEX(Data!J:J,Report!$B250))","v":"User Drill #85  3 line rated mini Tennis"},{"$f":"IF(ISERROR(INDEX(Data!K:K,Report!$B250)),\"\",INDEX(Data!K:K,Report!$B250))","v":0},{"$f":"IF(ISERROR(INDEX(Data!L:L,Report!$B250)),\"\",INDEX(Data!L:L,Report!$B250))","v":"New Point"},null,{"$f":"IF(ISERROR(INDEX(Data!N:N,Report!$B250)),\"\",INDEX(Data!N:N,Report!$B250))","v":1},{"$f":"IF(ISERROR(INDEX(Data!P:P,Report!$B250)),\"\",INDEX(Data!P:P,Report!$B250))","v":0},{"$f":"IF(ISERROR(INDEX(Data!O:O,Report!$B250)),\"\",INDEX(Data!O:O,Report!$B250))","v":11},{"$f":"IF(ISERROR(INDEX(Data!Q:Q,Report!$B250)),\"\",INDEX(Data!Q:Q,Report!$B250))","v":3.5},{"$f":"IF(ISERROR(INDEX(Data!R:R,Report!$B250)),\"\",INDEX(Data!R:R,Report!$B250))","v":0},{"$f":"IF(ISERROR(INDEX(Data!S:S,Report!$B250)),\"\",INDEX(Data!S:S,Report!$B250))","v":0},{"$f":"IF(ISERROR(INDEX(Data!T:T,Report!$B250)),\"\",INDEX(Data!T:T,Report!$B250))","v":0},{"$f":"IF(ISERROR(INDEX(Data!U:U,Report!$B250)),\"\",INDEX(Data!U:U,Report!$B250))","v":0},{"$f":"IF(ISERROR(INDEX(Data!V:V,Report!$B250)),\"\",INDEX(Data!V:V,Report!$B250))","v":0},null,"|",""]
[247,{"$f":"IF(ISERROR(MATCH(A251,Data!A:A,0)),\"\",MATCH(A251,Data!A:A,0))","v":""},{"$f":"IF(ISERROR(INDEX(Data!I:I,Report!$B251)),\"\",INDEX(Data!I:I,Report!$B251))","v":""},{"$f":"IF(ISERROR(INDEX(Data!J:J,Report!$B251)),\"\",INDEX(Data!J:J,Report!$B251))","v":""},{"$f":"IF(ISERROR(INDEX(Data!K:K,Report!$B251)),\"\",INDEX(Data!K:K,Report!$B251))","v":""},{"$f":"IF(ISERROR(INDEX(Data!L:L,Report!$B251)),\"\",INDEX(Data!L:L,Report!$B251))","v":""},null,{"$f":"IF(ISERROR(INDEX(Data!N:N,Report!$B251)),\"\",INDEX(Data!N:N,Report!$B251))","v":""},{"$f":"IF(ISERROR(INDEX(Data!P:P,Report!$B251)),\"\",INDEX(Data!P:P,Report!$B251))","v":""},{"$f":"IF(ISERROR(INDEX(Data!O:O,Report!$B251)),\"\",INDEX(Data!O:O,Report!$B251))","v":""},{"$f":"IF(ISERROR(INDEX(Data!Q:Q,Report!$B251)),\"\",INDEX(Data!Q:Q,Report!$B251))","v":""},{"$f":"IF(ISERROR(INDEX(Data!R:R,Report!$B251)),\"\",INDEX(Data!R:R,Report!$B251))","v":""},{"$f":"IF(ISERROR(INDEX(Data!S:S,Report!$B251)),\"\",INDEX(Data!S:S,Report!$B251))","v":""},{"$f":"IF(ISERROR(INDEX(Data!T:T,Report!$B251)),\"\",INDEX(Data!T:T,Report!$B251))","v":""},{"$f":"IF(ISERROR(INDEX(Data!U:U,Report!$B251)),\"\",INDEX(Data!U:U,Report!$B251))","v":""},{"$f":"IF(ISERROR(INDEX(Data!V:V,Report!$B251)),\"\",INDEX(Data!V:V,Report!$B251))","v":""},null,{"$f":"IF(H251=0,\"\",IF(ISERROR(REPT(\" \",L251) & \"|\"),\"\",REPT(\" \",L251) & \"|\"))","v":""},""]
[248,{"$f":"IF(ISERROR(MATCH(A252,Data!A:A,0)),\"\",MATCH(A252,Data!A:A,0))","v":""},{"$f":"IF(ISERROR(INDEX(Data!I:I,Report!$B252)),\"\",INDEX(Data!I:I,Report!$B252))","v":""},{"$f":"IF(ISERROR(INDEX(Data!J:J,Report!$B252)),\"\",INDEX(Data!J:J,Report!$B252))","v":""},{"$f":"IF(ISERROR(INDEX(Data!K:K,Report!$B252)),\"\",INDEX(Data!K:K,Report!$B252))","v":""},{"$f":"IF(ISERROR(INDEX(Data!L:L,Report!$B252)),\"\",INDEX(Data!L:L,Report!$B252))","v":""},null,{"$f":"IF(ISERROR(INDEX(Data!N:N,Report!$B252)),\"\",INDEX(Data!N:N,Report!$B252))","v":""},{"$f":"IF(ISERROR(INDEX(Data!P:P,Report!$B252)),\"\",INDEX(Data!P:P,Report!$B252))","v":""},{"$f":"IF(ISERROR(INDEX(Data!O:O,Report!$B252)),\"\",INDEX(Data!O:O,Report!$B252))","v":""},{"$f":"IF(ISERROR(INDEX(Data!Q:Q,Report!$B252)),\"\",INDEX(Data!Q:Q,Report!$B252))","v":""},{"$f":"IF(ISERROR(INDEX(Data!R:R,Report!$B252)),\"\",INDEX(Data!R:R,Report!$B252))","v":""},{"$f":"IF(ISERROR(INDEX(Data!S:S,Report!$B252)),\"\",INDEX(Data!S:S,Report!$B252))","v":""},{"$f":"IF(ISERROR(INDEX(Data!T:T,Report!$B252)),\"\",INDEX(Data!T:T,Report!$B252))","v":""},{"$f":"IF(ISERROR(INDEX(Data!U:U,Report!$B252)),\"\",INDEX(Data!U:U,Report!$B252))","v":""},{"$f":"IF(ISERROR(INDEX(Data!V:V,Report!$B252)),\"\",INDEX(Data!V:V,Report!$B252))","v":""},null,"",""]
[249,{"$f":"IF(ISERROR(MATCH(A253,Data!A:A,0)),\"\",MATCH(A253,Data!A:A,0))","v":""},{"$f":"IF(ISERROR(INDEX(Data!I:I,Report!$B253)),\"\",INDEX(Data!I:I,Report!$B253))","v":""},{"$f":"IF(ISERROR(INDEX(Data!J:J,Report!$B253)),\"\",INDEX(Data!J:J,Report!$B253))","v":""},{"$f":"IF(ISERROR(INDEX(Data!K:K,Report!$B253)),\"\",INDEX(Data!K:K,Report!$B253))","v":""},{"$f":"IF(ISERROR(INDEX(Data!L:L,Report!$B253)),\"\",INDEX(Data!L:L,Report!$B253))","v":""},null,{"$f":"IF(ISERROR(INDEX(Data!N:N,Report!$B253)),\"\",INDEX(Data!N:N,Report!$B253))","v":""},{"$f":"IF(ISERROR(INDEX(Data!P:P,Report!$B253)),\"\",INDEX(Data!P:P,Report!$B253))","v":""},{"$f":"IF(ISERROR(INDEX(Data!O:O,Report!$B253)),\"\",INDEX(Data!O:O,Report!$B253))","v":""},{"$f":"IF(ISERROR(INDEX(Data!Q:Q,Report!$B253)),\"\",INDEX(Data!Q:Q,Report!$B253))","v":""},{"$f":"IF(ISERROR(INDEX(Data!R:R,Report!$B253)),\"\",INDEX(Data!R:R,Report!$B253))","v":""},{"$f":"IF(ISERROR(INDEX(Data!S:S,Report!$B253)),\"\",INDEX(Data!S:S,Report!$B253))","v":""},{"$f":"IF(ISERROR(INDEX(Data!T:T,Report!$B253)),\"\",INDEX(Data!T:T,Report!$B253))","v":""},{"$f":"IF(ISERROR(INDEX(Data!U:U,Report!$B253)),\"\",INDEX(Data!U:U,Report!$B253))","v":""},{"$f":"IF(ISERROR(INDEX(Data!V:V,Report!$B253)),\"\",INDEX(Data!V:V,Report!$B253))","v":""},null,"",""]
[250,{"$f":"IF(ISERROR(MATCH(A254,Data!A:A,0)),\"\",MATCH(A254,Data!A:A,0))","v":122},{"$f":"IF(ISERROR(INDEX(Data!I:I,Report!$B254)),\"\",INDEX(Data!I:I,Report!$B254))","v":"04:39:20"},{"$f":"IF(ISERROR(INDEX(Data!J:J,Report!$B254)),\"\",INDEX(Data!J:J,Report!$B254))","v":"Game against Boomer at level 3.5  Single point data:"},{"$f":"IF(ISERROR(INDEX(Data!K:K,Report!$B254)),\"\",INDEX(Data!K:K,Report!$B254))","v":"Player's point"},{"$f":"IF(ISERROR(INDEX(Data!L:L,Report!$B254)),\"\",INDEX(Data!L:L,Report!$B254))","v":"New Point"},null,{"$f":"IF(ISERROR(INDEX(Data!N:N,Report!$B254)),\"\",INDEX(Data!N:N,Report!$B254))","v":1},{"$f":"IF(ISERROR(INDEX(Data!P:P,Report!$B254)),\"\",INDEX(Data!P:P,Report!$B254))","v":"Serve"},{"$f":"IF(ISERROR(INDEX(Data!O:O,Report!$B254)),\"\",INDEX(Data!O:O,Report!$B254))","v":8},{"$f":"IF(ISERROR(INDEX(Data!Q:Q,Report!$B254)),\"\",INDEX(Data!Q:Q,Report!$B254))","v":3.5},{"$f":"IF(ISERROR(INDEX(Data!R:R,Report!$B254)),\"\",INDEX(Data!R:R,Report!$B254))","v":38},{"$f":"IF(ISERROR(INDEX(Data!S:S,Report!$B254)),\"\",INDEX(Data!S:S,Report!$B254))","v":7},{"$f":"IF(ISERROR(INDEX(Data!T:T,Report!$B254)),\"\",INDEX(Data!T:T,Report!$B254))","v":6.3},{"$f":"IF(ISERROR(INDEX(Data!U:U,Report!$B254)),\"\",INDEX(Data!U:U,Report!$B254))","v":42},{"$f":"IF(ISERROR(INDEX(Data!V:V,Report!$B254)),\"\",INDEX(Data!V:V,Report!$B254))","v":4.8},null,"                                      |","|||"]
[251,{"$f":"IF(ISERROR(MATCH(A255,Data!A:A,0)),\"\",MATCH(A255,Data!A:A,0))","v":""},{"$f":"IF(ISERROR(INDEX(Data!I:I,Report!$B255)),\"\",INDEX(Data!I:I,Report!$B255))","v":""},{"$f":"IF(ISERROR(INDEX(Data!J:J,Report!$B255)),\"\",INDEX(Data!J:J,Report!$B255))","v":""},{"$f":"IF(ISERROR(INDEX(Data!K:K,Report!$B255)),\"\",INDEX(Data!K:K,Report!$B255))","v":""},{"$f":"IF(ISERROR(INDEX(Data!L:L,Report!$B255)),\"\",INDEX(Data!L:L,Report!$B255))","v":""},null,{"$f":"IF(ISERROR(INDEX(Data!N:N,Report!$B255)),\"\",INDEX(Data!N:N,Report!$B255))","v":""},{"$f":"IF(ISERROR(INDEX(Data!P:P,Report!$B255)),\"\",INDEX(Data!P:P,Report!$B255))","v":""},{"$f":"IF(ISERROR(INDEX(Data!O:O,Report!$B255)),\"\",INDEX(Data!O:O,Report!$B255))","v":""},{"$f":"IF(ISERROR(INDEX(Data!Q:Q,Report!$B255)),\"\",INDEX(Data!Q:Q,Report!$B255))","v":""},{"$f":"IF(ISERROR(INDEX(Data!R:R,Report!$B255)),\"\",INDEX(Data!R:R,Report!$B255))","v":""},{"$f":"IF(ISERROR(INDEX(Data!S:S,Report!$B255)),\"\",INDEX(Data!S:S,Report!$B255))","v":""},{"$f":"IF(ISERROR(INDEX(Data!T:T,Report!$B255)),\"\",INDEX(Data!T:T,Report!$B255))","v":""},{"$f":"IF(ISERROR(INDEX(Data!U:U,Report!$B255)),\"\",INDEX(Data!U:U,Report!$B255))","v":""},{"$f":"IF(ISERROR(INDEX(Data!V:V,Report!$B255)),\"\",INDEX(Data!V:V,Report!$B255))","v":""},null,"",""]
[252,{"$f":"IF(ISERROR(MATCH(A256,Data!A:A,0)),\"\",MATCH(A256,Data!A:A,0))","v":""},{"$f":"IF(ISERROR(INDEX(Data!I:I,Report!$B256)),\"\",INDEX(Data!I:I,Report!$B256))","v":""},{"$f":"IF(ISERROR(INDEX(Data!J:J,Report!$B256)),\"\",INDEX(Data!J:J,Report!$B256))","v":""},{"$f":"IF(ISERROR(INDEX(Data!K:K,Report!$B256)),\"\",INDEX(Data!K:K,Report!$B256))","v":""},{"$f":"IF(ISERROR(INDEX(Data!L:L,Report!$B256)),\"\",INDEX(Data!L:L,Report!$B256))","v":""},null,{"$f":"IF(ISERROR(INDEX(Data!N:N,Report!$B256)),\"\",INDEX(Data!N:N,Report!$B256))","v":""},{"$f":"IF(ISERROR(INDEX(Data!P:P,Report!$B256)),\"\",INDEX(Data!P:P,Report!$B256))","v":""},{"$f":"IF(ISERROR(INDEX(Data!O:O,Report!$B256)),\"\",INDEX(Data!O:O,Report!$B256))","v":""},{"$f":"IF(ISERROR(INDEX(Data!Q:Q,Report!$B256)),\"\",INDEX(Data!Q:Q,Report!$B256))","v":""},{"$f":"IF(ISERROR(INDEX(Data!R:R,Report!$B256)),\"\",INDEX(Data!R:R,Report!$B256))","v":""},{"$f":"IF(ISERROR(INDEX(Data!S:S,Report!$B256)),\"\",INDEX(Data!S:S,Report!$B256))","v":""},{"$f":"IF(ISERROR(INDEX(Data!T:T,Report!$B256)),\"\",INDEX(Data!T:T,Report!$B256))","v":""},{"$f":"IF(ISERROR(INDEX(Data!U:U,Report!$B256)),\"\",INDEX(Data!U:U,Report!$B256))","v":""},{"$f":"IF(ISERROR(INDEX(Data!V:V,Report!$B256)),\"\",INDEX(Data!V:V,Report!$B256))","v":""},null,"",""]
[253,{"$f":"IF(ISERROR(MATCH(A257,Data!A:A,0)),\"\",MATCH(A257,Data!A:A,0))","v":""},{"$f":"IF(ISERROR(INDEX(Data!I:I,Report!$B257)),\"\",INDEX(Data!I:I,Report!$B257))","v":""},{"$f":"IF(ISERROR(INDEX(Data!J:J,Report!$B257)),\"\",INDEX(Data!J:J,Report!$B257))","v":""},{"$f":"IF(ISERROR(INDEX(Data!K:K,Report!$B257)),\"\",INDEX(Data!K:K,Report!$B257))","v":""},{"$f":"IF(ISERROR(INDEX(Data!L:L,Report!$B257)),\"\",INDEX(Data!L:L,Report!$B257))","v":""},null,{"$f":"IF(ISERROR(INDEX(Data!N:N,Report!$B257)),\"\",INDEX(Data!N:N,Report!$B257))","v":""},{"$f":"IF(ISERROR(INDEX(Data!P:P,Report!$B257)),\"\",INDEX(Data!P:P,Report!$B257))","v":""},{"$f":"IF(ISERROR(INDEX(Data!O:O,Report!$B257)),\"\",INDEX(Data!O:O,Report!$B257))","v":""},{"$f":"IF(ISERROR(INDEX(Data!Q:Q,Report!$B257)),\"\",INDEX(Data!Q:Q,Report!$B257))","v":""},{"$f":"IF(ISERROR(INDEX(Data!R:R,Report!$B257)),\"\",INDEX(Data!R:R,Report!$B257))","v":""},{"$f":"IF(ISERROR(INDEX(Data!S:S,Report!$B257)),\"\",INDEX(Data!S:S,Report!$B257))","v":""},{"$f":"IF(ISERROR(INDEX(Data!T:T,Report!$B257)),\"\",INDEX(Data!T:T,Report!$B257))","v":""},{"$f":"IF(ISERROR(INDEX(Data!U:U,Report!$B257)),\"\",INDEX(Data!U:U,Report!$B257))","v":""},{"$f":"IF(ISERROR(INDEX(Data!V:V,Report!$B257)),\"\",INDEX(Data!V:V,Report!$B257))","v":""},null,"",""]
[254,{"$f":"IF(ISERROR(MATCH(A258,Data!A:A,0)),\"\",MATCH(A258,Data!A:A,0))","v":123},{"$f":"IF(ISERROR(INDEX(Data!I:I,Report!$B258)),\"\",INDEX(Data!I:I,Report!$B258))","v":"00:37:11"},{"$f":"IF(ISERROR(INDEX(Data!J:J,Report!$B258)),\"\",INDEX(Data!J:J,Report!$B258))","v":"Game against Boomer at level 2.0  Single point data:"},{"$f":"IF(ISERROR(INDEX(Data!K:K,Report!$B258)),\"\",INDEX(Data!K:K,Report!$B258))","v":"Boomer's point"},{"$f":"IF(ISERROR(INDEX(Data!L:L,Report!$B258)),\"\",INDEX(Data!L:L,Report!$B258))","v":"New Point"},null,{"$f":"IF(ISERROR(INDEX(Data!N:N,Report!$B258)),\"\",INDEX(Data!N:N,Report!$B258))","v":1},{"$f":"IF(ISERROR(INDEX(Data!P:P,Report!$B258)),\"\",INDEX(Data!P:P,Report!$B258))","v":"Serve"},{"$f":"IF(ISERROR(INDEX(Data!O:O,Report!$B258)),\"\",INDEX(Data!O:O,Report!$B258))","v":3},{"$f":"IF(ISERROR(INDEX(Data!Q:Q,Report!$B258)),\"\",INDEX(Data!Q:Q,Report!$B258))","v":2},{"$f":"IF(ISERROR(INDEX(Data!R:R,Report!$B258)),\"\",INDEX(Data!R:R,Report!$B258))","v":29},{"$f":"IF(ISERROR(INDEX(Data!S:S,Report!$B258)),\"\",INDEX(Data!S:S,Report!$B258))","v":25},{"$f":"IF(ISERROR(INDEX(Data!T:T,Report!$B258)),\"\",INDEX(Data!T:T,Report!$B258))","v":5.7},{"$f":"IF(ISERROR(INDEX(Data!U:U,Report!$B258)),\"\",INDEX(Data!U:U,Report!$B258))","v":45},{"$f":"IF(ISERROR(INDEX(Data!V:V,Report!$B258)),\"\",INDEX(Data!V:V,Report!$B258))","v":4.5999999999999996},null,"                             |","||||||||||||"]
[255,{"$f":"IF(ISERROR(MATCH(A259,Data!A:A,0)),\"\",MATCH(A259,Data!A:A,0))","v":124},{"$f":"IF(ISERROR(INDEX(Data!I:I,Report!$B259)),\"\",INDEX(Data!I:I,Report!$B259))","v":"00:37:11"},{"$f":"IF(ISERROR(INDEX(Data!J:J,Report!$B259)),\"\",INDEX(Data!J:J,Report!$B259))","v":"Game against Boomer at level 2.0  Single point data:"},{"$f":"IF(ISERROR(INDEX(Data!K:K,Report!$B259)),\"\",INDEX(Data!K:K,Report!$B259))","v":"Boomer's point"},{"$f":"IF(ISERROR(INDEX(Data!L:L,Report!$B259)),\"\",INDEX(Data!L:L,Report!$B259))","v":0},null,{"$f":"IF(ISERROR(INDEX(Data!N:N,Report!$B259)),\"\",INDEX(Data!N:N,Report!$B259))","v":2},{"$f":"IF(ISERROR(INDEX(Data!P:P,Report!$B259)),\"\",INDEX(Data!P:P,Report!$B259))","v":"Topspin"},{"$f":"IF(ISERROR(INDEX(Data!O:O,Report!$B259)),\"\",INDEX(Data!O:O,Report!$B259))","v":5},{"$f":"IF(ISERROR(INDEX(Data!Q:Q,Report!$B259)),\"\",INDEX(Data!Q:Q,Report!$B259))","v":2},{"$f":"IF(ISERROR(INDEX(Data!R:R,Report!$B259)),\"\",INDEX(Data!R:R,Report!$B259))","v":9},{"$f":"IF(ISERROR(INDEX(Data!S:S,Report!$B259)),\"\",INDEX(Data!S:S,Report!$B259))","v":5},{"$f":"IF(ISERROR(INDEX(Data!T:T,Report!$B259)),\"\",INDEX(Data!T:T,Report!$B259))","v":2.9},{"$f":"IF(ISERROR(INDEX(Data!U:U,Report!$B259)),\"\",INDEX(Data!U:U,Report!$B259))","v":30},{"$f":"IF(ISERROR(INDEX(Data!V:V,Report!$B259)),\"\",INDEX(Data!V:V,Report!$B259))","v":2.6},null,"         |","||"]
[256,{"$f":"IF(ISERROR(MATCH(A260,Data!A:A,0)),\"\",MATCH(A260,Data!A:A,0))","v":125},{"$f":"IF(ISERROR(INDEX(Data!I:I,Report!$B260)),\"\",INDEX(Data!I:I,Report!$B260))","v":"04:39:20"},{"$f":"IF(ISERROR(INDEX(Data!J:J,Report!$B260)),\"\",INDEX(Data!J:J,Report!$B260))","v":"Game against Boomer at level 3.5  Single point data:"},{"$f":"IF(ISERROR(INDEX(Data!K:K,Report!$B260)),\"\",INDEX(Data!K:K,Report!$B260))","v":"Player's point"},{"$f":"IF(ISERROR(INDEX(Data!L:L,Report!$B260)),\"\",INDEX(Data!L:L,Report!$B260))","v":0},null,{"$f":"IF(ISERROR(INDEX(Data!N:N,Report!$B260)),\"\",INDEX(Data!N:N,Report!$B260))","v":2},{"$f":"IF(ISERROR(INDEX(Data!P:P,Report!$B260)),\"\",INDEX(Data!P:P,Report!$B260))","v":"Pass"},{"$f":"IF(ISERROR(INDEX(Data!O:O,Report!$B260)),\"\",INDEX(Data!O:O,Report!$B260))","v":3},{"$f":"IF(ISERROR(INDEX(Data!Q:Q,Report!$B260)),\"\",INDEX(Data!Q:Q,Report!$B260))","v":3.5},{"$f":"IF(ISERROR(INDEX(Data!R:R,Report!$B260)),\"\",INDEX(Data!R:R,Report!$B260))","v":22},{"$f":"IF(ISERROR(INDEX(Data!S:S,Report!$B260)),\"\",INDEX(Data!S:S,Report!$B260))","v":18},{"$f":"IF(ISERROR(INDEX(Data!T:T,Report!$B260)),\"\",INDEX(Data!T:T,Report!$B260))","v":3.9},{"$f":"IF(ISERROR(INDEX(Data!U:U,Report!$B260)),\"\",INDEX(Data!U:U,Report!$B260))","v":38},{"$f":"IF(ISERROR(INDEX(Data!V:V,Report!$B260)),\"\",INDEX(Data!V:V,Report!$B260))","v":3.4},null,"                      |","|||||||||"]
[257,{"$f":"IF(ISERROR(MATCH(A261,Data!A:A,0)),\"\",MATCH(A261,Data!A:A,0))","v":126},{"$f":"IF(ISERROR(INDEX(Data!I:I,Report!$B261)),\"\",INDEX(Data!I:I,Report!$B261))","v":" "},{"$f":"IF(ISERROR(INDEX(Data!J:J,Report!$B261)),\"\",INDEX(Data!J:J,Report!$B261))","v":"User Drill #85  3 line rated mini Tennis"},{"$f":"IF(ISERROR(INDEX(Data!K:K,Report!$B261)),\"\",INDEX(Data!K:K,Report!$B261))","v":0},{"$f":"IF(ISERROR(INDEX(Data!L:L,Report!$B261)),\"\",INDEX(Data!L:L,Report!$B261))","v":0},null,{"$f":"IF(ISERROR(INDEX(Data!N:N,Report!$B261)),\"\",INDEX(Data!N:N,Report!$B261))","v":2},{"$f":"IF(ISERROR(INDEX(Data!P:P,Report!$B261)),\"\",INDEX(Data!P:P,Report!$B261))","v":0},{"$f":"IF(ISERROR(INDEX(Data!O:O,Report!$B261)),\"\",INDEX(Data!O:O,Report!$B261))","v":4},{"$f":"IF(ISERROR(INDEX(Data!Q:Q,Report!$B261)),\"\",INDEX(Data!Q:Q,Report!$B261))","v":3.5},{"$f":"IF(ISERROR(INDEX(Data!R:R,Report!$B261)),\"\",INDEX(Data!R:R,Report!$B261))","v":0},{"$f":"IF(ISERROR(INDEX(Data!S:S,Report!$B261)),\"\",INDEX(Data!S:S,Report!$B261))","v":0},{"$f":"IF(ISERROR(INDEX(Data!T:T,Report!$B261)),\"\",INDEX(Data!T:T,Report!$B261))","v":0},{"$f":"IF(ISERROR(INDEX(Data!U:U,Report!$B261)),\"\",INDEX(Data!U:U,Report!$B261))","v":0},{"$f":"IF(ISERROR(INDEX(Data!V:V,Report!$B261)),\"\",INDEX(Data!V:V,Report!$B261))","v":0},null,"|",""]
[258,{"$f":"IF(ISERROR(MATCH(A262,Data!A:A,0)),\"\",MATCH(A262,Data!A:A,0))","v":127},{"$f":"IF(ISERROR(INDEX(Data!I:I,Report!$B262)),\"\",INDEX(Data!I:I,Report!$B262))","v":" "},{"$f":"IF(ISERROR(INDEX(Data!J:J,Report!$B262)),\"\",INDEX(Data!J:J,Report!$B262))","v":"User Drill #85  3 line rated mini Tennis"},{"$f":"IF(ISERROR(INDEX(Data!K:K,Report!$B262)),\"\",INDEX(Data!K:K,Report!$B262))","v":0},{"$f":"IF(ISERROR(INDEX(Data!L:L,Report!$B262)),\"\",INDEX(Data!L:L,Report!$B262))","v":0},null,{"$f":"IF(ISERROR(INDEX(Data!N:N,Report!$B262)),\"\",INDEX(Data!N:N,Report!$B262))","v":3},{"$f":"IF(ISERROR(INDEX(Data!P:P,Report!$B262)),\"\",INDEX(Data!P:P,Report!$B262))","v":0},{"$f":"IF(ISERROR(INDEX(Data!O:O,Report!$B262)),\"\",INDEX(Data!O:O,Report!$B262))","v":10},{"$f":"IF(ISERROR(INDEX(Data!Q:Q,Report!$B262)),\"\",INDEX(Data!Q:Q,Report!$B262))","v":3.5},{"$f":"IF(ISERROR(INDEX(Data!R:R,Report!$B262)),\"\",INDEX(Data!R:R,Report!$B262))","v":0},{"$f":"IF(ISERROR(INDEX(Data!S:S,Report!$B262)),\"\",INDEX(Data!S:S,Report!$B262))","v":0},{"$f":"IF(ISERROR(INDEX(Data!T:T,Report!$B262)),\"\",INDEX(Data!T:T,Report!$B262))","v":0},{"$f":"IF(ISERROR(INDEX(Data!U:U,Report!$B262)),\"\",INDEX(Data!U:U,Report!$B262))","v":0},{"$f":"IF(ISERROR(INDEX(Data!V:V,Report!$B262)),\"\",INDEX(Data!V:V,Report!$B262))","v":0},null,"|",{"$f":"IF(ISERROR(REPT(\"|\",M262/2)),\"\",REPT(\"|\",M262/2))","v":""}]
[{"$f":"A262+1","v":259},{"$f":"IF(ISERROR(MATCH(A263,Data!A:A,0)),\"\",MATCH(A263,Data!A:A,0))","v":128},{"$f":"IF(ISERROR(INDEX(Data!I:I,Report!$B263)),\"\",INDEX(Data!I:I,Report!$B263))","v":"00:37:11"},{"$f":"IF(ISERROR(INDEX(Data!J:J,Report!$B263)),\"\",INDEX(Data!J:J,Report!$B263))","v":"Game against Boomer at level 2.0  Single point data:"},{"$f":"IF(ISERROR(INDEX(Data!K:K,Report!$B263)),\"\",INDEX(Data!K:K,Report!$B263))","v":"Boomer's point"},{"$f":"IF(ISERROR(INDEX(Data!L:L,Report!$B263)),\"\",INDEX(Data!L:L,Report!$B263))","v":0},null,{"$f":"IF(ISERROR(INDEX(Data!N:N,Report!$B263)),\"\",INDEX(Data!N:N,Report!$B263))","v":3},{"$f":"IF(ISERROR(INDEX(Data!P:P,Report!$B263)),\"\",INDEX(Data!P:P,Report!$B263))","v":"Pass"},{"$f":"IF(ISERROR(INDEX(Data!O:O,Report!$B263)),\"\",INDEX(Data!O:O,Report!$B263))","v":4},{"$f":"IF(ISERROR(INDEX(Data!Q:Q,Report!$B263)),\"\",INDEX(Data!Q:Q,Report!$B263))","v":2},{"$f":"IF(ISERROR(INDEX(Data!R:R,Report!$B263)),\"\",INDEX(Data!R:R,Report!$B263))","v":0},{"$f":"IF(ISERROR(INDEX(Data!S:S,Report!$B263)),\"\",INDEX(Data!S:S,Report!$B263))","v":0},{"$f":"IF(ISERROR(INDEX(Data!T:T,Report!$B263)),\"\",INDEX(Data!T:T,Report!$B263))","v":0},{"$f":"IF(ISERROR(INDEX(Data!U:U,Report!$B263)),\"\",INDEX(Data!U:U,Report!$B263))","v":0},{"$f":"IF(ISERROR(INDEX(Data!V:V,Report!$B263)),\"\",INDEX(Data!V:V,Report!$B263))","v":0},null,"|",""]
[260,{"$f":"IF(ISERROR(MATCH(A264,Data!A:A,0)),\"\",MATCH(A264,Data!A:A,0))","v":129},{"$f":"IF(ISERROR(INDEX(Data!I:I,Report!$B264)),\"\",INDEX(Data!I:I,Report!$B264))","v":"04:39:20"},{"$f":"IF(ISERROR(INDEX(Data!J:J,Report!$B264)),\"\",INDEX(Data!J:J,Report!$B264))","v":"Game against Boomer at level 3.5  Single point data:"},{"$f":"IF(ISERROR(INDEX(Data!K:K,Report!$B264)),\"\",INDEX(Data!K:K,Report!$B264))","v":"Player's point"},{"$f":"IF(ISERROR(INDEX(Data!L:L,Report!$B264)),\"\",INDEX(Data!L:L,Report!$B264))","v":0},null,{"$f":"IF(ISERROR(INDEX(Data!N:N,Report!$B264)),\"\",INDEX(Data!N:N,Report!$B264))","v":3},{"$f":"IF(ISERROR(INDEX(Data!P:P,Report!$B264)),\"\",INDEX(Data!P:P,Report!$B264))","v":"Topspin"},{"$f":"IF(ISERROR(INDEX(Data!O:O,Report!$B264)),\"\",INDEX(Data!O:O,Report!$B264))","v":5},{"$f":"IF(ISERROR(INDEX(Data!Q:Q,Report!$B264)),\"\",INDEX(Data!Q:Q,Report!$B264))","v":3.5},{"$f":"IF(ISERROR(INDEX(Data!R:R,Report!$B264)),\"\",INDEX(Data!R:R,Report!$B264))","v":22},{"$f":"IF(ISERROR(INDEX(Data!S:S,Report!$B264)),\"\",INDEX(Data!S:S,Report!$B264))","v":7},{"$f":"IF(ISERROR(INDEX(Data!T:T,Report!$B264)),\"\",INDEX(Data!T:T,Report!$B264))","v":4},{"$f":"IF(ISERROR(INDEX(Data!U:U,Report!$B264)),\"\",INDEX(Data!U:U,Report!$B264))","v":49},{"$f":"IF(ISERROR(INDEX(Data!V:V,Report!$B264)),\"\",INDEX(Data!V:V,Report!$B264))","v":4.8},null,"                      |","|||"]
[261,{"$f":"IF(ISERROR(MATCH(A265,Data!A:A,0)),\"\",MATCH(A265,Data!A:A,0))","v":130},{"$f":"IF(ISERROR(INDEX(Data!I:I,Report!$B265)),\"\",INDEX(Data!I:I,Report!$B265))","v":"04:39:20"},{"$f":"IF(ISERROR(INDEX(Data!J:J,Report!$B265)),\"\",INDEX(Data!J:J,Report!$B265))","v":"Game against Boomer at level 3.5  Single point data:"},{"$f":"IF(ISERROR(INDEX(Data!K:K,Report!$B265)),\"\",INDEX(Data!K:K,Report!$B265))","v":"Player's point"},{"$f":"IF(ISERROR(INDEX(Data!L:L,Report!$B265)),\"\",INDEX(Data!L:L,Report!$B265))","v":0},null,{"$f":"IF(ISERROR(INDEX(Data!N:N,Report!$B265)),\"\",INDEX(Data!N:N,Report!$B265))","v":4},{"$f":"IF(ISERROR(INDEX(Data!P:P,Report!$B265)),\"\",INDEX(Data!P:P,Report!$B265))","v":"Pass"},{"$f":"IF(ISERROR(INDEX(Data!O:O,Report!$B265)),\"\",INDEX(Data!O:O,Report!$B265))","v":3},{"$f":"IF(ISERROR(INDEX(Data!Q:Q,Report!$B265)),\"\",INDEX(Data!Q:Q,Report!$B265))","v":3.5},{"$f":"IF(ISERROR(INDEX(Data!R:R,Report!$B265)),\"\",INDEX(Data!R:R,Report!$B265))","v":33},{"$f":"IF(ISERROR(INDEX(Data!S:S,Report!$B265)),\"\",INDEX(Data!S:S,Report!$B265))","v":26},{"$f":"IF(ISERROR(INDEX(Data!T:T,Report!$B265)),\"\",INDEX(Data!T:T,Report!$B265))","v":7},{"$f":"IF(ISERROR(INDEX(Data!U:U,Report!$B265)),\"\",INDEX(Data!U:U,Report!$B265))","v":40},{"$f":"IF(ISERROR(INDEX(Data!V:V,Report!$B265)),\"\",INDEX(Data!V:V,Report!$B265))","v":5.8},null,"                                 |","|||||||||||||"]
[262,{"$f":"IF(ISERROR(MATCH(A266,Data!A:A,0)),\"\",MATCH(A266,Data!A:A,0))","v":""},{"$f":"IF(ISERROR(INDEX(Data!I:I,Report!$B266)),\"\",INDEX(Data!I:I,Report!$B266))","v":""},{"$f":"IF(ISERROR(INDEX(Data!J:J,Report!$B266)),\"\",INDEX(Data!J:J,Report!$B266))","v":""},{"$f":"IF(ISERROR(INDEX(Data!K:K,Report!$B266)),\"\",INDEX(Data!K:K,Report!$B266))","v":""},{"$f":"IF(ISERROR(INDEX(Data!L:L,Report!$B266)),\"\",INDEX(Data!L:L,Report!$B266))","v":""},null,{"$f":"IF(ISERROR(INDEX(Data!N:N,Report!$B266)),\"\",INDEX(Data!N:N,Report!$B266))","v":""},{"$f":"IF(ISERROR(INDEX(Data!P:P,Report!$B266)),\"\",INDEX(Data!P:P,Report!$B266))","v":""},{"$f":"IF(ISERROR(INDEX(Data!O:O,Report!$B266)),\"\",INDEX(Data!O:O,Report!$B266))","v":""},{"$f":"IF(ISERROR(INDEX(Data!Q:Q,Report!$B266)),\"\",INDEX(Data!Q:Q,Report!$B266))","v":""},{"$f":"IF(ISERROR(INDEX(Data!R:R,Report!$B266)),\"\",INDEX(Data!R:R,Report!$B266))","v":""},{"$f":"IF(ISERROR(INDEX(Data!S:S,Report!$B266)),\"\",INDEX(Data!S:S,Report!$B266))","v":""},{"$f":"IF(ISERROR(INDEX(Data!T:T,Report!$B266)),\"\",INDEX(Data!T:T,Report!$B266))","v":""},{"$f":"IF(ISERROR(INDEX(Data!U:U,Report!$B266)),\"\",INDEX(Data!U:U,Report!$B266))","v":""},{"$f":"IF(ISERROR(INDEX(Data!V:V,Report!$B266)),\"\",INDEX(Data!V:V,Report!$B266))","v":""},null,"",""]
[263,{"$f":"IF(ISERROR(MATCH(A267,Data!A:A,0)),\"\",MATCH(A267,Data!A:A,0))","v":""},{"$f":"IF(ISERROR(INDEX(Data!I:I,Report!$B267)),\"\",INDEX(Data!I:I,Report!$B267))","v":""},{"$f":"IF(ISERROR(INDEX(Data!J:J,Report!$B267)),\"\",INDEX(Data!J:J,Report!$B267))","v":""},{"$f":"IF(ISERROR(INDEX(Data!K:K,Report!$B267)),\"\",INDEX(Data!K:K,Report!$B267))","v":""},{"$f":"IF(ISERROR(INDEX(Data!L:L,Report!$B267)),\"\",INDEX(Data!L:L,Report!$B267))","v":""},null,{"$f":"IF(ISERROR(INDEX(Data!N:N,Report!$B267)),\"\",INDEX(Data!N:N,Report!$B267))","v":""},{"$f":"IF(ISERROR(INDEX(Data!P:P,Report!$B267)),\"\",INDEX(Data!P:P,Report!$B267))","v":""},{"$f":"IF(ISERROR(INDEX(Data!O:O,Report!$B267)),\"\",INDEX(Data!O:O,Report!$B267))","v":""},{"$f":"IF(ISERROR(INDEX(Data!Q:Q,Report!$B267)),\"\",INDEX(Data!Q:Q,Report!$B267))","v":""},{"$f":"IF(ISERROR(INDEX(Data!R:R,Report!$B267)),\"\",INDEX(Data!R:R,Report!$B267))","v":""},{"$f":"IF(ISERROR(INDEX(Data!S:S,Report!$B267)),\"\",INDEX(Data!S:S,Report!$B267))","v":""},{"$f":"IF(ISERROR(INDEX(Data!T:T,Report!$B267)),\"\",INDEX(Data!T:T,Report!$B267))","v":""},{"$f":"IF(ISERROR(INDEX(Data!U:U,Report!$B267)),\"\",INDEX(Data!U:U,Report!$B267))","v":""},{"$f":"IF(ISERROR(INDEX(Data!V:V,Report!$B267)),\"\",INDEX(Data!V:V,Report!$B267))","v":""},null,"",""]
[264,{"$f":"IF(ISERROR(MATCH(A268,Data!A:A,0)),\"\",MATCH(A268,Data!A:A,0))","v":""},{"$f":"IF(ISERROR(INDEX(Data!I:I,Report!$B268)),\"\",INDEX(Data!I:I,Report!$B268))","v":""},{"$f":"IF(ISERROR(INDEX(Data!J:J,Report!$B268)),\"\",INDEX(Data!J:J,Report!$B268))","v":""},{"$f":"IF(ISERROR(INDEX(Data!K:K,Report!$B268)),\"\",INDEX(Data!K:K,Report!$B268))","v":""},{"$f":"IF(ISERROR(INDEX(Data!L:L,Report!$B268)),\"\",INDEX(Data!L:L,Report!$B268))","v":""},null,{"$f":"IF(ISERROR(INDEX(Data!N:N,Report!$B268)),\"\",INDEX(Data!N:N,Report!$B268))","v":""},{"$f":"IF(ISERROR(INDEX(Data!P:P,Report!$B268)),\"\",INDEX(Data!P:P,Report!$B268))","v":""},{"$f":"IF(ISERROR(INDEX(Data!O:O,Report!$B268)),\"\",INDEX(Data!O:O,Report!$B268))","v":""},{"$f":"IF(ISERROR(INDEX(Data!Q:Q,Report!$B268)),\"\",INDEX(Data!Q:Q,Report!$B268))","v":""},{"$f":"IF(ISERROR(INDEX(Data!R:R,Report!$B268)),\"\",INDEX(Data!R:R,Report!$B268))","v":""},{"$f":"IF(ISERROR(INDEX(Data!S:S,Report!$B268)),\"\",INDEX(Data!S:S,Report!$B268))","v":""},{"$f":"IF(ISERROR(INDEX(Data!T:T,Report!$B268)),\"\",INDEX(Data!T:T,Report!$B268))","v":""},{"$f":"IF(ISERROR(INDEX(Data!U:U,Report!$B268)),\"\",INDEX(Data!U:U,Report!$B268))","v":""},{"$f":"IF(ISERROR(INDEX(Data!V:V,Report!$B268)),\"\",INDEX(Data!V:V,Report!$B268))","v":""},null,"",""]
[265,{"$f":"IF(ISERROR(MATCH(A269,Data!A:A,0)),\"\",MATCH(A269,Data!A:A,0))","v":131},{"$f":"IF(ISERROR(INDEX(Data!I:I,Report!$B269)),\"\",INDEX(Data!I:I,Report!$B269))","v":" "},{"$f":"IF(ISERROR(INDEX(Data!J:J,Report!$B269)),\"\",INDEX(Data!J:J,Report!$B269))","v":"User Drill #85  3 line rated mini Tennis"},{"$f":"IF(ISERROR(INDEX(Data!K:K,Report!$B269)),\"\",INDEX(Data!K:K,Report!$B269))","v":0},{"$f":"IF(ISERROR(INDEX(Data!L:L,Report!$B269)),\"\",INDEX(Data!L:L,Report!$B269))","v":"New Point"},null,{"$f":"IF(ISERROR(INDEX(Data!N:N,Report!$B269)),\"\",INDEX(Data!N:N,Report!$B269))","v":1},{"$f":"IF(ISERROR(INDEX(Data!P:P,Report!$B269)),\"\",INDEX(Data!P:P,Report!$B269))","v":0},{"$f":"IF(ISERROR(INDEX(Data!O:O,Report!$B269)),\"\",INDEX(Data!O:O,Report!$B269))","v":11},{"$f":"IF(ISERROR(INDEX(Data!Q:Q,Report!$B269)),\"\",INDEX(Data!Q:Q,Report!$B269))","v":3.5},{"$f":"IF(ISERROR(INDEX(Data!R:R,Report!$B269)),\"\",INDEX(Data!R:R,Report!$B269))","v":0},{"$f":"IF(ISERROR(INDEX(Data!S:S,Report!$B269)),\"\",INDEX(Data!S:S,Report!$B269))","v":0},{"$f":"IF(ISERROR(INDEX(Data!T:T,Report!$B269)),\"\",INDEX(Data!T:T,Report!$B269))","v":0},{"$f":"IF(ISERROR(INDEX(Data!U:U,Report!$B269)),\"\",INDEX(Data!U:U,Report!$B269))","v":0},{"$f":"IF(ISERROR(INDEX(Data!V:V,Report!$B269)),\"\",INDEX(Data!V:V,Report!$B269))","v":0},null,"|",""]
[266,{"$f":"IF(ISERROR(MATCH(A270,Data!A:A,0)),\"\",MATCH(A270,Data!A:A,0))","v":""},{"$f":"IF(ISERROR(INDEX(Data!I:I,Report!$B270)),\"\",INDEX(Data!I:I,Report!$B270))","v":""},{"$f":"IF(ISERROR(INDEX(Data!J:J,Report!$B270)),\"\",INDEX(Data!J:J,Report!$B270))","v":""},{"$f":"IF(ISERROR(INDEX(Data!K:K,Report!$B270)),\"\",INDEX(Data!K:K,Report!$B270))","v":""},{"$f":"IF(ISERROR(INDEX(Data!L:L,Report!$B270)),\"\",INDEX(Data!L:L,Report!$B270))","v":""},null,{"$f":"IF(ISERROR(INDEX(Data!N:N,Report!$B270)),\"\",INDEX(Data!N:N,Report!$B270))","v":""},{"$f":"IF(ISERROR(INDEX(Data!P:P,Report!$B270)),\"\",INDEX(Data!P:P,Report!$B270))","v":""},{"$f":"IF(ISERROR(INDEX(Data!O:O,Report!$B270)),\"\",INDEX(Data!O:O,Report!$B270))","v":""},{"$f":"IF(ISERROR(INDEX(Data!Q:Q,Report!$B270)),\"\",INDEX(Data!Q:Q,Report!$B270))","v":""},{"$f":"IF(ISERROR(INDEX(Data!R:R,Report!$B270)),\"\",INDEX(Data!R:R,Report!$B270))","v":""},{"$f":"IF(ISERROR(INDEX(Data!S:S,Report!$B270)),\"\",INDEX(Data!S:S,Report!$B270))","v":""},{"$f":"IF(ISERROR(INDEX(Data!T:T,Report!$B270)),\"\",INDEX(Data!T:T,Report!$B270))","v":""},{"$f":"IF(ISERROR(INDEX(Data!U:U,Report!$B270)),\"\",INDEX(Data!U:U,Report!$B270))","v":""},{"$f":"IF(ISERROR(INDEX(Data!V:V,Report!$B270)),\"\",INDEX(Data!V:V,Report!$B270))","v":""},null,"",""]
[267,{"$f":"IF(ISERROR(MATCH(A271,Data!A:A,0)),\"\",MATCH(A271,Data!A:A,0))","v":""},{"$f":"IF(ISERROR(INDEX(Data!I:I,Report!$B271)),\"\",INDEX(Data!I:I,Report!$B271))","v":""},{"$f":"IF(ISERROR(INDEX(Data!J:J,Report!$B271)),\"\",INDEX(Data!J:J,Report!$B271))","v":""},{"$f":"IF(ISERROR(INDEX(Data!K:K,Report!$B271)),\"\",INDEX(Data!K:K,Report!$B271))","v":""},{"$f":"IF(ISERROR(INDEX(Data!L:L,Report!$B271)),\"\",INDEX(Data!L:L,Report!$B271))","v":""},null,{"$f":"IF(ISERROR(INDEX(Data!N:N,Report!$B271)),\"\",INDEX(Data!N:N,Report!$B271))","v":""},{"$f":"IF(ISERROR(INDEX(Data!P:P,Report!$B271)),\"\",INDEX(Data!P:P,Report!$B271))","v":""},{"$f":"IF(ISERROR(INDEX(Data!O:O,Report!$B271)),\"\",INDEX(Data!O:O,Report!$B271))","v":""},{"$f":"IF(ISERROR(INDEX(Data!Q:Q,Report!$B271)),\"\",INDEX(Data!Q:Q,Report!$B271))","v":""},{"$f":"IF(ISERROR(INDEX(Data!R:R,Report!$B271)),\"\",INDEX(Data!R:R,Report!$B271))","v":""},{"$f":"IF(ISERROR(INDEX(Data!S:S,Report!$B271)),\"\",INDEX(Data!S:S,Report!$B271))","v":""},{"$f":"IF(ISERROR(INDEX(Data!T:T,Report!$B271)),\"\",INDEX(Data!T:T,Report!$B271))","v":""},{"$f":"IF(ISERROR(INDEX(Data!U:U,Report!$B271)),\"\",INDEX(Data!U:U,Report!$B271))","v":""},{"$f":"IF(ISERROR(INDEX(Data!V:V,Report!$B271)),\"\",INDEX(Data!V:V,Report!$B271))","v":""},null,"",""]
[268,{"$f":"IF(ISERROR(MATCH(A272,Data!A:A,0)),\"\",MATCH(A272,Data!A:A,0))","v":""},{"$f":"IF(ISERROR(INDEX(Data!I:I,Report!$B272)),\"\",INDEX(Data!I:I,Report!$B272))","v":""},{"$f":"IF(ISERROR(INDEX(Data!J:J,Report!$B272)),\"\",INDEX(Data!J:J,Report!$B272))","v":""},{"$f":"IF(ISERROR(INDEX(Data!K:K,Report!$B272)),\"\",INDEX(Data!K:K,Report!$B272))","v":""},{"$f":"IF(ISERROR(INDEX(Data!L:L,Report!$B272)),\"\",INDEX(Data!L:L,Report!$B272))","v":""},null,{"$f":"IF(ISERROR(INDEX(Data!N:N,Report!$B272)),\"\",INDEX(Data!N:N,Report!$B272))","v":""},{"$f":"IF(ISERROR(INDEX(Data!P:P,Report!$B272)),\"\",INDEX(Data!P:P,Report!$B272))","v":""},{"$f":"IF(ISERROR(INDEX(Data!O:O,Report!$B272)),\"\",INDEX(Data!O:O,Report!$B272))","v":""},{"$f":"IF(ISERROR(INDEX(Data!Q:Q,Report!$B272)),\"\",INDEX(Data!Q:Q,Report!$B272))","v":""},{"$f":"IF(ISERROR(INDEX(Data!R:R,Report!$B272)),\"\",INDEX(Data!R:R,Report!$B272))","v":""},{"$f":"IF(ISERROR(INDEX(Data!S:S,Report!$B272)),\"\",INDEX(Data!S:S,Report!$B272))","v":""},{"$f":"IF(ISERROR(INDEX(Data!T:T,Report!$B272)),\"\",INDEX(Data!T:T,Report!$B272))","v":""},{"$f":"IF(ISERROR(INDEX(Data!U:U,Report!$B272)),\"\",INDEX(Data!U:U,Report!$B272))","v":""},{"$f":"IF(ISERROR(INDEX(Data!V:V,Report!$B272)),\"\",INDEX(Data!V:V,Report!$B272))","v":""},null,"",""]
[269,{"$f":"IF(ISERROR(MATCH(A273,Data!A:A,0)),\"\",MATCH(A273,Data!A:A,0))","v":132},{"$f":"IF(ISERROR(INDEX(Data!I:I,Report!$B273)),\"\",INDEX(Data!I:I,Report!$B273))","v":"04:39:49"},{"$f":"IF(ISERROR(INDEX(Data!J:J,Report!$B273)),\"\",INDEX(Data!J:J,Report!$B273))","v":"Game against Boomer at level 3.5  Single point data:"},{"$f":"IF(ISERROR(INDEX(Data!K:K,Report!$B273)),\"\",INDEX(Data!K:K,Report!$B273))","v":"Player's point"},{"$f":"IF(ISERROR(INDEX(Data!L:L,Report!$B273)),\"\",INDEX(Data!L:L,Report!$B273))","v":"New Point"},null,{"$f":"IF(ISERROR(INDEX(Data!N:N,Report!$B273)),\"\",INDEX(Data!N:N,Report!$B273))","v":1},{"$f":"IF(ISERROR(INDEX(Data!P:P,Report!$B273)),\"\",INDEX(Data!P:P,Report!$B273))","v":"Serve"},{"$f":"IF(ISERROR(INDEX(Data!O:O,Report!$B273)),\"\",INDEX(Data!O:O,Report!$B273))","v":3},{"$f":"IF(ISERROR(INDEX(Data!Q:Q,Report!$B273)),\"\",INDEX(Data!Q:Q,Report!$B273))","v":3.5},{"$f":"IF(ISERROR(INDEX(Data!R:R,Report!$B273)),\"\",INDEX(Data!R:R,Report!$B273))","v":24},{"$f":"IF(ISERROR(INDEX(Data!S:S,Report!$B273)),\"\",INDEX(Data!S:S,Report!$B273))","v":11},{"$f":"IF(ISERROR(INDEX(Data!T:T,Report!$B273)),\"\",INDEX(Data!T:T,Report!$B273))","v":3.9},{"$f":"IF(ISERROR(INDEX(Data!U:U,Report!$B273)),\"\",INDEX(Data!U:U,Report!$B273))","v":38},{"$f":"IF(ISERROR(INDEX(Data!V:V,Report!$B273)),\"\",INDEX(Data!V:V,Report!$B273))","v":3.4},null,"                        |","|||||"]
[270,{"$f":"IF(ISERROR(MATCH(A274,Data!A:A,0)),\"\",MATCH(A274,Data!A:A,0))","v":""},{"$f":"IF(ISERROR(INDEX(Data!I:I,Report!$B274)),\"\",INDEX(Data!I:I,Report!$B274))","v":""},{"$f":"IF(ISERROR(INDEX(Data!J:J,Report!$B274)),\"\",INDEX(Data!J:J,Report!$B274))","v":""},{"$f":"IF(ISERROR(INDEX(Data!K:K,Report!$B274)),\"\",INDEX(Data!K:K,Report!$B274))","v":""},{"$f":"IF(ISERROR(INDEX(Data!L:L,Report!$B274)),\"\",INDEX(Data!L:L,Report!$B274))","v":""},null,{"$f":"IF(ISERROR(INDEX(Data!N:N,Report!$B274)),\"\",INDEX(Data!N:N,Report!$B274))","v":""},{"$f":"IF(ISERROR(INDEX(Data!P:P,Report!$B274)),\"\",INDEX(Data!P:P,Report!$B274))","v":""},{"$f":"IF(ISERROR(INDEX(Data!O:O,Report!$B274)),\"\",INDEX(Data!O:O,Report!$B274))","v":""},{"$f":"IF(ISERROR(INDEX(Data!Q:Q,Report!$B274)),\"\",INDEX(Data!Q:Q,Report!$B274))","v":""},{"$f":"IF(ISERROR(INDEX(Data!R:R,Report!$B274)),\"\",INDEX(Data!R:R,Report!$B274))","v":""},{"$f":"IF(ISERROR(INDEX(Data!S:S,Report!$B274)),\"\",INDEX(Data!S:S,Report!$B274))","v":""},{"$f":"IF(ISERROR(INDEX(Data!T:T,Report!$B274)),\"\",INDEX(Data!T:T,Report!$B274))","v":""},{"$f":"IF(ISERROR(INDEX(Data!U:U,Report!$B274)),\"\",INDEX(Data!U:U,Report!$B274))","v":""},{"$f":"IF(ISERROR(INDEX(Data!V:V,Report!$B274)),\"\",INDEX(Data!V:V,Report!$B274))","v":""},null,"",""]
[271,{"$f":"IF(ISERROR(MATCH(A275,Data!A:A,0)),\"\",MATCH(A275,Data!A:A,0))","v":""},{"$f":"IF(ISERROR(INDEX(Data!I:I,Report!$B275)),\"\",INDEX(Data!I:I,Report!$B275))","v":""},{"$f":"IF(ISERROR(INDEX(Data!J:J,Report!$B275)),\"\",INDEX(Data!J:J,Report!$B275))","v":""},{"$f":"IF(ISERROR(INDEX(Data!K:K,Report!$B275)),\"\",INDEX(Data!K:K,Report!$B275))","v":""},{"$f":"IF(ISERROR(INDEX(Data!L:L,Report!$B275)),\"\",INDEX(Data!L:L,Report!$B275))","v":""},null,{"$f":"IF(ISERROR(INDEX(Data!N:N,Report!$B275)),\"\",INDEX(Data!N:N,Report!$B275))","v":""},{"$f":"IF(ISERROR(INDEX(Data!P:P,Report!$B275)),\"\",INDEX(Data!P:P,Report!$B275))","v":""},{"$f":"IF(ISERROR(INDEX(Data!O:O,Report!$B275)),\"\",INDEX(Data!O:O,Report!$B275))","v":""},{"$f":"IF(ISERROR(INDEX(Data!Q:Q,Report!$B275)),\"\",INDEX(Data!Q:Q,Report!$B275))","v":""},{"$f":"IF(ISERROR(INDEX(Data!R:R,Report!$B275)),\"\",INDEX(Data!R:R,Report!$B275))","v":""},{"$f":"IF(ISERROR(INDEX(Data!S:S,Report!$B275)),\"\",INDEX(Data!S:S,Report!$B275))","v":""},{"$f":"IF(ISERROR(INDEX(Data!T:T,Report!$B275)),\"\",INDEX(Data!T:T,Report!$B275))","v":""},{"$f":"IF(ISERROR(INDEX(Data!U:U,Report!$B275)),\"\",INDEX(Data!U:U,Report!$B275))","v":""},{"$f":"IF(ISERROR(INDEX(Data!V:V,Report!$B275)),\"\",INDEX(Data!V:V,Report!$B275))","v":""},null,"",""]
[272,{"$f":"IF(ISERROR(MATCH(A276,Data!A:A,0)),\"\",MATCH(A276,Data!A:A,0))","v":""},{"$f":"IF(ISERROR(INDEX(Data!I:I,Report!$B276)),\"\",INDEX(Data!I:I,Report!$B276))","v":""},{"$f":"IF(ISERROR(INDEX(Data!J:J,Report!$B276)),\"\",INDEX(Data!J:J,Report!$B276))","v":""},{"$f":"IF(ISERROR(INDEX(Data!K:K,Report!$B276)),\"\",INDEX(Data!K:K,Report!$B276))","v":""},{"$f":"IF(ISERROR(INDEX(Data!L:L,Report!$B276)),\"\",INDEX(Data!L:L,Report!$B276))","v":""},null,{"$f":"IF(ISERROR(INDEX(Data!N:N,Report!$B276)),\"\",INDEX(Data!N:N,Report!$B276))","v":""},{"$f":"IF(ISERROR(INDEX(Data!P:P,Report!$B276)),\"\",INDEX(Data!P:P,Report!$B276))","v":""},{"$f":"IF(ISERROR(INDEX(Data!O:O,Report!$B276)),\"\",INDEX(Data!O:O,Report!$B276))","v":""},{"$f":"IF(ISERROR(INDEX(Data!Q:Q,Report!$B276)),\"\",INDEX(Data!Q:Q,Report!$B276))","v":""},{"$f":"IF(ISERROR(INDEX(Data!R:R,Report!$B276)),\"\",INDEX(Data!R:R,Report!$B276))","v":""},{"$f":"IF(ISERROR(INDEX(Data!S:S,Report!$B276)),\"\",INDEX(Data!S:S,Report!$B276))","v":""},{"$f":"IF(ISERROR(INDEX(Data!T:T,Report!$B276)),\"\",INDEX(Data!T:T,Report!$B276))","v":""},{"$f":"IF(ISERROR(INDEX(Data!U:U,Report!$B276)),\"\",INDEX(Data!U:U,Report!$B276))","v":""},{"$f":"IF(ISERROR(INDEX(Data!V:V,Report!$B276)),\"\",INDEX(Data!V:V,Report!$B276))","v":""},null,"",""]
[273,{"$f":"IF(ISERROR(MATCH(A277,Data!A:A,0)),\"\",MATCH(A277,Data!A:A,0))","v":133},{"$f":"IF(ISERROR(INDEX(Data!I:I,Report!$B277)),\"\",INDEX(Data!I:I,Report!$B277))","v":"00:37:34"},{"$f":"IF(ISERROR(INDEX(Data!J:J,Report!$B277)),\"\",INDEX(Data!J:J,Report!$B277))","v":"Game against Boomer at level 2.0  Single point data:"},{"$f":"IF(ISERROR(INDEX(Data!K:K,Report!$B277)),\"\",INDEX(Data!K:K,Report!$B277))","v":"Boomer's point"},{"$f":"IF(ISERROR(INDEX(Data!L:L,Report!$B277)),\"\",INDEX(Data!L:L,Report!$B277))","v":"New Point"},null,{"$f":"IF(ISERROR(INDEX(Data!N:N,Report!$B277)),\"\",INDEX(Data!N:N,Report!$B277))","v":1},{"$f":"IF(ISERROR(INDEX(Data!P:P,Report!$B277)),\"\",INDEX(Data!P:P,Report!$B277))","v":"Serve"},{"$f":"IF(ISERROR(INDEX(Data!O:O,Report!$B277)),\"\",INDEX(Data!O:O,Report!$B277))","v":5},{"$f":"IF(ISERROR(INDEX(Data!Q:Q,Report!$B277)),\"\",INDEX(Data!Q:Q,Report!$B277))","v":2},{"$f":"IF(ISERROR(INDEX(Data!R:R,Report!$B277)),\"\",INDEX(Data!R:R,Report!$B277))","v":24},{"$f":"IF(ISERROR(INDEX(Data!S:S,Report!$B277)),\"\",INDEX(Data!S:S,Report!$B277))","v":22},{"$f":"IF(ISERROR(INDEX(Data!T:T,Report!$B277)),\"\",INDEX(Data!T:T,Report!$B277))","v":4.7},{"$f":"IF(ISERROR(INDEX(Data!U:U,Report!$B277)),\"\",INDEX(Data!U:U,Report!$B277))","v":42},{"$f":"IF(ISERROR(INDEX(Data!V:V,Report!$B277)),\"\",INDEX(Data!V:V,Report!$B277))","v":4},null,"                        |","|||||||||||"]
[274,{"$f":"IF(ISERROR(MATCH(A278,Data!A:A,0)),\"\",MATCH(A278,Data!A:A,0))","v":134},{"$f":"IF(ISERROR(INDEX(Data!I:I,Report!$B278)),\"\",INDEX(Data!I:I,Report!$B278))","v":"00:37:34"},{"$f":"IF(ISERROR(INDEX(Data!J:J,Report!$B278)),\"\",INDEX(Data!J:J,Report!$B278))","v":"Game against Boomer at level 2.0  Single point data:"},{"$f":"IF(ISERROR(INDEX(Data!K:K,Report!$B278)),\"\",INDEX(Data!K:K,Report!$B278))","v":"Boomer's point"},{"$f":"IF(ISERROR(INDEX(Data!L:L,Report!$B278)),\"\",INDEX(Data!L:L,Report!$B278))","v":0},null,{"$f":"IF(ISERROR(INDEX(Data!N:N,Report!$B278)),\"\",INDEX(Data!N:N,Report!$B278))","v":2},{"$f":"IF(ISERROR(INDEX(Data!P:P,Report!$B278)),\"\",INDEX(Data!P:P,Report!$B278))","v":"Slice"},{"$f":"IF(ISERROR(INDEX(Data!O:O,Report!$B278)),\"\",INDEX(Data!O:O,Report!$B278))","v":3},{"$f":"IF(ISERROR(INDEX(Data!Q:Q,Report!$B278)),\"\",INDEX(Data!Q:Q,Report!$B278))","v":2},{"$f":"IF(ISERROR(INDEX(Data!R:R,Report!$B278)),\"\",INDEX(Data!R:R,Report!$B278))","v":8},{"$f":"IF(ISERROR(INDEX(Data!S:S,Report!$B278)),\"\",INDEX(Data!S:S,Report!$B278))","v":26},{"$f":"IF(ISERROR(INDEX(Data!T:T,Report!$B278)),\"\",INDEX(Data!T:T,Report!$B278))","v":3.1},{"$f":"IF(ISERROR(INDEX(Data!U:U,Report!$B278)),\"\",INDEX(Data!U:U,Report!$B278))","v":28},{"$f":"IF(ISERROR(INDEX(Data!V:V,Report!$B278)),\"\",INDEX(Data!V:V,Report!$B278))","v":2.6},null,"        |","|||||||||||||"]
[275,{"$f":"IF(ISERROR(MATCH(A279,Data!A:A,0)),\"\",MATCH(A279,Data!A:A,0))","v":135},{"$f":"IF(ISERROR(INDEX(Data!I:I,Report!$B279)),\"\",INDEX(Data!I:I,Report!$B279))","v":"04:39:49"},{"$f":"IF(ISERROR(INDEX(Data!J:J,Report!$B279)),\"\",INDEX(Data!J:J,Report!$B279))","v":"Game against Boomer at level 3.5  Single point data:"},{"$f":"IF(ISERROR(INDEX(Data!K:K,Report!$B279)),\"\",INDEX(Data!K:K,Report!$B279))","v":"Player's point"},{"$f":"IF(ISERROR(INDEX(Data!L:L,Report!$B279)),\"\",INDEX(Data!L:L,Report!$B279))","v":0},null,{"$f":"IF(ISERROR(INDEX(Data!N:N,Report!$B279)),\"\",INDEX(Data!N:N,Report!$B279))","v":2},{"$f":"IF(ISERROR(INDEX(Data!P:P,Report!$B279)),\"\",INDEX(Data!P:P,Report!$B279))","v":"Slice"},{"$f":"IF(ISERROR(INDEX(Data!O:O,Report!$B279)),\"\",INDEX(Data!O:O,Report!$B279))","v":5},{"$f":"IF(ISERROR(INDEX(Data!Q:Q,Report!$B279)),\"\",INDEX(Data!Q:Q,Report!$B279))","v":3.5},{"$f":"IF(ISERROR(INDEX(Data!R:R,Report!$B279)),\"\",INDEX(Data!R:R,Report!$B279))","v":24},{"$f":"IF(ISERROR(INDEX(Data!S:S,Report!$B279)),\"\",INDEX(Data!S:S,Report!$B279))","v":8},{"$f":"IF(ISERROR(INDEX(Data!T:T,Report!$B279)),\"\",INDEX(Data!T:T,Report!$B279))","v":4.2},{"$f":"IF(ISERROR(INDEX(Data!U:U,Report!$B279)),\"\",INDEX(Data!U:U,Report!$B279))","v":38},{"$f":"IF(ISERROR(INDEX(Data!V:V,Report!$B279)),\"\",INDEX(Data!V:V,Report!$B279))","v":3.6},null,"                        |","||||"]
[276,{"$f":"IF(ISERROR(MATCH(A280,Data!A:A,0)),\"\",MATCH(A280,Data!A:A,0))","v":136},{"$f":"IF(ISERROR(INDEX(Data!I:I,Report!$B280)),\"\",INDEX(Data!I:I,Report!$B280))","v":" "},{"$f":"IF(ISERROR(INDEX(Data!J:J,Report!$B280)),\"\",INDEX(Data!J:J,Report!$B280))","v":"User Drill #85  3 line rated mini Tennis"},{"$f":"IF(ISERROR(INDEX(Data!K:K,Report!$B280)),\"\",INDEX(Data!K:K,Report!$B280))","v":0},{"$f":"IF(ISERROR(INDEX(Data!L:L,Report!$B280)),\"\",INDEX(Data!L:L,Report!$B280))","v":0},null,{"$f":"IF(ISERROR(INDEX(Data!N:N,Report!$B280)),\"\",INDEX(Data!N:N,Report!$B280))","v":2},{"$f":"IF(ISERROR(INDEX(Data!P:P,Report!$B280)),\"\",INDEX(Data!P:P,Report!$B280))","v":0},{"$f":"IF(ISERROR(INDEX(Data!O:O,Report!$B280)),\"\",INDEX(Data!O:O,Report!$B280))","v":4},{"$f":"IF(ISERROR(INDEX(Data!Q:Q,Report!$B280)),\"\",INDEX(Data!Q:Q,Report!$B280))","v":3.5},{"$f":"IF(ISERROR(INDEX(Data!R:R,Report!$B280)),\"\",INDEX(Data!R:R,Report!$B280))","v":0},{"$f":"IF(ISERROR(INDEX(Data!S:S,Report!$B280)),\"\",INDEX(Data!S:S,Report!$B280))","v":0},{"$f":"IF(ISERROR(INDEX(Data!T:T,Report!$B280)),\"\",INDEX(Data!T:T,Report!$B280))","v":0},{"$f":"IF(ISERROR(INDEX(Data!U:U,Report!$B280)),\"\",INDEX(Data!U:U,Report!$B280))","v":0},{"$f":"IF(ISERROR(INDEX(Data!V:V,Report!$B280)),\"\",INDEX(Data!V:V,Report!$B280))","v":0},null,"|",""]
[277,{"$f":"IF(ISERROR(MATCH(A281,Data!A:A,0)),\"\",MATCH(A281,Data!A:A,0))","v":137},{"$f":"IF(ISERROR(INDEX(Data!I:I,Report!$B281)),\"\",INDEX(Data!I:I,Report!$B281))","v":" "},{"$f":"IF(ISERROR(INDEX(Data!J:J,Report!$B281)),\"\",INDEX(Data!J:J,Report!$B281))","v":"User Drill #85  3 line rated mini Tennis"},{"$f":"IF(ISERROR(INDEX(Data!K:K,Report!$B281)),\"\",INDEX(Data!K:K,Report!$B281))","v":0},{"$f":"IF(ISERROR(INDEX(Data!L:L,Report!$B281)),\"\",INDEX(Data!L:L,Report!$B281))","v":0},null,{"$f":"IF(ISERROR(INDEX(Data!N:N,Report!$B281)),\"\",INDEX(Data!N:N,Report!$B281))","v":3},{"$f":"IF(ISERROR(INDEX(Data!P:P,Report!$B281)),\"\",INDEX(Data!P:P,Report!$B281))","v":0},{"$f":"IF(ISERROR(INDEX(Data!O:O,Report!$B281)),\"\",INDEX(Data!O:O,Report!$B281))","v":10},{"$f":"IF(ISERROR(INDEX(Data!Q:Q,Report!$B281)),\"\",INDEX(Data!Q:Q,Report!$B281))","v":3.5},{"$f":"IF(ISERROR(INDEX(Data!R:R,Report!$B281)),\"\",INDEX(Data!R:R,Report!$B281))","v":0},{"$f":"IF(ISERROR(INDEX(Data!S:S,Report!$B281)),\"\",INDEX(Data!S:S,Report!$B281))","v":0},{"$f":"IF(ISERROR(INDEX(Data!T:T,Report!$B281)),\"\",INDEX(Data!T:T,Report!$B281))","v":0},{"$f":"IF(ISERROR(INDEX(Data!U:U,Report!$B281)),\"\",INDEX(Data!U:U,Report!$B281))","v":0},{"$f":"IF(ISERROR(INDEX(Data!V:V,Report!$B281)),\"\",INDEX(Data!V:V,Report!$B281))","v":0},null,"|",""]
[278,{"$f":"IF(ISERROR(MATCH(A282,Data!A:A,0)),\"\",MATCH(A282,Data!A:A,0))","v":138},{"$f":"IF(ISERROR(INDEX(Data!I:I,Report!$B282)),\"\",INDEX(Data!I:I,Report!$B282))","v":"00:37:34"},{"$f":"IF(ISERROR(INDEX(Data!J:J,Report!$B282)),\"\",INDEX(Data!J:J,Report!$B282))","v":"Game against Boomer at level 2.0  Single point data:"},{"$f":"IF(ISERROR(INDEX(Data!K:K,Report!$B282)),\"\",INDEX(Data!K:K,Report!$B282))","v":"Boomer's point"},{"$f":"IF(ISERROR(INDEX(Data!L:L,Report!$B282)),\"\",INDEX(Data!L:L,Report!$B282))","v":0},null,{"$f":"IF(ISERROR(INDEX(Data!N:N,Report!$B282)),\"\",INDEX(Data!N:N,Report!$B282))","v":3},{"$f":"IF(ISERROR(INDEX(Data!P:P,Report!$B282)),\"\",INDEX(Data!P:P,Report!$B282))","v":"Drop Shot"},{"$f":"IF(ISERROR(INDEX(Data!O:O,Report!$B282)),\"\",INDEX(Data!O:O,Report!$B282))","v":5},{"$f":"IF(ISERROR(INDEX(Data!Q:Q,Report!$B282)),\"\",INDEX(Data!Q:Q,Report!$B282))","v":2},{"$f":"IF(ISERROR(INDEX(Data!R:R,Report!$B282)),\"\",INDEX(Data!R:R,Report!$B282))","v":0},{"$f":"IF(ISERROR(INDEX(Data!S:S,Report!$B282)),\"\",INDEX(Data!S:S,Report!$B282))","v":0},{"$f":"IF(ISERROR(INDEX(Data!T:T,Report!$B282)),\"\",INDEX(Data!T:T,Report!$B282))","v":0},{"$f":"IF(ISERROR(INDEX(Data!U:U,Report!$B282)),\"\",INDEX(Data!U:U,Report!$B282))","v":0},{"$f":"IF(ISERROR(INDEX(Data!V:V,Report!$B282)),\"\",INDEX(Data!V:V,Report!$B282))","v":0},null,"|",""]
[279,{"$f":"IF(ISERROR(MATCH(A283,Data!A:A,0)),\"\",MATCH(A283,Data!A:A,0))","v":139},{"$f":"IF(ISERROR(INDEX(Data!I:I,Report!$B283)),\"\",INDEX(Data!I:I,Report!$B283))","v":"04:39:49"},{"$f":"IF(ISERROR(INDEX(Data!J:J,Report!$B283)),\"\",INDEX(Data!J:J,Report!$B283))","v":"Game against Boomer at level 3.5  Single point data:"},{"$f":"IF(ISERROR(INDEX(Data!K:K,Report!$B283)),\"\",INDEX(Data!K:K,Report!$B283))","v":"Player's point"},{"$f":"IF(ISERROR(INDEX(Data!L:L,Report!$B283)),\"\",INDEX(Data!L:L,Report!$B283))","v":0},null,{"$f":"IF(ISERROR(INDEX(Data!N:N,Report!$B283)),\"\",INDEX(Data!N:N,Report!$B283))","v":3},{"$f":"IF(ISERROR(INDEX(Data!P:P,Report!$B283)),\"\",INDEX(Data!P:P,Report!$B283))","v":"Drop Shot"},{"$f":"IF(ISERROR(INDEX(Data!O:O,Report!$B283)),\"\",INDEX(Data!O:O,Report!$B283))","v":2},{"$f":"IF(ISERROR(INDEX(Data!Q:Q,Report!$B283)),\"\",INDEX(Data!Q:Q,Report!$B283))","v":3.5},{"$f":"IF(ISERROR(INDEX(Data!R:R,Report!$B283)),\"\",INDEX(Data!R:R,Report!$B283))","v":19},{"$f":"IF(ISERROR(INDEX(Data!S:S,Report!$B283)),\"\",INDEX(Data!S:S,Report!$B283))","v":20},{"$f":"IF(ISERROR(INDEX(Data!T:T,Report!$B283)),\"\",INDEX(Data!T:T,Report!$B283))","v":3.7},{"$f":"IF(ISERROR(INDEX(Data!U:U,Report!$B283)),\"\",INDEX(Data!U:U,Report!$B283))","v":29},{"$f":"IF(ISERROR(INDEX(Data!V:V,Report!$B283)),\"\",INDEX(Data!V:V,Report!$B283))","v":3.5},null,"                   |","||||||||||"]
[280,{"$f":"IF(ISERROR(MATCH(A284,Data!A:A,0)),\"\",MATCH(A284,Data!A:A,0))","v":140},{"$f":"IF(ISERROR(INDEX(Data!I:I,Report!$B284)),\"\",INDEX(Data!I:I,Report!$B284))","v":"04:39:49"},{"$f":"IF(ISERROR(INDEX(Data!J:J,Report!$B284)),\"\",INDEX(Data!J:J,Report!$B284))","v":"Game against Boomer at level 3.5  Single point data:"},{"$f":"IF(ISERROR(INDEX(Data!K:K,Report!$B284)),\"\",INDEX(Data!K:K,Report!$B284))","v":"Player's point"},{"$f":"IF(ISERROR(INDEX(Data!L:L,Report!$B284)),\"\",INDEX(Data!L:L,Report!$B284))","v":0},null,{"$f":"IF(ISERROR(INDEX(Data!N:N,Report!$B284)),\"\",INDEX(Data!N:N,Report!$B284))","v":4},{"$f":"IF(ISERROR(INDEX(Data!P:P,Report!$B284)),\"\",INDEX(Data!P:P,Report!$B284))","v":"Pass"},{"$f":"IF(ISERROR(INDEX(Data!O:O,Report!$B284)),\"\",INDEX(Data!O:O,Report!$B284))","v":6},{"$f":"IF(ISERROR(INDEX(Data!Q:Q,Report!$B284)),\"\",INDEX(Data!Q:Q,Report!$B284))","v":3.5},{"$f":"IF(ISERROR(INDEX(Data!R:R,Report!$B284)),\"\",INDEX(Data!R:R,Report!$B284))","v":14},{"$f":"IF(ISERROR(INDEX(Data!S:S,Report!$B284)),\"\",INDEX(Data!S:S,Report!$B284))","v":16},{"$f":"IF(ISERROR(INDEX(Data!T:T,Report!$B284)),\"\",INDEX(Data!T:T,Report!$B284))","v":2.2999999999999998},{"$f":"IF(ISERROR(INDEX(Data!U:U,Report!$B284)),\"\",INDEX(Data!U:U,Report!$B284))","v":45},{"$f":"IF(ISERROR(INDEX(Data!V:V,Report!$B284)),\"\",INDEX(Data!V:V,Report!$B284))","v":3.7},null,"              |","||||||||"]
[281,{"$f":"IF(ISERROR(MATCH(A285,Data!A:A,0)),\"\",MATCH(A285,Data!A:A,0))","v":141},{"$f":"IF(ISERROR(INDEX(Data!I:I,Report!$B285)),\"\",INDEX(Data!I:I,Report!$B285))","v":"04:39:49"},{"$f":"IF(ISERROR(INDEX(Data!J:J,Report!$B285)),\"\",INDEX(Data!J:J,Report!$B285))","v":"Game against Boomer at level 3.5  Single point data:"},{"$f":"IF(ISERROR(INDEX(Data!K:K,Report!$B285)),\"\",INDEX(Data!K:K,Report!$B285))","v":"Player's point"},{"$f":"IF(ISERROR(INDEX(Data!L:L,Report!$B285)),\"\",INDEX(Data!L:L,Report!$B285))","v":0},null,{"$f":"IF(ISERROR(INDEX(Data!N:N,Report!$B285)),\"\",INDEX(Data!N:N,Report!$B285))","v":5},{"$f":"IF(ISERROR(INDEX(Data!P:P,Report!$B285)),\"\",INDEX(Data!P:P,Report!$B285))","v":"Pass"},{"$f":"IF(ISERROR(INDEX(Data!O:O,Report!$B285)),\"\",INDEX(Data!O:O,Report!$B285))","v":4},{"$f":"IF(ISERROR(INDEX(Data!Q:Q,Report!$B285)),\"\",INDEX(Data!Q:Q,Report!$B285))","v":3.5},{"$f":"IF(ISERROR(INDEX(Data!R:R,Report!$B285)),\"\",INDEX(Data!R:R,Report!$B285))","v":34},{"$f":"IF(ISERROR(INDEX(Data!S:S,Report!$B285)),\"\",INDEX(Data!S:S,Report!$B285))","v":4},{"$f":"IF(ISERROR(INDEX(Data!T:T,Report!$B285)),\"\",INDEX(Data!T:T,Report!$B285))","v":5.9},{"$f":"IF(ISERROR(INDEX(Data!U:U,Report!$B285)),\"\",INDEX(Data!U:U,Report!$B285))","v":47},{"$f":"IF(ISERROR(INDEX(Data!V:V,Report!$B285)),\"\",INDEX(Data!V:V,Report!$B285))","v":5.6},null,"                                  |","||"]
[282,{"$f":"IF(ISERROR(MATCH(A286,Data!A:A,0)),\"\",MATCH(A286,Data!A:A,0))","v":""},{"$f":"IF(ISERROR(INDEX(Data!I:I,Report!$B286)),\"\",INDEX(Data!I:I,Report!$B286))","v":""},{"$f":"IF(ISERROR(INDEX(Data!J:J,Report!$B286)),\"\",INDEX(Data!J:J,Report!$B286))","v":""},{"$f":"IF(ISERROR(INDEX(Data!K:K,Report!$B286)),\"\",INDEX(Data!K:K,Report!$B286))","v":""},{"$f":"IF(ISERROR(INDEX(Data!L:L,Report!$B286)),\"\",INDEX(Data!L:L,Report!$B286))","v":""},null,{"$f":"IF(ISERROR(INDEX(Data!N:N,Report!$B286)),\"\",INDEX(Data!N:N,Report!$B286))","v":""},{"$f":"IF(ISERROR(INDEX(Data!P:P,Report!$B286)),\"\",INDEX(Data!P:P,Report!$B286))","v":""},{"$f":"IF(ISERROR(INDEX(Data!O:O,Report!$B286)),\"\",INDEX(Data!O:O,Report!$B286))","v":""},{"$f":"IF(ISERROR(INDEX(Data!Q:Q,Report!$B286)),\"\",INDEX(Data!Q:Q,Report!$B286))","v":""},{"$f":"IF(ISERROR(INDEX(Data!R:R,Report!$B286)),\"\",INDEX(Data!R:R,Report!$B286))","v":""},{"$f":"IF(ISERROR(INDEX(Data!S:S,Report!$B286)),\"\",INDEX(Data!S:S,Report!$B286))","v":""},{"$f":"IF(ISERROR(INDEX(Data!T:T,Report!$B286)),\"\",INDEX(Data!T:T,Report!$B286))","v":""},{"$f":"IF(ISERROR(INDEX(Data!U:U,Report!$B286)),\"\",INDEX(Data!U:U,Report!$B286))","v":""},{"$f":"IF(ISERROR(INDEX(Data!V:V,Report!$B286)),\"\",INDEX(Data!V:V,Report!$B286))","v":""},null,"",""]
[283,{"$f":"IF(ISERROR(MATCH(A287,Data!A:A,0)),\"\",MATCH(A287,Data!A:A,0))","v":""},{"$f":"IF(ISERROR(INDEX(Data!I:I,Report!$B287)),\"\",INDEX(Data!I:I,Report!$B287))","v":""},{"$f":"IF(ISERROR(INDEX(Data!J:J,Report!$B287)),\"\",INDEX(Data!J:J,Report!$B287))","v":""},{"$f":"IF(ISERROR(INDEX(Data!K:K,Report!$B287)),\"\",INDEX(Data!K:K,Report!$B287))","v":""},{"$f":"IF(ISERROR(INDEX(Data!L:L,Report!$B287)),\"\",INDEX(Data!L:L,Report!$B287))","v":""},null,{"$f":"IF(ISERROR(INDEX(Data!N:N,Report!$B287)),\"\",INDEX(Data!N:N,Report!$B287))","v":""},{"$f":"IF(ISERROR(INDEX(Data!P:P,Report!$B287)),\"\",INDEX(Data!P:P,Report!$B287))","v":""},{"$f":"IF(ISERROR(INDEX(Data!O:O,Report!$B287)),\"\",INDEX(Data!O:O,Report!$B287))","v":""},{"$f":"IF(ISERROR(INDEX(Data!Q:Q,Report!$B287)),\"\",INDEX(Data!Q:Q,Report!$B287))","v":""},{"$f":"IF(ISERROR(INDEX(Data!R:R,Report!$B287)),\"\",INDEX(Data!R:R,Report!$B287))","v":""},{"$f":"IF(ISERROR(INDEX(Data!S:S,Report!$B287)),\"\",INDEX(Data!S:S,Report!$B287))","v":""},{"$f":"IF(ISERROR(INDEX(Data!T:T,Report!$B287)),\"\",INDEX(Data!T:T,Report!$B287))","v":""},{"$f":"IF(ISERROR(INDEX(Data!U:U,Report!$B287)),\"\",INDEX(Data!U:U,Report!$B287))","v":""},{"$f":"IF(ISERROR(INDEX(Data!V:V,Report!$B287)),\"\",INDEX(Data!V:V,Report!$B287))","v":""},null,"",""]
[284,{"$f":"IF(ISERROR(MATCH(A288,Data!A:A,0)),\"\",MATCH(A288,Data!A:A,0))","v":""},{"$f":"IF(ISERROR(INDEX(Data!I:I,Report!$B288)),\"\",INDEX(Data!I:I,Report!$B288))","v":""},{"$f":"IF(ISERROR(INDEX(Data!J:J,Report!$B288)),\"\",INDEX(Data!J:J,Report!$B288))","v":""},{"$f":"IF(ISERROR(INDEX(Data!K:K,Report!$B288)),\"\",INDEX(Data!K:K,Report!$B288))","v":""},{"$f":"IF(ISERROR(INDEX(Data!L:L,Report!$B288)),\"\",INDEX(Data!L:L,Report!$B288))","v":""},null,{"$f":"IF(ISERROR(INDEX(Data!N:N,Report!$B288)),\"\",INDEX(Data!N:N,Report!$B288))","v":""},{"$f":"IF(ISERROR(INDEX(Data!P:P,Report!$B288)),\"\",INDEX(Data!P:P,Report!$B288))","v":""},{"$f":"IF(ISERROR(INDEX(Data!O:O,Report!$B288)),\"\",INDEX(Data!O:O,Report!$B288))","v":""},{"$f":"IF(ISERROR(INDEX(Data!Q:Q,Report!$B288)),\"\",INDEX(Data!Q:Q,Report!$B288))","v":""},{"$f":"IF(ISERROR(INDEX(Data!R:R,Report!$B288)),\"\",INDEX(Data!R:R,Report!$B288))","v":""},{"$f":"IF(ISERROR(INDEX(Data!S:S,Report!$B288)),\"\",INDEX(Data!S:S,Report!$B288))","v":""},{"$f":"IF(ISERROR(INDEX(Data!T:T,Report!$B288)),\"\",INDEX(Data!T:T,Report!$B288))","v":""},{"$f":"IF(ISERROR(INDEX(Data!U:U,Report!$B288)),\"\",INDEX(Data!U:U,Report!$B288))","v":""},{"$f":"IF(ISERROR(INDEX(Data!V:V,Report!$B288)),\"\",INDEX(Data!V:V,Report!$B288))","v":""},null,"",""]
[285,{"$f":"IF(ISERROR(MATCH(A289,Data!A:A,0)),\"\",MATCH(A289,Data!A:A,0))","v":142},{"$f":"IF(ISERROR(INDEX(Data!I:I,Report!$B289)),\"\",INDEX(Data!I:I,Report!$B289))","v":"04:40:10"},{"$f":"IF(ISERROR(INDEX(Data!J:J,Report!$B289)),\"\",INDEX(Data!J:J,Report!$B289))","v":"Game against Boomer at level 3.5  Single point data:"},{"$f":"IF(ISERROR(INDEX(Data!K:K,Report!$B289)),\"\",INDEX(Data!K:K,Report!$B289))","v":"Player's point"},{"$f":"IF(ISERROR(INDEX(Data!L:L,Report!$B289)),\"\",INDEX(Data!L:L,Report!$B289))","v":"New Point"},null,{"$f":"IF(ISERROR(INDEX(Data!N:N,Report!$B289)),\"\",INDEX(Data!N:N,Report!$B289))","v":1},{"$f":"IF(ISERROR(INDEX(Data!P:P,Report!$B289)),\"\",INDEX(Data!P:P,Report!$B289))","v":"Player Serve"},{"$f":"IF(ISERROR(INDEX(Data!O:O,Report!$B289)),\"\",INDEX(Data!O:O,Report!$B289))","v":4},{"$f":"IF(ISERROR(INDEX(Data!Q:Q,Report!$B289)),\"\",INDEX(Data!Q:Q,Report!$B289))","v":3.5},{"$f":"IF(ISERROR(INDEX(Data!R:R,Report!$B289)),\"\",INDEX(Data!R:R,Report!$B289))","v":19},{"$f":"IF(ISERROR(INDEX(Data!S:S,Report!$B289)),\"\",INDEX(Data!S:S,Report!$B289))","v":7},{"$f":"IF(ISERROR(INDEX(Data!T:T,Report!$B289)),\"\",INDEX(Data!T:T,Report!$B289))","v":4},{"$f":"IF(ISERROR(INDEX(Data!U:U,Report!$B289)),\"\",INDEX(Data!U:U,Report!$B289))","v":110},{"$f":"IF(ISERROR(INDEX(Data!V:V,Report!$B289)),\"\",INDEX(Data!V:V,Report!$B289))","v":5.4},null,"                   |","|||"]
[286,{"$f":"IF(ISERROR(MATCH(A290,Data!A:A,0)),\"\",MATCH(A290,Data!A:A,0))","v":""},{"$f":"IF(ISERROR(INDEX(Data!I:I,Report!$B290)),\"\",INDEX(Data!I:I,Report!$B290))","v":""},{"$f":"IF(ISERROR(INDEX(Data!J:J,Report!$B290)),\"\",INDEX(Data!J:J,Report!$B290))","v":""},{"$f":"IF(ISERROR(INDEX(Data!K:K,Report!$B290)),\"\",INDEX(Data!K:K,Report!$B290))","v":""},{"$f":"IF(ISERROR(INDEX(Data!L:L,Report!$B290)),\"\",INDEX(Data!L:L,Report!$B290))","v":""},null,{"$f":"IF(ISERROR(INDEX(Data!N:N,Report!$B290)),\"\",INDEX(Data!N:N,Report!$B290))","v":""},{"$f":"IF(ISERROR(INDEX(Data!P:P,Report!$B290)),\"\",INDEX(Data!P:P,Report!$B290))","v":""},{"$f":"IF(ISERROR(INDEX(Data!O:O,Report!$B290)),\"\",INDEX(Data!O:O,Report!$B290))","v":""},{"$f":"IF(ISERROR(INDEX(Data!Q:Q,Report!$B290)),\"\",INDEX(Data!Q:Q,Report!$B290))","v":""},{"$f":"IF(ISERROR(INDEX(Data!R:R,Report!$B290)),\"\",INDEX(Data!R:R,Report!$B290))","v":""},{"$f":"IF(ISERROR(INDEX(Data!S:S,Report!$B290)),\"\",INDEX(Data!S:S,Report!$B290))","v":""},{"$f":"IF(ISERROR(INDEX(Data!T:T,Report!$B290)),\"\",INDEX(Data!T:T,Report!$B290))","v":""},{"$f":"IF(ISERROR(INDEX(Data!U:U,Report!$B290)),\"\",INDEX(Data!U:U,Report!$B290))","v":""},{"$f":"IF(ISERROR(INDEX(Data!V:V,Report!$B290)),\"\",INDEX(Data!V:V,Report!$B290))","v":""},null,"",""]
[287,{"$f":"IF(ISERROR(MATCH(A291,Data!A:A,0)),\"\",MATCH(A291,Data!A:A,0))","v":""},{"$f":"IF(ISERROR(INDEX(Data!I:I,Report!$B291)),\"\",INDEX(Data!I:I,Report!$B291))","v":""},{"$f":"IF(ISERROR(INDEX(Data!J:J,Report!$B291)),\"\",INDEX(Data!J:J,Report!$B291))","v":""},{"$f":"IF(ISERROR(INDEX(Data!K:K,Report!$B291)),\"\",INDEX(Data!K:K,Report!$B291))","v":""},{"$f":"IF(ISERROR(INDEX(Data!L:L,Report!$B291)),\"\",INDEX(Data!L:L,Report!$B291))","v":""},null,{"$f":"IF(ISERROR(INDEX(Data!N:N,Report!$B291)),\"\",INDEX(Data!N:N,Report!$B291))","v":""},{"$f":"IF(ISERROR(INDEX(Data!P:P,Report!$B291)),\"\",INDEX(Data!P:P,Report!$B291))","v":""},{"$f":"IF(ISERROR(INDEX(Data!O:O,Report!$B291)),\"\",INDEX(Data!O:O,Report!$B291))","v":""},{"$f":"IF(ISERROR(INDEX(Data!Q:Q,Report!$B291)),\"\",INDEX(Data!Q:Q,Report!$B291))","v":""},{"$f":"IF(ISERROR(INDEX(Data!R:R,Report!$B291)),\"\",INDEX(Data!R:R,Report!$B291))","v":""},{"$f":"IF(ISERROR(INDEX(Data!S:S,Report!$B291)),\"\",INDEX(Data!S:S,Report!$B291))","v":""},{"$f":"IF(ISERROR(INDEX(Data!T:T,Report!$B291)),\"\",INDEX(Data!T:T,Report!$B291))","v":""},{"$f":"IF(ISERROR(INDEX(Data!U:U,Report!$B291)),\"\",INDEX(Data!U:U,Report!$B291))","v":""},{"$f":"IF(ISERROR(INDEX(Data!V:V,Report!$B291)),\"\",INDEX(Data!V:V,Report!$B291))","v":""},null,"",""]
[288,{"$f":"IF(ISERROR(MATCH(A292,Data!A:A,0)),\"\",MATCH(A292,Data!A:A,0))","v":""},{"$f":"IF(ISERROR(INDEX(Data!I:I,Report!$B292)),\"\",INDEX(Data!I:I,Report!$B292))","v":""},{"$f":"IF(ISERROR(INDEX(Data!J:J,Report!$B292)),\"\",INDEX(Data!J:J,Report!$B292))","v":""},{"$f":"IF(ISERROR(INDEX(Data!K:K,Report!$B292)),\"\",INDEX(Data!K:K,Report!$B292))","v":""},{"$f":"IF(ISERROR(INDEX(Data!L:L,Report!$B292)),\"\",INDEX(Data!L:L,Report!$B292))","v":""},null,{"$f":"IF(ISERROR(INDEX(Data!N:N,Report!$B292)),\"\",INDEX(Data!N:N,Report!$B292))","v":""},{"$f":"IF(ISERROR(INDEX(Data!P:P,Report!$B292)),\"\",INDEX(Data!P:P,Report!$B292))","v":""},{"$f":"IF(ISERROR(INDEX(Data!O:O,Report!$B292)),\"\",INDEX(Data!O:O,Report!$B292))","v":""},{"$f":"IF(ISERROR(INDEX(Data!Q:Q,Report!$B292)),\"\",INDEX(Data!Q:Q,Report!$B292))","v":""},{"$f":"IF(ISERROR(INDEX(Data!R:R,Report!$B292)),\"\",INDEX(Data!R:R,Report!$B292))","v":""},{"$f":"IF(ISERROR(INDEX(Data!S:S,Report!$B292)),\"\",INDEX(Data!S:S,Report!$B292))","v":""},{"$f":"IF(ISERROR(INDEX(Data!T:T,Report!$B292)),\"\",INDEX(Data!T:T,Report!$B292))","v":""},{"$f":"IF(ISERROR(INDEX(Data!U:U,Report!$B292)),\"\",INDEX(Data!U:U,Report!$B292))","v":""},{"$f":"IF(ISERROR(INDEX(Data!V:V,Report!$B292)),\"\",INDEX(Data!V:V,Report!$B292))","v":""},null,"",""]
[289,{"$f":"IF(ISERROR(MATCH(A293,Data!A:A,0)),\"\",MATCH(A293,Data!A:A,0))","v":143},{"$f":"IF(ISERROR(INDEX(Data!I:I,Report!$B293)),\"\",INDEX(Data!I:I,Report!$B293))","v":" "},{"$f":"IF(ISERROR(INDEX(Data!J:J,Report!$B293)),\"\",INDEX(Data!J:J,Report!$B293))","v":"User Drill #188  3 line rated mini tennis"},{"$f":"IF(ISERROR(INDEX(Data!K:K,Report!$B293)),\"\",INDEX(Data!K:K,Report!$B293))","v":0},{"$f":"IF(ISERROR(INDEX(Data!L:L,Report!$B293)),\"\",INDEX(Data!L:L,Report!$B293))","v":"New Point"},null,{"$f":"IF(ISERROR(INDEX(Data!N:N,Report!$B293)),\"\",INDEX(Data!N:N,Report!$B293))","v":1},{"$f":"IF(ISERROR(INDEX(Data!P:P,Report!$B293)),\"\",INDEX(Data!P:P,Report!$B293))","v":0},{"$f":"IF(ISERROR(INDEX(Data!O:O,Report!$B293)),\"\",INDEX(Data!O:O,Report!$B293))","v":11},{"$f":"IF(ISERROR(INDEX(Data!Q:Q,Report!$B293)),\"\",INDEX(Data!Q:Q,Report!$B293))","v":3.5},{"$f":"IF(ISERROR(INDEX(Data!R:R,Report!$B293)),\"\",INDEX(Data!R:R,Report!$B293))","v":11},{"$f":"IF(ISERROR(INDEX(Data!S:S,Report!$B293)),\"\",INDEX(Data!S:S,Report!$B293))","v":9},{"$f":"IF(ISERROR(INDEX(Data!T:T,Report!$B293)),\"\",INDEX(Data!T:T,Report!$B293))","v":2.2999999999999998},{"$f":"IF(ISERROR(INDEX(Data!U:U,Report!$B293)),\"\",INDEX(Data!U:U,Report!$B293))","v":27},{"$f":"IF(ISERROR(INDEX(Data!V:V,Report!$B293)),\"\",INDEX(Data!V:V,Report!$B293))","v":3},null,"           |","||||"]
[290,{"$f":"IF(ISERROR(MATCH(A294,Data!A:A,0)),\"\",MATCH(A294,Data!A:A,0))","v":""},{"$f":"IF(ISERROR(INDEX(Data!I:I,Report!$B294)),\"\",INDEX(Data!I:I,Report!$B294))","v":""},{"$f":"IF(ISERROR(INDEX(Data!J:J,Report!$B294)),\"\",INDEX(Data!J:J,Report!$B294))","v":""},{"$f":"IF(ISERROR(INDEX(Data!K:K,Report!$B294)),\"\",INDEX(Data!K:K,Report!$B294))","v":""},{"$f":"IF(ISERROR(INDEX(Data!L:L,Report!$B294)),\"\",INDEX(Data!L:L,Report!$B294))","v":""},null,{"$f":"IF(ISERROR(INDEX(Data!N:N,Report!$B294)),\"\",INDEX(Data!N:N,Report!$B294))","v":""},{"$f":"IF(ISERROR(INDEX(Data!P:P,Report!$B294)),\"\",INDEX(Data!P:P,Report!$B294))","v":""},{"$f":"IF(ISERROR(INDEX(Data!O:O,Report!$B294)),\"\",INDEX(Data!O:O,Report!$B294))","v":""},{"$f":"IF(ISERROR(INDEX(Data!Q:Q,Report!$B294)),\"\",INDEX(Data!Q:Q,Report!$B294))","v":""},{"$f":"IF(ISERROR(INDEX(Data!R:R,Report!$B294)),\"\",INDEX(Data!R:R,Report!$B294))","v":""},{"$f":"IF(ISERROR(INDEX(Data!S:S,Report!$B294)),\"\",INDEX(Data!S:S,Report!$B294))","v":""},{"$f":"IF(ISERROR(INDEX(Data!T:T,Report!$B294)),\"\",INDEX(Data!T:T,Report!$B294))","v":""},{"$f":"IF(ISERROR(INDEX(Data!U:U,Report!$B294)),\"\",INDEX(Data!U:U,Report!$B294))","v":""},{"$f":"IF(ISERROR(INDEX(Data!V:V,Report!$B294)),\"\",INDEX(Data!V:V,Report!$B294))","v":""},null,"",""]
[291,{"$f":"IF(ISERROR(MATCH(A295,Data!A:A,0)),\"\",MATCH(A295,Data!A:A,0))","v":""},{"$f":"IF(ISERROR(INDEX(Data!I:I,Report!$B295)),\"\",INDEX(Data!I:I,Report!$B295))","v":""},{"$f":"IF(ISERROR(INDEX(Data!J:J,Report!$B295)),\"\",INDEX(Data!J:J,Report!$B295))","v":""},{"$f":"IF(ISERROR(INDEX(Data!K:K,Report!$B295)),\"\",INDEX(Data!K:K,Report!$B295))","v":""},{"$f":"IF(ISERROR(INDEX(Data!L:L,Report!$B295)),\"\",INDEX(Data!L:L,Report!$B295))","v":""},null,{"$f":"IF(ISERROR(INDEX(Data!N:N,Report!$B295)),\"\",INDEX(Data!N:N,Report!$B295))","v":""},{"$f":"IF(ISERROR(INDEX(Data!P:P,Report!$B295)),\"\",INDEX(Data!P:P,Report!$B295))","v":""},{"$f":"IF(ISERROR(INDEX(Data!O:O,Report!$B295)),\"\",INDEX(Data!O:O,Report!$B295))","v":""},{"$f":"IF(ISERROR(INDEX(Data!Q:Q,Report!$B295)),\"\",INDEX(Data!Q:Q,Report!$B295))","v":""},{"$f":"IF(ISERROR(INDEX(Data!R:R,Report!$B295)),\"\",INDEX(Data!R:R,Report!$B295))","v":""},{"$f":"IF(ISERROR(INDEX(Data!S:S,Report!$B295)),\"\",INDEX(Data!S:S,Report!$B295))","v":""},{"$f":"IF(ISERROR(INDEX(Data!T:T,Report!$B295)),\"\",INDEX(Data!T:T,Report!$B295))","v":""},{"$f":"IF(ISERROR(INDEX(Data!U:U,Report!$B295)),\"\",INDEX(Data!U:U,Report!$B295))","v":""},{"$f":"IF(ISERROR(INDEX(Data!V:V,Report!$B295)),\"\",INDEX(Data!V:V,Report!$B295))","v":""},null,"",""]
[292,{"$f":"IF(ISERROR(MATCH(A296,Data!A:A,0)),\"\",MATCH(A296,Data!A:A,0))","v":""},{"$f":"IF(ISERROR(INDEX(Data!I:I,Report!$B296)),\"\",INDEX(Data!I:I,Report!$B296))","v":""},{"$f":"IF(ISERROR(INDEX(Data!J:J,Report!$B296)),\"\",INDEX(Data!J:J,Report!$B296))","v":""},{"$f":"IF(ISERROR(INDEX(Data!K:K,Report!$B296)),\"\",INDEX(Data!K:K,Report!$B296))","v":""},{"$f":"IF(ISERROR(INDEX(Data!L:L,Report!$B296)),\"\",INDEX(Data!L:L,Report!$B296))","v":""},null,{"$f":"IF(ISERROR(INDEX(Data!N:N,Report!$B296)),\"\",INDEX(Data!N:N,Report!$B296))","v":""},{"$f":"IF(ISERROR(INDEX(Data!P:P,Report!$B296)),\"\",INDEX(Data!P:P,Report!$B296))","v":""},{"$f":"IF(ISERROR(INDEX(Data!O:O,Report!$B296)),\"\",INDEX(Data!O:O,Report!$B296))","v":""},{"$f":"IF(ISERROR(INDEX(Data!Q:Q,Report!$B296)),\"\",INDEX(Data!Q:Q,Report!$B296))","v":""},{"$f":"IF(ISERROR(INDEX(Data!R:R,Report!$B296)),\"\",INDEX(Data!R:R,Report!$B296))","v":""},{"$f":"IF(ISERROR(INDEX(Data!S:S,Report!$B296)),\"\",INDEX(Data!S:S,Report!$B296))","v":""},{"$f":"IF(ISERROR(INDEX(Data!T:T,Report!$B296)),\"\",INDEX(Data!T:T,Report!$B296))","v":""},{"$f":"IF(ISERROR(INDEX(Data!U:U,Report!$B296)),\"\",INDEX(Data!U:U,Report!$B296))","v":""},{"$f":"IF(ISERROR(INDEX(Data!V:V,Report!$B296)),\"\",INDEX(Data!V:V,Report!$B296))","v":""},null,"",""]
[293,{"$f":"IF(ISERROR(MATCH(A297,Data!A:A,0)),\"\",MATCH(A297,Data!A:A,0))","v":144},{"$f":"IF(ISERROR(INDEX(Data!I:I,Report!$B297)),\"\",INDEX(Data!I:I,Report!$B297))","v":"00:37:58"},{"$f":"IF(ISERROR(INDEX(Data!J:J,Report!$B297)),\"\",INDEX(Data!J:J,Report!$B297))","v":"Game against Boomer at level 2.0  Single point data:"},{"$f":"IF(ISERROR(INDEX(Data!K:K,Report!$B297)),\"\",INDEX(Data!K:K,Report!$B297))","v":"Player's point"},{"$f":"IF(ISERROR(INDEX(Data!L:L,Report!$B297)),\"\",INDEX(Data!L:L,Report!$B297))","v":"New Point"},null,{"$f":"IF(ISERROR(INDEX(Data!N:N,Report!$B297)),\"\",INDEX(Data!N:N,Report!$B297))","v":1},{"$f":"IF(ISERROR(INDEX(Data!P:P,Report!$B297)),\"\",INDEX(Data!P:P,Report!$B297))","v":"Serve"},{"$f":"IF(ISERROR(INDEX(Data!O:O,Report!$B297)),\"\",INDEX(Data!O:O,Report!$B297))","v":3},{"$f":"IF(ISERROR(INDEX(Data!Q:Q,Report!$B297)),\"\",INDEX(Data!Q:Q,Report!$B297))","v":2},{"$f":"IF(ISERROR(INDEX(Data!R:R,Report!$B297)),\"\",INDEX(Data!R:R,Report!$B297))","v":24},{"$f":"IF(ISERROR(INDEX(Data!S:S,Report!$B297)),\"\",INDEX(Data!S:S,Report!$B297))","v":23},{"$f":"IF(ISERROR(INDEX(Data!T:T,Report!$B297)),\"\",INDEX(Data!T:T,Report!$B297))","v":4.7},{"$f":"IF(ISERROR(INDEX(Data!U:U,Report!$B297)),\"\",INDEX(Data!U:U,Report!$B297))","v":38},{"$f":"IF(ISERROR(INDEX(Data!V:V,Report!$B297)),\"\",INDEX(Data!V:V,Report!$B297))","v":3.8},null,"                        |","|||||||||||"]
[294,{"$f":"IF(ISERROR(MATCH(A298,Data!A:A,0)),\"\",MATCH(A298,Data!A:A,0))","v":145},{"$f":"IF(ISERROR(INDEX(Data!I:I,Report!$B298)),\"\",INDEX(Data!I:I,Report!$B298))","v":" "},{"$f":"IF(ISERROR(INDEX(Data!J:J,Report!$B298)),\"\",INDEX(Data!J:J,Report!$B298))","v":"User Drill #188  3 line rated mini tennis"},{"$f":"IF(ISERROR(INDEX(Data!K:K,Report!$B298)),\"\",INDEX(Data!K:K,Report!$B298))","v":0},{"$f":"IF(ISERROR(INDEX(Data!L:L,Report!$B298)),\"\",INDEX(Data!L:L,Report!$B298))","v":0},null,{"$f":"IF(ISERROR(INDEX(Data!N:N,Report!$B298)),\"\",INDEX(Data!N:N,Report!$B298))","v":2},{"$f":"IF(ISERROR(INDEX(Data!P:P,Report!$B298)),\"\",INDEX(Data!P:P,Report!$B298))","v":0},{"$f":"IF(ISERROR(INDEX(Data!O:O,Report!$B298)),\"\",INDEX(Data!O:O,Report!$B298))","v":4},{"$f":"IF(ISERROR(INDEX(Data!Q:Q,Report!$B298)),\"\",INDEX(Data!Q:Q,Report!$B298))","v":3.5},{"$f":"IF(ISERROR(INDEX(Data!R:R,Report!$B298)),\"\",INDEX(Data!R:R,Report!$B298))","v":4},{"$f":"IF(ISERROR(INDEX(Data!S:S,Report!$B298)),\"\",INDEX(Data!S:S,Report!$B298))","v":5},{"$f":"IF(ISERROR(INDEX(Data!T:T,Report!$B298)),\"\",INDEX(Data!T:T,Report!$B298))","v":4.9000000000000004},{"$f":"IF(ISERROR(INDEX(Data!U:U,Report!$B298)),\"\",INDEX(Data!U:U,Report!$B298))","v":0},{"$f":"IF(ISERROR(INDEX(Data!V:V,Report!$B298)),\"\",INDEX(Data!V:V,Report!$B298))","v":2.9},null,"    |","||"]
[295,{"$f":"IF(ISERROR(MATCH(A299,Data!A:A,0)),\"\",MATCH(A299,Data!A:A,0))","v":146},{"$f":"IF(ISERROR(INDEX(Data!I:I,Report!$B299)),\"\",INDEX(Data!I:I,Report!$B299))","v":"00:37:58"},{"$f":"IF(ISERROR(INDEX(Data!J:J,Report!$B299)),\"\",INDEX(Data!J:J,Report!$B299))","v":"Game against Boomer at level 2.0  Single point data:"},{"$f":"IF(ISERROR(INDEX(Data!K:K,Report!$B299)),\"\",INDEX(Data!K:K,Report!$B299))","v":"Player's point"},{"$f":"IF(ISERROR(INDEX(Data!L:L,Report!$B299)),\"\",INDEX(Data!L:L,Report!$B299))","v":0},null,{"$f":"IF(ISERROR(INDEX(Data!N:N,Report!$B299)),\"\",INDEX(Data!N:N,Report!$B299))","v":2},{"$f":"IF(ISERROR(INDEX(Data!P:P,Report!$B299)),\"\",INDEX(Data!P:P,Report!$B299))","v":"Topspin"},{"$f":"IF(ISERROR(INDEX(Data!O:O,Report!$B299)),\"\",INDEX(Data!O:O,Report!$B299))","v":5},{"$f":"IF(ISERROR(INDEX(Data!Q:Q,Report!$B299)),\"\",INDEX(Data!Q:Q,Report!$B299))","v":2},{"$f":"IF(ISERROR(INDEX(Data!R:R,Report!$B299)),\"\",INDEX(Data!R:R,Report!$B299))","v":38},{"$f":"IF(ISERROR(INDEX(Data!S:S,Report!$B299)),\"\",INDEX(Data!S:S,Report!$B299))","v":4},{"$f":"IF(ISERROR(INDEX(Data!T:T,Report!$B299)),\"\",INDEX(Data!T:T,Report!$B299))","v":6.5},{"$f":"IF(ISERROR(INDEX(Data!U:U,Report!$B299)),\"\",INDEX(Data!U:U,Report!$B299))","v":49},{"$f":"IF(ISERROR(INDEX(Data!V:V,Report!$B299)),\"\",INDEX(Data!V:V,Report!$B299))","v":5.2},null,"                                      |","||"]
[296,{"$f":"IF(ISERROR(MATCH(A300,Data!A:A,0)),\"\",MATCH(A300,Data!A:A,0))","v":147},{"$f":"IF(ISERROR(INDEX(Data!I:I,Report!$B300)),\"\",INDEX(Data!I:I,Report!$B300))","v":" "},{"$f":"IF(ISERROR(INDEX(Data!J:J,Report!$B300)),\"\",INDEX(Data!J:J,Report!$B300))","v":"User Drill #188  3 line rated mini tennis"},{"$f":"IF(ISERROR(INDEX(Data!K:K,Report!$B300)),\"\",INDEX(Data!K:K,Report!$B300))","v":0},{"$f":"IF(ISERROR(INDEX(Data!L:L,Report!$B300)),\"\",INDEX(Data!L:L,Report!$B300))","v":0},null,{"$f":"IF(ISERROR(INDEX(Data!N:N,Report!$B300)),\"\",INDEX(Data!N:N,Report!$B300))","v":3},{"$f":"IF(ISERROR(INDEX(Data!P:P,Report!$B300)),\"\",INDEX(Data!P:P,Report!$B300))","v":0},{"$f":"IF(ISERROR(INDEX(Data!O:O,Report!$B300)),\"\",INDEX(Data!O:O,Report!$B300))","v":10},{"$f":"IF(ISERROR(INDEX(Data!Q:Q,Report!$B300)),\"\",INDEX(Data!Q:Q,Report!$B300))","v":3.5},{"$f":"IF(ISERROR(INDEX(Data!R:R,Report!$B300)),\"\",INDEX(Data!R:R,Report!$B300))","v":5},{"$f":"IF(ISERROR(INDEX(Data!S:S,Report!$B300)),\"\",INDEX(Data!S:S,Report!$B300))","v":1},{"$f":"IF(ISERROR(INDEX(Data!T:T,Report!$B300)),\"\",INDEX(Data!T:T,Report!$B300))","v":7},{"$f":"IF(ISERROR(INDEX(Data!U:U,Report!$B300)),\"\",INDEX(Data!U:U,Report!$B300))","v":13},{"$f":"IF(ISERROR(INDEX(Data!V:V,Report!$B300)),\"\",INDEX(Data!V:V,Report!$B300))","v":4.4000000000000004},null,"     |",""]
[297,{"$f":"IF(ISERROR(MATCH(A301,Data!A:A,0)),\"\",MATCH(A301,Data!A:A,0))","v":""},{"$f":"IF(ISERROR(INDEX(Data!I:I,Report!$B301)),\"\",INDEX(Data!I:I,Report!$B301))","v":""},{"$f":"IF(ISERROR(INDEX(Data!J:J,Report!$B301)),\"\",INDEX(Data!J:J,Report!$B301))","v":""},{"$f":"IF(ISERROR(INDEX(Data!K:K,Report!$B301)),\"\",INDEX(Data!K:K,Report!$B301))","v":""},{"$f":"IF(ISERROR(INDEX(Data!L:L,Report!$B301)),\"\",INDEX(Data!L:L,Report!$B301))","v":""},null,{"$f":"IF(ISERROR(INDEX(Data!N:N,Report!$B301)),\"\",INDEX(Data!N:N,Report!$B301))","v":""},{"$f":"IF(ISERROR(INDEX(Data!P:P,Report!$B301)),\"\",INDEX(Data!P:P,Report!$B301))","v":""},{"$f":"IF(ISERROR(INDEX(Data!O:O,Report!$B301)),\"\",INDEX(Data!O:O,Report!$B301))","v":""},{"$f":"IF(ISERROR(INDEX(Data!Q:Q,Report!$B301)),\"\",INDEX(Data!Q:Q,Report!$B301))","v":""},{"$f":"IF(ISERROR(INDEX(Data!R:R,Report!$B301)),\"\",INDEX(Data!R:R,Report!$B301))","v":""},{"$f":"IF(ISERROR(INDEX(Data!S:S,Report!$B301)),\"\",INDEX(Data!S:S,Report!$B301))","v":""},{"$f":"IF(ISERROR(INDEX(Data!T:T,Report!$B301)),\"\",INDEX(Data!T:T,Report!$B301))","v":""},{"$f":"IF(ISERROR(INDEX(Data!U:U,Report!$B301)),\"\",INDEX(Data!U:U,Report!$B301))","v":""},{"$f":"IF(ISERROR(INDEX(Data!V:V,Report!$B301)),\"\",INDEX(Data!V:V,Report!$B301))","v":""},null,"",""]
[298,{"$f":"IF(ISERROR(MATCH(A302,Data!A:A,0)),\"\",MATCH(A302,Data!A:A,0))","v":""},{"$f":"IF(ISERROR(INDEX(Data!I:I,Report!$B302)),\"\",INDEX(Data!I:I,Report!$B302))","v":""},{"$f":"IF(ISERROR(INDEX(Data!J:J,Report!$B302)),\"\",INDEX(Data!J:J,Report!$B302))","v":""},{"$f":"IF(ISERROR(INDEX(Data!K:K,Report!$B302)),\"\",INDEX(Data!K:K,Report!$B302))","v":""},{"$f":"IF(ISERROR(INDEX(Data!L:L,Report!$B302)),\"\",INDEX(Data!L:L,Report!$B302))","v":""},null,{"$f":"IF(ISERROR(INDEX(Data!N:N,Report!$B302)),\"\",INDEX(Data!N:N,Report!$B302))","v":""},{"$f":"IF(ISERROR(INDEX(Data!P:P,Report!$B302)),\"\",INDEX(Data!P:P,Report!$B302))","v":""},{"$f":"IF(ISERROR(INDEX(Data!O:O,Report!$B302)),\"\",INDEX(Data!O:O,Report!$B302))","v":""},{"$f":"IF(ISERROR(INDEX(Data!Q:Q,Report!$B302)),\"\",INDEX(Data!Q:Q,Report!$B302))","v":""},{"$f":"IF(ISERROR(INDEX(Data!R:R,Report!$B302)),\"\",INDEX(Data!R:R,Report!$B302))","v":""},{"$f":"IF(ISERROR(INDEX(Data!S:S,Report!$B302)),\"\",INDEX(Data!S:S,Report!$B302))","v":""},{"$f":"IF(ISERROR(INDEX(Data!T:T,Report!$B302)),\"\",INDEX(Data!T:T,Report!$B302))","v":""},{"$f":"IF(ISERROR(INDEX(Data!U:U,Report!$B302)),\"\",INDEX(Data!U:U,Report!$B302))","v":""},{"$f":"IF(ISERROR(INDEX(Data!V:V,Report!$B302)),\"\",INDEX(Data!V:V,Report!$B302))","v":""},null,"",""]
[299,{"$f":"IF(ISERROR(MATCH(A303,Data!A:A,0)),\"\",MATCH(A303,Data!A:A,0))","v":""},{"$f":"IF(ISERROR(INDEX(Data!I:I,Report!$B303)),\"\",INDEX(Data!I:I,Report!$B303))","v":""},{"$f":"IF(ISERROR(INDEX(Data!J:J,Report!$B303)),\"\",INDEX(Data!J:J,Report!$B303))","v":""},{"$f":"IF(ISERROR(INDEX(Data!K:K,Report!$B303)),\"\",INDEX(Data!K:K,Report!$B303))","v":""},{"$f":"IF(ISERROR(INDEX(Data!L:L,Report!$B303)),\"\",INDEX(Data!L:L,Report!$B303))","v":""},null,{"$f":"IF(ISERROR(INDEX(Data!N:N,Report!$B303)),\"\",INDEX(Data!N:N,Report!$B303))","v":""},{"$f":"IF(ISERROR(INDEX(Data!P:P,Report!$B303)),\"\",INDEX(Data!P:P,Report!$B303))","v":""},{"$f":"IF(ISERROR(INDEX(Data!O:O,Report!$B303)),\"\",INDEX(Data!O:O,Report!$B303))","v":""},{"$f":"IF(ISERROR(INDEX(Data!Q:Q,Report!$B303)),\"\",INDEX(Data!Q:Q,Report!$B303))","v":""},{"$f":"IF(ISERROR(INDEX(Data!R:R,Report!$B303)),\"\",INDEX(Data!R:R,Report!$B303))","v":""},{"$f":"IF(ISERROR(INDEX(Data!S:S,Report!$B303)),\"\",INDEX(Data!S:S,Report!$B303))","v":""},{"$f":"IF(ISERROR(INDEX(Data!T:T,Report!$B303)),\"\",INDEX(Data!T:T,Report!$B303))","v":""},{"$f":"IF(ISERROR(INDEX(Data!U:U,Report!$B303)),\"\",INDEX(Data!U:U,Report!$B303))","v":""},{"$f":"IF(ISERROR(INDEX(Data!V:V,Report!$B303)),\"\",INDEX(Data!V:V,Report!$B303))","v":""},null,"",""]
[300,{"$f":"IF(ISERROR(MATCH(A304,Data!A:A,0)),\"\",MATCH(A304,Data!A:A,0))","v":148},{"$f":"IF(ISERROR(INDEX(Data!I:I,Report!$B304)),\"\",INDEX(Data!I:I,Report!$B304))","v":"04:40:38"},{"$f":"IF(ISERROR(INDEX(Data!J:J,Report!$B304)),\"\",INDEX(Data!J:J,Report!$B304))","v":"Game against Boomer at level 3.5  Single point data:"},{"$f":"IF(ISERROR(INDEX(Data!K:K,Report!$B304)),\"\",INDEX(Data!K:K,Report!$B304))","v":"Player's point"},{"$f":"IF(ISERROR(INDEX(Data!L:L,Report!$B304)),\"\",INDEX(Data!L:L,Report!$B304))","v":"New Point"},null,{"$f":"IF(ISERROR(INDEX(Data!N:N,Report!$B304)),\"\",INDEX(Data!N:N,Report!$B304))","v":1},{"$f":"IF(ISERROR(INDEX(Data!P:P,Report!$B304)),\"\",INDEX(Data!P:P,Report!$B304))","v":"Player Serve"},{"$f":"IF(ISERROR(INDEX(Data!O:O,Report!$B304)),\"\",INDEX(Data!O:O,Report!$B304))","v":4},{"$f":"IF(ISERROR(INDEX(Data!Q:Q,Report!$B304)),\"\",INDEX(Data!Q:Q,Report!$B304))","v":3.5},{"$f":"IF(ISERROR(INDEX(Data!R:R,Report!$B304)),\"\",INDEX(Data!R:R,Report!$B304))","v":13},{"$f":"IF(ISERROR(INDEX(Data!S:S,Report!$B304)),\"\",INDEX(Data!S:S,Report!$B304))","v":21},{"$f":"IF(ISERROR(INDEX(Data!T:T,Report!$B304)),\"\",INDEX(Data!T:T,Report!$B304))","v":3},{"$f":"IF(ISERROR(INDEX(Data!U:U,Report!$B304)),\"\",INDEX(Data!U:U,Report!$B304))","v":110},{"$f":"IF(ISERROR(INDEX(Data!V:V,Report!$B304)),\"\",INDEX(Data!V:V,Report!$B304))","v":4.9000000000000004},null,"             |","||||||||||"]
[301,{"$f":"IF(ISERROR(MATCH(A305,Data!A:A,0)),\"\",MATCH(A305,Data!A:A,0))","v":""},{"$f":"IF(ISERROR(INDEX(Data!I:I,Report!$B305)),\"\",INDEX(Data!I:I,Report!$B305))","v":""},{"$f":"IF(ISERROR(INDEX(Data!J:J,Report!$B305)),\"\",INDEX(Data!J:J,Report!$B305))","v":""},{"$f":"IF(ISERROR(INDEX(Data!K:K,Report!$B305)),\"\",INDEX(Data!K:K,Report!$B305))","v":""},{"$f":"IF(ISERROR(INDEX(Data!L:L,Report!$B305)),\"\",INDEX(Data!L:L,Report!$B305))","v":""},null,{"$f":"IF(ISERROR(INDEX(Data!N:N,Report!$B305)),\"\",INDEX(Data!N:N,Report!$B305))","v":""},{"$f":"IF(ISERROR(INDEX(Data!P:P,Report!$B305)),\"\",INDEX(Data!P:P,Report!$B305))","v":""},{"$f":"IF(ISERROR(INDEX(Data!O:O,Report!$B305)),\"\",INDEX(Data!O:O,Report!$B305))","v":""},{"$f":"IF(ISERROR(INDEX(Data!Q:Q,Report!$B305)),\"\",INDEX(Data!Q:Q,Report!$B305))","v":""},{"$f":"IF(ISERROR(INDEX(Data!R:R,Report!$B305)),\"\",INDEX(Data!R:R,Report!$B305))","v":""},{"$f":"IF(ISERROR(INDEX(Data!S:S,Report!$B305)),\"\",INDEX(Data!S:S,Report!$B305))","v":""},{"$f":"IF(ISERROR(INDEX(Data!T:T,Report!$B305)),\"\",INDEX(Data!T:T,Report!$B305))","v":""},{"$f":"IF(ISERROR(INDEX(Data!U:U,Report!$B305)),\"\",INDEX(Data!U:U,Report!$B305))","v":""},{"$f":"IF(ISERROR(INDEX(Data!V:V,Report!$B305)),\"\",INDEX(Data!V:V,Report!$B305))","v":""},null,"",""]
[302,{"$f":"IF(ISERROR(MATCH(A306,Data!A:A,0)),\"\",MATCH(A306,Data!A:A,0))","v":""},{"$f":"IF(ISERROR(INDEX(Data!I:I,Report!$B306)),\"\",INDEX(Data!I:I,Report!$B306))","v":""},{"$f":"IF(ISERROR(INDEX(Data!J:J,Report!$B306)),\"\",INDEX(Data!J:J,Report!$B306))","v":""},{"$f":"IF(ISERROR(INDEX(Data!K:K,Report!$B306)),\"\",INDEX(Data!K:K,Report!$B306))","v":""},{"$f":"IF(ISERROR(INDEX(Data!L:L,Report!$B306)),\"\",INDEX(Data!L:L,Report!$B306))","v":""},null,{"$f":"IF(ISERROR(INDEX(Data!N:N,Report!$B306)),\"\",INDEX(Data!N:N,Report!$B306))","v":""},{"$f":"IF(ISERROR(INDEX(Data!P:P,Report!$B306)),\"\",INDEX(Data!P:P,Report!$B306))","v":""},{"$f":"IF(ISERROR(INDEX(Data!O:O,Report!$B306)),\"\",INDEX(Data!O:O,Report!$B306))","v":""},{"$f":"IF(ISERROR(INDEX(Data!Q:Q,Report!$B306)),\"\",INDEX(Data!Q:Q,Report!$B306))","v":""},{"$f":"IF(ISERROR(INDEX(Data!R:R,Report!$B306)),\"\",INDEX(Data!R:R,Report!$B306))","v":""},{"$f":"IF(ISERROR(INDEX(Data!S:S,Report!$B306)),\"\",INDEX(Data!S:S,Report!$B306))","v":""},{"$f":"IF(ISERROR(INDEX(Data!T:T,Report!$B306)),\"\",INDEX(Data!T:T,Report!$B306))","v":""},{"$f":"IF(ISERROR(INDEX(Data!U:U,Report!$B306)),\"\",INDEX(Data!U:U,Report!$B306))","v":""},{"$f":"IF(ISERROR(INDEX(Data!V:V,Report!$B306)),\"\",INDEX(Data!V:V,Report!$B306))","v":""},null,"",""]
[303,{"$f":"IF(ISERROR(MATCH(A307,Data!A:A,0)),\"\",MATCH(A307,Data!A:A,0))","v":""},{"$f":"IF(ISERROR(INDEX(Data!I:I,Report!$B307)),\"\",INDEX(Data!I:I,Report!$B307))","v":""},{"$f":"IF(ISERROR(INDEX(Data!J:J,Report!$B307)),\"\",INDEX(Data!J:J,Report!$B307))","v":""},{"$f":"IF(ISERROR(INDEX(Data!K:K,Report!$B307)),\"\",INDEX(Data!K:K,Report!$B307))","v":""},{"$f":"IF(ISERROR(INDEX(Data!L:L,Report!$B307)),\"\",INDEX(Data!L:L,Report!$B307))","v":""},null,{"$f":"IF(ISERROR(INDEX(Data!N:N,Report!$B307)),\"\",INDEX(Data!N:N,Report!$B307))","v":""},{"$f":"IF(ISERROR(INDEX(Data!P:P,Report!$B307)),\"\",INDEX(Data!P:P,Report!$B307))","v":""},{"$f":"IF(ISERROR(INDEX(Data!O:O,Report!$B307)),\"\",INDEX(Data!O:O,Report!$B307))","v":""},{"$f":"IF(ISERROR(INDEX(Data!Q:Q,Report!$B307)),\"\",INDEX(Data!Q:Q,Report!$B307))","v":""},{"$f":"IF(ISERROR(INDEX(Data!R:R,Report!$B307)),\"\",INDEX(Data!R:R,Report!$B307))","v":""},{"$f":"IF(ISERROR(INDEX(Data!S:S,Report!$B307)),\"\",INDEX(Data!S:S,Report!$B307))","v":""},{"$f":"IF(ISERROR(INDEX(Data!T:T,Report!$B307)),\"\",INDEX(Data!T:T,Report!$B307))","v":""},{"$f":"IF(ISERROR(INDEX(Data!U:U,Report!$B307)),\"\",INDEX(Data!U:U,Report!$B307))","v":""},{"$f":"IF(ISERROR(INDEX(Data!V:V,Report!$B307)),\"\",INDEX(Data!V:V,Report!$B307))","v":""},null,"",""]
[304,{"$f":"IF(ISERROR(MATCH(A308,Data!A:A,0)),\"\",MATCH(A308,Data!A:A,0))","v":149},{"$f":"IF(ISERROR(INDEX(Data!I:I,Report!$B308)),\"\",INDEX(Data!I:I,Report!$B308))","v":"00:38:27"},{"$f":"IF(ISERROR(INDEX(Data!J:J,Report!$B308)),\"\",INDEX(Data!J:J,Report!$B308))","v":"Game against Boomer at level 2.0  Single point data:"},{"$f":"IF(ISERROR(INDEX(Data!K:K,Report!$B308)),\"\",INDEX(Data!K:K,Report!$B308))","v":"Player's point"},{"$f":"IF(ISERROR(INDEX(Data!L:L,Report!$B308)),\"\",INDEX(Data!L:L,Report!$B308))","v":"New Point"},null,{"$f":"IF(ISERROR(INDEX(Data!N:N,Report!$B308)),\"\",INDEX(Data!N:N,Report!$B308))","v":1},{"$f":"IF(ISERROR(INDEX(Data!P:P,Report!$B308)),\"\",INDEX(Data!P:P,Report!$B308))","v":"Serve"},{"$f":"IF(ISERROR(INDEX(Data!O:O,Report!$B308)),\"\",INDEX(Data!O:O,Report!$B308))","v":8},{"$f":"IF(ISERROR(INDEX(Data!Q:Q,Report!$B308)),\"\",INDEX(Data!Q:Q,Report!$B308))","v":2},{"$f":"IF(ISERROR(INDEX(Data!R:R,Report!$B308)),\"\",INDEX(Data!R:R,Report!$B308))","v":16},{"$f":"IF(ISERROR(INDEX(Data!S:S,Report!$B308)),\"\",INDEX(Data!S:S,Report!$B308))","v":17},{"$f":"IF(ISERROR(INDEX(Data!T:T,Report!$B308)),\"\",INDEX(Data!T:T,Report!$B308))","v":2.9},{"$f":"IF(ISERROR(INDEX(Data!U:U,Report!$B308)),\"\",INDEX(Data!U:U,Report!$B308))","v":39},{"$f":"IF(ISERROR(INDEX(Data!V:V,Report!$B308)),\"\",INDEX(Data!V:V,Report!$B308))","v":3},null,"                |","||||||||"]
[305,{"$f":"IF(ISERROR(MATCH(A309,Data!A:A,0)),\"\",MATCH(A309,Data!A:A,0))","v":""},{"$f":"IF(ISERROR(INDEX(Data!I:I,Report!$B309)),\"\",INDEX(Data!I:I,Report!$B309))","v":""},{"$f":"IF(ISERROR(INDEX(Data!J:J,Report!$B309)),\"\",INDEX(Data!J:J,Report!$B309))","v":""},{"$f":"IF(ISERROR(INDEX(Data!K:K,Report!$B309)),\"\",INDEX(Data!K:K,Report!$B309))","v":""},{"$f":"IF(ISERROR(INDEX(Data!L:L,Report!$B309)),\"\",INDEX(Data!L:L,Report!$B309))","v":""},null,{"$f":"IF(ISERROR(INDEX(Data!N:N,Report!$B309)),\"\",INDEX(Data!N:N,Report!$B309))","v":""},{"$f":"IF(ISERROR(INDEX(Data!P:P,Report!$B309)),\"\",INDEX(Data!P:P,Report!$B309))","v":""},{"$f":"IF(ISERROR(INDEX(Data!O:O,Report!$B309)),\"\",INDEX(Data!O:O,Report!$B309))","v":""},{"$f":"IF(ISERROR(INDEX(Data!Q:Q,Report!$B309)),\"\",INDEX(Data!Q:Q,Report!$B309))","v":""},{"$f":"IF(ISERROR(INDEX(Data!R:R,Report!$B309)),\"\",INDEX(Data!R:R,Report!$B309))","v":""},{"$f":"IF(ISERROR(INDEX(Data!S:S,Report!$B309)),\"\",INDEX(Data!S:S,Report!$B309))","v":""},{"$f":"IF(ISERROR(INDEX(Data!T:T,Report!$B309)),\"\",INDEX(Data!T:T,Report!$B309))","v":""},{"$f":"IF(ISERROR(INDEX(Data!U:U,Report!$B309)),\"\",INDEX(Data!U:U,Report!$B309))","v":""},{"$f":"IF(ISERROR(INDEX(Data!V:V,Report!$B309)),\"\",INDEX(Data!V:V,Report!$B309))","v":""},null,"",""]
[306,{"$f":"IF(ISERROR(MATCH(A310,Data!A:A,0)),\"\",MATCH(A310,Data!A:A,0))","v":""},{"$f":"IF(ISERROR(INDEX(Data!I:I,Report!$B310)),\"\",INDEX(Data!I:I,Report!$B310))","v":""},{"$f":"IF(ISERROR(INDEX(Data!J:J,Report!$B310)),\"\",INDEX(Data!J:J,Report!$B310))","v":""},{"$f":"IF(ISERROR(INDEX(Data!K:K,Report!$B310)),\"\",INDEX(Data!K:K,Report!$B310))","v":""},{"$f":"IF(ISERROR(INDEX(Data!L:L,Report!$B310)),\"\",INDEX(Data!L:L,Report!$B310))","v":""},null,{"$f":"IF(ISERROR(INDEX(Data!N:N,Report!$B310)),\"\",INDEX(Data!N:N,Report!$B310))","v":""},{"$f":"IF(ISERROR(INDEX(Data!P:P,Report!$B310)),\"\",INDEX(Data!P:P,Report!$B310))","v":""},{"$f":"IF(ISERROR(INDEX(Data!O:O,Report!$B310)),\"\",INDEX(Data!O:O,Report!$B310))","v":""},{"$f":"IF(ISERROR(INDEX(Data!Q:Q,Report!$B310)),\"\",INDEX(Data!Q:Q,Report!$B310))","v":""},{"$f":"IF(ISERROR(INDEX(Data!R:R,Report!$B310)),\"\",INDEX(Data!R:R,Report!$B310))","v":""},{"$f":"IF(ISERROR(INDEX(Data!S:S,Report!$B310)),\"\",INDEX(Data!S:S,Report!$B310))","v":""},{"$f":"IF(ISERROR(INDEX(Data!T:T,Report!$B310)),\"\",INDEX(Data!T:T,Report!$B310))","v":""},{"$f":"IF(ISERROR(INDEX(Data!U:U,Report!$B310)),\"\",INDEX(Data!U:U,Report!$B310))","v":""},{"$f":"IF(ISERROR(INDEX(Data!V:V,Report!$B310)),\"\",INDEX(Data!V:V,Report!$B310))","v":""},null,"",""]
[307,{"$f":"IF(ISERROR(MATCH(A311,Data!A:A,0)),\"\",MATCH(A311,Data!A:A,0))","v":""},{"$f":"IF(ISERROR(INDEX(Data!I:I,Report!$B311)),\"\",INDEX(Data!I:I,Report!$B311))","v":""},{"$f":"IF(ISERROR(INDEX(Data!J:J,Report!$B311)),\"\",INDEX(Data!J:J,Report!$B311))","v":""},{"$f":"IF(ISERROR(INDEX(Data!K:K,Report!$B311)),\"\",INDEX(Data!K:K,Report!$B311))","v":""},{"$f":"IF(ISERROR(INDEX(Data!L:L,Report!$B311)),\"\",INDEX(Data!L:L,Report!$B311))","v":""},null,{"$f":"IF(ISERROR(INDEX(Data!N:N,Report!$B311)),\"\",INDEX(Data!N:N,Report!$B311))","v":""},{"$f":"IF(ISERROR(INDEX(Data!P:P,Report!$B311)),\"\",INDEX(Data!P:P,Report!$B311))","v":""},{"$f":"IF(ISERROR(INDEX(Data!O:O,Report!$B311)),\"\",INDEX(Data!O:O,Report!$B311))","v":""},{"$f":"IF(ISERROR(INDEX(Data!Q:Q,Report!$B311)),\"\",INDEX(Data!Q:Q,Report!$B311))","v":""},{"$f":"IF(ISERROR(INDEX(Data!R:R,Report!$B311)),\"\",INDEX(Data!R:R,Report!$B311))","v":""},{"$f":"IF(ISERROR(INDEX(Data!S:S,Report!$B311)),\"\",INDEX(Data!S:S,Report!$B311))","v":""},{"$f":"IF(ISERROR(INDEX(Data!T:T,Report!$B311)),\"\",INDEX(Data!T:T,Report!$B311))","v":""},{"$f":"IF(ISERROR(INDEX(Data!U:U,Report!$B311)),\"\",INDEX(Data!U:U,Report!$B311))","v":""},{"$f":"IF(ISERROR(INDEX(Data!V:V,Report!$B311)),\"\",INDEX(Data!V:V,Report!$B311))","v":""},null,"",""]
[308,{"$f":"IF(ISERROR(MATCH(A312,Data!A:A,0)),\"\",MATCH(A312,Data!A:A,0))","v":150},{"$f":"IF(ISERROR(INDEX(Data!I:I,Report!$B312)),\"\",INDEX(Data!I:I,Report!$B312))","v":" "},{"$f":"IF(ISERROR(INDEX(Data!J:J,Report!$B312)),\"\",INDEX(Data!J:J,Report!$B312))","v":"User Drill #188  3 line rated mini tennis"},{"$f":"IF(ISERROR(INDEX(Data!K:K,Report!$B312)),\"\",INDEX(Data!K:K,Report!$B312))","v":0},{"$f":"IF(ISERROR(INDEX(Data!L:L,Report!$B312)),\"\",INDEX(Data!L:L,Report!$B312))","v":"New Point"},null,{"$f":"IF(ISERROR(INDEX(Data!N:N,Report!$B312)),\"\",INDEX(Data!N:N,Report!$B312))","v":1},{"$f":"IF(ISERROR(INDEX(Data!P:P,Report!$B312)),\"\",INDEX(Data!P:P,Report!$B312))","v":0},{"$f":"IF(ISERROR(INDEX(Data!O:O,Report!$B312)),\"\",INDEX(Data!O:O,Report!$B312))","v":11},{"$f":"IF(ISERROR(INDEX(Data!Q:Q,Report!$B312)),\"\",INDEX(Data!Q:Q,Report!$B312))","v":3.5},{"$f":"IF(ISERROR(INDEX(Data!R:R,Report!$B312)),\"\",INDEX(Data!R:R,Report!$B312))","v":0},{"$f":"IF(ISERROR(INDEX(Data!S:S,Report!$B312)),\"\",INDEX(Data!S:S,Report!$B312))","v":0},{"$f":"IF(ISERROR(INDEX(Data!T:T,Report!$B312)),\"\",INDEX(Data!T:T,Report!$B312))","v":0},{"$f":"IF(ISERROR(INDEX(Data!U:U,Report!$B312)),\"\",INDEX(Data!U:U,Report!$B312))","v":0},{"$f":"IF(ISERROR(INDEX(Data!V:V,Report!$B312)),\"\",INDEX(Data!V:V,Report!$B312))","v":0},null,"|",""]
[309,{"$f":"IF(ISERROR(MATCH(A313,Data!A:A,0)),\"\",MATCH(A313,Data!A:A,0))","v":151},{"$f":"IF(ISERROR(INDEX(Data!I:I,Report!$B313)),\"\",INDEX(Data!I:I,Report!$B313))","v":"04:40:38"},{"$f":"IF(ISERROR(INDEX(Data!J:J,Report!$B313)),\"\",INDEX(Data!J:J,Report!$B313))","v":"Game against Boomer at level 3.5  Single point data:"},{"$f":"IF(ISERROR(INDEX(Data!K:K,Report!$B313)),\"\",INDEX(Data!K:K,Report!$B313))","v":"Player's point"},{"$f":"IF(ISERROR(INDEX(Data!L:L,Report!$B313)),\"\",INDEX(Data!L:L,Report!$B313))","v":0},null,{"$f":"IF(ISERROR(INDEX(Data!N:N,Report!$B313)),\"\",INDEX(Data!N:N,Report!$B313))","v":2},{"$f":"IF(ISERROR(INDEX(Data!P:P,Report!$B313)),\"\",INDEX(Data!P:P,Report!$B313))","v":"Topspin"},{"$f":"IF(ISERROR(INDEX(Data!O:O,Report!$B313)),\"\",INDEX(Data!O:O,Report!$B313))","v":4},{"$f":"IF(ISERROR(INDEX(Data!Q:Q,Report!$B313)),\"\",INDEX(Data!Q:Q,Report!$B313))","v":3.5},{"$f":"IF(ISERROR(INDEX(Data!R:R,Report!$B313)),\"\",INDEX(Data!R:R,Report!$B313))","v":24},{"$f":"IF(ISERROR(INDEX(Data!S:S,Report!$B313)),\"\",INDEX(Data!S:S,Report!$B313))","v":14},{"$f":"IF(ISERROR(INDEX(Data!T:T,Report!$B313)),\"\",INDEX(Data!T:T,Report!$B313))","v":3.7},{"$f":"IF(ISERROR(INDEX(Data!U:U,Report!$B313)),\"\",INDEX(Data!U:U,Report!$B313))","v":50},{"$f":"IF(ISERROR(INDEX(Data!V:V,Report!$B313)),\"\",INDEX(Data!V:V,Report!$B313))","v":3.8},null,"                        |","|||||||"]
[310,{"$f":"IF(ISERROR(MATCH(A314,Data!A:A,0)),\"\",MATCH(A314,Data!A:A,0))","v":152},{"$f":"IF(ISERROR(INDEX(Data!I:I,Report!$B314)),\"\",INDEX(Data!I:I,Report!$B314))","v":" "},{"$f":"IF(ISERROR(INDEX(Data!J:J,Report!$B314)),\"\",INDEX(Data!J:J,Report!$B314))","v":"User Drill #188  3 line rated mini tennis"},{"$f":"IF(ISERROR(INDEX(Data!K:K,Report!$B314)),\"\",INDEX(Data!K:K,Report!$B314))","v":0},{"$f":"IF(ISERROR(INDEX(Data!L:L,Report!$B314)),\"\",INDEX(Data!L:L,Report!$B314))","v":0},null,{"$f":"IF(ISERROR(INDEX(Data!N:N,Report!$B314)),\"\",INDEX(Data!N:N,Report!$B314))","v":2},{"$f":"IF(ISERROR(INDEX(Data!P:P,Report!$B314)),\"\",INDEX(Data!P:P,Report!$B314))","v":0},{"$f":"IF(ISERROR(INDEX(Data!O:O,Report!$B314)),\"\",INDEX(Data!O:O,Report!$B314))","v":4},{"$f":"IF(ISERROR(INDEX(Data!Q:Q,Report!$B314)),\"\",INDEX(Data!Q:Q,Report!$B314))","v":3.5},{"$f":"IF(ISERROR(INDEX(Data!R:R,Report!$B314)),\"\",INDEX(Data!R:R,Report!$B314))","v":0},{"$f":"IF(ISERROR(INDEX(Data!S:S,Report!$B314)),\"\",INDEX(Data!S:S,Report!$B314))","v":0},{"$f":"IF(ISERROR(INDEX(Data!T:T,Report!$B314)),\"\",INDEX(Data!T:T,Report!$B314))","v":0},{"$f":"IF(ISERROR(INDEX(Data!U:U,Report!$B314)),\"\",INDEX(Data!U:U,Report!$B314))","v":0},{"$f":"IF(ISERROR(INDEX(Data!V:V,Report!$B314)),\"\",INDEX(Data!V:V,Report!$B314))","v":0},null,"|",""]
[311,{"$f":"IF(ISERROR(MATCH(A315,Data!A:A,0)),\"\",MATCH(A315,Data!A:A,0))","v":153},{"$f":"IF(ISERROR(INDEX(Data!I:I,Report!$B315)),\"\",INDEX(Data!I:I,Report!$B315))","v":"00:38:27"},{"$f":"IF(ISERROR(INDEX(Data!J:J,Report!$B315)),\"\",INDEX(Data!J:J,Report!$B315))","v":"Game against Boomer at level 2.0  Single point data:"},{"$f":"IF(ISERROR(INDEX(Data!K:K,Report!$B315)),\"\",INDEX(Data!K:K,Report!$B315))","v":"Player's point"},{"$f":"IF(ISERROR(INDEX(Data!L:L,Report!$B315)),\"\",INDEX(Data!L:L,Report!$B315))","v":0},null,{"$f":"IF(ISERROR(INDEX(Data!N:N,Report!$B315)),\"\",INDEX(Data!N:N,Report!$B315))","v":2},{"$f":"IF(ISERROR(INDEX(Data!P:P,Report!$B315)),\"\",INDEX(Data!P:P,Report!$B315))","v":"Topspin"},{"$f":"IF(ISERROR(INDEX(Data!O:O,Report!$B315)),\"\",INDEX(Data!O:O,Report!$B315))","v":3},{"$f":"IF(ISERROR(INDEX(Data!Q:Q,Report!$B315)),\"\",INDEX(Data!Q:Q,Report!$B315))","v":2},{"$f":"IF(ISERROR(INDEX(Data!R:R,Report!$B315)),\"\",INDEX(Data!R:R,Report!$B315))","v":24},{"$f":"IF(ISERROR(INDEX(Data!S:S,Report!$B315)),\"\",INDEX(Data!S:S,Report!$B315))","v":19},{"$f":"IF(ISERROR(INDEX(Data!T:T,Report!$B315)),\"\",INDEX(Data!T:T,Report!$B315))","v":4.2},{"$f":"IF(ISERROR(INDEX(Data!U:U,Report!$B315)),\"\",INDEX(Data!U:U,Report!$B315))","v":51},{"$f":"IF(ISERROR(INDEX(Data!V:V,Report!$B315)),\"\",INDEX(Data!V:V,Report!$B315))","v":4.0999999999999996},null,{"$f":"IF(H315=0,\"\",IF(ISERROR(REPT(\" \",L315) & \"|\"),\"\",REPT(\" \",L315) & \"|\"))","v":"                        |"},"|||||||||"]
[312,{"$f":"IF(ISERROR(MATCH(A316,Data!A:A,0)),\"\",MATCH(A316,Data!A:A,0))","v":154},{"$f":"IF(ISERROR(INDEX(Data!I:I,Report!$B316)),\"\",INDEX(Data!I:I,Report!$B316))","v":"04:40:38"},{"$f":"IF(ISERROR(INDEX(Data!J:J,Report!$B316)),\"\",INDEX(Data!J:J,Report!$B316))","v":"Game against Boomer at level 3.5  Single point data:"},{"$f":"IF(ISERROR(INDEX(Data!K:K,Report!$B316)),\"\",INDEX(Data!K:K,Report!$B316))","v":"Player's point"},{"$f":"IF(ISERROR(INDEX(Data!L:L,Report!$B316)),\"\",INDEX(Data!L:L,Report!$B316))","v":0},null,{"$f":"IF(ISERROR(INDEX(Data!N:N,Report!$B316)),\"\",INDEX(Data!N:N,Report!$B316))","v":3},{"$f":"IF(ISERROR(INDEX(Data!P:P,Report!$B316)),\"\",INDEX(Data!P:P,Report!$B316))","v":"Drop Shot"},{"$f":"IF(ISERROR(INDEX(Data!O:O,Report!$B316)),\"\",INDEX(Data!O:O,Report!$B316))","v":5},{"$f":"IF(ISERROR(INDEX(Data!Q:Q,Report!$B316)),\"\",INDEX(Data!Q:Q,Report!$B316))","v":3.5},{"$f":"IF(ISERROR(INDEX(Data!R:R,Report!$B316)),\"\",INDEX(Data!R:R,Report!$B316))","v":27},{"$f":"IF(ISERROR(INDEX(Data!S:S,Report!$B316)),\"\",INDEX(Data!S:S,Report!$B316))","v":4},{"$f":"IF(ISERROR(INDEX(Data!T:T,Report!$B316)),\"\",INDEX(Data!T:T,Report!$B316))","v":5.2},{"$f":"IF(ISERROR(INDEX(Data!U:U,Report!$B316)),\"\",INDEX(Data!U:U,Report!$B316))","v":38},{"$f":"IF(ISERROR(INDEX(Data!V:V,Report!$B316)),\"\",INDEX(Data!V:V,Report!$B316))","v":4.8},null,"                           |","||"]
[313,{"$f":"IF(ISERROR(MATCH(A317,Data!A:A,0)),\"\",MATCH(A317,Data!A:A,0))","v":155},{"$f":"IF(ISERROR(INDEX(Data!I:I,Report!$B317)),\"\",INDEX(Data!I:I,Report!$B317))","v":" "},{"$f":"IF(ISERROR(INDEX(Data!J:J,Report!$B317)),\"\",INDEX(Data!J:J,Report!$B317))","v":"User Drill #188  3 line rated mini tennis"},{"$f":"IF(ISERROR(INDEX(Data!K:K,Report!$B317)),\"\",INDEX(Data!K:K,Report!$B317))","v":0},{"$f":"IF(ISERROR(INDEX(Data!L:L,Report!$B317)),\"\",INDEX(Data!L:L,Report!$B317))","v":0},null,{"$f":"IF(ISERROR(INDEX(Data!N:N,Report!$B317)),\"\",INDEX(Data!N:N,Report!$B317))","v":3},{"$f":"IF(ISERROR(INDEX(Data!P:P,Report!$B317)),\"\",INDEX(Data!P:P,Report!$B317))","v":0},{"$f":"IF(ISERROR(INDEX(Data!O:O,Report!$B317)),\"\",INDEX(Data!O:O,Report!$B317))","v":10},{"$f":"IF(ISERROR(INDEX(Data!Q:Q,Report!$B317)),\"\",INDEX(Data!Q:Q,Report!$B317))","v":3.5},{"$f":"IF(ISERROR(INDEX(Data!R:R,Report!$B317)),\"\",INDEX(Data!R:R,Report!$B317))","v":9},{"$f":"IF(ISERROR(INDEX(Data!S:S,Report!$B317)),\"\",INDEX(Data!S:S,Report!$B317))","v":6},{"$f":"IF(ISERROR(INDEX(Data!T:T,Report!$B317)),\"\",INDEX(Data!T:T,Report!$B317))","v":2.2999999999999998},{"$f":"IF(ISERROR(INDEX(Data!U:U,Report!$B317)),\"\",INDEX(Data!U:U,Report!$B317))","v":28},{"$f":"IF(ISERROR(INDEX(Data!V:V,Report!$B317)),\"\",INDEX(Data!V:V,Report!$B317))","v":3.1},null,"         |","|||"]
[314,{"$f":"IF(ISERROR(MATCH(A318,Data!A:A,0)),\"\",MATCH(A318,Data!A:A,0))","v":156},{"$f":"IF(ISERROR(INDEX(Data!I:I,Report!$B318)),\"\",INDEX(Data!I:I,Report!$B318))","v":"00:38:27"},{"$f":"IF(ISERROR(INDEX(Data!J:J,Report!$B318)),\"\",INDEX(Data!J:J,Report!$B318))","v":"Game against Boomer at level 2.0  Single point data:"},{"$f":"IF(ISERROR(INDEX(Data!K:K,Report!$B318)),\"\",INDEX(Data!K:K,Report!$B318))","v":"Player's point"},{"$f":"IF(ISERROR(INDEX(Data!L:L,Report!$B318)),\"\",INDEX(Data!L:L,Report!$B318))","v":0},null,{"$f":"IF(ISERROR(INDEX(Data!N:N,Report!$B318)),\"\",INDEX(Data!N:N,Report!$B318))","v":3},{"$f":"IF(ISERROR(INDEX(Data!P:P,Report!$B318)),\"\",INDEX(Data!P:P,Report!$B318))","v":"Topspin"},{"$f":"IF(ISERROR(INDEX(Data!O:O,Report!$B318)),\"\",INDEX(Data!O:O,Report!$B318))","v":5},{"$f":"IF(ISERROR(INDEX(Data!Q:Q,Report!$B318)),\"\",INDEX(Data!Q:Q,Report!$B318))","v":2},{"$f":"IF(ISERROR(INDEX(Data!R:R,Report!$B318)),\"\",INDEX(Data!R:R,Report!$B318))","v":26},{"$f":"IF(ISERROR(INDEX(Data!S:S,Report!$B318)),\"\",INDEX(Data!S:S,Report!$B318))","v":7},{"$f":"IF(ISERROR(INDEX(Data!T:T,Report!$B318)),\"\",INDEX(Data!T:T,Report!$B318))","v":4.5999999999999996},{"$f":"IF(ISERROR(INDEX(Data!U:U,Report!$B318)),\"\",INDEX(Data!U:U,Report!$B318))","v":38},{"$f":"IF(ISERROR(INDEX(Data!V:V,Report!$B318)),\"\",INDEX(Data!V:V,Report!$B318))","v":4.5},null,"                          |","|||"]
[315,{"$f":"IF(ISERROR(MATCH(A319,Data!A:A,0)),\"\",MATCH(A319,Data!A:A,0))","v":157},{"$f":"IF(ISERROR(INDEX(Data!I:I,Report!$B319)),\"\",INDEX(Data!I:I,Report!$B319))","v":"04:40:38"},{"$f":"IF(ISERROR(INDEX(Data!J:J,Report!$B319)),\"\",INDEX(Data!J:J,Report!$B319))","v":"Game against Boomer at level 3.5  Single point data:"},{"$f":"IF(ISERROR(INDEX(Data!K:K,Report!$B319)),\"\",INDEX(Data!K:K,Report!$B319))","v":"Player's point"},{"$f":"IF(ISERROR(INDEX(Data!L:L,Report!$B319)),\"\",INDEX(Data!L:L,Report!$B319))","v":0},null,{"$f":"IF(ISERROR(INDEX(Data!N:N,Report!$B319)),\"\",INDEX(Data!N:N,Report!$B319))","v":4},{"$f":"IF(ISERROR(INDEX(Data!P:P,Report!$B319)),\"\",INDEX(Data!P:P,Report!$B319))","v":"Pass"},{"$f":"IF(ISERROR(INDEX(Data!O:O,Report!$B319)),\"\",INDEX(Data!O:O,Report!$B319))","v":4},{"$f":"IF(ISERROR(INDEX(Data!Q:Q,Report!$B319)),\"\",INDEX(Data!Q:Q,Report!$B319))","v":3.5},{"$f":"IF(ISERROR(INDEX(Data!R:R,Report!$B319)),\"\",INDEX(Data!R:R,Report!$B319))","v":21},{"$f":"IF(ISERROR(INDEX(Data!S:S,Report!$B319)),\"\",INDEX(Data!S:S,Report!$B319))","v":10},{"$f":"IF(ISERROR(INDEX(Data!T:T,Report!$B319)),\"\",INDEX(Data!T:T,Report!$B319))","v":3.7},{"$f":"IF(ISERROR(INDEX(Data!U:U,Report!$B319)),\"\",INDEX(Data!U:U,Report!$B319))","v":52},{"$f":"IF(ISERROR(INDEX(Data!V:V,Report!$B319)),\"\",INDEX(Data!V:V,Report!$B319))","v":4.8},null,"                     |","|||||"]
[316,{"$f":"IF(ISERROR(MATCH(A320,Data!A:A,0)),\"\",MATCH(A320,Data!A:A,0))","v":158},{"$f":"IF(ISERROR(INDEX(Data!I:I,Report!$B320)),\"\",INDEX(Data!I:I,Report!$B320))","v":"00:38:27"},{"$f":"IF(ISERROR(INDEX(Data!J:J,Report!$B320)),\"\",INDEX(Data!J:J,Report!$B320))","v":"Game against Boomer at level 2.0  Single point data:"},{"$f":"IF(ISERROR(INDEX(Data!K:K,Report!$B320)),\"\",INDEX(Data!K:K,Report!$B320))","v":"Player's point"},{"$f":"IF(ISERROR(INDEX(Data!L:L,Report!$B320)),\"\",INDEX(Data!L:L,Report!$B320))","v":0},null,{"$f":"IF(ISERROR(INDEX(Data!N:N,Report!$B320)),\"\",INDEX(Data!N:N,Report!$B320))","v":4},{"$f":"IF(ISERROR(INDEX(Data!P:P,Report!$B320)),\"\",INDEX(Data!P:P,Report!$B320))","v":"Topspin"},{"$f":"IF(ISERROR(INDEX(Data!O:O,Report!$B320)),\"\",INDEX(Data!O:O,Report!$B320))","v":3},{"$f":"IF(ISERROR(INDEX(Data!Q:Q,Report!$B320)),\"\",INDEX(Data!Q:Q,Report!$B320))","v":2},{"$f":"IF(ISERROR(INDEX(Data!R:R,Report!$B320)),\"\",INDEX(Data!R:R,Report!$B320))","v":27},{"$f":"IF(ISERROR(INDEX(Data!S:S,Report!$B320)),\"\",INDEX(Data!S:S,Report!$B320))","v":22},{"$f":"IF(ISERROR(INDEX(Data!T:T,Report!$B320)),\"\",INDEX(Data!T:T,Report!$B320))","v":5.2},{"$f":"IF(ISERROR(INDEX(Data!U:U,Report!$B320)),\"\",INDEX(Data!U:U,Report!$B320))","v":39},{"$f":"IF(ISERROR(INDEX(Data!V:V,Report!$B320)),\"\",INDEX(Data!V:V,Report!$B320))","v":4.8},null,"                           |","|||||||||||"]
[317,{"$f":"IF(ISERROR(MATCH(A321,Data!A:A,0)),\"\",MATCH(A321,Data!A:A,0))","v":""},{"$f":"IF(ISERROR(INDEX(Data!I:I,Report!$B321)),\"\",INDEX(Data!I:I,Report!$B321))","v":""},{"$f":"IF(ISERROR(INDEX(Data!J:J,Report!$B321)),\"\",INDEX(Data!J:J,Report!$B321))","v":""},{"$f":"IF(ISERROR(INDEX(Data!K:K,Report!$B321)),\"\",INDEX(Data!K:K,Report!$B321))","v":""},{"$f":"IF(ISERROR(INDEX(Data!L:L,Report!$B321)),\"\",INDEX(Data!L:L,Report!$B321))","v":""},null,{"$f":"IF(ISERROR(INDEX(Data!N:N,Report!$B321)),\"\",INDEX(Data!N:N,Report!$B321))","v":""},{"$f":"IF(ISERROR(INDEX(Data!P:P,Report!$B321)),\"\",INDEX(Data!P:P,Report!$B321))","v":""},{"$f":"IF(ISERROR(INDEX(Data!O:O,Report!$B321)),\"\",INDEX(Data!O:O,Report!$B321))","v":""},{"$f":"IF(ISERROR(INDEX(Data!Q:Q,Report!$B321)),\"\",INDEX(Data!Q:Q,Report!$B321))","v":""},{"$f":"IF(ISERROR(INDEX(Data!R:R,Report!$B321)),\"\",INDEX(Data!R:R,Report!$B321))","v":""},{"$f":"IF(ISERROR(INDEX(Data!S:S,Report!$B321)),\"\",INDEX(Data!S:S,Report!$B321))","v":""},{"$f":"IF(ISERROR(INDEX(Data!T:T,Report!$B321)),\"\",INDEX(Data!T:T,Report!$B321))","v":""},{"$f":"IF(ISERROR(INDEX(Data!U:U,Report!$B321)),\"\",INDEX(Data!U:U,Report!$B321))","v":""},{"$f":"IF(ISERROR(INDEX(Data!V:V,Report!$B321)),\"\",INDEX(Data!V:V,Report!$B321))","v":""},null,"",""]
[318,{"$f":"IF(ISERROR(MATCH(A322,Data!A:A,0)),\"\",MATCH(A322,Data!A:A,0))","v":""},{"$f":"IF(ISERROR(INDEX(Data!I:I,Report!$B322)),\"\",INDEX(Data!I:I,Report!$B322))","v":""},{"$f":"IF(ISERROR(INDEX(Data!J:J,Report!$B322)),\"\",INDEX(Data!J:J,Report!$B322))","v":""},{"$f":"IF(ISERROR(INDEX(Data!K:K,Report!$B322)),\"\",INDEX(Data!K:K,Report!$B322))","v":""},{"$f":"IF(ISERROR(INDEX(Data!L:L,Report!$B322)),\"\",INDEX(Data!L:L,Report!$B322))","v":""},null,{"$f":"IF(ISERROR(INDEX(Data!N:N,Report!$B322)),\"\",INDEX(Data!N:N,Report!$B322))","v":""},{"$f":"IF(ISERROR(INDEX(Data!P:P,Report!$B322)),\"\",INDEX(Data!P:P,Report!$B322))","v":""},{"$f":"IF(ISERROR(INDEX(Data!O:O,Report!$B322)),\"\",INDEX(Data!O:O,Report!$B322))","v":""},{"$f":"IF(ISERROR(INDEX(Data!Q:Q,Report!$B322)),\"\",INDEX(Data!Q:Q,Report!$B322))","v":""},{"$f":"IF(ISERROR(INDEX(Data!R:R,Report!$B322)),\"\",INDEX(Data!R:R,Report!$B322))","v":""},{"$f":"IF(ISERROR(INDEX(Data!S:S,Report!$B322)),\"\",INDEX(Data!S:S,Report!$B322))","v":""},{"$f":"IF(ISERROR(INDEX(Data!T:T,Report!$B322)),\"\",INDEX(Data!T:T,Report!$B322))","v":""},{"$f":"IF(ISERROR(INDEX(Data!U:U,Report!$B322)),\"\",INDEX(Data!U:U,Report!$B322))","v":""},{"$f":"IF(ISERROR(INDEX(Data!V:V,Report!$B322)),\"\",INDEX(Data!V:V,Report!$B322))","v":""},null,"",""]
[319,{"$f":"IF(ISERROR(MATCH(A323,Data!A:A,0)),\"\",MATCH(A323,Data!A:A,0))","v":""},{"$f":"IF(ISERROR(INDEX(Data!I:I,Report!$B323)),\"\",INDEX(Data!I:I,Report!$B323))","v":""},{"$f":"IF(ISERROR(INDEX(Data!J:J,Report!$B323)),\"\",INDEX(Data!J:J,Report!$B323))","v":""},{"$f":"IF(ISERROR(INDEX(Data!K:K,Report!$B323)),\"\",INDEX(Data!K:K,Report!$B323))","v":""},{"$f":"IF(ISERROR(INDEX(Data!L:L,Report!$B323)),\"\",INDEX(Data!L:L,Report!$B323))","v":""},null,{"$f":"IF(ISERROR(INDEX(Data!N:N,Report!$B323)),\"\",INDEX(Data!N:N,Report!$B323))","v":""},{"$f":"IF(ISERROR(INDEX(Data!P:P,Report!$B323)),\"\",INDEX(Data!P:P,Report!$B323))","v":""},{"$f":"IF(ISERROR(INDEX(Data!O:O,Report!$B323)),\"\",INDEX(Data!O:O,Report!$B323))","v":""},{"$f":"IF(ISERROR(INDEX(Data!Q:Q,Report!$B323)),\"\",INDEX(Data!Q:Q,Report!$B323))","v":""},{"$f":"IF(ISERROR(INDEX(Data!R:R,Report!$B323)),\"\",INDEX(Data!R:R,Report!$B323))","v":""},{"$f":"IF(ISERROR(INDEX(Data!S:S,Report!$B323)),\"\",INDEX(Data!S:S,Report!$B323))","v":""},{"$f":"IF(ISERROR(INDEX(Data!T:T,Report!$B323)),\"\",INDEX(Data!T:T,Report!$B323))","v":""},{"$f":"IF(ISERROR(INDEX(Data!U:U,Report!$B323)),\"\",INDEX(Data!U:U,Report!$B323))","v":""},{"$f":"IF(ISERROR(INDEX(Data!V:V,Report!$B323)),\"\",INDEX(Data!V:V,Report!$B323))","v":""},null,"",""]
[320,{"$f":"IF(ISERROR(MATCH(A324,Data!A:A,0)),\"\",MATCH(A324,Data!A:A,0))","v":159},{"$f":"IF(ISERROR(INDEX(Data!I:I,Report!$B324)),\"\",INDEX(Data!I:I,Report!$B324))","v":" "},{"$f":"IF(ISERROR(INDEX(Data!J:J,Report!$B324)),\"\",INDEX(Data!J:J,Report!$B324))","v":"User Drill #188  3 line rated mini tennis"},{"$f":"IF(ISERROR(INDEX(Data!K:K,Report!$B324)),\"\",INDEX(Data!K:K,Report!$B324))","v":0},{"$f":"IF(ISERROR(INDEX(Data!L:L,Report!$B324)),\"\",INDEX(Data!L:L,Report!$B324))","v":"New Point"},null,{"$f":"IF(ISERROR(INDEX(Data!N:N,Report!$B324)),\"\",INDEX(Data!N:N,Report!$B324))","v":1},{"$f":"IF(ISERROR(INDEX(Data!P:P,Report!$B324)),\"\",INDEX(Data!P:P,Report!$B324))","v":0},{"$f":"IF(ISERROR(INDEX(Data!O:O,Report!$B324)),\"\",INDEX(Data!O:O,Report!$B324))","v":11},{"$f":"IF(ISERROR(INDEX(Data!Q:Q,Report!$B324)),\"\",INDEX(Data!Q:Q,Report!$B324))","v":3.5},{"$f":"IF(ISERROR(INDEX(Data!R:R,Report!$B324)),\"\",INDEX(Data!R:R,Report!$B324))","v":0},{"$f":"IF(ISERROR(INDEX(Data!S:S,Report!$B324)),\"\",INDEX(Data!S:S,Report!$B324))","v":0},{"$f":"IF(ISERROR(INDEX(Data!T:T,Report!$B324)),\"\",INDEX(Data!T:T,Report!$B324))","v":0},{"$f":"IF(ISERROR(INDEX(Data!U:U,Report!$B324)),\"\",INDEX(Data!U:U,Report!$B324))","v":0},{"$f":"IF(ISERROR(INDEX(Data!V:V,Report!$B324)),\"\",INDEX(Data!V:V,Report!$B324))","v":0},null,"|",""]
[321,{"$f":"IF(ISERROR(MATCH(A325,Data!A:A,0)),\"\",MATCH(A325,Data!A:A,0))","v":""},{"$f":"IF(ISERROR(INDEX(Data!I:I,Report!$B325)),\"\",INDEX(Data!I:I,Report!$B325))","v":""},{"$f":"IF(ISERROR(INDEX(Data!J:J,Report!$B325)),\"\",INDEX(Data!J:J,Report!$B325))","v":""},{"$f":"IF(ISERROR(INDEX(Data!K:K,Report!$B325)),\"\",INDEX(Data!K:K,Report!$B325))","v":""},{"$f":"IF(ISERROR(INDEX(Data!L:L,Report!$B325)),\"\",INDEX(Data!L:L,Report!$B325))","v":""},null,{"$f":"IF(ISERROR(INDEX(Data!N:N,Report!$B325)),\"\",INDEX(Data!N:N,Report!$B325))","v":""},{"$f":"IF(ISERROR(INDEX(Data!P:P,Report!$B325)),\"\",INDEX(Data!P:P,Report!$B325))","v":""},{"$f":"IF(ISERROR(INDEX(Data!O:O,Report!$B325)),\"\",INDEX(Data!O:O,Report!$B325))","v":""},{"$f":"IF(ISERROR(INDEX(Data!Q:Q,Report!$B325)),\"\",INDEX(Data!Q:Q,Report!$B325))","v":""},{"$f":"IF(ISERROR(INDEX(Data!R:R,Report!$B325)),\"\",INDEX(Data!R:R,Report!$B325))","v":""},{"$f":"IF(ISERROR(INDEX(Data!S:S,Report!$B325)),\"\",INDEX(Data!S:S,Report!$B325))","v":""},{"$f":"IF(ISERROR(INDEX(Data!T:T,Report!$B325)),\"\",INDEX(Data!T:T,Report!$B325))","v":""},{"$f":"IF(ISERROR(INDEX(Data!U:U,Report!$B325)),\"\",INDEX(Data!U:U,Report!$B325))","v":""},{"$f":"IF(ISERROR(INDEX(Data!V:V,Report!$B325)),\"\",INDEX(Data!V:V,Report!$B325))","v":""},null,"",""]
[322,{"$f":"IF(ISERROR(MATCH(A326,Data!A:A,0)),\"\",MATCH(A326,Data!A:A,0))","v":""},{"$f":"IF(ISERROR(INDEX(Data!I:I,Report!$B326)),\"\",INDEX(Data!I:I,Report!$B326))","v":""},{"$f":"IF(ISERROR(INDEX(Data!J:J,Report!$B326)),\"\",INDEX(Data!J:J,Report!$B326))","v":""},{"$f":"IF(ISERROR(INDEX(Data!K:K,Report!$B326)),\"\",INDEX(Data!K:K,Report!$B326))","v":""},{"$f":"IF(ISERROR(INDEX(Data!L:L,Report!$B326)),\"\",INDEX(Data!L:L,Report!$B326))","v":""},null,{"$f":"IF(ISERROR(INDEX(Data!N:N,Report!$B326)),\"\",INDEX(Data!N:N,Report!$B326))","v":""},{"$f":"IF(ISERROR(INDEX(Data!P:P,Report!$B326)),\"\",INDEX(Data!P:P,Report!$B326))","v":""},{"$f":"IF(ISERROR(INDEX(Data!O:O,Report!$B326)),\"\",INDEX(Data!O:O,Report!$B326))","v":""},{"$f":"IF(ISERROR(INDEX(Data!Q:Q,Report!$B326)),\"\",INDEX(Data!Q:Q,Report!$B326))","v":""},{"$f":"IF(ISERROR(INDEX(Data!R:R,Report!$B326)),\"\",INDEX(Data!R:R,Report!$B326))","v":""},{"$f":"IF(ISERROR(INDEX(Data!S:S,Report!$B326)),\"\",INDEX(Data!S:S,Report!$B326))","v":""},{"$f":"IF(ISERROR(INDEX(Data!T:T,Report!$B326)),\"\",INDEX(Data!T:T,Report!$B326))","v":""},{"$f":"IF(ISERROR(INDEX(Data!U:U,Report!$B326)),\"\",INDEX(Data!U:U,Report!$B326))","v":""},{"$f":"IF(ISERROR(INDEX(Data!V:V,Report!$B326)),\"\",INDEX(Data!V:V,Report!$B326))","v":""},null,"",{"$f":"IF(ISERROR(REPT(\"|\",M326/2)),\"\",REPT(\"|\",M326/2))","v":""}]
[{"$f":"A326+1","v":323},{"$f":"IF(ISERROR(MATCH(A327,Data!A:A,0)),\"\",MATCH(A327,Data!A:A,0))","v":""},{"$f":"IF(ISERROR(INDEX(Data!I:I,Report!$B327)),\"\",INDEX(Data!I:I,Report!$B327))","v":""},{"$f":"IF(ISERROR(INDEX(Data!J:J,Report!$B327)),\"\",INDEX(Data!J:J,Report!$B327))","v":""},{"$f":"IF(ISERROR(INDEX(Data!K:K,Report!$B327)),\"\",INDEX(Data!K:K,Report!$B327))","v":""},{"$f":"IF(ISERROR(INDEX(Data!L:L,Report!$B327)),\"\",INDEX(Data!L:L,Report!$B327))","v":""},null,{"$f":"IF(ISERROR(INDEX(Data!N:N,Report!$B327)),\"\",INDEX(Data!N:N,Report!$B327))","v":""},{"$f":"IF(ISERROR(INDEX(Data!P:P,Report!$B327)),\"\",INDEX(Data!P:P,Report!$B327))","v":""},{"$f":"IF(ISERROR(INDEX(Data!O:O,Report!$B327)),\"\",INDEX(Data!O:O,Report!$B327))","v":""},{"$f":"IF(ISERROR(INDEX(Data!Q:Q,Report!$B327)),\"\",INDEX(Data!Q:Q,Report!$B327))","v":""},{"$f":"IF(ISERROR(INDEX(Data!R:R,Report!$B327)),\"\",INDEX(Data!R:R,Report!$B327))","v":""},{"$f":"IF(ISERROR(INDEX(Data!S:S,Report!$B327)),\"\",INDEX(Data!S:S,Report!$B327))","v":""},{"$f":"IF(ISERROR(INDEX(Data!T:T,Report!$B327)),\"\",INDEX(Data!T:T,Report!$B327))","v":""},{"$f":"IF(ISERROR(INDEX(Data!U:U,Report!$B327)),\"\",INDEX(Data!U:U,Report!$B327))","v":""},{"$f":"IF(ISERROR(INDEX(Data!V:V,Report!$B327)),\"\",INDEX(Data!V:V,Report!$B327))","v":""},null,"",""]
[324,{"$f":"IF(ISERROR(MATCH(A328,Data!A:A,0)),\"\",MATCH(A328,Data!A:A,0))","v":160},{"$f":"IF(ISERROR(INDEX(Data!I:I,Report!$B328)),\"\",INDEX(Data!I:I,Report!$B328))","v":"04:41:10"},{"$f":"IF(ISERROR(INDEX(Data!J:J,Report!$B328)),\"\",INDEX(Data!J:J,Report!$B328))","v":"Game against Boomer at level 3.5  Single point data:"},{"$f":"IF(ISERROR(INDEX(Data!K:K,Report!$B328)),\"\",INDEX(Data!K:K,Report!$B328))","v":"Player's point"},{"$f":"IF(ISERROR(INDEX(Data!L:L,Report!$B328)),\"\",INDEX(Data!L:L,Report!$B328))","v":"New Point"},null,{"$f":"IF(ISERROR(INDEX(Data!N:N,Report!$B328)),\"\",INDEX(Data!N:N,Report!$B328))","v":1},{"$f":"IF(ISERROR(INDEX(Data!P:P,Report!$B328)),\"\",INDEX(Data!P:P,Report!$B328))","v":"Player Serve"},{"$f":"IF(ISERROR(INDEX(Data!O:O,Report!$B328)),\"\",INDEX(Data!O:O,Report!$B328))","v":4},{"$f":"IF(ISERROR(INDEX(Data!Q:Q,Report!$B328)),\"\",INDEX(Data!Q:Q,Report!$B328))","v":3.5},{"$f":"IF(ISERROR(INDEX(Data!R:R,Report!$B328)),\"\",INDEX(Data!R:R,Report!$B328))","v":14},{"$f":"IF(ISERROR(INDEX(Data!S:S,Report!$B328)),\"\",INDEX(Data!S:S,Report!$B328))","v":16},{"$f":"IF(ISERROR(INDEX(Data!T:T,Report!$B328)),\"\",INDEX(Data!T:T,Report!$B328))","v":4.5},{"$f":"IF(ISERROR(INDEX(Data!U:U,Report!$B328)),\"\",INDEX(Data!U:U,Report!$B328))","v":115},{"$f":"IF(ISERROR(INDEX(Data!V:V,Report!$B328)),\"\",INDEX(Data!V:V,Report!$B328))","v":5.7},null,"              |","||||||||"]
[325,{"$f":"IF(ISERROR(MATCH(A329,Data!A:A,0)),\"\",MATCH(A329,Data!A:A,0))","v":""},{"$f":"IF(ISERROR(INDEX(Data!I:I,Report!$B329)),\"\",INDEX(Data!I:I,Report!$B329))","v":""},{"$f":"IF(ISERROR(INDEX(Data!J:J,Report!$B329)),\"\",INDEX(Data!J:J,Report!$B329))","v":""},{"$f":"IF(ISERROR(INDEX(Data!K:K,Report!$B329)),\"\",INDEX(Data!K:K,Report!$B329))","v":""},{"$f":"IF(ISERROR(INDEX(Data!L:L,Report!$B329)),\"\",INDEX(Data!L:L,Report!$B329))","v":""},null,{"$f":"IF(ISERROR(INDEX(Data!N:N,Report!$B329)),\"\",INDEX(Data!N:N,Report!$B329))","v":""},{"$f":"IF(ISERROR(INDEX(Data!P:P,Report!$B329)),\"\",INDEX(Data!P:P,Report!$B329))","v":""},{"$f":"IF(ISERROR(INDEX(Data!O:O,Report!$B329)),\"\",INDEX(Data!O:O,Report!$B329))","v":""},{"$f":"IF(ISERROR(INDEX(Data!Q:Q,Report!$B329)),\"\",INDEX(Data!Q:Q,Report!$B329))","v":""},{"$f":"IF(ISERROR(INDEX(Data!R:R,Report!$B329)),\"\",INDEX(Data!R:R,Report!$B329))","v":""},{"$f":"IF(ISERROR(INDEX(Data!S:S,Report!$B329)),\"\",INDEX(Data!S:S,Report!$B329))","v":""},{"$f":"IF(ISERROR(INDEX(Data!T:T,Report!$B329)),\"\",INDEX(Data!T:T,Report!$B329))","v":""},{"$f":"IF(ISERROR(INDEX(Data!U:U,Report!$B329)),\"\",INDEX(Data!U:U,Report!$B329))","v":""},{"$f":"IF(ISERROR(INDEX(Data!V:V,Report!$B329)),\"\",INDEX(Data!V:V,Report!$B329))","v":""},null,"",""]
[326,{"$f":"IF(ISERROR(MATCH(A330,Data!A:A,0)),\"\",MATCH(A330,Data!A:A,0))","v":""},{"$f":"IF(ISERROR(INDEX(Data!I:I,Report!$B330)),\"\",INDEX(Data!I:I,Report!$B330))","v":""},{"$f":"IF(ISERROR(INDEX(Data!J:J,Report!$B330)),\"\",INDEX(Data!J:J,Report!$B330))","v":""},{"$f":"IF(ISERROR(INDEX(Data!K:K,Report!$B330)),\"\",INDEX(Data!K:K,Report!$B330))","v":""},{"$f":"IF(ISERROR(INDEX(Data!L:L,Report!$B330)),\"\",INDEX(Data!L:L,Report!$B330))","v":""},null,{"$f":"IF(ISERROR(INDEX(Data!N:N,Report!$B330)),\"\",INDEX(Data!N:N,Report!$B330))","v":""},{"$f":"IF(ISERROR(INDEX(Data!P:P,Report!$B330)),\"\",INDEX(Data!P:P,Report!$B330))","v":""},{"$f":"IF(ISERROR(INDEX(Data!O:O,Report!$B330)),\"\",INDEX(Data!O:O,Report!$B330))","v":""},{"$f":"IF(ISERROR(INDEX(Data!Q:Q,Report!$B330)),\"\",INDEX(Data!Q:Q,Report!$B330))","v":""},{"$f":"IF(ISERROR(INDEX(Data!R:R,Report!$B330)),\"\",INDEX(Data!R:R,Report!$B330))","v":""},{"$f":"IF(ISERROR(INDEX(Data!S:S,Report!$B330)),\"\",INDEX(Data!S:S,Report!$B330))","v":""},{"$f":"IF(ISERROR(INDEX(Data!T:T,Report!$B330)),\"\",INDEX(Data!T:T,Report!$B330))","v":""},{"$f":"IF(ISERROR(INDEX(Data!U:U,Report!$B330)),\"\",INDEX(Data!U:U,Report!$B330))","v":""},{"$f":"IF(ISERROR(INDEX(Data!V:V,Report!$B330)),\"\",INDEX(Data!V:V,Report!$B330))","v":""},null,"",""]
[327,{"$f":"IF(ISERROR(MATCH(A331,Data!A:A,0)),\"\",MATCH(A331,Data!A:A,0))","v":""},{"$f":"IF(ISERROR(INDEX(Data!I:I,Report!$B331)),\"\",INDEX(Data!I:I,Report!$B331))","v":""},{"$f":"IF(ISERROR(INDEX(Data!J:J,Report!$B331)),\"\",INDEX(Data!J:J,Report!$B331))","v":""},{"$f":"IF(ISERROR(INDEX(Data!K:K,Report!$B331)),\"\",INDEX(Data!K:K,Report!$B331))","v":""},{"$f":"IF(ISERROR(INDEX(Data!L:L,Report!$B331)),\"\",INDEX(Data!L:L,Report!$B331))","v":""},null,{"$f":"IF(ISERROR(INDEX(Data!N:N,Report!$B331)),\"\",INDEX(Data!N:N,Report!$B331))","v":""},{"$f":"IF(ISERROR(INDEX(Data!P:P,Report!$B331)),\"\",INDEX(Data!P:P,Report!$B331))","v":""},{"$f":"IF(ISERROR(INDEX(Data!O:O,Report!$B331)),\"\",INDEX(Data!O:O,Report!$B331))","v":""},{"$f":"IF(ISERROR(INDEX(Data!Q:Q,Report!$B331)),\"\",INDEX(Data!Q:Q,Report!$B331))","v":""},{"$f":"IF(ISERROR(INDEX(Data!R:R,Report!$B331)),\"\",INDEX(Data!R:R,Report!$B331))","v":""},{"$f":"IF(ISERROR(INDEX(Data!S:S,Report!$B331)),\"\",INDEX(Data!S:S,Report!$B331))","v":""},{"$f":"IF(ISERROR(INDEX(Data!T:T,Report!$B331)),\"\",INDEX(Data!T:T,Report!$B331))","v":""},{"$f":"IF(ISERROR(INDEX(Data!U:U,Report!$B331)),\"\",INDEX(Data!U:U,Report!$B331))","v":""},{"$f":"IF(ISERROR(INDEX(Data!V:V,Report!$B331)),\"\",INDEX(Data!V:V,Report!$B331))","v":""},null,"",""]
[328,{"$f":"IF(ISERROR(MATCH(A332,Data!A:A,0)),\"\",MATCH(A332,Data!A:A,0))","v":161},{"$f":"IF(ISERROR(INDEX(Data!I:I,Report!$B332)),\"\",INDEX(Data!I:I,Report!$B332))","v":"00:38:51"},{"$f":"IF(ISERROR(INDEX(Data!J:J,Report!$B332)),\"\",INDEX(Data!J:J,Report!$B332))","v":"Game against Boomer at level 2.0  Single point data:"},{"$f":"IF(ISERROR(INDEX(Data!K:K,Report!$B332)),\"\",INDEX(Data!K:K,Report!$B332))","v":"Player's point"},{"$f":"IF(ISERROR(INDEX(Data!L:L,Report!$B332)),\"\",INDEX(Data!L:L,Report!$B332))","v":"New Point"},null,{"$f":"IF(ISERROR(INDEX(Data!N:N,Report!$B332)),\"\",INDEX(Data!N:N,Report!$B332))","v":1},{"$f":"IF(ISERROR(INDEX(Data!P:P,Report!$B332)),\"\",INDEX(Data!P:P,Report!$B332))","v":"Serve"},{"$f":"IF(ISERROR(INDEX(Data!O:O,Report!$B332)),\"\",INDEX(Data!O:O,Report!$B332))","v":0},{"$f":"IF(ISERROR(INDEX(Data!Q:Q,Report!$B332)),\"\",INDEX(Data!Q:Q,Report!$B332))","v":2},{"$f":"IF(ISERROR(INDEX(Data!R:R,Report!$B332)),\"\",INDEX(Data!R:R,Report!$B332))","v":34},{"$f":"IF(ISERROR(INDEX(Data!S:S,Report!$B332)),\"\",INDEX(Data!S:S,Report!$B332))","v":18},{"$f":"IF(ISERROR(INDEX(Data!T:T,Report!$B332)),\"\",INDEX(Data!T:T,Report!$B332))","v":5.7},{"$f":"IF(ISERROR(INDEX(Data!U:U,Report!$B332)),\"\",INDEX(Data!U:U,Report!$B332))","v":46},{"$f":"IF(ISERROR(INDEX(Data!V:V,Report!$B332)),\"\",INDEX(Data!V:V,Report!$B332))","v":4.5999999999999996},null,"                                  |","|||||||||"]
[329,{"$f":"IF(ISERROR(MATCH(A333,Data!A:A,0)),\"\",MATCH(A333,Data!A:A,0))","v":162},{"$f":"IF(ISERROR(INDEX(Data!I:I,Report!$B333)),\"\",INDEX(Data!I:I,Report!$B333))","v":"00:38:51"},{"$f":"IF(ISERROR(INDEX(Data!J:J,Report!$B333)),\"\",INDEX(Data!J:J,Report!$B333))","v":"Game against Boomer at level 2.0  Single point data:"},{"$f":"IF(ISERROR(INDEX(Data!K:K,Report!$B333)),\"\",INDEX(Data!K:K,Report!$B333))","v":"Player's point"},{"$f":"IF(ISERROR(INDEX(Data!L:L,Report!$B333)),\"\",INDEX(Data!L:L,Report!$B333))","v":0},null,{"$f":"IF(ISERROR(INDEX(Data!N:N,Report!$B333)),\"\",INDEX(Data!N:N,Report!$B333))","v":2},{"$f":"IF(ISERROR(INDEX(Data!P:P,Report!$B333)),\"\",INDEX(Data!P:P,Report!$B333))","v":"Slice"},{"$f":"IF(ISERROR(INDEX(Data!O:O,Report!$B333)),\"\",INDEX(Data!O:O,Report!$B333))","v":5},{"$f":"IF(ISERROR(INDEX(Data!Q:Q,Report!$B333)),\"\",INDEX(Data!Q:Q,Report!$B333))","v":2},{"$f":"IF(ISERROR(INDEX(Data!R:R,Report!$B333)),\"\",INDEX(Data!R:R,Report!$B333))","v":37},{"$f":"IF(ISERROR(INDEX(Data!S:S,Report!$B333)),\"\",INDEX(Data!S:S,Report!$B333))","v":1},{"$f":"IF(ISERROR(INDEX(Data!T:T,Report!$B333)),\"\",INDEX(Data!T:T,Report!$B333))","v":7},{"$f":"IF(ISERROR(INDEX(Data!U:U,Report!$B333)),\"\",INDEX(Data!U:U,Report!$B333))","v":51},{"$f":"IF(ISERROR(INDEX(Data!V:V,Report!$B333)),\"\",INDEX(Data!V:V,Report!$B333))","v":5.5},null,"                                     |",""]
[330,{"$f":"IF(ISERROR(MATCH(A334,Data!A:A,0)),\"\",MATCH(A334,Data!A:A,0))","v":163},{"$f":"IF(ISERROR(INDEX(Data!I:I,Report!$B334)),\"\",INDEX(Data!I:I,Report!$B334))","v":" "},{"$f":"IF(ISERROR(INDEX(Data!J:J,Report!$B334)),\"\",INDEX(Data!J:J,Report!$B334))","v":"User Drill #188  3 line rated mini tennis"},{"$f":"IF(ISERROR(INDEX(Data!K:K,Report!$B334)),\"\",INDEX(Data!K:K,Report!$B334))","v":0},{"$f":"IF(ISERROR(INDEX(Data!L:L,Report!$B334)),\"\",INDEX(Data!L:L,Report!$B334))","v":0},null,{"$f":"IF(ISERROR(INDEX(Data!N:N,Report!$B334)),\"\",INDEX(Data!N:N,Report!$B334))","v":2},{"$f":"IF(ISERROR(INDEX(Data!P:P,Report!$B334)),\"\",INDEX(Data!P:P,Report!$B334))","v":0},{"$f":"IF(ISERROR(INDEX(Data!O:O,Report!$B334)),\"\",INDEX(Data!O:O,Report!$B334))","v":4},{"$f":"IF(ISERROR(INDEX(Data!Q:Q,Report!$B334)),\"\",INDEX(Data!Q:Q,Report!$B334))","v":3.5},{"$f":"IF(ISERROR(INDEX(Data!R:R,Report!$B334)),\"\",INDEX(Data!R:R,Report!$B334))","v":25},{"$f":"IF(ISERROR(INDEX(Data!S:S,Report!$B334)),\"\",INDEX(Data!S:S,Report!$B334))","v":19},{"$f":"IF(ISERROR(INDEX(Data!T:T,Report!$B334)),\"\",INDEX(Data!T:T,Report!$B334))","v":4.3},{"$f":"IF(ISERROR(INDEX(Data!U:U,Report!$B334)),\"\",INDEX(Data!U:U,Report!$B334))","v":38},{"$f":"IF(ISERROR(INDEX(Data!V:V,Report!$B334)),\"\",INDEX(Data!V:V,Report!$B334))","v":4.8},null,"                         |","|||||||||"]
[331,{"$f":"IF(ISERROR(MATCH(A335,Data!A:A,0)),\"\",MATCH(A335,Data!A:A,0))","v":164},{"$f":"IF(ISERROR(INDEX(Data!I:I,Report!$B335)),\"\",INDEX(Data!I:I,Report!$B335))","v":" "},{"$f":"IF(ISERROR(INDEX(Data!J:J,Report!$B335)),\"\",INDEX(Data!J:J,Report!$B335))","v":"User Drill #188  3 line rated mini tennis"},{"$f":"IF(ISERROR(INDEX(Data!K:K,Report!$B335)),\"\",INDEX(Data!K:K,Report!$B335))","v":0},{"$f":"IF(ISERROR(INDEX(Data!L:L,Report!$B335)),\"\",INDEX(Data!L:L,Report!$B335))","v":0},null,{"$f":"IF(ISERROR(INDEX(Data!N:N,Report!$B335)),\"\",INDEX(Data!N:N,Report!$B335))","v":3},{"$f":"IF(ISERROR(INDEX(Data!P:P,Report!$B335)),\"\",INDEX(Data!P:P,Report!$B335))","v":0},{"$f":"IF(ISERROR(INDEX(Data!O:O,Report!$B335)),\"\",INDEX(Data!O:O,Report!$B335))","v":10},{"$f":"IF(ISERROR(INDEX(Data!Q:Q,Report!$B335)),\"\",INDEX(Data!Q:Q,Report!$B335))","v":3.5},{"$f":"IF(ISERROR(INDEX(Data!R:R,Report!$B335)),\"\",INDEX(Data!R:R,Report!$B335))","v":0},{"$f":"IF(ISERROR(INDEX(Data!S:S,Report!$B335)),\"\",INDEX(Data!S:S,Report!$B335))","v":0},{"$f":"IF(ISERROR(INDEX(Data!T:T,Report!$B335)),\"\",INDEX(Data!T:T,Report!$B335))","v":0},{"$f":"IF(ISERROR(INDEX(Data!U:U,Report!$B335)),\"\",INDEX(Data!U:U,Report!$B335))","v":0},{"$f":"IF(ISERROR(INDEX(Data!V:V,Report!$B335)),\"\",INDEX(Data!V:V,Report!$B335))","v":0},null,"|",""]
[332,{"$f":"IF(ISERROR(MATCH(A336,Data!A:A,0)),\"\",MATCH(A336,Data!A:A,0))","v":""},{"$f":"IF(ISERROR(INDEX(Data!I:I,Report!$B336)),\"\",INDEX(Data!I:I,Report!$B336))","v":""},{"$f":"IF(ISERROR(INDEX(Data!J:J,Report!$B336)),\"\",INDEX(Data!J:J,Report!$B336))","v":""},{"$f":"IF(ISERROR(INDEX(Data!K:K,Report!$B336)),\"\",INDEX(Data!K:K,Report!$B336))","v":""},{"$f":"IF(ISERROR(INDEX(Data!L:L,Report!$B336)),\"\",INDEX(Data!L:L,Report!$B336))","v":""},null,{"$f":"IF(ISERROR(INDEX(Data!N:N,Report!$B336)),\"\",INDEX(Data!N:N,Report!$B336))","v":""},{"$f":"IF(ISERROR(INDEX(Data!P:P,Report!$B336)),\"\",INDEX(Data!P:P,Report!$B336))","v":""},{"$f":"IF(ISERROR(INDEX(Data!O:O,Report!$B336)),\"\",INDEX(Data!O:O,Report!$B336))","v":""},{"$f":"IF(ISERROR(INDEX(Data!Q:Q,Report!$B336)),\"\",INDEX(Data!Q:Q,Report!$B336))","v":""},{"$f":"IF(ISERROR(INDEX(Data!R:R,Report!$B336)),\"\",INDEX(Data!R:R,Report!$B336))","v":""},{"$f":"IF(ISERROR(INDEX(Data!S:S,Report!$B336)),\"\",INDEX(Data!S:S,Report!$B336))","v":""},{"$f":"IF(ISERROR(INDEX(Data!T:T,Report!$B336)),\"\",INDEX(Data!T:T,Report!$B336))","v":""},{"$f":"IF(ISERROR(INDEX(Data!U:U,Report!$B336)),\"\",INDEX(Data!U:U,Report!$B336))","v":""},{"$f":"IF(ISERROR(INDEX(Data!V:V,Report!$B336)),\"\",INDEX(Data!V:V,Report!$B336))","v":""},null,"",""]
[333,{"$f":"IF(ISERROR(MATCH(A337,Data!A:A,0)),\"\",MATCH(A337,Data!A:A,0))","v":""},{"$f":"IF(ISERROR(INDEX(Data!I:I,Report!$B337)),\"\",INDEX(Data!I:I,Report!$B337))","v":""},{"$f":"IF(ISERROR(INDEX(Data!J:J,Report!$B337)),\"\",INDEX(Data!J:J,Report!$B337))","v":""},{"$f":"IF(ISERROR(INDEX(Data!K:K,Report!$B337)),\"\",INDEX(Data!K:K,Report!$B337))","v":""},{"$f":"IF(ISERROR(INDEX(Data!L:L,Report!$B337)),\"\",INDEX(Data!L:L,Report!$B337))","v":""},null,{"$f":"IF(ISERROR(INDEX(Data!N:N,Report!$B337)),\"\",INDEX(Data!N:N,Report!$B337))","v":""},{"$f":"IF(ISERROR(INDEX(Data!P:P,Report!$B337)),\"\",INDEX(Data!P:P,Report!$B337))","v":""},{"$f":"IF(ISERROR(INDEX(Data!O:O,Report!$B337)),\"\",INDEX(Data!O:O,Report!$B337))","v":""},{"$f":"IF(ISERROR(INDEX(Data!Q:Q,Report!$B337)),\"\",INDEX(Data!Q:Q,Report!$B337))","v":""},{"$f":"IF(ISERROR(INDEX(Data!R:R,Report!$B337)),\"\",INDEX(Data!R:R,Report!$B337))","v":""},{"$f":"IF(ISERROR(INDEX(Data!S:S,Report!$B337)),\"\",INDEX(Data!S:S,Report!$B337))","v":""},{"$f":"IF(ISERROR(INDEX(Data!T:T,Report!$B337)),\"\",INDEX(Data!T:T,Report!$B337))","v":""},{"$f":"IF(ISERROR(INDEX(Data!U:U,Report!$B337)),\"\",INDEX(Data!U:U,Report!$B337))","v":""},{"$f":"IF(ISERROR(INDEX(Data!V:V,Report!$B337)),\"\",INDEX(Data!V:V,Report!$B337))","v":""},null,"",""]
[334,{"$f":"IF(ISERROR(MATCH(A338,Data!A:A,0)),\"\",MATCH(A338,Data!A:A,0))","v":""},{"$f":"IF(ISERROR(INDEX(Data!I:I,Report!$B338)),\"\",INDEX(Data!I:I,Report!$B338))","v":""},{"$f":"IF(ISERROR(INDEX(Data!J:J,Report!$B338)),\"\",INDEX(Data!J:J,Report!$B338))","v":""},{"$f":"IF(ISERROR(INDEX(Data!K:K,Report!$B338)),\"\",INDEX(Data!K:K,Report!$B338))","v":""},{"$f":"IF(ISERROR(INDEX(Data!L:L,Report!$B338)),\"\",INDEX(Data!L:L,Report!$B338))","v":""},null,{"$f":"IF(ISERROR(INDEX(Data!N:N,Report!$B338)),\"\",INDEX(Data!N:N,Report!$B338))","v":""},{"$f":"IF(ISERROR(INDEX(Data!P:P,Report!$B338)),\"\",INDEX(Data!P:P,Report!$B338))","v":""},{"$f":"IF(ISERROR(INDEX(Data!O:O,Report!$B338)),\"\",INDEX(Data!O:O,Report!$B338))","v":""},{"$f":"IF(ISERROR(INDEX(Data!Q:Q,Report!$B338)),\"\",INDEX(Data!Q:Q,Report!$B338))","v":""},{"$f":"IF(ISERROR(INDEX(Data!R:R,Report!$B338)),\"\",INDEX(Data!R:R,Report!$B338))","v":""},{"$f":"IF(ISERROR(INDEX(Data!S:S,Report!$B338)),\"\",INDEX(Data!S:S,Report!$B338))","v":""},{"$f":"IF(ISERROR(INDEX(Data!T:T,Report!$B338)),\"\",INDEX(Data!T:T,Report!$B338))","v":""},{"$f":"IF(ISERROR(INDEX(Data!U:U,Report!$B338)),\"\",INDEX(Data!U:U,Report!$B338))","v":""},{"$f":"IF(ISERROR(INDEX(Data!V:V,Report!$B338)),\"\",INDEX(Data!V:V,Report!$B338))","v":""},null,"",""]
[335,{"$f":"IF(ISERROR(MATCH(A339,Data!A:A,0)),\"\",MATCH(A339,Data!A:A,0))","v":165},{"$f":"IF(ISERROR(INDEX(Data!I:I,Report!$B339)),\"\",INDEX(Data!I:I,Report!$B339))","v":" "},{"$f":"IF(ISERROR(INDEX(Data!J:J,Report!$B339)),\"\",INDEX(Data!J:J,Report!$B339))","v":"User Drill #188  3 line rated mini tennis"},{"$f":"IF(ISERROR(INDEX(Data!K:K,Report!$B339)),\"\",INDEX(Data!K:K,Report!$B339))","v":0},{"$f":"IF(ISERROR(INDEX(Data!L:L,Report!$B339)),\"\",INDEX(Data!L:L,Report!$B339))","v":"New Point"},null,{"$f":"IF(ISERROR(INDEX(Data!N:N,Report!$B339)),\"\",INDEX(Data!N:N,Report!$B339))","v":1},{"$f":"IF(ISERROR(INDEX(Data!P:P,Report!$B339)),\"\",INDEX(Data!P:P,Report!$B339))","v":0},{"$f":"IF(ISERROR(INDEX(Data!O:O,Report!$B339)),\"\",INDEX(Data!O:O,Report!$B339))","v":11},{"$f":"IF(ISERROR(INDEX(Data!Q:Q,Report!$B339)),\"\",INDEX(Data!Q:Q,Report!$B339))","v":3.5},{"$f":"IF(ISERROR(INDEX(Data!R:R,Report!$B339)),\"\",INDEX(Data!R:R,Report!$B339))","v":0},{"$f":"IF(ISERROR(INDEX(Data!S:S,Report!$B339)),\"\",INDEX(Data!S:S,Report!$B339))","v":0},{"$f":"IF(ISERROR(INDEX(Data!T:T,Report!$B339)),\"\",INDEX(Data!T:T,Report!$B339))","v":0},{"$f":"IF(ISERROR(INDEX(Data!U:U,Report!$B339)),\"\",INDEX(Data!U:U,Report!$B339))","v":0},{"$f":"IF(ISERROR(INDEX(Data!V:V,Report!$B339)),\"\",INDEX(Data!V:V,Report!$B339))","v":0},null,"|",""]
[336,{"$f":"IF(ISERROR(MATCH(A340,Data!A:A,0)),\"\",MATCH(A340,Data!A:A,0))","v":""},{"$f":"IF(ISERROR(INDEX(Data!I:I,Report!$B340)),\"\",INDEX(Data!I:I,Report!$B340))","v":""},{"$f":"IF(ISERROR(INDEX(Data!J:J,Report!$B340)),\"\",INDEX(Data!J:J,Report!$B340))","v":""},{"$f":"IF(ISERROR(INDEX(Data!K:K,Report!$B340)),\"\",INDEX(Data!K:K,Report!$B340))","v":""},{"$f":"IF(ISERROR(INDEX(Data!L:L,Report!$B340)),\"\",INDEX(Data!L:L,Report!$B340))","v":""},null,{"$f":"IF(ISERROR(INDEX(Data!N:N,Report!$B340)),\"\",INDEX(Data!N:N,Report!$B340))","v":""},{"$f":"IF(ISERROR(INDEX(Data!P:P,Report!$B340)),\"\",INDEX(Data!P:P,Report!$B340))","v":""},{"$f":"IF(ISERROR(INDEX(Data!O:O,Report!$B340)),\"\",INDEX(Data!O:O,Report!$B340))","v":""},{"$f":"IF(ISERROR(INDEX(Data!Q:Q,Report!$B340)),\"\",INDEX(Data!Q:Q,Report!$B340))","v":""},{"$f":"IF(ISERROR(INDEX(Data!R:R,Report!$B340)),\"\",INDEX(Data!R:R,Report!$B340))","v":""},{"$f":"IF(ISERROR(INDEX(Data!S:S,Report!$B340)),\"\",INDEX(Data!S:S,Report!$B340))","v":""},{"$f":"IF(ISERROR(INDEX(Data!T:T,Report!$B340)),\"\",INDEX(Data!T:T,Report!$B340))","v":""},{"$f":"IF(ISERROR(INDEX(Data!U:U,Report!$B340)),\"\",INDEX(Data!U:U,Report!$B340))","v":""},{"$f":"IF(ISERROR(INDEX(Data!V:V,Report!$B340)),\"\",INDEX(Data!V:V,Report!$B340))","v":""},null,"",""]
[337,{"$f":"IF(ISERROR(MATCH(A341,Data!A:A,0)),\"\",MATCH(A341,Data!A:A,0))","v":""},{"$f":"IF(ISERROR(INDEX(Data!I:I,Report!$B341)),\"\",INDEX(Data!I:I,Report!$B341))","v":""},{"$f":"IF(ISERROR(INDEX(Data!J:J,Report!$B341)),\"\",INDEX(Data!J:J,Report!$B341))","v":""},{"$f":"IF(ISERROR(INDEX(Data!K:K,Report!$B341)),\"\",INDEX(Data!K:K,Report!$B341))","v":""},{"$f":"IF(ISERROR(INDEX(Data!L:L,Report!$B341)),\"\",INDEX(Data!L:L,Report!$B341))","v":""},null,{"$f":"IF(ISERROR(INDEX(Data!N:N,Report!$B341)),\"\",INDEX(Data!N:N,Report!$B341))","v":""},{"$f":"IF(ISERROR(INDEX(Data!P:P,Report!$B341)),\"\",INDEX(Data!P:P,Report!$B341))","v":""},{"$f":"IF(ISERROR(INDEX(Data!O:O,Report!$B341)),\"\",INDEX(Data!O:O,Report!$B341))","v":""},{"$f":"IF(ISERROR(INDEX(Data!Q:Q,Report!$B341)),\"\",INDEX(Data!Q:Q,Report!$B341))","v":""},{"$f":"IF(ISERROR(INDEX(Data!R:R,Report!$B341)),\"\",INDEX(Data!R:R,Report!$B341))","v":""},{"$f":"IF(ISERROR(INDEX(Data!S:S,Report!$B341)),\"\",INDEX(Data!S:S,Report!$B341))","v":""},{"$f":"IF(ISERROR(INDEX(Data!T:T,Report!$B341)),\"\",INDEX(Data!T:T,Report!$B341))","v":""},{"$f":"IF(ISERROR(INDEX(Data!U:U,Report!$B341)),\"\",INDEX(Data!U:U,Report!$B341))","v":""},{"$f":"IF(ISERROR(INDEX(Data!V:V,Report!$B341)),\"\",INDEX(Data!V:V,Report!$B341))","v":""},null,"",""]
[338,{"$f":"IF(ISERROR(MATCH(A342,Data!A:A,0)),\"\",MATCH(A342,Data!A:A,0))","v":""},{"$f":"IF(ISERROR(INDEX(Data!I:I,Report!$B342)),\"\",INDEX(Data!I:I,Report!$B342))","v":""},{"$f":"IF(ISERROR(INDEX(Data!J:J,Report!$B342)),\"\",INDEX(Data!J:J,Report!$B342))","v":""},{"$f":"IF(ISERROR(INDEX(Data!K:K,Report!$B342)),\"\",INDEX(Data!K:K,Report!$B342))","v":""},{"$f":"IF(ISERROR(INDEX(Data!L:L,Report!$B342)),\"\",INDEX(Data!L:L,Report!$B342))","v":""},null,{"$f":"IF(ISERROR(INDEX(Data!N:N,Report!$B342)),\"\",INDEX(Data!N:N,Report!$B342))","v":""},{"$f":"IF(ISERROR(INDEX(Data!P:P,Report!$B342)),\"\",INDEX(Data!P:P,Report!$B342))","v":""},{"$f":"IF(ISERROR(INDEX(Data!O:O,Report!$B342)),\"\",INDEX(Data!O:O,Report!$B342))","v":""},{"$f":"IF(ISERROR(INDEX(Data!Q:Q,Report!$B342)),\"\",INDEX(Data!Q:Q,Report!$B342))","v":""},{"$f":"IF(ISERROR(INDEX(Data!R:R,Report!$B342)),\"\",INDEX(Data!R:R,Report!$B342))","v":""},{"$f":"IF(ISERROR(INDEX(Data!S:S,Report!$B342)),\"\",INDEX(Data!S:S,Report!$B342))","v":""},{"$f":"IF(ISERROR(INDEX(Data!T:T,Report!$B342)),\"\",INDEX(Data!T:T,Report!$B342))","v":""},{"$f":"IF(ISERROR(INDEX(Data!U:U,Report!$B342)),\"\",INDEX(Data!U:U,Report!$B342))","v":""},{"$f":"IF(ISERROR(INDEX(Data!V:V,Report!$B342)),\"\",INDEX(Data!V:V,Report!$B342))","v":""},null,"",""]
[339,{"$f":"IF(ISERROR(MATCH(A343,Data!A:A,0)),\"\",MATCH(A343,Data!A:A,0))","v":166},{"$f":"IF(ISERROR(INDEX(Data!I:I,Report!$B343)),\"\",INDEX(Data!I:I,Report!$B343))","v":"04:41:40"},{"$f":"IF(ISERROR(INDEX(Data!J:J,Report!$B343)),\"\",INDEX(Data!J:J,Report!$B343))","v":"Game against Boomer at level 3.5  Single point data:"},{"$f":"IF(ISERROR(INDEX(Data!K:K,Report!$B343)),\"\",INDEX(Data!K:K,Report!$B343))","v":"Player's point"},{"$f":"IF(ISERROR(INDEX(Data!L:L,Report!$B343)),\"\",INDEX(Data!L:L,Report!$B343))","v":"New Point"},null,{"$f":"IF(ISERROR(INDEX(Data!N:N,Report!$B343)),\"\",INDEX(Data!N:N,Report!$B343))","v":1},{"$f":"IF(ISERROR(INDEX(Data!P:P,Report!$B343)),\"\",INDEX(Data!P:P,Report!$B343))","v":"Serve"},{"$f":"IF(ISERROR(INDEX(Data!O:O,Report!$B343)),\"\",INDEX(Data!O:O,Report!$B343))","v":5},{"$f":"IF(ISERROR(INDEX(Data!Q:Q,Report!$B343)),\"\",INDEX(Data!Q:Q,Report!$B343))","v":3.5},{"$f":"IF(ISERROR(INDEX(Data!R:R,Report!$B343)),\"\",INDEX(Data!R:R,Report!$B343))","v":22},{"$f":"IF(ISERROR(INDEX(Data!S:S,Report!$B343)),\"\",INDEX(Data!S:S,Report!$B343))","v":8},{"$f":"IF(ISERROR(INDEX(Data!T:T,Report!$B343)),\"\",INDEX(Data!T:T,Report!$B343))","v":4.2},{"$f":"IF(ISERROR(INDEX(Data!U:U,Report!$B343)),\"\",INDEX(Data!U:U,Report!$B343))","v":50},{"$f":"IF(ISERROR(INDEX(Data!V:V,Report!$B343)),\"\",INDEX(Data!V:V,Report!$B343))","v":4.0999999999999996},null,"                      |","||||"]
[340,{"$f":"IF(ISERROR(MATCH(A344,Data!A:A,0)),\"\",MATCH(A344,Data!A:A,0))","v":""},{"$f":"IF(ISERROR(INDEX(Data!I:I,Report!$B344)),\"\",INDEX(Data!I:I,Report!$B344))","v":""},{"$f":"IF(ISERROR(INDEX(Data!J:J,Report!$B344)),\"\",INDEX(Data!J:J,Report!$B344))","v":""},{"$f":"IF(ISERROR(INDEX(Data!K:K,Report!$B344)),\"\",INDEX(Data!K:K,Report!$B344))","v":""},{"$f":"IF(ISERROR(INDEX(Data!L:L,Report!$B344)),\"\",INDEX(Data!L:L,Report!$B344))","v":""},null,{"$f":"IF(ISERROR(INDEX(Data!N:N,Report!$B344)),\"\",INDEX(Data!N:N,Report!$B344))","v":""},{"$f":"IF(ISERROR(INDEX(Data!P:P,Report!$B344)),\"\",INDEX(Data!P:P,Report!$B344))","v":""},{"$f":"IF(ISERROR(INDEX(Data!O:O,Report!$B344)),\"\",INDEX(Data!O:O,Report!$B344))","v":""},{"$f":"IF(ISERROR(INDEX(Data!Q:Q,Report!$B344)),\"\",INDEX(Data!Q:Q,Report!$B344))","v":""},{"$f":"IF(ISERROR(INDEX(Data!R:R,Report!$B344)),\"\",INDEX(Data!R:R,Report!$B344))","v":""},{"$f":"IF(ISERROR(INDEX(Data!S:S,Report!$B344)),\"\",INDEX(Data!S:S,Report!$B344))","v":""},{"$f":"IF(ISERROR(INDEX(Data!T:T,Report!$B344)),\"\",INDEX(Data!T:T,Report!$B344))","v":""},{"$f":"IF(ISERROR(INDEX(Data!U:U,Report!$B344)),\"\",INDEX(Data!U:U,Report!$B344))","v":""},{"$f":"IF(ISERROR(INDEX(Data!V:V,Report!$B344)),\"\",INDEX(Data!V:V,Report!$B344))","v":""},null,"",""]
[341,{"$f":"IF(ISERROR(MATCH(A345,Data!A:A,0)),\"\",MATCH(A345,Data!A:A,0))","v":""},{"$f":"IF(ISERROR(INDEX(Data!I:I,Report!$B345)),\"\",INDEX(Data!I:I,Report!$B345))","v":""},{"$f":"IF(ISERROR(INDEX(Data!J:J,Report!$B345)),\"\",INDEX(Data!J:J,Report!$B345))","v":""},{"$f":"IF(ISERROR(INDEX(Data!K:K,Report!$B345)),\"\",INDEX(Data!K:K,Report!$B345))","v":""},{"$f":"IF(ISERROR(INDEX(Data!L:L,Report!$B345)),\"\",INDEX(Data!L:L,Report!$B345))","v":""},null,{"$f":"IF(ISERROR(INDEX(Data!N:N,Report!$B345)),\"\",INDEX(Data!N:N,Report!$B345))","v":""},{"$f":"IF(ISERROR(INDEX(Data!P:P,Report!$B345)),\"\",INDEX(Data!P:P,Report!$B345))","v":""},{"$f":"IF(ISERROR(INDEX(Data!O:O,Report!$B345)),\"\",INDEX(Data!O:O,Report!$B345))","v":""},{"$f":"IF(ISERROR(INDEX(Data!Q:Q,Report!$B345)),\"\",INDEX(Data!Q:Q,Report!$B345))","v":""},{"$f":"IF(ISERROR(INDEX(Data!R:R,Report!$B345)),\"\",INDEX(Data!R:R,Report!$B345))","v":""},{"$f":"IF(ISERROR(INDEX(Data!S:S,Report!$B345)),\"\",INDEX(Data!S:S,Report!$B345))","v":""},{"$f":"IF(ISERROR(INDEX(Data!T:T,Report!$B345)),\"\",INDEX(Data!T:T,Report!$B345))","v":""},{"$f":"IF(ISERROR(INDEX(Data!U:U,Report!$B345)),\"\",INDEX(Data!U:U,Report!$B345))","v":""},{"$f":"IF(ISERROR(INDEX(Data!V:V,Report!$B345)),\"\",INDEX(Data!V:V,Report!$B345))","v":""},null,"",""]
[342,{"$f":"IF(ISERROR(MATCH(A346,Data!A:A,0)),\"\",MATCH(A346,Data!A:A,0))","v":""},{"$f":"IF(ISERROR(INDEX(Data!I:I,Report!$B346)),\"\",INDEX(Data!I:I,Report!$B346))","v":""},{"$f":"IF(ISERROR(INDEX(Data!J:J,Report!$B346)),\"\",INDEX(Data!J:J,Report!$B346))","v":""},{"$f":"IF(ISERROR(INDEX(Data!K:K,Report!$B346)),\"\",INDEX(Data!K:K,Report!$B346))","v":""},{"$f":"IF(ISERROR(INDEX(Data!L:L,Report!$B346)),\"\",INDEX(Data!L:L,Report!$B346))","v":""},null,{"$f":"IF(ISERROR(INDEX(Data!N:N,Report!$B346)),\"\",INDEX(Data!N:N,Report!$B346))","v":""},{"$f":"IF(ISERROR(INDEX(Data!P:P,Report!$B346)),\"\",INDEX(Data!P:P,Report!$B346))","v":""},{"$f":"IF(ISERROR(INDEX(Data!O:O,Report!$B346)),\"\",INDEX(Data!O:O,Report!$B346))","v":""},{"$f":"IF(ISERROR(INDEX(Data!Q:Q,Report!$B346)),\"\",INDEX(Data!Q:Q,Report!$B346))","v":""},{"$f":"IF(ISERROR(INDEX(Data!R:R,Report!$B346)),\"\",INDEX(Data!R:R,Report!$B346))","v":""},{"$f":"IF(ISERROR(INDEX(Data!S:S,Report!$B346)),\"\",INDEX(Data!S:S,Report!$B346))","v":""},{"$f":"IF(ISERROR(INDEX(Data!T:T,Report!$B346)),\"\",INDEX(Data!T:T,Report!$B346))","v":""},{"$f":"IF(ISERROR(INDEX(Data!U:U,Report!$B346)),\"\",INDEX(Data!U:U,Report!$B346))","v":""},{"$f":"IF(ISERROR(INDEX(Data!V:V,Report!$B346)),\"\",INDEX(Data!V:V,Report!$B346))","v":""},null,"",""]
[343,{"$f":"IF(ISERROR(MATCH(A347,Data!A:A,0)),\"\",MATCH(A347,Data!A:A,0))","v":167},{"$f":"IF(ISERROR(INDEX(Data!I:I,Report!$B347)),\"\",INDEX(Data!I:I,Report!$B347))","v":"00:39:18"},{"$f":"IF(ISERROR(INDEX(Data!J:J,Report!$B347)),\"\",INDEX(Data!J:J,Report!$B347))","v":"Game against Boomer at level 2.0  Single point data:"},{"$f":"IF(ISERROR(INDEX(Data!K:K,Report!$B347)),\"\",INDEX(Data!K:K,Report!$B347))","v":"Player's point"},{"$f":"IF(ISERROR(INDEX(Data!L:L,Report!$B347)),\"\",INDEX(Data!L:L,Report!$B347))","v":"New Point"},null,{"$f":"IF(ISERROR(INDEX(Data!N:N,Report!$B347)),\"\",INDEX(Data!N:N,Report!$B347))","v":1},{"$f":"IF(ISERROR(INDEX(Data!P:P,Report!$B347)),\"\",INDEX(Data!P:P,Report!$B347))","v":"Serve"},{"$f":"IF(ISERROR(INDEX(Data!O:O,Report!$B347)),\"\",INDEX(Data!O:O,Report!$B347))","v":8},{"$f":"IF(ISERROR(INDEX(Data!Q:Q,Report!$B347)),\"\",INDEX(Data!Q:Q,Report!$B347))","v":2},{"$f":"IF(ISERROR(INDEX(Data!R:R,Report!$B347)),\"\",INDEX(Data!R:R,Report!$B347))","v":29},{"$f":"IF(ISERROR(INDEX(Data!S:S,Report!$B347)),\"\",INDEX(Data!S:S,Report!$B347))","v":22},{"$f":"IF(ISERROR(INDEX(Data!T:T,Report!$B347)),\"\",INDEX(Data!T:T,Report!$B347))","v":5.7},{"$f":"IF(ISERROR(INDEX(Data!U:U,Report!$B347)),\"\",INDEX(Data!U:U,Report!$B347))","v":55},{"$f":"IF(ISERROR(INDEX(Data!V:V,Report!$B347)),\"\",INDEX(Data!V:V,Report!$B347))","v":5},null,"                             |","|||||||||||"]
[344,{"$f":"IF(ISERROR(MATCH(A348,Data!A:A,0)),\"\",MATCH(A348,Data!A:A,0))","v":168},{"$f":"IF(ISERROR(INDEX(Data!I:I,Report!$B348)),\"\",INDEX(Data!I:I,Report!$B348))","v":"04:41:40"},{"$f":"IF(ISERROR(INDEX(Data!J:J,Report!$B348)),\"\",INDEX(Data!J:J,Report!$B348))","v":"Game against Boomer at level 3.5  Single point data:"},{"$f":"IF(ISERROR(INDEX(Data!K:K,Report!$B348)),\"\",INDEX(Data!K:K,Report!$B348))","v":"Player's point"},{"$f":"IF(ISERROR(INDEX(Data!L:L,Report!$B348)),\"\",INDEX(Data!L:L,Report!$B348))","v":0},null,{"$f":"IF(ISERROR(INDEX(Data!N:N,Report!$B348)),\"\",INDEX(Data!N:N,Report!$B348))","v":2},{"$f":"IF(ISERROR(INDEX(Data!P:P,Report!$B348)),\"\",INDEX(Data!P:P,Report!$B348))","v":"Drop Shot"},{"$f":"IF(ISERROR(INDEX(Data!O:O,Report!$B348)),\"\",INDEX(Data!O:O,Report!$B348))","v":3},{"$f":"IF(ISERROR(INDEX(Data!Q:Q,Report!$B348)),\"\",INDEX(Data!Q:Q,Report!$B348))","v":3.5},{"$f":"IF(ISERROR(INDEX(Data!R:R,Report!$B348)),\"\",INDEX(Data!R:R,Report!$B348))","v":22},{"$f":"IF(ISERROR(INDEX(Data!S:S,Report!$B348)),\"\",INDEX(Data!S:S,Report!$B348))","v":19},{"$f":"IF(ISERROR(INDEX(Data!T:T,Report!$B348)),\"\",INDEX(Data!T:T,Report!$B348))","v":3.7},{"$f":"IF(ISERROR(INDEX(Data!U:U,Report!$B348)),\"\",INDEX(Data!U:U,Report!$B348))","v":53},{"$f":"IF(ISERROR(INDEX(Data!V:V,Report!$B348)),\"\",INDEX(Data!V:V,Report!$B348))","v":4.9000000000000004},null,"                      |","|||||||||"]
[345,{"$f":"IF(ISERROR(MATCH(A349,Data!A:A,0)),\"\",MATCH(A349,Data!A:A,0))","v":169},{"$f":"IF(ISERROR(INDEX(Data!I:I,Report!$B349)),\"\",INDEX(Data!I:I,Report!$B349))","v":"00:39:18"},{"$f":"IF(ISERROR(INDEX(Data!J:J,Report!$B349)),\"\",INDEX(Data!J:J,Report!$B349))","v":"Game against Boomer at level 2.0  Single point data:"},{"$f":"IF(ISERROR(INDEX(Data!K:K,Report!$B349)),\"\",INDEX(Data!K:K,Report!$B349))","v":"Player's point"},{"$f":"IF(ISERROR(INDEX(Data!L:L,Report!$B349)),\"\",INDEX(Data!L:L,Report!$B349))","v":0},null,{"$f":"IF(ISERROR(INDEX(Data!N:N,Report!$B349)),\"\",INDEX(Data!N:N,Report!$B349))","v":2},{"$f":"IF(ISERROR(INDEX(Data!P:P,Report!$B349)),\"\",INDEX(Data!P:P,Report!$B349))","v":"Topspin"},{"$f":"IF(ISERROR(INDEX(Data!O:O,Report!$B349)),\"\",INDEX(Data!O:O,Report!$B349))","v":3},{"$f":"IF(ISERROR(INDEX(Data!Q:Q,Report!$B349)),\"\",INDEX(Data!Q:Q,Report!$B349))","v":2},{"$f":"IF(ISERROR(INDEX(Data!R:R,Report!$B349)),\"\",INDEX(Data!R:R,Report!$B349))","v":32},{"$f":"IF(ISERROR(INDEX(Data!S:S,Report!$B349)),\"\",INDEX(Data!S:S,Report!$B349))","v":4},{"$f":"IF(ISERROR(INDEX(Data!T:T,Report!$B349)),\"\",INDEX(Data!T:T,Report!$B349))","v":5.8},{"$f":"IF(ISERROR(INDEX(Data!U:U,Report!$B349)),\"\",INDEX(Data!U:U,Report!$B349))","v":57},{"$f":"IF(ISERROR(INDEX(Data!V:V,Report!$B349)),\"\",INDEX(Data!V:V,Report!$B349))","v":6.2},null,"                                |","||"]
[346,{"$f":"IF(ISERROR(MATCH(A350,Data!A:A,0)),\"\",MATCH(A350,Data!A:A,0))","v":170},{"$f":"IF(ISERROR(INDEX(Data!I:I,Report!$B350)),\"\",INDEX(Data!I:I,Report!$B350))","v":" "},{"$f":"IF(ISERROR(INDEX(Data!J:J,Report!$B350)),\"\",INDEX(Data!J:J,Report!$B350))","v":"User Drill #188  3 line rated mini tennis"},{"$f":"IF(ISERROR(INDEX(Data!K:K,Report!$B350)),\"\",INDEX(Data!K:K,Report!$B350))","v":0},{"$f":"IF(ISERROR(INDEX(Data!L:L,Report!$B350)),\"\",INDEX(Data!L:L,Report!$B350))","v":0},null,{"$f":"IF(ISERROR(INDEX(Data!N:N,Report!$B350)),\"\",INDEX(Data!N:N,Report!$B350))","v":2},{"$f":"IF(ISERROR(INDEX(Data!P:P,Report!$B350)),\"\",INDEX(Data!P:P,Report!$B350))","v":0},{"$f":"IF(ISERROR(INDEX(Data!O:O,Report!$B350)),\"\",INDEX(Data!O:O,Report!$B350))","v":4},{"$f":"IF(ISERROR(INDEX(Data!Q:Q,Report!$B350)),\"\",INDEX(Data!Q:Q,Report!$B350))","v":3.5},{"$f":"IF(ISERROR(INDEX(Data!R:R,Report!$B350)),\"\",INDEX(Data!R:R,Report!$B350))","v":0},{"$f":"IF(ISERROR(INDEX(Data!S:S,Report!$B350)),\"\",INDEX(Data!S:S,Report!$B350))","v":0},{"$f":"IF(ISERROR(INDEX(Data!T:T,Report!$B350)),\"\",INDEX(Data!T:T,Report!$B350))","v":0},{"$f":"IF(ISERROR(INDEX(Data!U:U,Report!$B350)),\"\",INDEX(Data!U:U,Report!$B350))","v":0},{"$f":"IF(ISERROR(INDEX(Data!V:V,Report!$B350)),\"\",INDEX(Data!V:V,Report!$B350))","v":0},null,"|",""]
[347,{"$f":"IF(ISERROR(MATCH(A351,Data!A:A,0)),\"\",MATCH(A351,Data!A:A,0))","v":171},{"$f":"IF(ISERROR(INDEX(Data!I:I,Report!$B351)),\"\",INDEX(Data!I:I,Report!$B351))","v":" "},{"$f":"IF(ISERROR(INDEX(Data!J:J,Report!$B351)),\"\",INDEX(Data!J:J,Report!$B351))","v":"User Drill #188  3 line rated mini tennis"},{"$f":"IF(ISERROR(INDEX(Data!K:K,Report!$B351)),\"\",INDEX(Data!K:K,Report!$B351))","v":0},{"$f":"IF(ISERROR(INDEX(Data!L:L,Report!$B351)),\"\",INDEX(Data!L:L,Report!$B351))","v":0},null,{"$f":"IF(ISERROR(INDEX(Data!N:N,Report!$B351)),\"\",INDEX(Data!N:N,Report!$B351))","v":3},{"$f":"IF(ISERROR(INDEX(Data!P:P,Report!$B351)),\"\",INDEX(Data!P:P,Report!$B351))","v":0},{"$f":"IF(ISERROR(INDEX(Data!O:O,Report!$B351)),\"\",INDEX(Data!O:O,Report!$B351))","v":10},{"$f":"IF(ISERROR(INDEX(Data!Q:Q,Report!$B351)),\"\",INDEX(Data!Q:Q,Report!$B351))","v":3.5},{"$f":"IF(ISERROR(INDEX(Data!R:R,Report!$B351)),\"\",INDEX(Data!R:R,Report!$B351))","v":0},{"$f":"IF(ISERROR(INDEX(Data!S:S,Report!$B351)),\"\",INDEX(Data!S:S,Report!$B351))","v":0},{"$f":"IF(ISERROR(INDEX(Data!T:T,Report!$B351)),\"\",INDEX(Data!T:T,Report!$B351))","v":0},{"$f":"IF(ISERROR(INDEX(Data!U:U,Report!$B351)),\"\",INDEX(Data!U:U,Report!$B351))","v":0},{"$f":"IF(ISERROR(INDEX(Data!V:V,Report!$B351)),\"\",INDEX(Data!V:V,Report!$B351))","v":0},null,"|",""]
[348,{"$f":"IF(ISERROR(MATCH(A352,Data!A:A,0)),\"\",MATCH(A352,Data!A:A,0))","v":172},{"$f":"IF(ISERROR(INDEX(Data!I:I,Report!$B352)),\"\",INDEX(Data!I:I,Report!$B352))","v":"04:41:40"},{"$f":"IF(ISERROR(INDEX(Data!J:J,Report!$B352)),\"\",INDEX(Data!J:J,Report!$B352))","v":"Game against Boomer at level 3.5  Single point data:"},{"$f":"IF(ISERROR(INDEX(Data!K:K,Report!$B352)),\"\",INDEX(Data!K:K,Report!$B352))","v":"Player's point"},{"$f":"IF(ISERROR(INDEX(Data!L:L,Report!$B352)),\"\",INDEX(Data!L:L,Report!$B352))","v":0},null,{"$f":"IF(ISERROR(INDEX(Data!N:N,Report!$B352)),\"\",INDEX(Data!N:N,Report!$B352))","v":3},{"$f":"IF(ISERROR(INDEX(Data!P:P,Report!$B352)),\"\",INDEX(Data!P:P,Report!$B352))","v":"Pass"},{"$f":"IF(ISERROR(INDEX(Data!O:O,Report!$B352)),\"\",INDEX(Data!O:O,Report!$B352))","v":4},{"$f":"IF(ISERROR(INDEX(Data!Q:Q,Report!$B352)),\"\",INDEX(Data!Q:Q,Report!$B352))","v":3.5},{"$f":"IF(ISERROR(INDEX(Data!R:R,Report!$B352)),\"\",INDEX(Data!R:R,Report!$B352))","v":23},{"$f":"IF(ISERROR(INDEX(Data!S:S,Report!$B352)),\"\",INDEX(Data!S:S,Report!$B352))","v":8},{"$f":"IF(ISERROR(INDEX(Data!T:T,Report!$B352)),\"\",INDEX(Data!T:T,Report!$B352))","v":4},{"$f":"IF(ISERROR(INDEX(Data!U:U,Report!$B352)),\"\",INDEX(Data!U:U,Report!$B352))","v":38},{"$f":"IF(ISERROR(INDEX(Data!V:V,Report!$B352)),\"\",INDEX(Data!V:V,Report!$B352))","v":4.2},null,"                       |","||||"]
[349,{"$f":"IF(ISERROR(MATCH(A353,Data!A:A,0)),\"\",MATCH(A353,Data!A:A,0))","v":173},{"$f":"IF(ISERROR(INDEX(Data!I:I,Report!$B353)),\"\",INDEX(Data!I:I,Report!$B353))","v":"04:41:40"},{"$f":"IF(ISERROR(INDEX(Data!J:J,Report!$B353)),\"\",INDEX(Data!J:J,Report!$B353))","v":"Game against Boomer at level 3.5  Single point data:"},{"$f":"IF(ISERROR(INDEX(Data!K:K,Report!$B353)),\"\",INDEX(Data!K:K,Report!$B353))","v":"Player's point"},{"$f":"IF(ISERROR(INDEX(Data!L:L,Report!$B353)),\"\",INDEX(Data!L:L,Report!$B353))","v":0},null,{"$f":"IF(ISERROR(INDEX(Data!N:N,Report!$B353)),\"\",INDEX(Data!N:N,Report!$B353))","v":4},{"$f":"IF(ISERROR(INDEX(Data!P:P,Report!$B353)),\"\",INDEX(Data!P:P,Report!$B353))","v":"Pass"},{"$f":"IF(ISERROR(INDEX(Data!O:O,Report!$B353)),\"\",INDEX(Data!O:O,Report!$B353))","v":4},{"$f":"IF(ISERROR(INDEX(Data!Q:Q,Report!$B353)),\"\",INDEX(Data!Q:Q,Report!$B353))","v":3.5},{"$f":"IF(ISERROR(INDEX(Data!R:R,Report!$B353)),\"\",INDEX(Data!R:R,Report!$B353))","v":17},{"$f":"IF(ISERROR(INDEX(Data!S:S,Report!$B353)),\"\",INDEX(Data!S:S,Report!$B353))","v":19},{"$f":"IF(ISERROR(INDEX(Data!T:T,Report!$B353)),\"\",INDEX(Data!T:T,Report!$B353))","v":3.2},{"$f":"IF(ISERROR(INDEX(Data!U:U,Report!$B353)),\"\",INDEX(Data!U:U,Report!$B353))","v":54},{"$f":"IF(ISERROR(INDEX(Data!V:V,Report!$B353)),\"\",INDEX(Data!V:V,Report!$B353))","v":4.7},null,"                 |","|||||||||"]
[350,{"$f":"IF(ISERROR(MATCH(A354,Data!A:A,0)),\"\",MATCH(A354,Data!A:A,0))","v":174},{"$f":"IF(ISERROR(INDEX(Data!I:I,Report!$B354)),\"\",INDEX(Data!I:I,Report!$B354))","v":"04:41:40"},{"$f":"IF(ISERROR(INDEX(Data!J:J,Report!$B354)),\"\",INDEX(Data!J:J,Report!$B354))","v":"Game against Boomer at level 3.5  Single point data:"},{"$f":"IF(ISERROR(INDEX(Data!K:K,Report!$B354)),\"\",INDEX(Data!K:K,Report!$B354))","v":"Player's point"},{"$f":"IF(ISERROR(INDEX(Data!L:L,Report!$B354)),\"\",INDEX(Data!L:L,Report!$B354))","v":0},null,{"$f":"IF(ISERROR(INDEX(Data!N:N,Report!$B354)),\"\",INDEX(Data!N:N,Report!$B354))","v":5},{"$f":"IF(ISERROR(INDEX(Data!P:P,Report!$B354)),\"\",INDEX(Data!P:P,Report!$B354))","v":"Pass"},{"$f":"IF(ISERROR(INDEX(Data!O:O,Report!$B354)),\"\",INDEX(Data!O:O,Report!$B354))","v":4},{"$f":"IF(ISERROR(INDEX(Data!Q:Q,Report!$B354)),\"\",INDEX(Data!Q:Q,Report!$B354))","v":3.5},{"$f":"IF(ISERROR(INDEX(Data!R:R,Report!$B354)),\"\",INDEX(Data!R:R,Report!$B354))","v":22},{"$f":"IF(ISERROR(INDEX(Data!S:S,Report!$B354)),\"\",INDEX(Data!S:S,Report!$B354))","v":2},{"$f":"IF(ISERROR(INDEX(Data!T:T,Report!$B354)),\"\",INDEX(Data!T:T,Report!$B354))","v":6.2},{"$f":"IF(ISERROR(INDEX(Data!U:U,Report!$B354)),\"\",INDEX(Data!U:U,Report!$B354))","v":45},{"$f":"IF(ISERROR(INDEX(Data!V:V,Report!$B354)),\"\",INDEX(Data!V:V,Report!$B354))","v":5.7},null,"                      |","|"]
[351,{"$f":"IF(ISERROR(MATCH(A355,Data!A:A,0)),\"\",MATCH(A355,Data!A:A,0))","v":""},{"$f":"IF(ISERROR(INDEX(Data!I:I,Report!$B355)),\"\",INDEX(Data!I:I,Report!$B355))","v":""},{"$f":"IF(ISERROR(INDEX(Data!J:J,Report!$B355)),\"\",INDEX(Data!J:J,Report!$B355))","v":""},{"$f":"IF(ISERROR(INDEX(Data!K:K,Report!$B355)),\"\",INDEX(Data!K:K,Report!$B355))","v":""},{"$f":"IF(ISERROR(INDEX(Data!L:L,Report!$B355)),\"\",INDEX(Data!L:L,Report!$B355))","v":""},null,{"$f":"IF(ISERROR(INDEX(Data!N:N,Report!$B355)),\"\",INDEX(Data!N:N,Report!$B355))","v":""},{"$f":"IF(ISERROR(INDEX(Data!P:P,Report!$B355)),\"\",INDEX(Data!P:P,Report!$B355))","v":""},{"$f":"IF(ISERROR(INDEX(Data!O:O,Report!$B355)),\"\",INDEX(Data!O:O,Report!$B355))","v":""},{"$f":"IF(ISERROR(INDEX(Data!Q:Q,Report!$B355)),\"\",INDEX(Data!Q:Q,Report!$B355))","v":""},{"$f":"IF(ISERROR(INDEX(Data!R:R,Report!$B355)),\"\",INDEX(Data!R:R,Report!$B355))","v":""},{"$f":"IF(ISERROR(INDEX(Data!S:S,Report!$B355)),\"\",INDEX(Data!S:S,Report!$B355))","v":""},{"$f":"IF(ISERROR(INDEX(Data!T:T,Report!$B355)),\"\",INDEX(Data!T:T,Report!$B355))","v":""},{"$f":"IF(ISERROR(INDEX(Data!U:U,Report!$B355)),\"\",INDEX(Data!U:U,Report!$B355))","v":""},{"$f":"IF(ISERROR(INDEX(Data!V:V,Report!$B355)),\"\",INDEX(Data!V:V,Report!$B355))","v":""},null,"",""]
[352,{"$f":"IF(ISERROR(MATCH(A356,Data!A:A,0)),\"\",MATCH(A356,Data!A:A,0))","v":""},{"$f":"IF(ISERROR(INDEX(Data!I:I,Report!$B356)),\"\",INDEX(Data!I:I,Report!$B356))","v":""},{"$f":"IF(ISERROR(INDEX(Data!J:J,Report!$B356)),\"\",INDEX(Data!J:J,Report!$B356))","v":""},{"$f":"IF(ISERROR(INDEX(Data!K:K,Report!$B356)),\"\",INDEX(Data!K:K,Report!$B356))","v":""},{"$f":"IF(ISERROR(INDEX(Data!L:L,Report!$B356)),\"\",INDEX(Data!L:L,Report!$B356))","v":""},null,{"$f":"IF(ISERROR(INDEX(Data!N:N,Report!$B356)),\"\",INDEX(Data!N:N,Report!$B356))","v":""},{"$f":"IF(ISERROR(INDEX(Data!P:P,Report!$B356)),\"\",INDEX(Data!P:P,Report!$B356))","v":""},{"$f":"IF(ISERROR(INDEX(Data!O:O,Report!$B356)),\"\",INDEX(Data!O:O,Report!$B356))","v":""},{"$f":"IF(ISERROR(INDEX(Data!Q:Q,Report!$B356)),\"\",INDEX(Data!Q:Q,Report!$B356))","v":""},{"$f":"IF(ISERROR(INDEX(Data!R:R,Report!$B356)),\"\",INDEX(Data!R:R,Report!$B356))","v":""},{"$f":"IF(ISERROR(INDEX(Data!S:S,Report!$B356)),\"\",INDEX(Data!S:S,Report!$B356))","v":""},{"$f":"IF(ISERROR(INDEX(Data!T:T,Report!$B356)),\"\",INDEX(Data!T:T,Report!$B356))","v":""},{"$f":"IF(ISERROR(INDEX(Data!U:U,Report!$B356)),\"\",INDEX(Data!U:U,Report!$B356))","v":""},{"$f":"IF(ISERROR(INDEX(Data!V:V,Report!$B356)),\"\",INDEX(Data!V:V,Report!$B356))","v":""},null,"",""]
[353,{"$f":"IF(ISERROR(MATCH(A357,Data!A:A,0)),\"\",MATCH(A357,Data!A:A,0))","v":""},{"$f":"IF(ISERROR(INDEX(Data!I:I,Report!$B357)),\"\",INDEX(Data!I:I,Report!$B357))","v":""},{"$f":"IF(ISERROR(INDEX(Data!J:J,Report!$B357)),\"\",INDEX(Data!J:J,Report!$B357))","v":""},{"$f":"IF(ISERROR(INDEX(Data!K:K,Report!$B357)),\"\",INDEX(Data!K:K,Report!$B357))","v":""},{"$f":"IF(ISERROR(INDEX(Data!L:L,Report!$B357)),\"\",INDEX(Data!L:L,Report!$B357))","v":""},null,{"$f":"IF(ISERROR(INDEX(Data!N:N,Report!$B357)),\"\",INDEX(Data!N:N,Report!$B357))","v":""},{"$f":"IF(ISERROR(INDEX(Data!P:P,Report!$B357)),\"\",INDEX(Data!P:P,Report!$B357))","v":""},{"$f":"IF(ISERROR(INDEX(Data!O:O,Report!$B357)),\"\",INDEX(Data!O:O,Report!$B357))","v":""},{"$f":"IF(ISERROR(INDEX(Data!Q:Q,Report!$B357)),\"\",INDEX(Data!Q:Q,Report!$B357))","v":""},{"$f":"IF(ISERROR(INDEX(Data!R:R,Report!$B357)),\"\",INDEX(Data!R:R,Report!$B357))","v":""},{"$f":"IF(ISERROR(INDEX(Data!S:S,Report!$B357)),\"\",INDEX(Data!S:S,Report!$B357))","v":""},{"$f":"IF(ISERROR(INDEX(Data!T:T,Report!$B357)),\"\",INDEX(Data!T:T,Report!$B357))","v":""},{"$f":"IF(ISERROR(INDEX(Data!U:U,Report!$B357)),\"\",INDEX(Data!U:U,Report!$B357))","v":""},{"$f":"IF(ISERROR(INDEX(Data!V:V,Report!$B357)),\"\",INDEX(Data!V:V,Report!$B357))","v":""},null,"",""]
[354,{"$f":"IF(ISERROR(MATCH(A358,Data!A:A,0)),\"\",MATCH(A358,Data!A:A,0))","v":175},{"$f":"IF(ISERROR(INDEX(Data!I:I,Report!$B358)),\"\",INDEX(Data!I:I,Report!$B358))","v":"04:42:07"},{"$f":"IF(ISERROR(INDEX(Data!J:J,Report!$B358)),\"\",INDEX(Data!J:J,Report!$B358))","v":"Game against Boomer at level 3.5  Single point data:"},{"$f":"IF(ISERROR(INDEX(Data!K:K,Report!$B358)),\"\",INDEX(Data!K:K,Report!$B358))","v":"Player's point"},{"$f":"IF(ISERROR(INDEX(Data!L:L,Report!$B358)),\"\",INDEX(Data!L:L,Report!$B358))","v":"New Point"},null,{"$f":"IF(ISERROR(INDEX(Data!N:N,Report!$B358)),\"\",INDEX(Data!N:N,Report!$B358))","v":1},{"$f":"IF(ISERROR(INDEX(Data!P:P,Report!$B358)),\"\",INDEX(Data!P:P,Report!$B358))","v":"Serve"},{"$f":"IF(ISERROR(INDEX(Data!O:O,Report!$B358)),\"\",INDEX(Data!O:O,Report!$B358))","v":0},{"$f":"IF(ISERROR(INDEX(Data!Q:Q,Report!$B358)),\"\",INDEX(Data!Q:Q,Report!$B358))","v":3.5},{"$f":"IF(ISERROR(INDEX(Data!R:R,Report!$B358)),\"\",INDEX(Data!R:R,Report!$B358))","v":21},{"$f":"IF(ISERROR(INDEX(Data!S:S,Report!$B358)),\"\",INDEX(Data!S:S,Report!$B358))","v":20},{"$f":"IF(ISERROR(INDEX(Data!T:T,Report!$B358)),\"\",INDEX(Data!T:T,Report!$B358))","v":4.2},{"$f":"IF(ISERROR(INDEX(Data!U:U,Report!$B358)),\"\",INDEX(Data!U:U,Report!$B358))","v":52},{"$f":"IF(ISERROR(INDEX(Data!V:V,Report!$B358)),\"\",INDEX(Data!V:V,Report!$B358))","v":4.0999999999999996},null,"                     |","||||||||||"]
[355,{"$f":"IF(ISERROR(MATCH(A359,Data!A:A,0)),\"\",MATCH(A359,Data!A:A,0))","v":""},{"$f":"IF(ISERROR(INDEX(Data!I:I,Report!$B359)),\"\",INDEX(Data!I:I,Report!$B359))","v":""},{"$f":"IF(ISERROR(INDEX(Data!J:J,Report!$B359)),\"\",INDEX(Data!J:J,Report!$B359))","v":""},{"$f":"IF(ISERROR(INDEX(Data!K:K,Report!$B359)),\"\",INDEX(Data!K:K,Report!$B359))","v":""},{"$f":"IF(ISERROR(INDEX(Data!L:L,Report!$B359)),\"\",INDEX(Data!L:L,Report!$B359))","v":""},null,{"$f":"IF(ISERROR(INDEX(Data!N:N,Report!$B359)),\"\",INDEX(Data!N:N,Report!$B359))","v":""},{"$f":"IF(ISERROR(INDEX(Data!P:P,Report!$B359)),\"\",INDEX(Data!P:P,Report!$B359))","v":""},{"$f":"IF(ISERROR(INDEX(Data!O:O,Report!$B359)),\"\",INDEX(Data!O:O,Report!$B359))","v":""},{"$f":"IF(ISERROR(INDEX(Data!Q:Q,Report!$B359)),\"\",INDEX(Data!Q:Q,Report!$B359))","v":""},{"$f":"IF(ISERROR(INDEX(Data!R:R,Report!$B359)),\"\",INDEX(Data!R:R,Report!$B359))","v":""},{"$f":"IF(ISERROR(INDEX(Data!S:S,Report!$B359)),\"\",INDEX(Data!S:S,Report!$B359))","v":""},{"$f":"IF(ISERROR(INDEX(Data!T:T,Report!$B359)),\"\",INDEX(Data!T:T,Report!$B359))","v":""},{"$f":"IF(ISERROR(INDEX(Data!U:U,Report!$B359)),\"\",INDEX(Data!U:U,Report!$B359))","v":""},{"$f":"IF(ISERROR(INDEX(Data!V:V,Report!$B359)),\"\",INDEX(Data!V:V,Report!$B359))","v":""},null,"",""]
[356,{"$f":"IF(ISERROR(MATCH(A360,Data!A:A,0)),\"\",MATCH(A360,Data!A:A,0))","v":""},{"$f":"IF(ISERROR(INDEX(Data!I:I,Report!$B360)),\"\",INDEX(Data!I:I,Report!$B360))","v":""},{"$f":"IF(ISERROR(INDEX(Data!J:J,Report!$B360)),\"\",INDEX(Data!J:J,Report!$B360))","v":""},{"$f":"IF(ISERROR(INDEX(Data!K:K,Report!$B360)),\"\",INDEX(Data!K:K,Report!$B360))","v":""},{"$f":"IF(ISERROR(INDEX(Data!L:L,Report!$B360)),\"\",INDEX(Data!L:L,Report!$B360))","v":""},null,{"$f":"IF(ISERROR(INDEX(Data!N:N,Report!$B360)),\"\",INDEX(Data!N:N,Report!$B360))","v":""},{"$f":"IF(ISERROR(INDEX(Data!P:P,Report!$B360)),\"\",INDEX(Data!P:P,Report!$B360))","v":""},{"$f":"IF(ISERROR(INDEX(Data!O:O,Report!$B360)),\"\",INDEX(Data!O:O,Report!$B360))","v":""},{"$f":"IF(ISERROR(INDEX(Data!Q:Q,Report!$B360)),\"\",INDEX(Data!Q:Q,Report!$B360))","v":""},{"$f":"IF(ISERROR(INDEX(Data!R:R,Report!$B360)),\"\",INDEX(Data!R:R,Report!$B360))","v":""},{"$f":"IF(ISERROR(INDEX(Data!S:S,Report!$B360)),\"\",INDEX(Data!S:S,Report!$B360))","v":""},{"$f":"IF(ISERROR(INDEX(Data!T:T,Report!$B360)),\"\",INDEX(Data!T:T,Report!$B360))","v":""},{"$f":"IF(ISERROR(INDEX(Data!U:U,Report!$B360)),\"\",INDEX(Data!U:U,Report!$B360))","v":""},{"$f":"IF(ISERROR(INDEX(Data!V:V,Report!$B360)),\"\",INDEX(Data!V:V,Report!$B360))","v":""},null,"",""]
[357,{"$f":"IF(ISERROR(MATCH(A361,Data!A:A,0)),\"\",MATCH(A361,Data!A:A,0))","v":""},{"$f":"IF(ISERROR(INDEX(Data!I:I,Report!$B361)),\"\",INDEX(Data!I:I,Report!$B361))","v":""},{"$f":"IF(ISERROR(INDEX(Data!J:J,Report!$B361)),\"\",INDEX(Data!J:J,Report!$B361))","v":""},{"$f":"IF(ISERROR(INDEX(Data!K:K,Report!$B361)),\"\",INDEX(Data!K:K,Report!$B361))","v":""},{"$f":"IF(ISERROR(INDEX(Data!L:L,Report!$B361)),\"\",INDEX(Data!L:L,Report!$B361))","v":""},null,{"$f":"IF(ISERROR(INDEX(Data!N:N,Report!$B361)),\"\",INDEX(Data!N:N,Report!$B361))","v":""},{"$f":"IF(ISERROR(INDEX(Data!P:P,Report!$B361)),\"\",INDEX(Data!P:P,Report!$B361))","v":""},{"$f":"IF(ISERROR(INDEX(Data!O:O,Report!$B361)),\"\",INDEX(Data!O:O,Report!$B361))","v":""},{"$f":"IF(ISERROR(INDEX(Data!Q:Q,Report!$B361)),\"\",INDEX(Data!Q:Q,Report!$B361))","v":""},{"$f":"IF(ISERROR(INDEX(Data!R:R,Report!$B361)),\"\",INDEX(Data!R:R,Report!$B361))","v":""},{"$f":"IF(ISERROR(INDEX(Data!S:S,Report!$B361)),\"\",INDEX(Data!S:S,Report!$B361))","v":""},{"$f":"IF(ISERROR(INDEX(Data!T:T,Report!$B361)),\"\",INDEX(Data!T:T,Report!$B361))","v":""},{"$f":"IF(ISERROR(INDEX(Data!U:U,Report!$B361)),\"\",INDEX(Data!U:U,Report!$B361))","v":""},{"$f":"IF(ISERROR(INDEX(Data!V:V,Report!$B361)),\"\",INDEX(Data!V:V,Report!$B361))","v":""},null,"",""]
[358,{"$f":"IF(ISERROR(MATCH(A362,Data!A:A,0)),\"\",MATCH(A362,Data!A:A,0))","v":176},{"$f":"IF(ISERROR(INDEX(Data!I:I,Report!$B362)),\"\",INDEX(Data!I:I,Report!$B362))","v":"00:39:45"},{"$f":"IF(ISERROR(INDEX(Data!J:J,Report!$B362)),\"\",INDEX(Data!J:J,Report!$B362))","v":"Game against Boomer at level 2.0  Single point data:"},{"$f":"IF(ISERROR(INDEX(Data!K:K,Report!$B362)),\"\",INDEX(Data!K:K,Report!$B362))","v":"Player's point"},{"$f":"IF(ISERROR(INDEX(Data!L:L,Report!$B362)),\"\",INDEX(Data!L:L,Report!$B362))","v":"New Point"},null,{"$f":"IF(ISERROR(INDEX(Data!N:N,Report!$B362)),\"\",INDEX(Data!N:N,Report!$B362))","v":1},{"$f":"IF(ISERROR(INDEX(Data!P:P,Report!$B362)),\"\",INDEX(Data!P:P,Report!$B362))","v":"Player Serve"},{"$f":"IF(ISERROR(INDEX(Data!O:O,Report!$B362)),\"\",INDEX(Data!O:O,Report!$B362))","v":4},{"$f":"IF(ISERROR(INDEX(Data!Q:Q,Report!$B362)),\"\",INDEX(Data!Q:Q,Report!$B362))","v":2},{"$f":"IF(ISERROR(INDEX(Data!R:R,Report!$B362)),\"\",INDEX(Data!R:R,Report!$B362))","v":0},{"$f":"IF(ISERROR(INDEX(Data!S:S,Report!$B362)),\"\",INDEX(Data!S:S,Report!$B362))","v":0},{"$f":"IF(ISERROR(INDEX(Data!T:T,Report!$B362)),\"\",INDEX(Data!T:T,Report!$B362))","v":0},{"$f":"IF(ISERROR(INDEX(Data!U:U,Report!$B362)),\"\",INDEX(Data!U:U,Report!$B362))","v":0},{"$f":"IF(ISERROR(INDEX(Data!V:V,Report!$B362)),\"\",INDEX(Data!V:V,Report!$B362))","v":0},null,"|",""]
[359,{"$f":"IF(ISERROR(MATCH(A363,Data!A:A,0)),\"\",MATCH(A363,Data!A:A,0))","v":""},{"$f":"IF(ISERROR(INDEX(Data!I:I,Report!$B363)),\"\",INDEX(Data!I:I,Report!$B363))","v":""},{"$f":"IF(ISERROR(INDEX(Data!J:J,Report!$B363)),\"\",INDEX(Data!J:J,Report!$B363))","v":""},{"$f":"IF(ISERROR(INDEX(Data!K:K,Report!$B363)),\"\",INDEX(Data!K:K,Report!$B363))","v":""},{"$f":"IF(ISERROR(INDEX(Data!L:L,Report!$B363)),\"\",INDEX(Data!L:L,Report!$B363))","v":""},null,{"$f":"IF(ISERROR(INDEX(Data!N:N,Report!$B363)),\"\",INDEX(Data!N:N,Report!$B363))","v":""},{"$f":"IF(ISERROR(INDEX(Data!P:P,Report!$B363)),\"\",INDEX(Data!P:P,Report!$B363))","v":""},{"$f":"IF(ISERROR(INDEX(Data!O:O,Report!$B363)),\"\",INDEX(Data!O:O,Report!$B363))","v":""},{"$f":"IF(ISERROR(INDEX(Data!Q:Q,Report!$B363)),\"\",INDEX(Data!Q:Q,Report!$B363))","v":""},{"$f":"IF(ISERROR(INDEX(Data!R:R,Report!$B363)),\"\",INDEX(Data!R:R,Report!$B363))","v":""},{"$f":"IF(ISERROR(INDEX(Data!S:S,Report!$B363)),\"\",INDEX(Data!S:S,Report!$B363))","v":""},{"$f":"IF(ISERROR(INDEX(Data!T:T,Report!$B363)),\"\",INDEX(Data!T:T,Report!$B363))","v":""},{"$f":"IF(ISERROR(INDEX(Data!U:U,Report!$B363)),\"\",INDEX(Data!U:U,Report!$B363))","v":""},{"$f":"IF(ISERROR(INDEX(Data!V:V,Report!$B363)),\"\",INDEX(Data!V:V,Report!$B363))","v":""},null,"",""]
[360,{"$f":"IF(ISERROR(MATCH(A364,Data!A:A,0)),\"\",MATCH(A364,Data!A:A,0))","v":""},{"$f":"IF(ISERROR(INDEX(Data!I:I,Report!$B364)),\"\",INDEX(Data!I:I,Report!$B364))","v":""},{"$f":"IF(ISERROR(INDEX(Data!J:J,Report!$B364)),\"\",INDEX(Data!J:J,Report!$B364))","v":""},{"$f":"IF(ISERROR(INDEX(Data!K:K,Report!$B364)),\"\",INDEX(Data!K:K,Report!$B364))","v":""},{"$f":"IF(ISERROR(INDEX(Data!L:L,Report!$B364)),\"\",INDEX(Data!L:L,Report!$B364))","v":""},null,{"$f":"IF(ISERROR(INDEX(Data!N:N,Report!$B364)),\"\",INDEX(Data!N:N,Report!$B364))","v":""},{"$f":"IF(ISERROR(INDEX(Data!P:P,Report!$B364)),\"\",INDEX(Data!P:P,Report!$B364))","v":""},{"$f":"IF(ISERROR(INDEX(Data!O:O,Report!$B364)),\"\",INDEX(Data!O:O,Report!$B364))","v":""},{"$f":"IF(ISERROR(INDEX(Data!Q:Q,Report!$B364)),\"\",INDEX(Data!Q:Q,Report!$B364))","v":""},{"$f":"IF(ISERROR(INDEX(Data!R:R,Report!$B364)),\"\",INDEX(Data!R:R,Report!$B364))","v":""},{"$f":"IF(ISERROR(INDEX(Data!S:S,Report!$B364)),\"\",INDEX(Data!S:S,Report!$B364))","v":""},{"$f":"IF(ISERROR(INDEX(Data!T:T,Report!$B364)),\"\",INDEX(Data!T:T,Report!$B364))","v":""},{"$f":"IF(ISERROR(INDEX(Data!U:U,Report!$B364)),\"\",INDEX(Data!U:U,Report!$B364))","v":""},{"$f":"IF(ISERROR(INDEX(Data!V:V,Report!$B364)),\"\",INDEX(Data!V:V,Report!$B364))","v":""},null,"",""]
[361,{"$f":"IF(ISERROR(MATCH(A365,Data!A:A,0)),\"\",MATCH(A365,Data!A:A,0))","v":""},{"$f":"IF(ISERROR(INDEX(Data!I:I,Report!$B365)),\"\",INDEX(Data!I:I,Report!$B365))","v":""},{"$f":"IF(ISERROR(INDEX(Data!J:J,Report!$B365)),\"\",INDEX(Data!J:J,Report!$B365))","v":""},{"$f":"IF(ISERROR(INDEX(Data!K:K,Report!$B365)),\"\",INDEX(Data!K:K,Report!$B365))","v":""},{"$f":"IF(ISERROR(INDEX(Data!L:L,Report!$B365)),\"\",INDEX(Data!L:L,Report!$B365))","v":""},null,{"$f":"IF(ISERROR(INDEX(Data!N:N,Report!$B365)),\"\",INDEX(Data!N:N,Report!$B365))","v":""},{"$f":"IF(ISERROR(INDEX(Data!P:P,Report!$B365)),\"\",INDEX(Data!P:P,Report!$B365))","v":""},{"$f":"IF(ISERROR(INDEX(Data!O:O,Report!$B365)),\"\",INDEX(Data!O:O,Report!$B365))","v":""},{"$f":"IF(ISERROR(INDEX(Data!Q:Q,Report!$B365)),\"\",INDEX(Data!Q:Q,Report!$B365))","v":""},{"$f":"IF(ISERROR(INDEX(Data!R:R,Report!$B365)),\"\",INDEX(Data!R:R,Report!$B365))","v":""},{"$f":"IF(ISERROR(INDEX(Data!S:S,Report!$B365)),\"\",INDEX(Data!S:S,Report!$B365))","v":""},{"$f":"IF(ISERROR(INDEX(Data!T:T,Report!$B365)),\"\",INDEX(Data!T:T,Report!$B365))","v":""},{"$f":"IF(ISERROR(INDEX(Data!U:U,Report!$B365)),\"\",INDEX(Data!U:U,Report!$B365))","v":""},{"$f":"IF(ISERROR(INDEX(Data!V:V,Report!$B365)),\"\",INDEX(Data!V:V,Report!$B365))","v":""},null,"",""]
[362,{"$f":"IF(ISERROR(MATCH(A366,Data!A:A,0)),\"\",MATCH(A366,Data!A:A,0))","v":177},{"$f":"IF(ISERROR(INDEX(Data!I:I,Report!$B366)),\"\",INDEX(Data!I:I,Report!$B366))","v":" "},{"$f":"IF(ISERROR(INDEX(Data!J:J,Report!$B366)),\"\",INDEX(Data!J:J,Report!$B366))","v":"User Drill #188  3 line rated mini tennis"},{"$f":"IF(ISERROR(INDEX(Data!K:K,Report!$B366)),\"\",INDEX(Data!K:K,Report!$B366))","v":0},{"$f":"IF(ISERROR(INDEX(Data!L:L,Report!$B366)),\"\",INDEX(Data!L:L,Report!$B366))","v":"New Point"},null,{"$f":"IF(ISERROR(INDEX(Data!N:N,Report!$B366)),\"\",INDEX(Data!N:N,Report!$B366))","v":1},{"$f":"IF(ISERROR(INDEX(Data!P:P,Report!$B366)),\"\",INDEX(Data!P:P,Report!$B366))","v":0},{"$f":"IF(ISERROR(INDEX(Data!O:O,Report!$B366)),\"\",INDEX(Data!O:O,Report!$B366))","v":11},{"$f":"IF(ISERROR(INDEX(Data!Q:Q,Report!$B366)),\"\",INDEX(Data!Q:Q,Report!$B366))","v":3.5},{"$f":"IF(ISERROR(INDEX(Data!R:R,Report!$B366)),\"\",INDEX(Data!R:R,Report!$B366))","v":0},{"$f":"IF(ISERROR(INDEX(Data!S:S,Report!$B366)),\"\",INDEX(Data!S:S,Report!$B366))","v":0},{"$f":"IF(ISERROR(INDEX(Data!T:T,Report!$B366)),\"\",INDEX(Data!T:T,Report!$B366))","v":0},{"$f":"IF(ISERROR(INDEX(Data!U:U,Report!$B366)),\"\",INDEX(Data!U:U,Report!$B366))","v":0},{"$f":"IF(ISERROR(INDEX(Data!V:V,Report!$B366)),\"\",INDEX(Data!V:V,Report!$B366))","v":0},null,"|",""]
[363,{"$f":"IF(ISERROR(MATCH(A367,Data!A:A,0)),\"\",MATCH(A367,Data!A:A,0))","v":178},{"$f":"IF(ISERROR(INDEX(Data!I:I,Report!$B367)),\"\",INDEX(Data!I:I,Report!$B367))","v":"00:39:45"},{"$f":"IF(ISERROR(INDEX(Data!J:J,Report!$B367)),\"\",INDEX(Data!J:J,Report!$B367))","v":"Game against Boomer at level 2.0  Single point data:"},{"$f":"IF(ISERROR(INDEX(Data!K:K,Report!$B367)),\"\",INDEX(Data!K:K,Report!$B367))","v":"Player's point"},{"$f":"IF(ISERROR(INDEX(Data!L:L,Report!$B367)),\"\",INDEX(Data!L:L,Report!$B367))","v":0},null,{"$f":"IF(ISERROR(INDEX(Data!N:N,Report!$B367)),\"\",INDEX(Data!N:N,Report!$B367))","v":2},{"$f":"IF(ISERROR(INDEX(Data!P:P,Report!$B367)),\"\",INDEX(Data!P:P,Report!$B367))","v":"Player Serve"},{"$f":"IF(ISERROR(INDEX(Data!O:O,Report!$B367)),\"\",INDEX(Data!O:O,Report!$B367))","v":4},{"$f":"IF(ISERROR(INDEX(Data!Q:Q,Report!$B367)),\"\",INDEX(Data!Q:Q,Report!$B367))","v":2},{"$f":"IF(ISERROR(INDEX(Data!R:R,Report!$B367)),\"\",INDEX(Data!R:R,Report!$B367))","v":14},{"$f":"IF(ISERROR(INDEX(Data!S:S,Report!$B367)),\"\",INDEX(Data!S:S,Report!$B367))","v":18},{"$f":"IF(ISERROR(INDEX(Data!T:T,Report!$B367)),\"\",INDEX(Data!T:T,Report!$B367))","v":3.8},{"$f":"IF(ISERROR(INDEX(Data!U:U,Report!$B367)),\"\",INDEX(Data!U:U,Report!$B367))","v":112},{"$f":"IF(ISERROR(INDEX(Data!V:V,Report!$B367)),\"\",INDEX(Data!V:V,Report!$B367))","v":5.4},null,"              |","|||||||||"]
[364,{"$f":"IF(ISERROR(MATCH(A368,Data!A:A,0)),\"\",MATCH(A368,Data!A:A,0))","v":179},{"$f":"IF(ISERROR(INDEX(Data!I:I,Report!$B368)),\"\",INDEX(Data!I:I,Report!$B368))","v":"04:42:07"},{"$f":"IF(ISERROR(INDEX(Data!J:J,Report!$B368)),\"\",INDEX(Data!J:J,Report!$B368))","v":"Game against Boomer at level 3.5  Single point data:"},{"$f":"IF(ISERROR(INDEX(Data!K:K,Report!$B368)),\"\",INDEX(Data!K:K,Report!$B368))","v":"Player's point"},{"$f":"IF(ISERROR(INDEX(Data!L:L,Report!$B368)),\"\",INDEX(Data!L:L,Report!$B368))","v":0},null,{"$f":"IF(ISERROR(INDEX(Data!N:N,Report!$B368)),\"\",INDEX(Data!N:N,Report!$B368))","v":2},{"$f":"IF(ISERROR(INDEX(Data!P:P,Report!$B368)),\"\",INDEX(Data!P:P,Report!$B368))","v":"Flat Drive"},{"$f":"IF(ISERROR(INDEX(Data!O:O,Report!$B368)),\"\",INDEX(Data!O:O,Report!$B368))","v":4},{"$f":"IF(ISERROR(INDEX(Data!Q:Q,Report!$B368)),\"\",INDEX(Data!Q:Q,Report!$B368))","v":3.5},{"$f":"IF(ISERROR(INDEX(Data!R:R,Report!$B368)),\"\",INDEX(Data!R:R,Report!$B368))","v":17},{"$f":"IF(ISERROR(INDEX(Data!S:S,Report!$B368)),\"\",INDEX(Data!S:S,Report!$B368))","v":10},{"$f":"IF(ISERROR(INDEX(Data!T:T,Report!$B368)),\"\",INDEX(Data!T:T,Report!$B368))","v":2.9},{"$f":"IF(ISERROR(INDEX(Data!U:U,Report!$B368)),\"\",INDEX(Data!U:U,Report!$B368))","v":30},{"$f":"IF(ISERROR(INDEX(Data!V:V,Report!$B368)),\"\",INDEX(Data!V:V,Report!$B368))","v":3.2},null,"                 |","|||||"]
[365,{"$f":"IF(ISERROR(MATCH(A369,Data!A:A,0)),\"\",MATCH(A369,Data!A:A,0))","v":180},{"$f":"IF(ISERROR(INDEX(Data!I:I,Report!$B369)),\"\",INDEX(Data!I:I,Report!$B369))","v":" "},{"$f":"IF(ISERROR(INDEX(Data!J:J,Report!$B369)),\"\",INDEX(Data!J:J,Report!$B369))","v":"User Drill #188  3 line rated mini tennis"},{"$f":"IF(ISERROR(INDEX(Data!K:K,Report!$B369)),\"\",INDEX(Data!K:K,Report!$B369))","v":0},{"$f":"IF(ISERROR(INDEX(Data!L:L,Report!$B369)),\"\",INDEX(Data!L:L,Report!$B369))","v":0},null,{"$f":"IF(ISERROR(INDEX(Data!N:N,Report!$B369)),\"\",INDEX(Data!N:N,Report!$B369))","v":2},{"$f":"IF(ISERROR(INDEX(Data!P:P,Report!$B369)),\"\",INDEX(Data!P:P,Report!$B369))","v":0},{"$f":"IF(ISERROR(INDEX(Data!O:O,Report!$B369)),\"\",INDEX(Data!O:O,Report!$B369))","v":4},{"$f":"IF(ISERROR(INDEX(Data!Q:Q,Report!$B369)),\"\",INDEX(Data!Q:Q,Report!$B369))","v":3.5},{"$f":"IF(ISERROR(INDEX(Data!R:R,Report!$B369)),\"\",INDEX(Data!R:R,Report!$B369))","v":0},{"$f":"IF(ISERROR(INDEX(Data!S:S,Report!$B369)),\"\",INDEX(Data!S:S,Report!$B369))","v":0},{"$f":"IF(ISERROR(INDEX(Data!T:T,Report!$B369)),\"\",INDEX(Data!T:T,Report!$B369))","v":0},{"$f":"IF(ISERROR(INDEX(Data!U:U,Report!$B369)),\"\",INDEX(Data!U:U,Report!$B369))","v":0},{"$f":"IF(ISERROR(INDEX(Data!V:V,Report!$B369)),\"\",INDEX(Data!V:V,Report!$B369))","v":0},null,"|",""]
[366,{"$f":"IF(ISERROR(MATCH(A370,Data!A:A,0)),\"\",MATCH(A370,Data!A:A,0))","v":181},{"$f":"IF(ISERROR(INDEX(Data!I:I,Report!$B370)),\"\",INDEX(Data!I:I,Report!$B370))","v":"04:42:07"},{"$f":"IF(ISERROR(INDEX(Data!J:J,Report!$B370)),\"\",INDEX(Data!J:J,Report!$B370))","v":"Game against Boomer at level 3.5  Single point data:"},{"$f":"IF(ISERROR(INDEX(Data!K:K,Report!$B370)),\"\",INDEX(Data!K:K,Report!$B370))","v":"Player's point"},{"$f":"IF(ISERROR(INDEX(Data!L:L,Report!$B370)),\"\",INDEX(Data!L:L,Report!$B370))","v":0},null,{"$f":"IF(ISERROR(INDEX(Data!N:N,Report!$B370)),\"\",INDEX(Data!N:N,Report!$B370))","v":3},{"$f":"IF(ISERROR(INDEX(Data!P:P,Report!$B370)),\"\",INDEX(Data!P:P,Report!$B370))","v":"Pass"},{"$f":"IF(ISERROR(INDEX(Data!O:O,Report!$B370)),\"\",INDEX(Data!O:O,Report!$B370))","v":4},{"$f":"IF(ISERROR(INDEX(Data!Q:Q,Report!$B370)),\"\",INDEX(Data!Q:Q,Report!$B370))","v":3.5},{"$f":"IF(ISERROR(INDEX(Data!R:R,Report!$B370)),\"\",INDEX(Data!R:R,Report!$B370))","v":20},{"$f":"IF(ISERROR(INDEX(Data!S:S,Report!$B370)),\"\",INDEX(Data!S:S,Report!$B370))","v":18},{"$f":"IF(ISERROR(INDEX(Data!T:T,Report!$B370)),\"\",INDEX(Data!T:T,Report!$B370))","v":3.5},{"$f":"IF(ISERROR(INDEX(Data!U:U,Report!$B370)),\"\",INDEX(Data!U:U,Report!$B370))","v":46},{"$f":"IF(ISERROR(INDEX(Data!V:V,Report!$B370)),\"\",INDEX(Data!V:V,Report!$B370))","v":4.4000000000000004},null,"                    |","|||||||||"]
[367,{"$f":"IF(ISERROR(MATCH(A371,Data!A:A,0)),\"\",MATCH(A371,Data!A:A,0))","v":182},{"$f":"IF(ISERROR(INDEX(Data!I:I,Report!$B371)),\"\",INDEX(Data!I:I,Report!$B371))","v":" "},{"$f":"IF(ISERROR(INDEX(Data!J:J,Report!$B371)),\"\",INDEX(Data!J:J,Report!$B371))","v":"User Drill #188  3 line rated mini tennis"},{"$f":"IF(ISERROR(INDEX(Data!K:K,Report!$B371)),\"\",INDEX(Data!K:K,Report!$B371))","v":0},{"$f":"IF(ISERROR(INDEX(Data!L:L,Report!$B371)),\"\",INDEX(Data!L:L,Report!$B371))","v":0},null,{"$f":"IF(ISERROR(INDEX(Data!N:N,Report!$B371)),\"\",INDEX(Data!N:N,Report!$B371))","v":3},{"$f":"IF(ISERROR(INDEX(Data!P:P,Report!$B371)),\"\",INDEX(Data!P:P,Report!$B371))","v":0},{"$f":"IF(ISERROR(INDEX(Data!O:O,Report!$B371)),\"\",INDEX(Data!O:O,Report!$B371))","v":10},{"$f":"IF(ISERROR(INDEX(Data!Q:Q,Report!$B371)),\"\",INDEX(Data!Q:Q,Report!$B371))","v":3.5},{"$f":"IF(ISERROR(INDEX(Data!R:R,Report!$B371)),\"\",INDEX(Data!R:R,Report!$B371))","v":0},{"$f":"IF(ISERROR(INDEX(Data!S:S,Report!$B371)),\"\",INDEX(Data!S:S,Report!$B371))","v":0},{"$f":"IF(ISERROR(INDEX(Data!T:T,Report!$B371)),\"\",INDEX(Data!T:T,Report!$B371))","v":0},{"$f":"IF(ISERROR(INDEX(Data!U:U,Report!$B371)),\"\",INDEX(Data!U:U,Report!$B371))","v":0},{"$f":"IF(ISERROR(INDEX(Data!V:V,Report!$B371)),\"\",INDEX(Data!V:V,Report!$B371))","v":0},null,"|",""]
[368,{"$f":"IF(ISERROR(MATCH(A372,Data!A:A,0)),\"\",MATCH(A372,Data!A:A,0))","v":183},{"$f":"IF(ISERROR(INDEX(Data!I:I,Report!$B372)),\"\",INDEX(Data!I:I,Report!$B372))","v":"04:42:07"},{"$f":"IF(ISERROR(INDEX(Data!J:J,Report!$B372)),\"\",INDEX(Data!J:J,Report!$B372))","v":"Game against Boomer at level 3.5  Single point data:"},{"$f":"IF(ISERROR(INDEX(Data!K:K,Report!$B372)),\"\",INDEX(Data!K:K,Report!$B372))","v":"Player's point"},{"$f":"IF(ISERROR(INDEX(Data!L:L,Report!$B372)),\"\",INDEX(Data!L:L,Report!$B372))","v":0},null,{"$f":"IF(ISERROR(INDEX(Data!N:N,Report!$B372)),\"\",INDEX(Data!N:N,Report!$B372))","v":4},{"$f":"IF(ISERROR(INDEX(Data!P:P,Report!$B372)),\"\",INDEX(Data!P:P,Report!$B372))","v":"Lob"},{"$f":"IF(ISERROR(INDEX(Data!O:O,Report!$B372)),\"\",INDEX(Data!O:O,Report!$B372))","v":4},{"$f":"IF(ISERROR(INDEX(Data!Q:Q,Report!$B372)),\"\",INDEX(Data!Q:Q,Report!$B372))","v":3.5},{"$f":"IF(ISERROR(INDEX(Data!R:R,Report!$B372)),\"\",INDEX(Data!R:R,Report!$B372))","v":16},{"$f":"IF(ISERROR(INDEX(Data!S:S,Report!$B372)),\"\",INDEX(Data!S:S,Report!$B372))","v":14},{"$f":"IF(ISERROR(INDEX(Data!T:T,Report!$B372)),\"\",INDEX(Data!T:T,Report!$B372))","v":2.2999999999999998},{"$f":"IF(ISERROR(INDEX(Data!U:U,Report!$B372)),\"\",INDEX(Data!U:U,Report!$B372))","v":82},{"$f":"IF(ISERROR(INDEX(Data!V:V,Report!$B372)),\"\",INDEX(Data!V:V,Report!$B372))","v":5.9},null,"                |","|||||||"]
[369,{"$f":"IF(ISERROR(MATCH(A373,Data!A:A,0)),\"\",MATCH(A373,Data!A:A,0))","v":""},{"$f":"IF(ISERROR(INDEX(Data!I:I,Report!$B373)),\"\",INDEX(Data!I:I,Report!$B373))","v":""},{"$f":"IF(ISERROR(INDEX(Data!J:J,Report!$B373)),\"\",INDEX(Data!J:J,Report!$B373))","v":""},{"$f":"IF(ISERROR(INDEX(Data!K:K,Report!$B373)),\"\",INDEX(Data!K:K,Report!$B373))","v":""},{"$f":"IF(ISERROR(INDEX(Data!L:L,Report!$B373)),\"\",INDEX(Data!L:L,Report!$B373))","v":""},null,{"$f":"IF(ISERROR(INDEX(Data!N:N,Report!$B373)),\"\",INDEX(Data!N:N,Report!$B373))","v":""},{"$f":"IF(ISERROR(INDEX(Data!P:P,Report!$B373)),\"\",INDEX(Data!P:P,Report!$B373))","v":""},{"$f":"IF(ISERROR(INDEX(Data!O:O,Report!$B373)),\"\",INDEX(Data!O:O,Report!$B373))","v":""},{"$f":"IF(ISERROR(INDEX(Data!Q:Q,Report!$B373)),\"\",INDEX(Data!Q:Q,Report!$B373))","v":""},{"$f":"IF(ISERROR(INDEX(Data!R:R,Report!$B373)),\"\",INDEX(Data!R:R,Report!$B373))","v":""},{"$f":"IF(ISERROR(INDEX(Data!S:S,Report!$B373)),\"\",INDEX(Data!S:S,Report!$B373))","v":""},{"$f":"IF(ISERROR(INDEX(Data!T:T,Report!$B373)),\"\",INDEX(Data!T:T,Report!$B373))","v":""},{"$f":"IF(ISERROR(INDEX(Data!U:U,Report!$B373)),\"\",INDEX(Data!U:U,Report!$B373))","v":""},{"$f":"IF(ISERROR(INDEX(Data!V:V,Report!$B373)),\"\",INDEX(Data!V:V,Report!$B373))","v":""},null,"",""]
[370,{"$f":"IF(ISERROR(MATCH(A374,Data!A:A,0)),\"\",MATCH(A374,Data!A:A,0))","v":""},{"$f":"IF(ISERROR(INDEX(Data!I:I,Report!$B374)),\"\",INDEX(Data!I:I,Report!$B374))","v":""},{"$f":"IF(ISERROR(INDEX(Data!J:J,Report!$B374)),\"\",INDEX(Data!J:J,Report!$B374))","v":""},{"$f":"IF(ISERROR(INDEX(Data!K:K,Report!$B374)),\"\",INDEX(Data!K:K,Report!$B374))","v":""},{"$f":"IF(ISERROR(INDEX(Data!L:L,Report!$B374)),\"\",INDEX(Data!L:L,Report!$B374))","v":""},null,{"$f":"IF(ISERROR(INDEX(Data!N:N,Report!$B374)),\"\",INDEX(Data!N:N,Report!$B374))","v":""},{"$f":"IF(ISERROR(INDEX(Data!P:P,Report!$B374)),\"\",INDEX(Data!P:P,Report!$B374))","v":""},{"$f":"IF(ISERROR(INDEX(Data!O:O,Report!$B374)),\"\",INDEX(Data!O:O,Report!$B374))","v":""},{"$f":"IF(ISERROR(INDEX(Data!Q:Q,Report!$B374)),\"\",INDEX(Data!Q:Q,Report!$B374))","v":""},{"$f":"IF(ISERROR(INDEX(Data!R:R,Report!$B374)),\"\",INDEX(Data!R:R,Report!$B374))","v":""},{"$f":"IF(ISERROR(INDEX(Data!S:S,Report!$B374)),\"\",INDEX(Data!S:S,Report!$B374))","v":""},{"$f":"IF(ISERROR(INDEX(Data!T:T,Report!$B374)),\"\",INDEX(Data!T:T,Report!$B374))","v":""},{"$f":"IF(ISERROR(INDEX(Data!U:U,Report!$B374)),\"\",INDEX(Data!U:U,Report!$B374))","v":""},{"$f":"IF(ISERROR(INDEX(Data!V:V,Report!$B374)),\"\",INDEX(Data!V:V,Report!$B374))","v":""},null,"",""]
[371,{"$f":"IF(ISERROR(MATCH(A375,Data!A:A,0)),\"\",MATCH(A375,Data!A:A,0))","v":""},{"$f":"IF(ISERROR(INDEX(Data!I:I,Report!$B375)),\"\",INDEX(Data!I:I,Report!$B375))","v":""},{"$f":"IF(ISERROR(INDEX(Data!J:J,Report!$B375)),\"\",INDEX(Data!J:J,Report!$B375))","v":""},{"$f":"IF(ISERROR(INDEX(Data!K:K,Report!$B375)),\"\",INDEX(Data!K:K,Report!$B375))","v":""},{"$f":"IF(ISERROR(INDEX(Data!L:L,Report!$B375)),\"\",INDEX(Data!L:L,Report!$B375))","v":""},null,{"$f":"IF(ISERROR(INDEX(Data!N:N,Report!$B375)),\"\",INDEX(Data!N:N,Report!$B375))","v":""},{"$f":"IF(ISERROR(INDEX(Data!P:P,Report!$B375)),\"\",INDEX(Data!P:P,Report!$B375))","v":""},{"$f":"IF(ISERROR(INDEX(Data!O:O,Report!$B375)),\"\",INDEX(Data!O:O,Report!$B375))","v":""},{"$f":"IF(ISERROR(INDEX(Data!Q:Q,Report!$B375)),\"\",INDEX(Data!Q:Q,Report!$B375))","v":""},{"$f":"IF(ISERROR(INDEX(Data!R:R,Report!$B375)),\"\",INDEX(Data!R:R,Report!$B375))","v":""},{"$f":"IF(ISERROR(INDEX(Data!S:S,Report!$B375)),\"\",INDEX(Data!S:S,Report!$B375))","v":""},{"$f":"IF(ISERROR(INDEX(Data!T:T,Report!$B375)),\"\",INDEX(Data!T:T,Report!$B375))","v":""},{"$f":"IF(ISERROR(INDEX(Data!U:U,Report!$B375)),\"\",INDEX(Data!U:U,Report!$B375))","v":""},{"$f":"IF(ISERROR(INDEX(Data!V:V,Report!$B375)),\"\",INDEX(Data!V:V,Report!$B375))","v":""},null,"",""]
[372,{"$f":"IF(ISERROR(MATCH(A376,Data!A:A,0)),\"\",MATCH(A376,Data!A:A,0))","v":184},{"$f":"IF(ISERROR(INDEX(Data!I:I,Report!$B376)),\"\",INDEX(Data!I:I,Report!$B376))","v":"04:42:30"},{"$f":"IF(ISERROR(INDEX(Data!J:J,Report!$B376)),\"\",INDEX(Data!J:J,Report!$B376))","v":"Game against Boomer at level 3.5  Single point data:"},{"$f":"IF(ISERROR(INDEX(Data!K:K,Report!$B376)),\"\",INDEX(Data!K:K,Report!$B376))","v":"Boomer's point"},{"$f":"IF(ISERROR(INDEX(Data!L:L,Report!$B376)),\"\",INDEX(Data!L:L,Report!$B376))","v":"New Point"},null,{"$f":"IF(ISERROR(INDEX(Data!N:N,Report!$B376)),\"\",INDEX(Data!N:N,Report!$B376))","v":1},{"$f":"IF(ISERROR(INDEX(Data!P:P,Report!$B376)),\"\",INDEX(Data!P:P,Report!$B376))","v":"Player Serve"},{"$f":"IF(ISERROR(INDEX(Data!O:O,Report!$B376)),\"\",INDEX(Data!O:O,Report!$B376))","v":4},{"$f":"IF(ISERROR(INDEX(Data!Q:Q,Report!$B376)),\"\",INDEX(Data!Q:Q,Report!$B376))","v":3.5},{"$f":"IF(ISERROR(INDEX(Data!R:R,Report!$B376)),\"\",INDEX(Data!R:R,Report!$B376))","v":15},{"$f":"IF(ISERROR(INDEX(Data!S:S,Report!$B376)),\"\",INDEX(Data!S:S,Report!$B376))","v":7},{"$f":"IF(ISERROR(INDEX(Data!T:T,Report!$B376)),\"\",INDEX(Data!T:T,Report!$B376))","v":3.3},{"$f":"IF(ISERROR(INDEX(Data!U:U,Report!$B376)),\"\",INDEX(Data!U:U,Report!$B376))","v":115},{"$f":"IF(ISERROR(INDEX(Data!V:V,Report!$B376)),\"\",INDEX(Data!V:V,Report!$B376))","v":5.0999999999999996},null,"               |","|||"]
[373,{"$f":"IF(ISERROR(MATCH(A377,Data!A:A,0)),\"\",MATCH(A377,Data!A:A,0))","v":""},{"$f":"IF(ISERROR(INDEX(Data!I:I,Report!$B377)),\"\",INDEX(Data!I:I,Report!$B377))","v":""},{"$f":"IF(ISERROR(INDEX(Data!J:J,Report!$B377)),\"\",INDEX(Data!J:J,Report!$B377))","v":""},{"$f":"IF(ISERROR(INDEX(Data!K:K,Report!$B377)),\"\",INDEX(Data!K:K,Report!$B377))","v":""},{"$f":"IF(ISERROR(INDEX(Data!L:L,Report!$B377)),\"\",INDEX(Data!L:L,Report!$B377))","v":""},null,{"$f":"IF(ISERROR(INDEX(Data!N:N,Report!$B377)),\"\",INDEX(Data!N:N,Report!$B377))","v":""},{"$f":"IF(ISERROR(INDEX(Data!P:P,Report!$B377)),\"\",INDEX(Data!P:P,Report!$B377))","v":""},{"$f":"IF(ISERROR(INDEX(Data!O:O,Report!$B377)),\"\",INDEX(Data!O:O,Report!$B377))","v":""},{"$f":"IF(ISERROR(INDEX(Data!Q:Q,Report!$B377)),\"\",INDEX(Data!Q:Q,Report!$B377))","v":""},{"$f":"IF(ISERROR(INDEX(Data!R:R,Report!$B377)),\"\",INDEX(Data!R:R,Report!$B377))","v":""},{"$f":"IF(ISERROR(INDEX(Data!S:S,Report!$B377)),\"\",INDEX(Data!S:S,Report!$B377))","v":""},{"$f":"IF(ISERROR(INDEX(Data!T:T,Report!$B377)),\"\",INDEX(Data!T:T,Report!$B377))","v":""},{"$f":"IF(ISERROR(INDEX(Data!U:U,Report!$B377)),\"\",INDEX(Data!U:U,Report!$B377))","v":""},{"$f":"IF(ISERROR(INDEX(Data!V:V,Report!$B377)),\"\",INDEX(Data!V:V,Report!$B377))","v":""},null,"",""]
[374,{"$f":"IF(ISERROR(MATCH(A378,Data!A:A,0)),\"\",MATCH(A378,Data!A:A,0))","v":""},{"$f":"IF(ISERROR(INDEX(Data!I:I,Report!$B378)),\"\",INDEX(Data!I:I,Report!$B378))","v":""},{"$f":"IF(ISERROR(INDEX(Data!J:J,Report!$B378)),\"\",INDEX(Data!J:J,Report!$B378))","v":""},{"$f":"IF(ISERROR(INDEX(Data!K:K,Report!$B378)),\"\",INDEX(Data!K:K,Report!$B378))","v":""},{"$f":"IF(ISERROR(INDEX(Data!L:L,Report!$B378)),\"\",INDEX(Data!L:L,Report!$B378))","v":""},null,{"$f":"IF(ISERROR(INDEX(Data!N:N,Report!$B378)),\"\",INDEX(Data!N:N,Report!$B378))","v":""},{"$f":"IF(ISERROR(INDEX(Data!P:P,Report!$B378)),\"\",INDEX(Data!P:P,Report!$B378))","v":""},{"$f":"IF(ISERROR(INDEX(Data!O:O,Report!$B378)),\"\",INDEX(Data!O:O,Report!$B378))","v":""},{"$f":"IF(ISERROR(INDEX(Data!Q:Q,Report!$B378)),\"\",INDEX(Data!Q:Q,Report!$B378))","v":""},{"$f":"IF(ISERROR(INDEX(Data!R:R,Report!$B378)),\"\",INDEX(Data!R:R,Report!$B378))","v":""},{"$f":"IF(ISERROR(INDEX(Data!S:S,Report!$B378)),\"\",INDEX(Data!S:S,Report!$B378))","v":""},{"$f":"IF(ISERROR(INDEX(Data!T:T,Report!$B378)),\"\",INDEX(Data!T:T,Report!$B378))","v":""},{"$f":"IF(ISERROR(INDEX(Data!U:U,Report!$B378)),\"\",INDEX(Data!U:U,Report!$B378))","v":""},{"$f":"IF(ISERROR(INDEX(Data!V:V,Report!$B378)),\"\",INDEX(Data!V:V,Report!$B378))","v":""},null,"",""]
[375,{"$f":"IF(ISERROR(MATCH(A379,Data!A:A,0)),\"\",MATCH(A379,Data!A:A,0))","v":""},{"$f":"IF(ISERROR(INDEX(Data!I:I,Report!$B379)),\"\",INDEX(Data!I:I,Report!$B379))","v":""},{"$f":"IF(ISERROR(INDEX(Data!J:J,Report!$B379)),\"\",INDEX(Data!J:J,Report!$B379))","v":""},{"$f":"IF(ISERROR(INDEX(Data!K:K,Report!$B379)),\"\",INDEX(Data!K:K,Report!$B379))","v":""},{"$f":"IF(ISERROR(INDEX(Data!L:L,Report!$B379)),\"\",INDEX(Data!L:L,Report!$B379))","v":""},null,{"$f":"IF(ISERROR(INDEX(Data!N:N,Report!$B379)),\"\",INDEX(Data!N:N,Report!$B379))","v":""},{"$f":"IF(ISERROR(INDEX(Data!P:P,Report!$B379)),\"\",INDEX(Data!P:P,Report!$B379))","v":""},{"$f":"IF(ISERROR(INDEX(Data!O:O,Report!$B379)),\"\",INDEX(Data!O:O,Report!$B379))","v":""},{"$f":"IF(ISERROR(INDEX(Data!Q:Q,Report!$B379)),\"\",INDEX(Data!Q:Q,Report!$B379))","v":""},{"$f":"IF(ISERROR(INDEX(Data!R:R,Report!$B379)),\"\",INDEX(Data!R:R,Report!$B379))","v":""},{"$f":"IF(ISERROR(INDEX(Data!S:S,Report!$B379)),\"\",INDEX(Data!S:S,Report!$B379))","v":""},{"$f":"IF(ISERROR(INDEX(Data!T:T,Report!$B379)),\"\",INDEX(Data!T:T,Report!$B379))","v":""},{"$f":"IF(ISERROR(INDEX(Data!U:U,Report!$B379)),\"\",INDEX(Data!U:U,Report!$B379))","v":""},{"$f":"IF(ISERROR(INDEX(Data!V:V,Report!$B379)),\"\",INDEX(Data!V:V,Report!$B379))","v":""},null,{"$f":"IF(H379=0,\"\",IF(ISERROR(REPT(\" \",L379) & \"|\"),\"\",REPT(\" \",L379) & \"|\"))","v":""},""]
[376,{"$f":"IF(ISERROR(MATCH(A380,Data!A:A,0)),\"\",MATCH(A380,Data!A:A,0))","v":185},{"$f":"IF(ISERROR(INDEX(Data!I:I,Report!$B380)),\"\",INDEX(Data!I:I,Report!$B380))","v":"00:40:13"},{"$f":"IF(ISERROR(INDEX(Data!J:J,Report!$B380)),\"\",INDEX(Data!J:J,Report!$B380))","v":"Game against Boomer at level 2.0  Single point data:"},{"$f":"IF(ISERROR(INDEX(Data!K:K,Report!$B380)),\"\",INDEX(Data!K:K,Report!$B380))","v":"Player's point"},{"$f":"IF(ISERROR(INDEX(Data!L:L,Report!$B380)),\"\",INDEX(Data!L:L,Report!$B380))","v":"New Point"},null,{"$f":"IF(ISERROR(INDEX(Data!N:N,Report!$B380)),\"\",INDEX(Data!N:N,Report!$B380))","v":1},{"$f":"IF(ISERROR(INDEX(Data!P:P,Report!$B380)),\"\",INDEX(Data!P:P,Report!$B380))","v":"Player Serve"},{"$f":"IF(ISERROR(INDEX(Data!O:O,Report!$B380)),\"\",INDEX(Data!O:O,Report!$B380))","v":4},{"$f":"IF(ISERROR(INDEX(Data!Q:Q,Report!$B380)),\"\",INDEX(Data!Q:Q,Report!$B380))","v":2},{"$f":"IF(ISERROR(INDEX(Data!R:R,Report!$B380)),\"\",INDEX(Data!R:R,Report!$B380))","v":21},{"$f":"IF(ISERROR(INDEX(Data!S:S,Report!$B380)),\"\",INDEX(Data!S:S,Report!$B380))","v":2},{"$f":"IF(ISERROR(INDEX(Data!T:T,Report!$B380)),\"\",INDEX(Data!T:T,Report!$B380))","v":6.1},{"$f":"IF(ISERROR(INDEX(Data!U:U,Report!$B380)),\"\",INDEX(Data!U:U,Report!$B380))","v":102},{"$f":"IF(ISERROR(INDEX(Data!V:V,Report!$B380)),\"\",INDEX(Data!V:V,Report!$B380))","v":6.2},null,"                     |","|"]
[377,{"$f":"IF(ISERROR(MATCH(A381,Data!A:A,0)),\"\",MATCH(A381,Data!A:A,0))","v":""},{"$f":"IF(ISERROR(INDEX(Data!I:I,Report!$B381)),\"\",INDEX(Data!I:I,Report!$B381))","v":""},{"$f":"IF(ISERROR(INDEX(Data!J:J,Report!$B381)),\"\",INDEX(Data!J:J,Report!$B381))","v":""},{"$f":"IF(ISERROR(INDEX(Data!K:K,Report!$B381)),\"\",INDEX(Data!K:K,Report!$B381))","v":""},{"$f":"IF(ISERROR(INDEX(Data!L:L,Report!$B381)),\"\",INDEX(Data!L:L,Report!$B381))","v":""},null,{"$f":"IF(ISERROR(INDEX(Data!N:N,Report!$B381)),\"\",INDEX(Data!N:N,Report!$B381))","v":""},{"$f":"IF(ISERROR(INDEX(Data!P:P,Report!$B381)),\"\",INDEX(Data!P:P,Report!$B381))","v":""},{"$f":"IF(ISERROR(INDEX(Data!O:O,Report!$B381)),\"\",INDEX(Data!O:O,Report!$B381))","v":""},{"$f":"IF(ISERROR(INDEX(Data!Q:Q,Report!$B381)),\"\",INDEX(Data!Q:Q,Report!$B381))","v":""},{"$f":"IF(ISERROR(INDEX(Data!R:R,Report!$B381)),\"\",INDEX(Data!R:R,Report!$B381))","v":""},{"$f":"IF(ISERROR(INDEX(Data!S:S,Report!$B381)),\"\",INDEX(Data!S:S,Report!$B381))","v":""},{"$f":"IF(ISERROR(INDEX(Data!T:T,Report!$B381)),\"\",INDEX(Data!T:T,Report!$B381))","v":""},{"$f":"IF(ISERROR(INDEX(Data!U:U,Report!$B381)),\"\",INDEX(Data!U:U,Report!$B381))","v":""},{"$f":"IF(ISERROR(INDEX(Data!V:V,Report!$B381)),\"\",INDEX(Data!V:V,Report!$B381))","v":""},null,"",""]
[378,{"$f":"IF(ISERROR(MATCH(A382,Data!A:A,0)),\"\",MATCH(A382,Data!A:A,0))","v":""},{"$f":"IF(ISERROR(INDEX(Data!I:I,Report!$B382)),\"\",INDEX(Data!I:I,Report!$B382))","v":""},{"$f":"IF(ISERROR(INDEX(Data!J:J,Report!$B382)),\"\",INDEX(Data!J:J,Report!$B382))","v":""},{"$f":"IF(ISERROR(INDEX(Data!K:K,Report!$B382)),\"\",INDEX(Data!K:K,Report!$B382))","v":""},{"$f":"IF(ISERROR(INDEX(Data!L:L,Report!$B382)),\"\",INDEX(Data!L:L,Report!$B382))","v":""},null,{"$f":"IF(ISERROR(INDEX(Data!N:N,Report!$B382)),\"\",INDEX(Data!N:N,Report!$B382))","v":""},{"$f":"IF(ISERROR(INDEX(Data!P:P,Report!$B382)),\"\",INDEX(Data!P:P,Report!$B382))","v":""},{"$f":"IF(ISERROR(INDEX(Data!O:O,Report!$B382)),\"\",INDEX(Data!O:O,Report!$B382))","v":""},{"$f":"IF(ISERROR(INDEX(Data!Q:Q,Report!$B382)),\"\",INDEX(Data!Q:Q,Report!$B382))","v":""},{"$f":"IF(ISERROR(INDEX(Data!R:R,Report!$B382)),\"\",INDEX(Data!R:R,Report!$B382))","v":""},{"$f":"IF(ISERROR(INDEX(Data!S:S,Report!$B382)),\"\",INDEX(Data!S:S,Report!$B382))","v":""},{"$f":"IF(ISERROR(INDEX(Data!T:T,Report!$B382)),\"\",INDEX(Data!T:T,Report!$B382))","v":""},{"$f":"IF(ISERROR(INDEX(Data!U:U,Report!$B382)),\"\",INDEX(Data!U:U,Report!$B382))","v":""},{"$f":"IF(ISERROR(INDEX(Data!V:V,Report!$B382)),\"\",INDEX(Data!V:V,Report!$B382))","v":""},null,"",""]
[379,{"$f":"IF(ISERROR(MATCH(A383,Data!A:A,0)),\"\",MATCH(A383,Data!A:A,0))","v":""},{"$f":"IF(ISERROR(INDEX(Data!I:I,Report!$B383)),\"\",INDEX(Data!I:I,Report!$B383))","v":""},{"$f":"IF(ISERROR(INDEX(Data!J:J,Report!$B383)),\"\",INDEX(Data!J:J,Report!$B383))","v":""},{"$f":"IF(ISERROR(INDEX(Data!K:K,Report!$B383)),\"\",INDEX(Data!K:K,Report!$B383))","v":""},{"$f":"IF(ISERROR(INDEX(Data!L:L,Report!$B383)),\"\",INDEX(Data!L:L,Report!$B383))","v":""},null,{"$f":"IF(ISERROR(INDEX(Data!N:N,Report!$B383)),\"\",INDEX(Data!N:N,Report!$B383))","v":""},{"$f":"IF(ISERROR(INDEX(Data!P:P,Report!$B383)),\"\",INDEX(Data!P:P,Report!$B383))","v":""},{"$f":"IF(ISERROR(INDEX(Data!O:O,Report!$B383)),\"\",INDEX(Data!O:O,Report!$B383))","v":""},{"$f":"IF(ISERROR(INDEX(Data!Q:Q,Report!$B383)),\"\",INDEX(Data!Q:Q,Report!$B383))","v":""},{"$f":"IF(ISERROR(INDEX(Data!R:R,Report!$B383)),\"\",INDEX(Data!R:R,Report!$B383))","v":""},{"$f":"IF(ISERROR(INDEX(Data!S:S,Report!$B383)),\"\",INDEX(Data!S:S,Report!$B383))","v":""},{"$f":"IF(ISERROR(INDEX(Data!T:T,Report!$B383)),\"\",INDEX(Data!T:T,Report!$B383))","v":""},{"$f":"IF(ISERROR(INDEX(Data!U:U,Report!$B383)),\"\",INDEX(Data!U:U,Report!$B383))","v":""},{"$f":"IF(ISERROR(INDEX(Data!V:V,Report!$B383)),\"\",INDEX(Data!V:V,Report!$B383))","v":""},null,"",""]
[380,{"$f":"IF(ISERROR(MATCH(A384,Data!A:A,0)),\"\",MATCH(A384,Data!A:A,0))","v":186},{"$f":"IF(ISERROR(INDEX(Data!I:I,Report!$B384)),\"\",INDEX(Data!I:I,Report!$B384))","v":" "},{"$f":"IF(ISERROR(INDEX(Data!J:J,Report!$B384)),\"\",INDEX(Data!J:J,Report!$B384))","v":"User Drill #188  3 line rated mini tennis"},{"$f":"IF(ISERROR(INDEX(Data!K:K,Report!$B384)),\"\",INDEX(Data!K:K,Report!$B384))","v":0},{"$f":"IF(ISERROR(INDEX(Data!L:L,Report!$B384)),\"\",INDEX(Data!L:L,Report!$B384))","v":"New Point"},null,{"$f":"IF(ISERROR(INDEX(Data!N:N,Report!$B384)),\"\",INDEX(Data!N:N,Report!$B384))","v":1},{"$f":"IF(ISERROR(INDEX(Data!P:P,Report!$B384)),\"\",INDEX(Data!P:P,Report!$B384))","v":0},{"$f":"IF(ISERROR(INDEX(Data!O:O,Report!$B384)),\"\",INDEX(Data!O:O,Report!$B384))","v":11},{"$f":"IF(ISERROR(INDEX(Data!Q:Q,Report!$B384)),\"\",INDEX(Data!Q:Q,Report!$B384))","v":3.5},{"$f":"IF(ISERROR(INDEX(Data!R:R,Report!$B384)),\"\",INDEX(Data!R:R,Report!$B384))","v":0},{"$f":"IF(ISERROR(INDEX(Data!S:S,Report!$B384)),\"\",INDEX(Data!S:S,Report!$B384))","v":0},{"$f":"IF(ISERROR(INDEX(Data!T:T,Report!$B384)),\"\",INDEX(Data!T:T,Report!$B384))","v":0},{"$f":"IF(ISERROR(INDEX(Data!U:U,Report!$B384)),\"\",INDEX(Data!U:U,Report!$B384))","v":0},{"$f":"IF(ISERROR(INDEX(Data!V:V,Report!$B384)),\"\",INDEX(Data!V:V,Report!$B384))","v":0},null,"|",""]
[381,{"$f":"IF(ISERROR(MATCH(A385,Data!A:A,0)),\"\",MATCH(A385,Data!A:A,0))","v":187},{"$f":"IF(ISERROR(INDEX(Data!I:I,Report!$B385)),\"\",INDEX(Data!I:I,Report!$B385))","v":"04:42:30"},{"$f":"IF(ISERROR(INDEX(Data!J:J,Report!$B385)),\"\",INDEX(Data!J:J,Report!$B385))","v":"Game against Boomer at level 3.5  Single point data:"},{"$f":"IF(ISERROR(INDEX(Data!K:K,Report!$B385)),\"\",INDEX(Data!K:K,Report!$B385))","v":"Boomer's point"},{"$f":"IF(ISERROR(INDEX(Data!L:L,Report!$B385)),\"\",INDEX(Data!L:L,Report!$B385))","v":0},null,{"$f":"IF(ISERROR(INDEX(Data!N:N,Report!$B385)),\"\",INDEX(Data!N:N,Report!$B385))","v":2},{"$f":"IF(ISERROR(INDEX(Data!P:P,Report!$B385)),\"\",INDEX(Data!P:P,Report!$B385))","v":"Heavy Topspin"},{"$f":"IF(ISERROR(INDEX(Data!O:O,Report!$B385)),\"\",INDEX(Data!O:O,Report!$B385))","v":3},{"$f":"IF(ISERROR(INDEX(Data!Q:Q,Report!$B385)),\"\",INDEX(Data!Q:Q,Report!$B385))","v":3.5},{"$f":"IF(ISERROR(INDEX(Data!R:R,Report!$B385)),\"\",INDEX(Data!R:R,Report!$B385))","v":25},{"$f":"IF(ISERROR(INDEX(Data!S:S,Report!$B385)),\"\",INDEX(Data!S:S,Report!$B385))","v":23},{"$f":"IF(ISERROR(INDEX(Data!T:T,Report!$B385)),\"\",INDEX(Data!T:T,Report!$B385))","v":5.3},{"$f":"IF(ISERROR(INDEX(Data!U:U,Report!$B385)),\"\",INDEX(Data!U:U,Report!$B385))","v":35},{"$f":"IF(ISERROR(INDEX(Data!V:V,Report!$B385)),\"\",INDEX(Data!V:V,Report!$B385))","v":4},null,"                         |","|||||||||||"]
[382,{"$f":"IF(ISERROR(MATCH(A386,Data!A:A,0)),\"\",MATCH(A386,Data!A:A,0))","v":188},{"$f":"IF(ISERROR(INDEX(Data!I:I,Report!$B386)),\"\",INDEX(Data!I:I,Report!$B386))","v":" "},{"$f":"IF(ISERROR(INDEX(Data!J:J,Report!$B386)),\"\",INDEX(Data!J:J,Report!$B386))","v":"User Drill #188  3 line rated mini tennis"},{"$f":"IF(ISERROR(INDEX(Data!K:K,Report!$B386)),\"\",INDEX(Data!K:K,Report!$B386))","v":0},{"$f":"IF(ISERROR(INDEX(Data!L:L,Report!$B386)),\"\",INDEX(Data!L:L,Report!$B386))","v":0},null,{"$f":"IF(ISERROR(INDEX(Data!N:N,Report!$B386)),\"\",INDEX(Data!N:N,Report!$B386))","v":2},{"$f":"IF(ISERROR(INDEX(Data!P:P,Report!$B386)),\"\",INDEX(Data!P:P,Report!$B386))","v":0},{"$f":"IF(ISERROR(INDEX(Data!O:O,Report!$B386)),\"\",INDEX(Data!O:O,Report!$B386))","v":4},{"$f":"IF(ISERROR(INDEX(Data!Q:Q,Report!$B386)),\"\",INDEX(Data!Q:Q,Report!$B386))","v":3.5},{"$f":"IF(ISERROR(INDEX(Data!R:R,Report!$B386)),\"\",INDEX(Data!R:R,Report!$B386))","v":4},{"$f":"IF(ISERROR(INDEX(Data!S:S,Report!$B386)),\"\",INDEX(Data!S:S,Report!$B386))","v":1},{"$f":"IF(ISERROR(INDEX(Data!T:T,Report!$B386)),\"\",INDEX(Data!T:T,Report!$B386))","v":7},{"$f":"IF(ISERROR(INDEX(Data!U:U,Report!$B386)),\"\",INDEX(Data!U:U,Report!$B386))","v":12},{"$f":"IF(ISERROR(INDEX(Data!V:V,Report!$B386)),\"\",INDEX(Data!V:V,Report!$B386))","v":4.3},null,"    |",""]
[383,{"$f":"IF(ISERROR(MATCH(A387,Data!A:A,0)),\"\",MATCH(A387,Data!A:A,0))","v":189},{"$f":"IF(ISERROR(INDEX(Data!I:I,Report!$B387)),\"\",INDEX(Data!I:I,Report!$B387))","v":" "},{"$f":"IF(ISERROR(INDEX(Data!J:J,Report!$B387)),\"\",INDEX(Data!J:J,Report!$B387))","v":"User Drill #188  3 line rated mini tennis"},{"$f":"IF(ISERROR(INDEX(Data!K:K,Report!$B387)),\"\",INDEX(Data!K:K,Report!$B387))","v":0},{"$f":"IF(ISERROR(INDEX(Data!L:L,Report!$B387)),\"\",INDEX(Data!L:L,Report!$B387))","v":0},null,{"$f":"IF(ISERROR(INDEX(Data!N:N,Report!$B387)),\"\",INDEX(Data!N:N,Report!$B387))","v":3},{"$f":"IF(ISERROR(INDEX(Data!P:P,Report!$B387)),\"\",INDEX(Data!P:P,Report!$B387))","v":0},{"$f":"IF(ISERROR(INDEX(Data!O:O,Report!$B387)),\"\",INDEX(Data!O:O,Report!$B387))","v":10},{"$f":"IF(ISERROR(INDEX(Data!Q:Q,Report!$B387)),\"\",INDEX(Data!Q:Q,Report!$B387))","v":3.5},{"$f":"IF(ISERROR(INDEX(Data!R:R,Report!$B387)),\"\",INDEX(Data!R:R,Report!$B387))","v":13},{"$f":"IF(ISERROR(INDEX(Data!S:S,Report!$B387)),\"\",INDEX(Data!S:S,Report!$B387))","v":8},{"$f":"IF(ISERROR(INDEX(Data!T:T,Report!$B387)),\"\",INDEX(Data!T:T,Report!$B387))","v":2.6},{"$f":"IF(ISERROR(INDEX(Data!U:U,Report!$B387)),\"\",INDEX(Data!U:U,Report!$B387))","v":98},{"$f":"IF(ISERROR(INDEX(Data!V:V,Report!$B387)),\"\",INDEX(Data!V:V,Report!$B387))","v":4.8},null,"             |","||||"]
[384,{"$f":"IF(ISERROR(MATCH(A388,Data!A:A,0)),\"\",MATCH(A388,Data!A:A,0))","v":190},{"$f":"IF(ISERROR(INDEX(Data!I:I,Report!$B388)),\"\",INDEX(Data!I:I,Report!$B388))","v":"04:42:30"},{"$f":"IF(ISERROR(INDEX(Data!J:J,Report!$B388)),\"\",INDEX(Data!J:J,Report!$B388))","v":"Game against Boomer at level 3.5  Single point data:"},{"$f":"IF(ISERROR(INDEX(Data!K:K,Report!$B388)),\"\",INDEX(Data!K:K,Report!$B388))","v":"Boomer's point"},{"$f":"IF(ISERROR(INDEX(Data!L:L,Report!$B388)),\"\",INDEX(Data!L:L,Report!$B388))","v":0},null,{"$f":"IF(ISERROR(INDEX(Data!N:N,Report!$B388)),\"\",INDEX(Data!N:N,Report!$B388))","v":3},{"$f":"IF(ISERROR(INDEX(Data!P:P,Report!$B388)),\"\",INDEX(Data!P:P,Report!$B388))","v":"Drop Shot"},{"$f":"IF(ISERROR(INDEX(Data!O:O,Report!$B388)),\"\",INDEX(Data!O:O,Report!$B388))","v":5},{"$f":"IF(ISERROR(INDEX(Data!Q:Q,Report!$B388)),\"\",INDEX(Data!Q:Q,Report!$B388))","v":3.5},{"$f":"IF(ISERROR(INDEX(Data!R:R,Report!$B388)),\"\",INDEX(Data!R:R,Report!$B388))","v":0},{"$f":"IF(ISERROR(INDEX(Data!S:S,Report!$B388)),\"\",INDEX(Data!S:S,Report!$B388))","v":0},{"$f":"IF(ISERROR(INDEX(Data!T:T,Report!$B388)),\"\",INDEX(Data!T:T,Report!$B388))","v":0},{"$f":"IF(ISERROR(INDEX(Data!U:U,Report!$B388)),\"\",INDEX(Data!U:U,Report!$B388))","v":0},{"$f":"IF(ISERROR(INDEX(Data!V:V,Report!$B388)),\"\",INDEX(Data!V:V,Report!$B388))","v":0},null,"|",""]
[385,{"$f":"IF(ISERROR(MATCH(A389,Data!A:A,0)),\"\",MATCH(A389,Data!A:A,0))","v":""},{"$f":"IF(ISERROR(INDEX(Data!I:I,Report!$B389)),\"\",INDEX(Data!I:I,Report!$B389))","v":""},{"$f":"IF(ISERROR(INDEX(Data!J:J,Report!$B389)),\"\",INDEX(Data!J:J,Report!$B389))","v":""},{"$f":"IF(ISERROR(INDEX(Data!K:K,Report!$B389)),\"\",INDEX(Data!K:K,Report!$B389))","v":""},{"$f":"IF(ISERROR(INDEX(Data!L:L,Report!$B389)),\"\",INDEX(Data!L:L,Report!$B389))","v":""},null,{"$f":"IF(ISERROR(INDEX(Data!N:N,Report!$B389)),\"\",INDEX(Data!N:N,Report!$B389))","v":""},{"$f":"IF(ISERROR(INDEX(Data!P:P,Report!$B389)),\"\",INDEX(Data!P:P,Report!$B389))","v":""},{"$f":"IF(ISERROR(INDEX(Data!O:O,Report!$B389)),\"\",INDEX(Data!O:O,Report!$B389))","v":""},{"$f":"IF(ISERROR(INDEX(Data!Q:Q,Report!$B389)),\"\",INDEX(Data!Q:Q,Report!$B389))","v":""},{"$f":"IF(ISERROR(INDEX(Data!R:R,Report!$B389)),\"\",INDEX(Data!R:R,Report!$B389))","v":""},{"$f":"IF(ISERROR(INDEX(Data!S:S,Report!$B389)),\"\",INDEX(Data!S:S,Report!$B389))","v":""},{"$f":"IF(ISERROR(INDEX(Data!T:T,Report!$B389)),\"\",INDEX(Data!T:T,Report!$B389))","v":""},{"$f":"IF(ISERROR(INDEX(Data!U:U,Report!$B389)),\"\",INDEX(Data!U:U,Report!$B389))","v":""},{"$f":"IF(ISERROR(INDEX(Data!V:V,Report!$B389)),\"\",INDEX(Data!V:V,Report!$B389))","v":""},null,"",""]
[386,{"$f":"IF(ISERROR(MATCH(A390,Data!A:A,0)),\"\",MATCH(A390,Data!A:A,0))","v":""},{"$f":"IF(ISERROR(INDEX(Data!I:I,Report!$B390)),\"\",INDEX(Data!I:I,Report!$B390))","v":""},{"$f":"IF(ISERROR(INDEX(Data!J:J,Report!$B390)),\"\",INDEX(Data!J:J,Report!$B390))","v":""},{"$f":"IF(ISERROR(INDEX(Data!K:K,Report!$B390)),\"\",INDEX(Data!K:K,Report!$B390))","v":""},{"$f":"IF(ISERROR(INDEX(Data!L:L,Report!$B390)),\"\",INDEX(Data!L:L,Report!$B390))","v":""},null,{"$f":"IF(ISERROR(INDEX(Data!N:N,Report!$B390)),\"\",INDEX(Data!N:N,Report!$B390))","v":""},{"$f":"IF(ISERROR(INDEX(Data!P:P,Report!$B390)),\"\",INDEX(Data!P:P,Report!$B390))","v":""},{"$f":"IF(ISERROR(INDEX(Data!O:O,Report!$B390)),\"\",INDEX(Data!O:O,Report!$B390))","v":""},{"$f":"IF(ISERROR(INDEX(Data!Q:Q,Report!$B390)),\"\",INDEX(Data!Q:Q,Report!$B390))","v":""},{"$f":"IF(ISERROR(INDEX(Data!R:R,Report!$B390)),\"\",INDEX(Data!R:R,Report!$B390))","v":""},{"$f":"IF(ISERROR(INDEX(Data!S:S,Report!$B390)),\"\",INDEX(Data!S:S,Report!$B390))","v":""},{"$f":"IF(ISERROR(INDEX(Data!T:T,Report!$B390)),\"\",INDEX(Data!T:T,Report!$B390))","v":""},{"$f":"IF(ISERROR(INDEX(Data!U:U,Report!$B390)),\"\",INDEX(Data!U:U,Report!$B390))","v":""},{"$f":"IF(ISERROR(INDEX(Data!V:V,Report!$B390)),\"\",INDEX(Data!V:V,Report!$B390))","v":""},null,"",{"$f":"IF(ISERROR(REPT(\"|\",M390/2)),\"\",REPT(\"|\",M390/2))","v":""}]
[{"$f":"A390+1","v":387},{"$f":"IF(ISERROR(MATCH(A391,Data!A:A,0)),\"\",MATCH(A391,Data!A:A,0))","v":""},{"$f":"IF(ISERROR(INDEX(Data!I:I,Report!$B391)),\"\",INDEX(Data!I:I,Report!$B391))","v":""},{"$f":"IF(ISERROR(INDEX(Data!J:J,Report!$B391)),\"\",INDEX(Data!J:J,Report!$B391))","v":""},{"$f":"IF(ISERROR(INDEX(Data!K:K,Report!$B391)),\"\",INDEX(Data!K:K,Report!$B391))","v":""},{"$f":"IF(ISERROR(INDEX(Data!L:L,Report!$B391)),\"\",INDEX(Data!L:L,Report!$B391))","v":""},null,{"$f":"IF(ISERROR(INDEX(Data!N:N,Report!$B391)),\"\",INDEX(Data!N:N,Report!$B391))","v":""},{"$f":"IF(ISERROR(INDEX(Data!P:P,Report!$B391)),\"\",INDEX(Data!P:P,Report!$B391))","v":""},{"$f":"IF(ISERROR(INDEX(Data!O:O,Report!$B391)),\"\",INDEX(Data!O:O,Report!$B391))","v":""},{"$f":"IF(ISERROR(INDEX(Data!Q:Q,Report!$B391)),\"\",INDEX(Data!Q:Q,Report!$B391))","v":""},{"$f":"IF(ISERROR(INDEX(Data!R:R,Report!$B391)),\"\",INDEX(Data!R:R,Report!$B391))","v":""},{"$f":"IF(ISERROR(INDEX(Data!S:S,Report!$B391)),\"\",INDEX(Data!S:S,Report!$B391))","v":""},{"$f":"IF(ISERROR(INDEX(Data!T:T,Report!$B391)),\"\",INDEX(Data!T:T,Report!$B391))","v":""},{"$f":"IF(ISERROR(INDEX(Data!U:U,Report!$B391)),\"\",INDEX(Data!U:U,Report!$B391))","v":""},{"$f":"IF(ISERROR(INDEX(Data!V:V,Report!$B391)),\"\",INDEX(Data!V:V,Report!$B391))","v":""},null,"",""]
[388,{"$f":"IF(ISERROR(MATCH(A392,Data!A:A,0)),\"\",MATCH(A392,Data!A:A,0))","v":191},{"$f":"IF(ISERROR(INDEX(Data!I:I,Report!$B392)),\"\",INDEX(Data!I:I,Report!$B392))","v":" "},{"$f":"IF(ISERROR(INDEX(Data!J:J,Report!$B392)),\"\",INDEX(Data!J:J,Report!$B392))","v":"User Drill #188  3 line rated mini tennis"},{"$f":"IF(ISERROR(INDEX(Data!K:K,Report!$B392)),\"\",INDEX(Data!K:K,Report!$B392))","v":0},{"$f":"IF(ISERROR(INDEX(Data!L:L,Report!$B392)),\"\",INDEX(Data!L:L,Report!$B392))","v":"New Point"},null,{"$f":"IF(ISERROR(INDEX(Data!N:N,Report!$B392)),\"\",INDEX(Data!N:N,Report!$B392))","v":1},{"$f":"IF(ISERROR(INDEX(Data!P:P,Report!$B392)),\"\",INDEX(Data!P:P,Report!$B392))","v":0},{"$f":"IF(ISERROR(INDEX(Data!O:O,Report!$B392)),\"\",INDEX(Data!O:O,Report!$B392))","v":11},{"$f":"IF(ISERROR(INDEX(Data!Q:Q,Report!$B392)),\"\",INDEX(Data!Q:Q,Report!$B392))","v":3.5},{"$f":"IF(ISERROR(INDEX(Data!R:R,Report!$B392)),\"\",INDEX(Data!R:R,Report!$B392))","v":0},{"$f":"IF(ISERROR(INDEX(Data!S:S,Report!$B392)),\"\",INDEX(Data!S:S,Report!$B392))","v":0},{"$f":"IF(ISERROR(INDEX(Data!T:T,Report!$B392)),\"\",INDEX(Data!T:T,Report!$B392))","v":0},{"$f":"IF(ISERROR(INDEX(Data!U:U,Report!$B392)),\"\",INDEX(Data!U:U,Report!$B392))","v":0},{"$f":"IF(ISERROR(INDEX(Data!V:V,Report!$B392)),\"\",INDEX(Data!V:V,Report!$B392))","v":0},null,"|",""]
[389,{"$f":"IF(ISERROR(MATCH(A393,Data!A:A,0)),\"\",MATCH(A393,Data!A:A,0))","v":""},{"$f":"IF(ISERROR(INDEX(Data!I:I,Report!$B393)),\"\",INDEX(Data!I:I,Report!$B393))","v":""},{"$f":"IF(ISERROR(INDEX(Data!J:J,Report!$B393)),\"\",INDEX(Data!J:J,Report!$B393))","v":""},{"$f":"IF(ISERROR(INDEX(Data!K:K,Report!$B393)),\"\",INDEX(Data!K:K,Report!$B393))","v":""},{"$f":"IF(ISERROR(INDEX(Data!L:L,Report!$B393)),\"\",INDEX(Data!L:L,Report!$B393))","v":""},null,{"$f":"IF(ISERROR(INDEX(Data!N:N,Report!$B393)),\"\",INDEX(Data!N:N,Report!$B393))","v":""},{"$f":"IF(ISERROR(INDEX(Data!P:P,Report!$B393)),\"\",INDEX(Data!P:P,Report!$B393))","v":""},{"$f":"IF(ISERROR(INDEX(Data!O:O,Report!$B393)),\"\",INDEX(Data!O:O,Report!$B393))","v":""},{"$f":"IF(ISERROR(INDEX(Data!Q:Q,Report!$B393)),\"\",INDEX(Data!Q:Q,Report!$B393))","v":""},{"$f":"IF(ISERROR(INDEX(Data!R:R,Report!$B393)),\"\",INDEX(Data!R:R,Report!$B393))","v":""},{"$f":"IF(ISERROR(INDEX(Data!S:S,Report!$B393)),\"\",INDEX(Data!S:S,Report!$B393))","v":""},{"$f":"IF(ISERROR(INDEX(Data!T:T,Report!$B393)),\"\",INDEX(Data!T:T,Report!$B393))","v":""},{"$f":"IF(ISERROR(INDEX(Data!U:U,Report!$B393)),\"\",INDEX(Data!U:U,Report!$B393))","v":""},{"$f":"IF(ISERROR(INDEX(Data!V:V,Report!$B393)),\"\",INDEX(Data!V:V,Report!$B393))","v":""},null,"",""]
[390,{"$f":"IF(ISERROR(MATCH(A394,Data!A:A,0)),\"\",MATCH(A394,Data!A:A,0))","v":""},{"$f":"IF(ISERROR(INDEX(Data!I:I,Report!$B394)),\"\",INDEX(Data!I:I,Report!$B394))","v":""},{"$f":"IF(ISERROR(INDEX(Data!J:J,Report!$B394)),\"\",INDEX(Data!J:J,Report!$B394))","v":""},{"$f":"IF(ISERROR(INDEX(Data!K:K,Report!$B394)),\"\",INDEX(Data!K:K,Report!$B394))","v":""},{"$f":"IF(ISERROR(INDEX(Data!L:L,Report!$B394)),\"\",INDEX(Data!L:L,Report!$B394))","v":""},null,{"$f":"IF(ISERROR(INDEX(Data!N:N,Report!$B394)),\"\",INDEX(Data!N:N,Report!$B394))","v":""},{"$f":"IF(ISERROR(INDEX(Data!P:P,Report!$B394)),\"\",INDEX(Data!P:P,Report!$B394))","v":""},{"$f":"IF(ISERROR(INDEX(Data!O:O,Report!$B394)),\"\",INDEX(Data!O:O,Report!$B394))","v":""},{"$f":"IF(ISERROR(INDEX(Data!Q:Q,Report!$B394)),\"\",INDEX(Data!Q:Q,Report!$B394))","v":""},{"$f":"IF(ISERROR(INDEX(Data!R:R,Report!$B394)),\"\",INDEX(Data!R:R,Report!$B394))","v":""},{"$f":"IF(ISERROR(INDEX(Data!S:S,Report!$B394)),\"\",INDEX(Data!S:S,Report!$B394))","v":""},{"$f":"IF(ISERROR(INDEX(Data!T:T,Report!$B394)),\"\",INDEX(Data!T:T,Report!$B394))","v":""},{"$f":"IF(ISERROR(INDEX(Data!U:U,Report!$B394)),\"\",INDEX(Data!U:U,Report!$B394))","v":""},{"$f":"IF(ISERROR(INDEX(Data!V:V,Report!$B394)),\"\",INDEX(Data!V:V,Report!$B394))","v":""},null,"",""]
[391,{"$f":"IF(ISERROR(MATCH(A395,Data!A:A,0)),\"\",MATCH(A395,Data!A:A,0))","v":""},{"$f":"IF(ISERROR(INDEX(Data!I:I,Report!$B395)),\"\",INDEX(Data!I:I,Report!$B395))","v":""},{"$f":"IF(ISERROR(INDEX(Data!J:J,Report!$B395)),\"\",INDEX(Data!J:J,Report!$B395))","v":""},{"$f":"IF(ISERROR(INDEX(Data!K:K,Report!$B395)),\"\",INDEX(Data!K:K,Report!$B395))","v":""},{"$f":"IF(ISERROR(INDEX(Data!L:L,Report!$B395)),\"\",INDEX(Data!L:L,Report!$B395))","v":""},null,{"$f":"IF(ISERROR(INDEX(Data!N:N,Report!$B395)),\"\",INDEX(Data!N:N,Report!$B395))","v":""},{"$f":"IF(ISERROR(INDEX(Data!P:P,Report!$B395)),\"\",INDEX(Data!P:P,Report!$B395))","v":""},{"$f":"IF(ISERROR(INDEX(Data!O:O,Report!$B395)),\"\",INDEX(Data!O:O,Report!$B395))","v":""},{"$f":"IF(ISERROR(INDEX(Data!Q:Q,Report!$B395)),\"\",INDEX(Data!Q:Q,Report!$B395))","v":""},{"$f":"IF(ISERROR(INDEX(Data!R:R,Report!$B395)),\"\",INDEX(Data!R:R,Report!$B395))","v":""},{"$f":"IF(ISERROR(INDEX(Data!S:S,Report!$B395)),\"\",INDEX(Data!S:S,Report!$B395))","v":""},{"$f":"IF(ISERROR(INDEX(Data!T:T,Report!$B395)),\"\",INDEX(Data!T:T,Report!$B395))","v":""},{"$f":"IF(ISERROR(INDEX(Data!U:U,Report!$B395)),\"\",INDEX(Data!U:U,Report!$B395))","v":""},{"$f":"IF(ISERROR(INDEX(Data!V:V,Report!$B395)),\"\",INDEX(Data!V:V,Report!$B395))","v":""},null,"",""]
[392,{"$f":"IF(ISERROR(MATCH(A396,Data!A:A,0)),\"\",MATCH(A396,Data!A:A,0))","v":192},{"$f":"IF(ISERROR(INDEX(Data!I:I,Report!$B396)),\"\",INDEX(Data!I:I,Report!$B396))","v":"04:42:49"},{"$f":"IF(ISERROR(INDEX(Data!J:J,Report!$B396)),\"\",INDEX(Data!J:J,Report!$B396))","v":"Game against Boomer at level 3.5  Single point data:"},{"$f":"IF(ISERROR(INDEX(Data!K:K,Report!$B396)),\"\",INDEX(Data!K:K,Report!$B396))","v":"Player's point"},{"$f":"IF(ISERROR(INDEX(Data!L:L,Report!$B396)),\"\",INDEX(Data!L:L,Report!$B396))","v":"New Point"},null,{"$f":"IF(ISERROR(INDEX(Data!N:N,Report!$B396)),\"\",INDEX(Data!N:N,Report!$B396))","v":1},{"$f":"IF(ISERROR(INDEX(Data!P:P,Report!$B396)),\"\",INDEX(Data!P:P,Report!$B396))","v":"Player Serve"},{"$f":"IF(ISERROR(INDEX(Data!O:O,Report!$B396)),\"\",INDEX(Data!O:O,Report!$B396))","v":4},{"$f":"IF(ISERROR(INDEX(Data!Q:Q,Report!$B396)),\"\",INDEX(Data!Q:Q,Report!$B396))","v":3.5},{"$f":"IF(ISERROR(INDEX(Data!R:R,Report!$B396)),\"\",INDEX(Data!R:R,Report!$B396))","v":15},{"$f":"IF(ISERROR(INDEX(Data!S:S,Report!$B396)),\"\",INDEX(Data!S:S,Report!$B396))","v":19},{"$f":"IF(ISERROR(INDEX(Data!T:T,Report!$B396)),\"\",INDEX(Data!T:T,Report!$B396))","v":3.7},{"$f":"IF(ISERROR(INDEX(Data!U:U,Report!$B396)),\"\",INDEX(Data!U:U,Report!$B396))","v":114},{"$f":"IF(ISERROR(INDEX(Data!V:V,Report!$B396)),\"\",INDEX(Data!V:V,Report!$B396))","v":5.3},null,"               |","|||||||||"]
[393,{"$f":"IF(ISERROR(MATCH(A397,Data!A:A,0)),\"\",MATCH(A397,Data!A:A,0))","v":""},{"$f":"IF(ISERROR(INDEX(Data!I:I,Report!$B397)),\"\",INDEX(Data!I:I,Report!$B397))","v":""},{"$f":"IF(ISERROR(INDEX(Data!J:J,Report!$B397)),\"\",INDEX(Data!J:J,Report!$B397))","v":""},{"$f":"IF(ISERROR(INDEX(Data!K:K,Report!$B397)),\"\",INDEX(Data!K:K,Report!$B397))","v":""},{"$f":"IF(ISERROR(INDEX(Data!L:L,Report!$B397)),\"\",INDEX(Data!L:L,Report!$B397))","v":""},null,{"$f":"IF(ISERROR(INDEX(Data!N:N,Report!$B397)),\"\",INDEX(Data!N:N,Report!$B397))","v":""},{"$f":"IF(ISERROR(INDEX(Data!P:P,Report!$B397)),\"\",INDEX(Data!P:P,Report!$B397))","v":""},{"$f":"IF(ISERROR(INDEX(Data!O:O,Report!$B397)),\"\",INDEX(Data!O:O,Report!$B397))","v":""},{"$f":"IF(ISERROR(INDEX(Data!Q:Q,Report!$B397)),\"\",INDEX(Data!Q:Q,Report!$B397))","v":""},{"$f":"IF(ISERROR(INDEX(Data!R:R,Report!$B397)),\"\",INDEX(Data!R:R,Report!$B397))","v":""},{"$f":"IF(ISERROR(INDEX(Data!S:S,Report!$B397)),\"\",INDEX(Data!S:S,Report!$B397))","v":""},{"$f":"IF(ISERROR(INDEX(Data!T:T,Report!$B397)),\"\",INDEX(Data!T:T,Report!$B397))","v":""},{"$f":"IF(ISERROR(INDEX(Data!U:U,Report!$B397)),\"\",INDEX(Data!U:U,Report!$B397))","v":""},{"$f":"IF(ISERROR(INDEX(Data!V:V,Report!$B397)),\"\",INDEX(Data!V:V,Report!$B397))","v":""},null,"",""]
[394,{"$f":"IF(ISERROR(MATCH(A398,Data!A:A,0)),\"\",MATCH(A398,Data!A:A,0))","v":""},{"$f":"IF(ISERROR(INDEX(Data!I:I,Report!$B398)),\"\",INDEX(Data!I:I,Report!$B398))","v":""},{"$f":"IF(ISERROR(INDEX(Data!J:J,Report!$B398)),\"\",INDEX(Data!J:J,Report!$B398))","v":""},{"$f":"IF(ISERROR(INDEX(Data!K:K,Report!$B398)),\"\",INDEX(Data!K:K,Report!$B398))","v":""},{"$f":"IF(ISERROR(INDEX(Data!L:L,Report!$B398)),\"\",INDEX(Data!L:L,Report!$B398))","v":""},null,{"$f":"IF(ISERROR(INDEX(Data!N:N,Report!$B398)),\"\",INDEX(Data!N:N,Report!$B398))","v":""},{"$f":"IF(ISERROR(INDEX(Data!P:P,Report!$B398)),\"\",INDEX(Data!P:P,Report!$B398))","v":""},{"$f":"IF(ISERROR(INDEX(Data!O:O,Report!$B398)),\"\",INDEX(Data!O:O,Report!$B398))","v":""},{"$f":"IF(ISERROR(INDEX(Data!Q:Q,Report!$B398)),\"\",INDEX(Data!Q:Q,Report!$B398))","v":""},{"$f":"IF(ISERROR(INDEX(Data!R:R,Report!$B398)),\"\",INDEX(Data!R:R,Report!$B398))","v":""},{"$f":"IF(ISERROR(INDEX(Data!S:S,Report!$B398)),\"\",INDEX(Data!S:S,Report!$B398))","v":""},{"$f":"IF(ISERROR(INDEX(Data!T:T,Report!$B398)),\"\",INDEX(Data!T:T,Report!$B398))","v":""},{"$f":"IF(ISERROR(INDEX(Data!U:U,Report!$B398)),\"\",INDEX(Data!U:U,Report!$B398))","v":""},{"$f":"IF(ISERROR(INDEX(Data!V:V,Report!$B398)),\"\",INDEX(Data!V:V,Report!$B398))","v":""},null,"",""]
[395,{"$f":"IF(ISERROR(MATCH(A399,Data!A:A,0)),\"\",MATCH(A399,Data!A:A,0))","v":""},{"$f":"IF(ISERROR(INDEX(Data!I:I,Report!$B399)),\"\",INDEX(Data!I:I,Report!$B399))","v":""},{"$f":"IF(ISERROR(INDEX(Data!J:J,Report!$B399)),\"\",INDEX(Data!J:J,Report!$B399))","v":""},{"$f":"IF(ISERROR(INDEX(Data!K:K,Report!$B399)),\"\",INDEX(Data!K:K,Report!$B399))","v":""},{"$f":"IF(ISERROR(INDEX(Data!L:L,Report!$B399)),\"\",INDEX(Data!L:L,Report!$B399))","v":""},null,{"$f":"IF(ISERROR(INDEX(Data!N:N,Report!$B399)),\"\",INDEX(Data!N:N,Report!$B399))","v":""},{"$f":"IF(ISERROR(INDEX(Data!P:P,Report!$B399)),\"\",INDEX(Data!P:P,Report!$B399))","v":""},{"$f":"IF(ISERROR(INDEX(Data!O:O,Report!$B399)),\"\",INDEX(Data!O:O,Report!$B399))","v":""},{"$f":"IF(ISERROR(INDEX(Data!Q:Q,Report!$B399)),\"\",INDEX(Data!Q:Q,Report!$B399))","v":""},{"$f":"IF(ISERROR(INDEX(Data!R:R,Report!$B399)),\"\",INDEX(Data!R:R,Report!$B399))","v":""},{"$f":"IF(ISERROR(INDEX(Data!S:S,Report!$B399)),\"\",INDEX(Data!S:S,Report!$B399))","v":""},{"$f":"IF(ISERROR(INDEX(Data!T:T,Report!$B399)),\"\",INDEX(Data!T:T,Report!$B399))","v":""},{"$f":"IF(ISERROR(INDEX(Data!U:U,Report!$B399)),\"\",INDEX(Data!U:U,Report!$B399))","v":""},{"$f":"IF(ISERROR(INDEX(Data!V:V,Report!$B399)),\"\",INDEX(Data!V:V,Report!$B399))","v":""},null,"",""]
[396,{"$f":"IF(ISERROR(MATCH(A400,Data!A:A,0)),\"\",MATCH(A400,Data!A:A,0))","v":193},{"$f":"IF(ISERROR(INDEX(Data!I:I,Report!$B400)),\"\",INDEX(Data!I:I,Report!$B400))","v":"00:40:31"},{"$f":"IF(ISERROR(INDEX(Data!J:J,Report!$B400)),\"\",INDEX(Data!J:J,Report!$B400))","v":"Game against Boomer at level 2.0  Single point data:"},{"$f":"IF(ISERROR(INDEX(Data!K:K,Report!$B400)),\"\",INDEX(Data!K:K,Report!$B400))","v":"Player's point"},{"$f":"IF(ISERROR(INDEX(Data!L:L,Report!$B400)),\"\",INDEX(Data!L:L,Report!$B400))","v":"New Point"},null,{"$f":"IF(ISERROR(INDEX(Data!N:N,Report!$B400)),\"\",INDEX(Data!N:N,Report!$B400))","v":1},{"$f":"IF(ISERROR(INDEX(Data!P:P,Report!$B400)),\"\",INDEX(Data!P:P,Report!$B400))","v":"Player Serve"},{"$f":"IF(ISERROR(INDEX(Data!O:O,Report!$B400)),\"\",INDEX(Data!O:O,Report!$B400))","v":4},{"$f":"IF(ISERROR(INDEX(Data!Q:Q,Report!$B400)),\"\",INDEX(Data!Q:Q,Report!$B400))","v":2},{"$f":"IF(ISERROR(INDEX(Data!R:R,Report!$B400)),\"\",INDEX(Data!R:R,Report!$B400))","v":17},{"$f":"IF(ISERROR(INDEX(Data!S:S,Report!$B400)),\"\",INDEX(Data!S:S,Report!$B400))","v":18},{"$f":"IF(ISERROR(INDEX(Data!T:T,Report!$B400)),\"\",INDEX(Data!T:T,Report!$B400))","v":4.5},{"$f":"IF(ISERROR(INDEX(Data!U:U,Report!$B400)),\"\",INDEX(Data!U:U,Report!$B400))","v":107},{"$f":"IF(ISERROR(INDEX(Data!V:V,Report!$B400)),\"\",INDEX(Data!V:V,Report!$B400))","v":5.6},null,"                 |","|||||||||"]
[397,{"$f":"IF(ISERROR(MATCH(A401,Data!A:A,0)),\"\",MATCH(A401,Data!A:A,0))","v":194},{"$f":"IF(ISERROR(INDEX(Data!I:I,Report!$B401)),\"\",INDEX(Data!I:I,Report!$B401))","v":" "},{"$f":"IF(ISERROR(INDEX(Data!J:J,Report!$B401)),\"\",INDEX(Data!J:J,Report!$B401))","v":"User Drill #188  3 line rated mini tennis"},{"$f":"IF(ISERROR(INDEX(Data!K:K,Report!$B401)),\"\",INDEX(Data!K:K,Report!$B401))","v":0},{"$f":"IF(ISERROR(INDEX(Data!L:L,Report!$B401)),\"\",INDEX(Data!L:L,Report!$B401))","v":0},null,{"$f":"IF(ISERROR(INDEX(Data!N:N,Report!$B401)),\"\",INDEX(Data!N:N,Report!$B401))","v":2},{"$f":"IF(ISERROR(INDEX(Data!P:P,Report!$B401)),\"\",INDEX(Data!P:P,Report!$B401))","v":0},{"$f":"IF(ISERROR(INDEX(Data!O:O,Report!$B401)),\"\",INDEX(Data!O:O,Report!$B401))","v":4},{"$f":"IF(ISERROR(INDEX(Data!Q:Q,Report!$B401)),\"\",INDEX(Data!Q:Q,Report!$B401))","v":3.5},{"$f":"IF(ISERROR(INDEX(Data!R:R,Report!$B401)),\"\",INDEX(Data!R:R,Report!$B401))","v":0},{"$f":"IF(ISERROR(INDEX(Data!S:S,Report!$B401)),\"\",INDEX(Data!S:S,Report!$B401))","v":0},{"$f":"IF(ISERROR(INDEX(Data!T:T,Report!$B401)),\"\",INDEX(Data!T:T,Report!$B401))","v":0},{"$f":"IF(ISERROR(INDEX(Data!U:U,Report!$B401)),\"\",INDEX(Data!U:U,Report!$B401))","v":0},{"$f":"IF(ISERROR(INDEX(Data!V:V,Report!$B401)),\"\",INDEX(Data!V:V,Report!$B401))","v":0},null,"|",""]
[398,{"$f":"IF(ISERROR(MATCH(A402,Data!A:A,0)),\"\",MATCH(A402,Data!A:A,0))","v":195},{"$f":"IF(ISERROR(INDEX(Data!I:I,Report!$B402)),\"\",INDEX(Data!I:I,Report!$B402))","v":" "},{"$f":"IF(ISERROR(INDEX(Data!J:J,Report!$B402)),\"\",INDEX(Data!J:J,Report!$B402))","v":"User Drill #188  3 line rated mini tennis"},{"$f":"IF(ISERROR(INDEX(Data!K:K,Report!$B402)),\"\",INDEX(Data!K:K,Report!$B402))","v":0},{"$f":"IF(ISERROR(INDEX(Data!L:L,Report!$B402)),\"\",INDEX(Data!L:L,Report!$B402))","v":0},null,{"$f":"IF(ISERROR(INDEX(Data!N:N,Report!$B402)),\"\",INDEX(Data!N:N,Report!$B402))","v":3},{"$f":"IF(ISERROR(INDEX(Data!P:P,Report!$B402)),\"\",INDEX(Data!P:P,Report!$B402))","v":0},{"$f":"IF(ISERROR(INDEX(Data!O:O,Report!$B402)),\"\",INDEX(Data!O:O,Report!$B402))","v":10},{"$f":"IF(ISERROR(INDEX(Data!Q:Q,Report!$B402)),\"\",INDEX(Data!Q:Q,Report!$B402))","v":3.5},{"$f":"IF(ISERROR(INDEX(Data!R:R,Report!$B402)),\"\",INDEX(Data!R:R,Report!$B402))","v":0},{"$f":"IF(ISERROR(INDEX(Data!S:S,Report!$B402)),\"\",INDEX(Data!S:S,Report!$B402))","v":0},{"$f":"IF(ISERROR(INDEX(Data!T:T,Report!$B402)),\"\",INDEX(Data!T:T,Report!$B402))","v":0},{"$f":"IF(ISERROR(INDEX(Data!U:U,Report!$B402)),\"\",INDEX(Data!U:U,Report!$B402))","v":0},{"$f":"IF(ISERROR(INDEX(Data!V:V,Report!$B402)),\"\",INDEX(Data!V:V,Report!$B402))","v":0},null,"|",""]
[399,{"$f":"IF(ISERROR(MATCH(A403,Data!A:A,0)),\"\",MATCH(A403,Data!A:A,0))","v":""},{"$f":"IF(ISERROR(INDEX(Data!I:I,Report!$B403)),\"\",INDEX(Data!I:I,Report!$B403))","v":""},{"$f":"IF(ISERROR(INDEX(Data!J:J,Report!$B403)),\"\",INDEX(Data!J:J,Report!$B403))","v":""},{"$f":"IF(ISERROR(INDEX(Data!K:K,Report!$B403)),\"\",INDEX(Data!K:K,Report!$B403))","v":""},{"$f":"IF(ISERROR(INDEX(Data!L:L,Report!$B403)),\"\",INDEX(Data!L:L,Report!$B403))","v":""},null,{"$f":"IF(ISERROR(INDEX(Data!N:N,Report!$B403)),\"\",INDEX(Data!N:N,Report!$B403))","v":""},{"$f":"IF(ISERROR(INDEX(Data!P:P,Report!$B403)),\"\",INDEX(Data!P:P,Report!$B403))","v":""},{"$f":"IF(ISERROR(INDEX(Data!O:O,Report!$B403)),\"\",INDEX(Data!O:O,Report!$B403))","v":""},{"$f":"IF(ISERROR(INDEX(Data!Q:Q,Report!$B403)),\"\",INDEX(Data!Q:Q,Report!$B403))","v":""},{"$f":"IF(ISERROR(INDEX(Data!R:R,Report!$B403)),\"\",INDEX(Data!R:R,Report!$B403))","v":""},{"$f":"IF(ISERROR(INDEX(Data!S:S,Report!$B403)),\"\",INDEX(Data!S:S,Report!$B403))","v":""},{"$f":"IF(ISERROR(INDEX(Data!T:T,Report!$B403)),\"\",INDEX(Data!T:T,Report!$B403))","v":""},{"$f":"IF(ISERROR(INDEX(Data!U:U,Report!$B403)),\"\",INDEX(Data!U:U,Report!$B403))","v":""},{"$f":"IF(ISERROR(INDEX(Data!V:V,Report!$B403)),\"\",INDEX(Data!V:V,Report!$B403))","v":""},null,"",""]
[400,{"$f":"IF(ISERROR(MATCH(A404,Data!A:A,0)),\"\",MATCH(A404,Data!A:A,0))","v":""},{"$f":"IF(ISERROR(INDEX(Data!I:I,Report!$B404)),\"\",INDEX(Data!I:I,Report!$B404))","v":""},{"$f":"IF(ISERROR(INDEX(Data!J:J,Report!$B404)),\"\",INDEX(Data!J:J,Report!$B404))","v":""},{"$f":"IF(ISERROR(INDEX(Data!K:K,Report!$B404)),\"\",INDEX(Data!K:K,Report!$B404))","v":""},{"$f":"IF(ISERROR(INDEX(Data!L:L,Report!$B404)),\"\",INDEX(Data!L:L,Report!$B404))","v":""},null,{"$f":"IF(ISERROR(INDEX(Data!N:N,Report!$B404)),\"\",INDEX(Data!N:N,Report!$B404))","v":""},{"$f":"IF(ISERROR(INDEX(Data!P:P,Report!$B404)),\"\",INDEX(Data!P:P,Report!$B404))","v":""},{"$f":"IF(ISERROR(INDEX(Data!O:O,Report!$B404)),\"\",INDEX(Data!O:O,Report!$B404))","v":""},{"$f":"IF(ISERROR(INDEX(Data!Q:Q,Report!$B404)),\"\",INDEX(Data!Q:Q,Report!$B404))","v":""},{"$f":"IF(ISERROR(INDEX(Data!R:R,Report!$B404)),\"\",INDEX(Data!R:R,Report!$B404))","v":""},{"$f":"IF(ISERROR(INDEX(Data!S:S,Report!$B404)),\"\",INDEX(Data!S:S,Report!$B404))","v":""},{"$f":"IF(ISERROR(INDEX(Data!T:T,Report!$B404)),\"\",INDEX(Data!T:T,Report!$B404))","v":""},{"$f":"IF(ISERROR(INDEX(Data!U:U,Report!$B404)),\"\",INDEX(Data!U:U,Report!$B404))","v":""},{"$f":"IF(ISERROR(INDEX(Data!V:V,Report!$B404)),\"\",INDEX(Data!V:V,Report!$B404))","v":""},null,"",""]
[401,{"$f":"IF(ISERROR(MATCH(A405,Data!A:A,0)),\"\",MATCH(A405,Data!A:A,0))","v":""},{"$f":"IF(ISERROR(INDEX(Data!I:I,Report!$B405)),\"\",INDEX(Data!I:I,Report!$B405))","v":""},{"$f":"IF(ISERROR(INDEX(Data!J:J,Report!$B405)),\"\",INDEX(Data!J:J,Report!$B405))","v":""},{"$f":"IF(ISERROR(INDEX(Data!K:K,Report!$B405)),\"\",INDEX(Data!K:K,Report!$B405))","v":""},{"$f":"IF(ISERROR(INDEX(Data!L:L,Report!$B405)),\"\",INDEX(Data!L:L,Report!$B405))","v":""},null,{"$f":"IF(ISERROR(INDEX(Data!N:N,Report!$B405)),\"\",INDEX(Data!N:N,Report!$B405))","v":""},{"$f":"IF(ISERROR(INDEX(Data!P:P,Report!$B405)),\"\",INDEX(Data!P:P,Report!$B405))","v":""},{"$f":"IF(ISERROR(INDEX(Data!O:O,Report!$B405)),\"\",INDEX(Data!O:O,Report!$B405))","v":""},{"$f":"IF(ISERROR(INDEX(Data!Q:Q,Report!$B405)),\"\",INDEX(Data!Q:Q,Report!$B405))","v":""},{"$f":"IF(ISERROR(INDEX(Data!R:R,Report!$B405)),\"\",INDEX(Data!R:R,Report!$B405))","v":""},{"$f":"IF(ISERROR(INDEX(Data!S:S,Report!$B405)),\"\",INDEX(Data!S:S,Report!$B405))","v":""},{"$f":"IF(ISERROR(INDEX(Data!T:T,Report!$B405)),\"\",INDEX(Data!T:T,Report!$B405))","v":""},{"$f":"IF(ISERROR(INDEX(Data!U:U,Report!$B405)),\"\",INDEX(Data!U:U,Report!$B405))","v":""},{"$f":"IF(ISERROR(INDEX(Data!V:V,Report!$B405)),\"\",INDEX(Data!V:V,Report!$B405))","v":""},null,"",""]
[402,{"$f":"IF(ISERROR(MATCH(A406,Data!A:A,0)),\"\",MATCH(A406,Data!A:A,0))","v":196},{"$f":"IF(ISERROR(INDEX(Data!I:I,Report!$B406)),\"\",INDEX(Data!I:I,Report!$B406))","v":"00:40:50"},{"$f":"IF(ISERROR(INDEX(Data!J:J,Report!$B406)),\"\",INDEX(Data!J:J,Report!$B406))","v":"Game against Boomer at level 2.0  Single point data:"},{"$f":"IF(ISERROR(INDEX(Data!K:K,Report!$B406)),\"\",INDEX(Data!K:K,Report!$B406))","v":"Player's point"},{"$f":"IF(ISERROR(INDEX(Data!L:L,Report!$B406)),\"\",INDEX(Data!L:L,Report!$B406))","v":"New Point"},null,{"$f":"IF(ISERROR(INDEX(Data!N:N,Report!$B406)),\"\",INDEX(Data!N:N,Report!$B406))","v":1},{"$f":"IF(ISERROR(INDEX(Data!P:P,Report!$B406)),\"\",INDEX(Data!P:P,Report!$B406))","v":"Player Serve"},{"$f":"IF(ISERROR(INDEX(Data!O:O,Report!$B406)),\"\",INDEX(Data!O:O,Report!$B406))","v":4},{"$f":"IF(ISERROR(INDEX(Data!Q:Q,Report!$B406)),\"\",INDEX(Data!Q:Q,Report!$B406))","v":2},{"$f":"IF(ISERROR(INDEX(Data!R:R,Report!$B406)),\"\",INDEX(Data!R:R,Report!$B406))","v":18},{"$f":"IF(ISERROR(INDEX(Data!S:S,Report!$B406)),\"\",INDEX(Data!S:S,Report!$B406))","v":7},{"$f":"IF(ISERROR(INDEX(Data!T:T,Report!$B406)),\"\",INDEX(Data!T:T,Report!$B406))","v":3.9},{"$f":"IF(ISERROR(INDEX(Data!U:U,Report!$B406)),\"\",INDEX(Data!U:U,Report!$B406))","v":104},{"$f":"IF(ISERROR(INDEX(Data!V:V,Report!$B406)),\"\",INDEX(Data!V:V,Report!$B406))","v":5.2},null,"                  |","|||"]
[403,{"$f":"IF(ISERROR(MATCH(A407,Data!A:A,0)),\"\",MATCH(A407,Data!A:A,0))","v":""},{"$f":"IF(ISERROR(INDEX(Data!I:I,Report!$B407)),\"\",INDEX(Data!I:I,Report!$B407))","v":""},{"$f":"IF(ISERROR(INDEX(Data!J:J,Report!$B407)),\"\",INDEX(Data!J:J,Report!$B407))","v":""},{"$f":"IF(ISERROR(INDEX(Data!K:K,Report!$B407)),\"\",INDEX(Data!K:K,Report!$B407))","v":""},{"$f":"IF(ISERROR(INDEX(Data!L:L,Report!$B407)),\"\",INDEX(Data!L:L,Report!$B407))","v":""},null,{"$f":"IF(ISERROR(INDEX(Data!N:N,Report!$B407)),\"\",INDEX(Data!N:N,Report!$B407))","v":""},{"$f":"IF(ISERROR(INDEX(Data!P:P,Report!$B407)),\"\",INDEX(Data!P:P,Report!$B407))","v":""},{"$f":"IF(ISERROR(INDEX(Data!O:O,Report!$B407)),\"\",INDEX(Data!O:O,Report!$B407))","v":""},{"$f":"IF(ISERROR(INDEX(Data!Q:Q,Report!$B407)),\"\",INDEX(Data!Q:Q,Report!$B407))","v":""},{"$f":"IF(ISERROR(INDEX(Data!R:R,Report!$B407)),\"\",INDEX(Data!R:R,Report!$B407))","v":""},{"$f":"IF(ISERROR(INDEX(Data!S:S,Report!$B407)),\"\",INDEX(Data!S:S,Report!$B407))","v":""},{"$f":"IF(ISERROR(INDEX(Data!T:T,Report!$B407)),\"\",INDEX(Data!T:T,Report!$B407))","v":""},{"$f":"IF(ISERROR(INDEX(Data!U:U,Report!$B407)),\"\",INDEX(Data!U:U,Report!$B407))","v":""},{"$f":"IF(ISERROR(INDEX(Data!V:V,Report!$B407)),\"\",INDEX(Data!V:V,Report!$B407))","v":""},null,"",""]
[404,{"$f":"IF(ISERROR(MATCH(A408,Data!A:A,0)),\"\",MATCH(A408,Data!A:A,0))","v":""},{"$f":"IF(ISERROR(INDEX(Data!I:I,Report!$B408)),\"\",INDEX(Data!I:I,Report!$B408))","v":""},{"$f":"IF(ISERROR(INDEX(Data!J:J,Report!$B408)),\"\",INDEX(Data!J:J,Report!$B408))","v":""},{"$f":"IF(ISERROR(INDEX(Data!K:K,Report!$B408)),\"\",INDEX(Data!K:K,Report!$B408))","v":""},{"$f":"IF(ISERROR(INDEX(Data!L:L,Report!$B408)),\"\",INDEX(Data!L:L,Report!$B408))","v":""},null,{"$f":"IF(ISERROR(INDEX(Data!N:N,Report!$B408)),\"\",INDEX(Data!N:N,Report!$B408))","v":""},{"$f":"IF(ISERROR(INDEX(Data!P:P,Report!$B408)),\"\",INDEX(Data!P:P,Report!$B408))","v":""},{"$f":"IF(ISERROR(INDEX(Data!O:O,Report!$B408)),\"\",INDEX(Data!O:O,Report!$B408))","v":""},{"$f":"IF(ISERROR(INDEX(Data!Q:Q,Report!$B408)),\"\",INDEX(Data!Q:Q,Report!$B408))","v":""},{"$f":"IF(ISERROR(INDEX(Data!R:R,Report!$B408)),\"\",INDEX(Data!R:R,Report!$B408))","v":""},{"$f":"IF(ISERROR(INDEX(Data!S:S,Report!$B408)),\"\",INDEX(Data!S:S,Report!$B408))","v":""},{"$f":"IF(ISERROR(INDEX(Data!T:T,Report!$B408)),\"\",INDEX(Data!T:T,Report!$B408))","v":""},{"$f":"IF(ISERROR(INDEX(Data!U:U,Report!$B408)),\"\",INDEX(Data!U:U,Report!$B408))","v":""},{"$f":"IF(ISERROR(INDEX(Data!V:V,Report!$B408)),\"\",INDEX(Data!V:V,Report!$B408))","v":""},null,"",""]
[405,{"$f":"IF(ISERROR(MATCH(A409,Data!A:A,0)),\"\",MATCH(A409,Data!A:A,0))","v":""},{"$f":"IF(ISERROR(INDEX(Data!I:I,Report!$B409)),\"\",INDEX(Data!I:I,Report!$B409))","v":""},{"$f":"IF(ISERROR(INDEX(Data!J:J,Report!$B409)),\"\",INDEX(Data!J:J,Report!$B409))","v":""},{"$f":"IF(ISERROR(INDEX(Data!K:K,Report!$B409)),\"\",INDEX(Data!K:K,Report!$B409))","v":""},{"$f":"IF(ISERROR(INDEX(Data!L:L,Report!$B409)),\"\",INDEX(Data!L:L,Report!$B409))","v":""},null,{"$f":"IF(ISERROR(INDEX(Data!N:N,Report!$B409)),\"\",INDEX(Data!N:N,Report!$B409))","v":""},{"$f":"IF(ISERROR(INDEX(Data!P:P,Report!$B409)),\"\",INDEX(Data!P:P,Report!$B409))","v":""},{"$f":"IF(ISERROR(INDEX(Data!O:O,Report!$B409)),\"\",INDEX(Data!O:O,Report!$B409))","v":""},{"$f":"IF(ISERROR(INDEX(Data!Q:Q,Report!$B409)),\"\",INDEX(Data!Q:Q,Report!$B409))","v":""},{"$f":"IF(ISERROR(INDEX(Data!R:R,Report!$B409)),\"\",INDEX(Data!R:R,Report!$B409))","v":""},{"$f":"IF(ISERROR(INDEX(Data!S:S,Report!$B409)),\"\",INDEX(Data!S:S,Report!$B409))","v":""},{"$f":"IF(ISERROR(INDEX(Data!T:T,Report!$B409)),\"\",INDEX(Data!T:T,Report!$B409))","v":""},{"$f":"IF(ISERROR(INDEX(Data!U:U,Report!$B409)),\"\",INDEX(Data!U:U,Report!$B409))","v":""},{"$f":"IF(ISERROR(INDEX(Data!V:V,Report!$B409)),\"\",INDEX(Data!V:V,Report!$B409))","v":""},null,"",""]
[406,{"$f":"IF(ISERROR(MATCH(A410,Data!A:A,0)),\"\",MATCH(A410,Data!A:A,0))","v":197},{"$f":"IF(ISERROR(INDEX(Data!I:I,Report!$B410)),\"\",INDEX(Data!I:I,Report!$B410))","v":" "},{"$f":"IF(ISERROR(INDEX(Data!J:J,Report!$B410)),\"\",INDEX(Data!J:J,Report!$B410))","v":"User Drill #188  3 line rated mini tennis"},{"$f":"IF(ISERROR(INDEX(Data!K:K,Report!$B410)),\"\",INDEX(Data!K:K,Report!$B410))","v":0},{"$f":"IF(ISERROR(INDEX(Data!L:L,Report!$B410)),\"\",INDEX(Data!L:L,Report!$B410))","v":"New Point"},null,{"$f":"IF(ISERROR(INDEX(Data!N:N,Report!$B410)),\"\",INDEX(Data!N:N,Report!$B410))","v":1},{"$f":"IF(ISERROR(INDEX(Data!P:P,Report!$B410)),\"\",INDEX(Data!P:P,Report!$B410))","v":0},{"$f":"IF(ISERROR(INDEX(Data!O:O,Report!$B410)),\"\",INDEX(Data!O:O,Report!$B410))","v":11},{"$f":"IF(ISERROR(INDEX(Data!Q:Q,Report!$B410)),\"\",INDEX(Data!Q:Q,Report!$B410))","v":3.5},{"$f":"IF(ISERROR(INDEX(Data!R:R,Report!$B410)),\"\",INDEX(Data!R:R,Report!$B410))","v":20},{"$f":"IF(ISERROR(INDEX(Data!S:S,Report!$B410)),\"\",INDEX(Data!S:S,Report!$B410))","v":18},{"$f":"IF(ISERROR(INDEX(Data!T:T,Report!$B410)),\"\",INDEX(Data!T:T,Report!$B410))","v":3.5},{"$f":"IF(ISERROR(INDEX(Data!U:U,Report!$B410)),\"\",INDEX(Data!U:U,Report!$B410))","v":32},{"$f":"IF(ISERROR(INDEX(Data!V:V,Report!$B410)),\"\",INDEX(Data!V:V,Report!$B410))","v":3.9},null,"                    |","|||||||||"]
[407,{"$f":"IF(ISERROR(MATCH(A411,Data!A:A,0)),\"\",MATCH(A411,Data!A:A,0))","v":""},{"$f":"IF(ISERROR(INDEX(Data!I:I,Report!$B411)),\"\",INDEX(Data!I:I,Report!$B411))","v":""},{"$f":"IF(ISERROR(INDEX(Data!J:J,Report!$B411)),\"\",INDEX(Data!J:J,Report!$B411))","v":""},{"$f":"IF(ISERROR(INDEX(Data!K:K,Report!$B411)),\"\",INDEX(Data!K:K,Report!$B411))","v":""},{"$f":"IF(ISERROR(INDEX(Data!L:L,Report!$B411)),\"\",INDEX(Data!L:L,Report!$B411))","v":""},null,{"$f":"IF(ISERROR(INDEX(Data!N:N,Report!$B411)),\"\",INDEX(Data!N:N,Report!$B411))","v":""},{"$f":"IF(ISERROR(INDEX(Data!P:P,Report!$B411)),\"\",INDEX(Data!P:P,Report!$B411))","v":""},{"$f":"IF(ISERROR(INDEX(Data!O:O,Report!$B411)),\"\",INDEX(Data!O:O,Report!$B411))","v":""},{"$f":"IF(ISERROR(INDEX(Data!Q:Q,Report!$B411)),\"\",INDEX(Data!Q:Q,Report!$B411))","v":""},{"$f":"IF(ISERROR(INDEX(Data!R:R,Report!$B411)),\"\",INDEX(Data!R:R,Report!$B411))","v":""},{"$f":"IF(ISERROR(INDEX(Data!S:S,Report!$B411)),\"\",INDEX(Data!S:S,Report!$B411))","v":""},{"$f":"IF(ISERROR(INDEX(Data!T:T,Report!$B411)),\"\",INDEX(Data!T:T,Report!$B411))","v":""},{"$f":"IF(ISERROR(INDEX(Data!U:U,Report!$B411)),\"\",INDEX(Data!U:U,Report!$B411))","v":""},{"$f":"IF(ISERROR(INDEX(Data!V:V,Report!$B411)),\"\",INDEX(Data!V:V,Report!$B411))","v":""},null,"",""]
[408,{"$f":"IF(ISERROR(MATCH(A412,Data!A:A,0)),\"\",MATCH(A412,Data!A:A,0))","v":""},{"$f":"IF(ISERROR(INDEX(Data!I:I,Report!$B412)),\"\",INDEX(Data!I:I,Report!$B412))","v":""},{"$f":"IF(ISERROR(INDEX(Data!J:J,Report!$B412)),\"\",INDEX(Data!J:J,Report!$B412))","v":""},{"$f":"IF(ISERROR(INDEX(Data!K:K,Report!$B412)),\"\",INDEX(Data!K:K,Report!$B412))","v":""},{"$f":"IF(ISERROR(INDEX(Data!L:L,Report!$B412)),\"\",INDEX(Data!L:L,Report!$B412))","v":""},null,{"$f":"IF(ISERROR(INDEX(Data!N:N,Report!$B412)),\"\",INDEX(Data!N:N,Report!$B412))","v":""},{"$f":"IF(ISERROR(INDEX(Data!P:P,Report!$B412)),\"\",INDEX(Data!P:P,Report!$B412))","v":""},{"$f":"IF(ISERROR(INDEX(Data!O:O,Report!$B412)),\"\",INDEX(Data!O:O,Report!$B412))","v":""},{"$f":"IF(ISERROR(INDEX(Data!Q:Q,Report!$B412)),\"\",INDEX(Data!Q:Q,Report!$B412))","v":""},{"$f":"IF(ISERROR(INDEX(Data!R:R,Report!$B412)),\"\",INDEX(Data!R:R,Report!$B412))","v":""},{"$f":"IF(ISERROR(INDEX(Data!S:S,Report!$B412)),\"\",INDEX(Data!S:S,Report!$B412))","v":""},{"$f":"IF(ISERROR(INDEX(Data!T:T,Report!$B412)),\"\",INDEX(Data!T:T,Report!$B412))","v":""},{"$f":"IF(ISERROR(INDEX(Data!U:U,Report!$B412)),\"\",INDEX(Data!U:U,Report!$B412))","v":""},{"$f":"IF(ISERROR(INDEX(Data!V:V,Report!$B412)),\"\",INDEX(Data!V:V,Report!$B412))","v":""},null,"",""]
[409,{"$f":"IF(ISERROR(MATCH(A413,Data!A:A,0)),\"\",MATCH(A413,Data!A:A,0))","v":""},{"$f":"IF(ISERROR(INDEX(Data!I:I,Report!$B413)),\"\",INDEX(Data!I:I,Report!$B413))","v":""},{"$f":"IF(ISERROR(INDEX(Data!J:J,Report!$B413)),\"\",INDEX(Data!J:J,Report!$B413))","v":""},{"$f":"IF(ISERROR(INDEX(Data!K:K,Report!$B413)),\"\",INDEX(Data!K:K,Report!$B413))","v":""},{"$f":"IF(ISERROR(INDEX(Data!L:L,Report!$B413)),\"\",INDEX(Data!L:L,Report!$B413))","v":""},null,{"$f":"IF(ISERROR(INDEX(Data!N:N,Report!$B413)),\"\",INDEX(Data!N:N,Report!$B413))","v":""},{"$f":"IF(ISERROR(INDEX(Data!P:P,Report!$B413)),\"\",INDEX(Data!P:P,Report!$B413))","v":""},{"$f":"IF(ISERROR(INDEX(Data!O:O,Report!$B413)),\"\",INDEX(Data!O:O,Report!$B413))","v":""},{"$f":"IF(ISERROR(INDEX(Data!Q:Q,Report!$B413)),\"\",INDEX(Data!Q:Q,Report!$B413))","v":""},{"$f":"IF(ISERROR(INDEX(Data!R:R,Report!$B413)),\"\",INDEX(Data!R:R,Report!$B413))","v":""},{"$f":"IF(ISERROR(INDEX(Data!S:S,Report!$B413)),\"\",INDEX(Data!S:S,Report!$B413))","v":""},{"$f":"IF(ISERROR(INDEX(Data!T:T,Report!$B413)),\"\",INDEX(Data!T:T,Report!$B413))","v":""},{"$f":"IF(ISERROR(INDEX(Data!U:U,Report!$B413)),\"\",INDEX(Data!U:U,Report!$B413))","v":""},{"$f":"IF(ISERROR(INDEX(Data!V:V,Report!$B413)),\"\",INDEX(Data!V:V,Report!$B413))","v":""},null,"",""]
[410,{"$f":"IF(ISERROR(MATCH(A414,Data!A:A,0)),\"\",MATCH(A414,Data!A:A,0))","v":198},{"$f":"IF(ISERROR(INDEX(Data!I:I,Report!$B414)),\"\",INDEX(Data!I:I,Report!$B414))","v":"04:43:25"},{"$f":"IF(ISERROR(INDEX(Data!J:J,Report!$B414)),\"\",INDEX(Data!J:J,Report!$B414))","v":"Game against Boomer at level 3.5  Single point data:"},{"$f":"IF(ISERROR(INDEX(Data!K:K,Report!$B414)),\"\",INDEX(Data!K:K,Report!$B414))","v":"Player's point"},{"$f":"IF(ISERROR(INDEX(Data!L:L,Report!$B414)),\"\",INDEX(Data!L:L,Report!$B414))","v":"New Point"},null,{"$f":"IF(ISERROR(INDEX(Data!N:N,Report!$B414)),\"\",INDEX(Data!N:N,Report!$B414))","v":1},{"$f":"IF(ISERROR(INDEX(Data!P:P,Report!$B414)),\"\",INDEX(Data!P:P,Report!$B414))","v":"Serve"},{"$f":"IF(ISERROR(INDEX(Data!O:O,Report!$B414)),\"\",INDEX(Data!O:O,Report!$B414))","v":8},{"$f":"IF(ISERROR(INDEX(Data!Q:Q,Report!$B414)),\"\",INDEX(Data!Q:Q,Report!$B414))","v":3.5},{"$f":"IF(ISERROR(INDEX(Data!R:R,Report!$B414)),\"\",INDEX(Data!R:R,Report!$B414))","v":34},{"$f":"IF(ISERROR(INDEX(Data!S:S,Report!$B414)),\"\",INDEX(Data!S:S,Report!$B414))","v":3},{"$f":"IF(ISERROR(INDEX(Data!T:T,Report!$B414)),\"\",INDEX(Data!T:T,Report!$B414))","v":6.3},{"$f":"IF(ISERROR(INDEX(Data!U:U,Report!$B414)),\"\",INDEX(Data!U:U,Report!$B414))","v":49},{"$f":"IF(ISERROR(INDEX(Data!V:V,Report!$B414)),\"\",INDEX(Data!V:V,Report!$B414))","v":5.0999999999999996},null,"                                  |","|"]
[411,{"$f":"IF(ISERROR(MATCH(A415,Data!A:A,0)),\"\",MATCH(A415,Data!A:A,0))","v":199},{"$f":"IF(ISERROR(INDEX(Data!I:I,Report!$B415)),\"\",INDEX(Data!I:I,Report!$B415))","v":" "},{"$f":"IF(ISERROR(INDEX(Data!J:J,Report!$B415)),\"\",INDEX(Data!J:J,Report!$B415))","v":"User Drill #188  3 line rated mini tennis"},{"$f":"IF(ISERROR(INDEX(Data!K:K,Report!$B415)),\"\",INDEX(Data!K:K,Report!$B415))","v":0},{"$f":"IF(ISERROR(INDEX(Data!L:L,Report!$B415)),\"\",INDEX(Data!L:L,Report!$B415))","v":0},null,{"$f":"IF(ISERROR(INDEX(Data!N:N,Report!$B415)),\"\",INDEX(Data!N:N,Report!$B415))","v":2},{"$f":"IF(ISERROR(INDEX(Data!P:P,Report!$B415)),\"\",INDEX(Data!P:P,Report!$B415))","v":0},{"$f":"IF(ISERROR(INDEX(Data!O:O,Report!$B415)),\"\",INDEX(Data!O:O,Report!$B415))","v":4},{"$f":"IF(ISERROR(INDEX(Data!Q:Q,Report!$B415)),\"\",INDEX(Data!Q:Q,Report!$B415))","v":3.5},{"$f":"IF(ISERROR(INDEX(Data!R:R,Report!$B415)),\"\",INDEX(Data!R:R,Report!$B415))","v":25},{"$f":"IF(ISERROR(INDEX(Data!S:S,Report!$B415)),\"\",INDEX(Data!S:S,Report!$B415))","v":15},{"$f":"IF(ISERROR(INDEX(Data!T:T,Report!$B415)),\"\",INDEX(Data!T:T,Report!$B415))","v":3.7},{"$f":"IF(ISERROR(INDEX(Data!U:U,Report!$B415)),\"\",INDEX(Data!U:U,Report!$B415))","v":63},{"$f":"IF(ISERROR(INDEX(Data!V:V,Report!$B415)),\"\",INDEX(Data!V:V,Report!$B415))","v":5.3},null,"                         |","|||||||"]
[412,{"$f":"IF(ISERROR(MATCH(A416,Data!A:A,0)),\"\",MATCH(A416,Data!A:A,0))","v":200},{"$f":"IF(ISERROR(INDEX(Data!I:I,Report!$B416)),\"\",INDEX(Data!I:I,Report!$B416))","v":"04:43:25"},{"$f":"IF(ISERROR(INDEX(Data!J:J,Report!$B416)),\"\",INDEX(Data!J:J,Report!$B416))","v":"Game against Boomer at level 3.5  Single point data:"},{"$f":"IF(ISERROR(INDEX(Data!K:K,Report!$B416)),\"\",INDEX(Data!K:K,Report!$B416))","v":"Player's point"},{"$f":"IF(ISERROR(INDEX(Data!L:L,Report!$B416)),\"\",INDEX(Data!L:L,Report!$B416))","v":0},null,{"$f":"IF(ISERROR(INDEX(Data!N:N,Report!$B416)),\"\",INDEX(Data!N:N,Report!$B416))","v":2},{"$f":"IF(ISERROR(INDEX(Data!P:P,Report!$B416)),\"\",INDEX(Data!P:P,Report!$B416))","v":"Pass"},{"$f":"IF(ISERROR(INDEX(Data!O:O,Report!$B416)),\"\",INDEX(Data!O:O,Report!$B416))","v":4},{"$f":"IF(ISERROR(INDEX(Data!Q:Q,Report!$B416)),\"\",INDEX(Data!Q:Q,Report!$B416))","v":3.5},{"$f":"IF(ISERROR(INDEX(Data!R:R,Report!$B416)),\"\",INDEX(Data!R:R,Report!$B416))","v":21},{"$f":"IF(ISERROR(INDEX(Data!S:S,Report!$B416)),\"\",INDEX(Data!S:S,Report!$B416))","v":9},{"$f":"IF(ISERROR(INDEX(Data!T:T,Report!$B416)),\"\",INDEX(Data!T:T,Report!$B416))","v":3.9},{"$f":"IF(ISERROR(INDEX(Data!U:U,Report!$B416)),\"\",INDEX(Data!U:U,Report!$B416))","v":33},{"$f":"IF(ISERROR(INDEX(Data!V:V,Report!$B416)),\"\",INDEX(Data!V:V,Report!$B416))","v":3.2},null,"                     |","||||"]
[413,{"$f":"IF(ISERROR(MATCH(A417,Data!A:A,0)),\"\",MATCH(A417,Data!A:A,0))","v":201},{"$f":"IF(ISERROR(INDEX(Data!I:I,Report!$B417)),\"\",INDEX(Data!I:I,Report!$B417))","v":" "},{"$f":"IF(ISERROR(INDEX(Data!J:J,Report!$B417)),\"\",INDEX(Data!J:J,Report!$B417))","v":"User Drill #188  3 line rated mini tennis"},{"$f":"IF(ISERROR(INDEX(Data!K:K,Report!$B417)),\"\",INDEX(Data!K:K,Report!$B417))","v":0},{"$f":"IF(ISERROR(INDEX(Data!L:L,Report!$B417)),\"\",INDEX(Data!L:L,Report!$B417))","v":0},null,{"$f":"IF(ISERROR(INDEX(Data!N:N,Report!$B417)),\"\",INDEX(Data!N:N,Report!$B417))","v":3},{"$f":"IF(ISERROR(INDEX(Data!P:P,Report!$B417)),\"\",INDEX(Data!P:P,Report!$B417))","v":0},{"$f":"IF(ISERROR(INDEX(Data!O:O,Report!$B417)),\"\",INDEX(Data!O:O,Report!$B417))","v":10},{"$f":"IF(ISERROR(INDEX(Data!Q:Q,Report!$B417)),\"\",INDEX(Data!Q:Q,Report!$B417))","v":3.5},{"$f":"IF(ISERROR(INDEX(Data!R:R,Report!$B417)),\"\",INDEX(Data!R:R,Report!$B417))","v":0},{"$f":"IF(ISERROR(INDEX(Data!S:S,Report!$B417)),\"\",INDEX(Data!S:S,Report!$B417))","v":0},{"$f":"IF(ISERROR(INDEX(Data!T:T,Report!$B417)),\"\",INDEX(Data!T:T,Report!$B417))","v":0},{"$f":"IF(ISERROR(INDEX(Data!U:U,Report!$B417)),\"\",INDEX(Data!U:U,Report!$B417))","v":0},{"$f":"IF(ISERROR(INDEX(Data!V:V,Report!$B417)),\"\",INDEX(Data!V:V,Report!$B417))","v":0},null,"|",""]
[414,{"$f":"IF(ISERROR(MATCH(A418,Data!A:A,0)),\"\",MATCH(A418,Data!A:A,0))","v":202},{"$f":"IF(ISERROR(INDEX(Data!I:I,Report!$B418)),\"\",INDEX(Data!I:I,Report!$B418))","v":"04:43:25"},{"$f":"IF(ISERROR(INDEX(Data!J:J,Report!$B418)),\"\",INDEX(Data!J:J,Report!$B418))","v":"Game against Boomer at level 3.5  Single point data:"},{"$f":"IF(ISERROR(INDEX(Data!K:K,Report!$B418)),\"\",INDEX(Data!K:K,Report!$B418))","v":"Player's point"},{"$f":"IF(ISERROR(INDEX(Data!L:L,Report!$B418)),\"\",INDEX(Data!L:L,Report!$B418))","v":0},null,{"$f":"IF(ISERROR(INDEX(Data!N:N,Report!$B418)),\"\",INDEX(Data!N:N,Report!$B418))","v":3},{"$f":"IF(ISERROR(INDEX(Data!P:P,Report!$B418)),\"\",INDEX(Data!P:P,Report!$B418))","v":"Drop Shot"},{"$f":"IF(ISERROR(INDEX(Data!O:O,Report!$B418)),\"\",INDEX(Data!O:O,Report!$B418))","v":5},{"$f":"IF(ISERROR(INDEX(Data!Q:Q,Report!$B418)),\"\",INDEX(Data!Q:Q,Report!$B418))","v":3.5},{"$f":"IF(ISERROR(INDEX(Data!R:R,Report!$B418)),\"\",INDEX(Data!R:R,Report!$B418))","v":20},{"$f":"IF(ISERROR(INDEX(Data!S:S,Report!$B418)),\"\",INDEX(Data!S:S,Report!$B418))","v":20},{"$f":"IF(ISERROR(INDEX(Data!T:T,Report!$B418)),\"\",INDEX(Data!T:T,Report!$B418))","v":3.7},{"$f":"IF(ISERROR(INDEX(Data!U:U,Report!$B418)),\"\",INDEX(Data!U:U,Report!$B418))","v":50},{"$f":"IF(ISERROR(INDEX(Data!V:V,Report!$B418)),\"\",INDEX(Data!V:V,Report!$B418))","v":4.7},null,"                    |","||||||||||"]
[415,{"$f":"IF(ISERROR(MATCH(A419,Data!A:A,0)),\"\",MATCH(A419,Data!A:A,0))","v":203},{"$f":"IF(ISERROR(INDEX(Data!I:I,Report!$B419)),\"\",INDEX(Data!I:I,Report!$B419))","v":"04:43:25"},{"$f":"IF(ISERROR(INDEX(Data!J:J,Report!$B419)),\"\",INDEX(Data!J:J,Report!$B419))","v":"Game against Boomer at level 3.5  Single point data:"},{"$f":"IF(ISERROR(INDEX(Data!K:K,Report!$B419)),\"\",INDEX(Data!K:K,Report!$B419))","v":"Player's point"},{"$f":"IF(ISERROR(INDEX(Data!L:L,Report!$B419)),\"\",INDEX(Data!L:L,Report!$B419))","v":0},null,{"$f":"IF(ISERROR(INDEX(Data!N:N,Report!$B419)),\"\",INDEX(Data!N:N,Report!$B419))","v":4},{"$f":"IF(ISERROR(INDEX(Data!P:P,Report!$B419)),\"\",INDEX(Data!P:P,Report!$B419))","v":"Lob"},{"$f":"IF(ISERROR(INDEX(Data!O:O,Report!$B419)),\"\",INDEX(Data!O:O,Report!$B419))","v":4},{"$f":"IF(ISERROR(INDEX(Data!Q:Q,Report!$B419)),\"\",INDEX(Data!Q:Q,Report!$B419))","v":3.5},{"$f":"IF(ISERROR(INDEX(Data!R:R,Report!$B419)),\"\",INDEX(Data!R:R,Report!$B419))","v":10},{"$f":"IF(ISERROR(INDEX(Data!S:S,Report!$B419)),\"\",INDEX(Data!S:S,Report!$B419))","v":20},{"$f":"IF(ISERROR(INDEX(Data!T:T,Report!$B419)),\"\",INDEX(Data!T:T,Report!$B419))","v":2.9},{"$f":"IF(ISERROR(INDEX(Data!U:U,Report!$B419)),\"\",INDEX(Data!U:U,Report!$B419))","v":39},{"$f":"IF(ISERROR(INDEX(Data!V:V,Report!$B419)),\"\",INDEX(Data!V:V,Report!$B419))","v":3},null,"          |","||||||||||"]
[416,{"$f":"IF(ISERROR(MATCH(A420,Data!A:A,0)),\"\",MATCH(A420,Data!A:A,0))","v":204},{"$f":"IF(ISERROR(INDEX(Data!I:I,Report!$B420)),\"\",INDEX(Data!I:I,Report!$B420))","v":"04:43:25"},{"$f":"IF(ISERROR(INDEX(Data!J:J,Report!$B420)),\"\",INDEX(Data!J:J,Report!$B420))","v":"Game against Boomer at level 3.5  Single point data:"},{"$f":"IF(ISERROR(INDEX(Data!K:K,Report!$B420)),\"\",INDEX(Data!K:K,Report!$B420))","v":"Player's point"},{"$f":"IF(ISERROR(INDEX(Data!L:L,Report!$B420)),\"\",INDEX(Data!L:L,Report!$B420))","v":0},null,{"$f":"IF(ISERROR(INDEX(Data!N:N,Report!$B420)),\"\",INDEX(Data!N:N,Report!$B420))","v":5},{"$f":"IF(ISERROR(INDEX(Data!P:P,Report!$B420)),\"\",INDEX(Data!P:P,Report!$B420))","v":"Pass"},{"$f":"IF(ISERROR(INDEX(Data!O:O,Report!$B420)),\"\",INDEX(Data!O:O,Report!$B420))","v":5},{"$f":"IF(ISERROR(INDEX(Data!Q:Q,Report!$B420)),\"\",INDEX(Data!Q:Q,Report!$B420))","v":3.5},{"$f":"IF(ISERROR(INDEX(Data!R:R,Report!$B420)),\"\",INDEX(Data!R:R,Report!$B420))","v":25},{"$f":"IF(ISERROR(INDEX(Data!S:S,Report!$B420)),\"\",INDEX(Data!S:S,Report!$B420))","v":11},{"$f":"IF(ISERROR(INDEX(Data!T:T,Report!$B420)),\"\",INDEX(Data!T:T,Report!$B420))","v":4.2},{"$f":"IF(ISERROR(INDEX(Data!U:U,Report!$B420)),\"\",INDEX(Data!U:U,Report!$B420))","v":41},{"$f":"IF(ISERROR(INDEX(Data!V:V,Report!$B420)),\"\",INDEX(Data!V:V,Report!$B420))","v":3.7},null,"                         |","|||||"]
[417,{"$f":"IF(ISERROR(MATCH(A421,Data!A:A,0)),\"\",MATCH(A421,Data!A:A,0))","v":205},{"$f":"IF(ISERROR(INDEX(Data!I:I,Report!$B421)),\"\",INDEX(Data!I:I,Report!$B421))","v":"04:43:25"},{"$f":"IF(ISERROR(INDEX(Data!J:J,Report!$B421)),\"\",INDEX(Data!J:J,Report!$B421))","v":"Game against Boomer at level 3.5  Single point data:"},{"$f":"IF(ISERROR(INDEX(Data!K:K,Report!$B421)),\"\",INDEX(Data!K:K,Report!$B421))","v":"Player's point"},{"$f":"IF(ISERROR(INDEX(Data!L:L,Report!$B421)),\"\",INDEX(Data!L:L,Report!$B421))","v":0},null,{"$f":"IF(ISERROR(INDEX(Data!N:N,Report!$B421)),\"\",INDEX(Data!N:N,Report!$B421))","v":6},{"$f":"IF(ISERROR(INDEX(Data!P:P,Report!$B421)),\"\",INDEX(Data!P:P,Report!$B421))","v":"Topspin"},{"$f":"IF(ISERROR(INDEX(Data!O:O,Report!$B421)),\"\",INDEX(Data!O:O,Report!$B421))","v":3},{"$f":"IF(ISERROR(INDEX(Data!Q:Q,Report!$B421)),\"\",INDEX(Data!Q:Q,Report!$B421))","v":3.5},{"$f":"IF(ISERROR(INDEX(Data!R:R,Report!$B421)),\"\",INDEX(Data!R:R,Report!$B421))","v":32},{"$f":"IF(ISERROR(INDEX(Data!S:S,Report!$B421)),\"\",INDEX(Data!S:S,Report!$B421))","v":23},{"$f":"IF(ISERROR(INDEX(Data!T:T,Report!$B421)),\"\",INDEX(Data!T:T,Report!$B421))","v":6.2},{"$f":"IF(ISERROR(INDEX(Data!U:U,Report!$B421)),\"\",INDEX(Data!U:U,Report!$B421))","v":56},{"$f":"IF(ISERROR(INDEX(Data!V:V,Report!$B421)),\"\",INDEX(Data!V:V,Report!$B421))","v":6.3},null,"                                |","|||||||||||"]
[418,{"$f":"IF(ISERROR(MATCH(A422,Data!A:A,0)),\"\",MATCH(A422,Data!A:A,0))","v":""},{"$f":"IF(ISERROR(INDEX(Data!I:I,Report!$B422)),\"\",INDEX(Data!I:I,Report!$B422))","v":""},{"$f":"IF(ISERROR(INDEX(Data!J:J,Report!$B422)),\"\",INDEX(Data!J:J,Report!$B422))","v":""},{"$f":"IF(ISERROR(INDEX(Data!K:K,Report!$B422)),\"\",INDEX(Data!K:K,Report!$B422))","v":""},{"$f":"IF(ISERROR(INDEX(Data!L:L,Report!$B422)),\"\",INDEX(Data!L:L,Report!$B422))","v":""},null,{"$f":"IF(ISERROR(INDEX(Data!N:N,Report!$B422)),\"\",INDEX(Data!N:N,Report!$B422))","v":""},{"$f":"IF(ISERROR(INDEX(Data!P:P,Report!$B422)),\"\",INDEX(Data!P:P,Report!$B422))","v":""},{"$f":"IF(ISERROR(INDEX(Data!O:O,Report!$B422)),\"\",INDEX(Data!O:O,Report!$B422))","v":""},{"$f":"IF(ISERROR(INDEX(Data!Q:Q,Report!$B422)),\"\",INDEX(Data!Q:Q,Report!$B422))","v":""},{"$f":"IF(ISERROR(INDEX(Data!R:R,Report!$B422)),\"\",INDEX(Data!R:R,Report!$B422))","v":""},{"$f":"IF(ISERROR(INDEX(Data!S:S,Report!$B422)),\"\",INDEX(Data!S:S,Report!$B422))","v":""},{"$f":"IF(ISERROR(INDEX(Data!T:T,Report!$B422)),\"\",INDEX(Data!T:T,Report!$B422))","v":""},{"$f":"IF(ISERROR(INDEX(Data!U:U,Report!$B422)),\"\",INDEX(Data!U:U,Report!$B422))","v":""},{"$f":"IF(ISERROR(INDEX(Data!V:V,Report!$B422)),\"\",INDEX(Data!V:V,Report!$B422))","v":""},null,"",""]
[419,{"$f":"IF(ISERROR(MATCH(A423,Data!A:A,0)),\"\",MATCH(A423,Data!A:A,0))","v":""},{"$f":"IF(ISERROR(INDEX(Data!I:I,Report!$B423)),\"\",INDEX(Data!I:I,Report!$B423))","v":""},{"$f":"IF(ISERROR(INDEX(Data!J:J,Report!$B423)),\"\",INDEX(Data!J:J,Report!$B423))","v":""},{"$f":"IF(ISERROR(INDEX(Data!K:K,Report!$B423)),\"\",INDEX(Data!K:K,Report!$B423))","v":""},{"$f":"IF(ISERROR(INDEX(Data!L:L,Report!$B423)),\"\",INDEX(Data!L:L,Report!$B423))","v":""},null,{"$f":"IF(ISERROR(INDEX(Data!N:N,Report!$B423)),\"\",INDEX(Data!N:N,Report!$B423))","v":""},{"$f":"IF(ISERROR(INDEX(Data!P:P,Report!$B423)),\"\",INDEX(Data!P:P,Report!$B423))","v":""},{"$f":"IF(ISERROR(INDEX(Data!O:O,Report!$B423)),\"\",INDEX(Data!O:O,Report!$B423))","v":""},{"$f":"IF(ISERROR(INDEX(Data!Q:Q,Report!$B423)),\"\",INDEX(Data!Q:Q,Report!$B423))","v":""},{"$f":"IF(ISERROR(INDEX(Data!R:R,Report!$B423)),\"\",INDEX(Data!R:R,Report!$B423))","v":""},{"$f":"IF(ISERROR(INDEX(Data!S:S,Report!$B423)),\"\",INDEX(Data!S:S,Report!$B423))","v":""},{"$f":"IF(ISERROR(INDEX(Data!T:T,Report!$B423)),\"\",INDEX(Data!T:T,Report!$B423))","v":""},{"$f":"IF(ISERROR(INDEX(Data!U:U,Report!$B423)),\"\",INDEX(Data!U:U,Report!$B423))","v":""},{"$f":"IF(ISERROR(INDEX(Data!V:V,Report!$B423)),\"\",INDEX(Data!V:V,Report!$B423))","v":""},null,"",""]
[420,{"$f":"IF(ISERROR(MATCH(A424,Data!A:A,0)),\"\",MATCH(A424,Data!A:A,0))","v":""},{"$f":"IF(ISERROR(INDEX(Data!I:I,Report!$B424)),\"\",INDEX(Data!I:I,Report!$B424))","v":""},{"$f":"IF(ISERROR(INDEX(Data!J:J,Report!$B424)),\"\",INDEX(Data!J:J,Report!$B424))","v":""},{"$f":"IF(ISERROR(INDEX(Data!K:K,Report!$B424)),\"\",INDEX(Data!K:K,Report!$B424))","v":""},{"$f":"IF(ISERROR(INDEX(Data!L:L,Report!$B424)),\"\",INDEX(Data!L:L,Report!$B424))","v":""},null,{"$f":"IF(ISERROR(INDEX(Data!N:N,Report!$B424)),\"\",INDEX(Data!N:N,Report!$B424))","v":""},{"$f":"IF(ISERROR(INDEX(Data!P:P,Report!$B424)),\"\",INDEX(Data!P:P,Report!$B424))","v":""},{"$f":"IF(ISERROR(INDEX(Data!O:O,Report!$B424)),\"\",INDEX(Data!O:O,Report!$B424))","v":""},{"$f":"IF(ISERROR(INDEX(Data!Q:Q,Report!$B424)),\"\",INDEX(Data!Q:Q,Report!$B424))","v":""},{"$f":"IF(ISERROR(INDEX(Data!R:R,Report!$B424)),\"\",INDEX(Data!R:R,Report!$B424))","v":""},{"$f":"IF(ISERROR(INDEX(Data!S:S,Report!$B424)),\"\",INDEX(Data!S:S,Report!$B424))","v":""},{"$f":"IF(ISERROR(INDEX(Data!T:T,Report!$B424)),\"\",INDEX(Data!T:T,Report!$B424))","v":""},{"$f":"IF(ISERROR(INDEX(Data!U:U,Report!$B424)),\"\",INDEX(Data!U:U,Report!$B424))","v":""},{"$f":"IF(ISERROR(INDEX(Data!V:V,Report!$B424)),\"\",INDEX(Data!V:V,Report!$B424))","v":""},null,"",""]
[421,{"$f":"IF(ISERROR(MATCH(A425,Data!A:A,0)),\"\",MATCH(A425,Data!A:A,0))","v":206},{"$f":"IF(ISERROR(INDEX(Data!I:I,Report!$B425)),\"\",INDEX(Data!I:I,Report!$B425))","v":" "},{"$f":"IF(ISERROR(INDEX(Data!J:J,Report!$B425)),\"\",INDEX(Data!J:J,Report!$B425))","v":"User Drill #188  3 line rated mini tennis"},{"$f":"IF(ISERROR(INDEX(Data!K:K,Report!$B425)),\"\",INDEX(Data!K:K,Report!$B425))","v":0},{"$f":"IF(ISERROR(INDEX(Data!L:L,Report!$B425)),\"\",INDEX(Data!L:L,Report!$B425))","v":"New Point"},null,{"$f":"IF(ISERROR(INDEX(Data!N:N,Report!$B425)),\"\",INDEX(Data!N:N,Report!$B425))","v":1},{"$f":"IF(ISERROR(INDEX(Data!P:P,Report!$B425)),\"\",INDEX(Data!P:P,Report!$B425))","v":0},{"$f":"IF(ISERROR(INDEX(Data!O:O,Report!$B425)),\"\",INDEX(Data!O:O,Report!$B425))","v":11},{"$f":"IF(ISERROR(INDEX(Data!Q:Q,Report!$B425)),\"\",INDEX(Data!Q:Q,Report!$B425))","v":3.5},{"$f":"IF(ISERROR(INDEX(Data!R:R,Report!$B425)),\"\",INDEX(Data!R:R,Report!$B425))","v":0},{"$f":"IF(ISERROR(INDEX(Data!S:S,Report!$B425)),\"\",INDEX(Data!S:S,Report!$B425))","v":0},{"$f":"IF(ISERROR(INDEX(Data!T:T,Report!$B425)),\"\",INDEX(Data!T:T,Report!$B425))","v":0},{"$f":"IF(ISERROR(INDEX(Data!U:U,Report!$B425)),\"\",INDEX(Data!U:U,Report!$B425))","v":0},{"$f":"IF(ISERROR(INDEX(Data!V:V,Report!$B425)),\"\",INDEX(Data!V:V,Report!$B425))","v":0},null,"|",""]
[422,{"$f":"IF(ISERROR(MATCH(A426,Data!A:A,0)),\"\",MATCH(A426,Data!A:A,0))","v":""},{"$f":"IF(ISERROR(INDEX(Data!I:I,Report!$B426)),\"\",INDEX(Data!I:I,Report!$B426))","v":""},{"$f":"IF(ISERROR(INDEX(Data!J:J,Report!$B426)),\"\",INDEX(Data!J:J,Report!$B426))","v":""},{"$f":"IF(ISERROR(INDEX(Data!K:K,Report!$B426)),\"\",INDEX(Data!K:K,Report!$B426))","v":""},{"$f":"IF(ISERROR(INDEX(Data!L:L,Report!$B426)),\"\",INDEX(Data!L:L,Report!$B426))","v":""},null,{"$f":"IF(ISERROR(INDEX(Data!N:N,Report!$B426)),\"\",INDEX(Data!N:N,Report!$B426))","v":""},{"$f":"IF(ISERROR(INDEX(Data!P:P,Report!$B426)),\"\",INDEX(Data!P:P,Report!$B426))","v":""},{"$f":"IF(ISERROR(INDEX(Data!O:O,Report!$B426)),\"\",INDEX(Data!O:O,Report!$B426))","v":""},{"$f":"IF(ISERROR(INDEX(Data!Q:Q,Report!$B426)),\"\",INDEX(Data!Q:Q,Report!$B426))","v":""},{"$f":"IF(ISERROR(INDEX(Data!R:R,Report!$B426)),\"\",INDEX(Data!R:R,Report!$B426))","v":""},{"$f":"IF(ISERROR(INDEX(Data!S:S,Report!$B426)),\"\",INDEX(Data!S:S,Report!$B426))","v":""},{"$f":"IF(ISERROR(INDEX(Data!T:T,Report!$B426)),\"\",INDEX(Data!T:T,Report!$B426))","v":""},{"$f":"IF(ISERROR(INDEX(Data!U:U,Report!$B426)),\"\",INDEX(Data!U:U,Report!$B426))","v":""},{"$f":"IF(ISERROR(INDEX(Data!V:V,Report!$B426)),\"\",INDEX(Data!V:V,Report!$B426))","v":""},null,"",""]
[423,{"$f":"IF(ISERROR(MATCH(A427,Data!A:A,0)),\"\",MATCH(A427,Data!A:A,0))","v":""},{"$f":"IF(ISERROR(INDEX(Data!I:I,Report!$B427)),\"\",INDEX(Data!I:I,Report!$B427))","v":""},{"$f":"IF(ISERROR(INDEX(Data!J:J,Report!$B427)),\"\",INDEX(Data!J:J,Report!$B427))","v":""},{"$f":"IF(ISERROR(INDEX(Data!K:K,Report!$B427)),\"\",INDEX(Data!K:K,Report!$B427))","v":""},{"$f":"IF(ISERROR(INDEX(Data!L:L,Report!$B427)),\"\",INDEX(Data!L:L,Report!$B427))","v":""},null,{"$f":"IF(ISERROR(INDEX(Data!N:N,Report!$B427)),\"\",INDEX(Data!N:N,Report!$B427))","v":""},{"$f":"IF(ISERROR(INDEX(Data!P:P,Report!$B427)),\"\",INDEX(Data!P:P,Report!$B427))","v":""},{"$f":"IF(ISERROR(INDEX(Data!O:O,Report!$B427)),\"\",INDEX(Data!O:O,Report!$B427))","v":""},{"$f":"IF(ISERROR(INDEX(Data!Q:Q,Report!$B427)),\"\",INDEX(Data!Q:Q,Report!$B427))","v":""},{"$f":"IF(ISERROR(INDEX(Data!R:R,Report!$B427)),\"\",INDEX(Data!R:R,Report!$B427))","v":""},{"$f":"IF(ISERROR(INDEX(Data!S:S,Report!$B427)),\"\",INDEX(Data!S:S,Report!$B427))","v":""},{"$f":"IF(ISERROR(INDEX(Data!T:T,Report!$B427)),\"\",INDEX(Data!T:T,Report!$B427))","v":""},{"$f":"IF(ISERROR(INDEX(Data!U:U,Report!$B427)),\"\",INDEX(Data!U:U,Report!$B427))","v":""},{"$f":"IF(ISERROR(INDEX(Data!V:V,Report!$B427)),\"\",INDEX(Data!V:V,Report!$B427))","v":""},null,"",""]
[424,{"$f":"IF(ISERROR(MATCH(A428,Data!A:A,0)),\"\",MATCH(A428,Data!A:A,0))","v":""},{"$f":"IF(ISERROR(INDEX(Data!I:I,Report!$B428)),\"\",INDEX(Data!I:I,Report!$B428))","v":""},{"$f":"IF(ISERROR(INDEX(Data!J:J,Report!$B428)),\"\",INDEX(Data!J:J,Report!$B428))","v":""},{"$f":"IF(ISERROR(INDEX(Data!K:K,Report!$B428)),\"\",INDEX(Data!K:K,Report!$B428))","v":""},{"$f":"IF(ISERROR(INDEX(Data!L:L,Report!$B428)),\"\",INDEX(Data!L:L,Report!$B428))","v":""},null,{"$f":"IF(ISERROR(INDEX(Data!N:N,Report!$B428)),\"\",INDEX(Data!N:N,Report!$B428))","v":""},{"$f":"IF(ISERROR(INDEX(Data!P:P,Report!$B428)),\"\",INDEX(Data!P:P,Report!$B428))","v":""},{"$f":"IF(ISERROR(INDEX(Data!O:O,Report!$B428)),\"\",INDEX(Data!O:O,Report!$B428))","v":""},{"$f":"IF(ISERROR(INDEX(Data!Q:Q,Report!$B428)),\"\",INDEX(Data!Q:Q,Report!$B428))","v":""},{"$f":"IF(ISERROR(INDEX(Data!R:R,Report!$B428)),\"\",INDEX(Data!R:R,Report!$B428))","v":""},{"$f":"IF(ISERROR(INDEX(Data!S:S,Report!$B428)),\"\",INDEX(Data!S:S,Report!$B428))","v":""},{"$f":"IF(ISERROR(INDEX(Data!T:T,Report!$B428)),\"\",INDEX(Data!T:T,Report!$B428))","v":""},{"$f":"IF(ISERROR(INDEX(Data!U:U,Report!$B428)),\"\",INDEX(Data!U:U,Report!$B428))","v":""},{"$f":"IF(ISERROR(INDEX(Data!V:V,Report!$B428)),\"\",INDEX(Data!V:V,Report!$B428))","v":""},null,"",""]
[425,{"$f":"IF(ISERROR(MATCH(A429,Data!A:A,0)),\"\",MATCH(A429,Data!A:A,0))","v":207},{"$f":"IF(ISERROR(INDEX(Data!I:I,Report!$B429)),\"\",INDEX(Data!I:I,Report!$B429))","v":"04:43:43"},{"$f":"IF(ISERROR(INDEX(Data!J:J,Report!$B429)),\"\",INDEX(Data!J:J,Report!$B429))","v":"Game against Boomer at level 3.5  Single point data:"},{"$f":"IF(ISERROR(INDEX(Data!K:K,Report!$B429)),\"\",INDEX(Data!K:K,Report!$B429))","v":"Boomer's point"},{"$f":"IF(ISERROR(INDEX(Data!L:L,Report!$B429)),\"\",INDEX(Data!L:L,Report!$B429))","v":"New Point"},null,{"$f":"IF(ISERROR(INDEX(Data!N:N,Report!$B429)),\"\",INDEX(Data!N:N,Report!$B429))","v":1},{"$f":"IF(ISERROR(INDEX(Data!P:P,Report!$B429)),\"\",INDEX(Data!P:P,Report!$B429))","v":"Serve"},{"$f":"IF(ISERROR(INDEX(Data!O:O,Report!$B429)),\"\",INDEX(Data!O:O,Report!$B429))","v":0},{"$f":"IF(ISERROR(INDEX(Data!Q:Q,Report!$B429)),\"\",INDEX(Data!Q:Q,Report!$B429))","v":3.5},{"$f":"IF(ISERROR(INDEX(Data!R:R,Report!$B429)),\"\",INDEX(Data!R:R,Report!$B429))","v":25},{"$f":"IF(ISERROR(INDEX(Data!S:S,Report!$B429)),\"\",INDEX(Data!S:S,Report!$B429))","v":3},{"$f":"IF(ISERROR(INDEX(Data!T:T,Report!$B429)),\"\",INDEX(Data!T:T,Report!$B429))","v":5.3},{"$f":"IF(ISERROR(INDEX(Data!U:U,Report!$B429)),\"\",INDEX(Data!U:U,Report!$B429))","v":49},{"$f":"IF(ISERROR(INDEX(Data!V:V,Report!$B429)),\"\",INDEX(Data!V:V,Report!$B429))","v":4.5999999999999996},null,"                         |","|"]
[426,{"$f":"IF(ISERROR(MATCH(A430,Data!A:A,0)),\"\",MATCH(A430,Data!A:A,0))","v":""},{"$f":"IF(ISERROR(INDEX(Data!I:I,Report!$B430)),\"\",INDEX(Data!I:I,Report!$B430))","v":""},{"$f":"IF(ISERROR(INDEX(Data!J:J,Report!$B430)),\"\",INDEX(Data!J:J,Report!$B430))","v":""},{"$f":"IF(ISERROR(INDEX(Data!K:K,Report!$B430)),\"\",INDEX(Data!K:K,Report!$B430))","v":""},{"$f":"IF(ISERROR(INDEX(Data!L:L,Report!$B430)),\"\",INDEX(Data!L:L,Report!$B430))","v":""},null,{"$f":"IF(ISERROR(INDEX(Data!N:N,Report!$B430)),\"\",INDEX(Data!N:N,Report!$B430))","v":""},{"$f":"IF(ISERROR(INDEX(Data!P:P,Report!$B430)),\"\",INDEX(Data!P:P,Report!$B430))","v":""},{"$f":"IF(ISERROR(INDEX(Data!O:O,Report!$B430)),\"\",INDEX(Data!O:O,Report!$B430))","v":""},{"$f":"IF(ISERROR(INDEX(Data!Q:Q,Report!$B430)),\"\",INDEX(Data!Q:Q,Report!$B430))","v":""},{"$f":"IF(ISERROR(INDEX(Data!R:R,Report!$B430)),\"\",INDEX(Data!R:R,Report!$B430))","v":""},{"$f":"IF(ISERROR(INDEX(Data!S:S,Report!$B430)),\"\",INDEX(Data!S:S,Report!$B430))","v":""},{"$f":"IF(ISERROR(INDEX(Data!T:T,Report!$B430)),\"\",INDEX(Data!T:T,Report!$B430))","v":""},{"$f":"IF(ISERROR(INDEX(Data!U:U,Report!$B430)),\"\",INDEX(Data!U:U,Report!$B430))","v":""},{"$f":"IF(ISERROR(INDEX(Data!V:V,Report!$B430)),\"\",INDEX(Data!V:V,Report!$B430))","v":""},null,"",""]
[427,{"$f":"IF(ISERROR(MATCH(A431,Data!A:A,0)),\"\",MATCH(A431,Data!A:A,0))","v":""},{"$f":"IF(ISERROR(INDEX(Data!I:I,Report!$B431)),\"\",INDEX(Data!I:I,Report!$B431))","v":""},{"$f":"IF(ISERROR(INDEX(Data!J:J,Report!$B431)),\"\",INDEX(Data!J:J,Report!$B431))","v":""},{"$f":"IF(ISERROR(INDEX(Data!K:K,Report!$B431)),\"\",INDEX(Data!K:K,Report!$B431))","v":""},{"$f":"IF(ISERROR(INDEX(Data!L:L,Report!$B431)),\"\",INDEX(Data!L:L,Report!$B431))","v":""},null,{"$f":"IF(ISERROR(INDEX(Data!N:N,Report!$B431)),\"\",INDEX(Data!N:N,Report!$B431))","v":""},{"$f":"IF(ISERROR(INDEX(Data!P:P,Report!$B431)),\"\",INDEX(Data!P:P,Report!$B431))","v":""},{"$f":"IF(ISERROR(INDEX(Data!O:O,Report!$B431)),\"\",INDEX(Data!O:O,Report!$B431))","v":""},{"$f":"IF(ISERROR(INDEX(Data!Q:Q,Report!$B431)),\"\",INDEX(Data!Q:Q,Report!$B431))","v":""},{"$f":"IF(ISERROR(INDEX(Data!R:R,Report!$B431)),\"\",INDEX(Data!R:R,Report!$B431))","v":""},{"$f":"IF(ISERROR(INDEX(Data!S:S,Report!$B431)),\"\",INDEX(Data!S:S,Report!$B431))","v":""},{"$f":"IF(ISERROR(INDEX(Data!T:T,Report!$B431)),\"\",INDEX(Data!T:T,Report!$B431))","v":""},{"$f":"IF(ISERROR(INDEX(Data!U:U,Report!$B431)),\"\",INDEX(Data!U:U,Report!$B431))","v":""},{"$f":"IF(ISERROR(INDEX(Data!V:V,Report!$B431)),\"\",INDEX(Data!V:V,Report!$B431))","v":""},null,"",""]
[428,{"$f":"IF(ISERROR(MATCH(A432,Data!A:A,0)),\"\",MATCH(A432,Data!A:A,0))","v":""},{"$f":"IF(ISERROR(INDEX(Data!I:I,Report!$B432)),\"\",INDEX(Data!I:I,Report!$B432))","v":""},{"$f":"IF(ISERROR(INDEX(Data!J:J,Report!$B432)),\"\",INDEX(Data!J:J,Report!$B432))","v":""},{"$f":"IF(ISERROR(INDEX(Data!K:K,Report!$B432)),\"\",INDEX(Data!K:K,Report!$B432))","v":""},{"$f":"IF(ISERROR(INDEX(Data!L:L,Report!$B432)),\"\",INDEX(Data!L:L,Report!$B432))","v":""},null,{"$f":"IF(ISERROR(INDEX(Data!N:N,Report!$B432)),\"\",INDEX(Data!N:N,Report!$B432))","v":""},{"$f":"IF(ISERROR(INDEX(Data!P:P,Report!$B432)),\"\",INDEX(Data!P:P,Report!$B432))","v":""},{"$f":"IF(ISERROR(INDEX(Data!O:O,Report!$B432)),\"\",INDEX(Data!O:O,Report!$B432))","v":""},{"$f":"IF(ISERROR(INDEX(Data!Q:Q,Report!$B432)),\"\",INDEX(Data!Q:Q,Report!$B432))","v":""},{"$f":"IF(ISERROR(INDEX(Data!R:R,Report!$B432)),\"\",INDEX(Data!R:R,Report!$B432))","v":""},{"$f":"IF(ISERROR(INDEX(Data!S:S,Report!$B432)),\"\",INDEX(Data!S:S,Report!$B432))","v":""},{"$f":"IF(ISERROR(INDEX(Data!T:T,Report!$B432)),\"\",INDEX(Data!T:T,Report!$B432))","v":""},{"$f":"IF(ISERROR(INDEX(Data!U:U,Report!$B432)),\"\",INDEX(Data!U:U,Report!$B432))","v":""},{"$f":"IF(ISERROR(INDEX(Data!V:V,Report!$B432)),\"\",INDEX(Data!V:V,Report!$B432))","v":""},null,"",""]
[429,{"$f":"IF(ISERROR(MATCH(A433,Data!A:A,0)),\"\",MATCH(A433,Data!A:A,0))","v":208},{"$f":"IF(ISERROR(INDEX(Data!I:I,Report!$B433)),\"\",INDEX(Data!I:I,Report!$B433))","v":"00:41:05"},{"$f":"IF(ISERROR(INDEX(Data!J:J,Report!$B433)),\"\",INDEX(Data!J:J,Report!$B433))","v":"Game against Boomer at level 2.0  Single point data:"},{"$f":"IF(ISERROR(INDEX(Data!K:K,Report!$B433)),\"\",INDEX(Data!K:K,Report!$B433))","v":"Boomer's point"},{"$f":"IF(ISERROR(INDEX(Data!L:L,Report!$B433)),\"\",INDEX(Data!L:L,Report!$B433))","v":"New Point"},null,{"$f":"IF(ISERROR(INDEX(Data!N:N,Report!$B433)),\"\",INDEX(Data!N:N,Report!$B433))","v":1},{"$f":"IF(ISERROR(INDEX(Data!P:P,Report!$B433)),\"\",INDEX(Data!P:P,Report!$B433))","v":"Serve"},{"$f":"IF(ISERROR(INDEX(Data!O:O,Report!$B433)),\"\",INDEX(Data!O:O,Report!$B433))","v":3},{"$f":"IF(ISERROR(INDEX(Data!Q:Q,Report!$B433)),\"\",INDEX(Data!Q:Q,Report!$B433))","v":2},{"$f":"IF(ISERROR(INDEX(Data!R:R,Report!$B433)),\"\",INDEX(Data!R:R,Report!$B433))","v":0},{"$f":"IF(ISERROR(INDEX(Data!S:S,Report!$B433)),\"\",INDEX(Data!S:S,Report!$B433))","v":0},{"$f":"IF(ISERROR(INDEX(Data!T:T,Report!$B433)),\"\",INDEX(Data!T:T,Report!$B433))","v":0},{"$f":"IF(ISERROR(INDEX(Data!U:U,Report!$B433)),\"\",INDEX(Data!U:U,Report!$B433))","v":0},{"$f":"IF(ISERROR(INDEX(Data!V:V,Report!$B433)),\"\",INDEX(Data!V:V,Report!$B433))","v":0},null,"|",""]
[430,{"$f":"IF(ISERROR(MATCH(A434,Data!A:A,0)),\"\",MATCH(A434,Data!A:A,0))","v":209},{"$f":"IF(ISERROR(INDEX(Data!I:I,Report!$B434)),\"\",INDEX(Data!I:I,Report!$B434))","v":"04:43:43"},{"$f":"IF(ISERROR(INDEX(Data!J:J,Report!$B434)),\"\",INDEX(Data!J:J,Report!$B434))","v":"Game against Boomer at level 3.5  Single point data:"},{"$f":"IF(ISERROR(INDEX(Data!K:K,Report!$B434)),\"\",INDEX(Data!K:K,Report!$B434))","v":"Boomer's point"},{"$f":"IF(ISERROR(INDEX(Data!L:L,Report!$B434)),\"\",INDEX(Data!L:L,Report!$B434))","v":0},null,{"$f":"IF(ISERROR(INDEX(Data!N:N,Report!$B434)),\"\",INDEX(Data!N:N,Report!$B434))","v":2},{"$f":"IF(ISERROR(INDEX(Data!P:P,Report!$B434)),\"\",INDEX(Data!P:P,Report!$B434))","v":"Topspin"},{"$f":"IF(ISERROR(INDEX(Data!O:O,Report!$B434)),\"\",INDEX(Data!O:O,Report!$B434))","v":4},{"$f":"IF(ISERROR(INDEX(Data!Q:Q,Report!$B434)),\"\",INDEX(Data!Q:Q,Report!$B434))","v":3.5},{"$f":"IF(ISERROR(INDEX(Data!R:R,Report!$B434)),\"\",INDEX(Data!R:R,Report!$B434))","v":0},{"$f":"IF(ISERROR(INDEX(Data!S:S,Report!$B434)),\"\",INDEX(Data!S:S,Report!$B434))","v":0},{"$f":"IF(ISERROR(INDEX(Data!T:T,Report!$B434)),\"\",INDEX(Data!T:T,Report!$B434))","v":0},{"$f":"IF(ISERROR(INDEX(Data!U:U,Report!$B434)),\"\",INDEX(Data!U:U,Report!$B434))","v":0},{"$f":"IF(ISERROR(INDEX(Data!V:V,Report!$B434)),\"\",INDEX(Data!V:V,Report!$B434))","v":0},null,"|",""]
[431,{"$f":"IF(ISERROR(MATCH(A435,Data!A:A,0)),\"\",MATCH(A435,Data!A:A,0))","v":210},{"$f":"IF(ISERROR(INDEX(Data!I:I,Report!$B435)),\"\",INDEX(Data!I:I,Report!$B435))","v":" "},{"$f":"IF(ISERROR(INDEX(Data!J:J,Report!$B435)),\"\",INDEX(Data!J:J,Report!$B435))","v":"User Drill #188  3 line rated mini tennis"},{"$f":"IF(ISERROR(INDEX(Data!K:K,Report!$B435)),\"\",INDEX(Data!K:K,Report!$B435))","v":0},{"$f":"IF(ISERROR(INDEX(Data!L:L,Report!$B435)),\"\",INDEX(Data!L:L,Report!$B435))","v":0},null,{"$f":"IF(ISERROR(INDEX(Data!N:N,Report!$B435)),\"\",INDEX(Data!N:N,Report!$B435))","v":2},{"$f":"IF(ISERROR(INDEX(Data!P:P,Report!$B435)),\"\",INDEX(Data!P:P,Report!$B435))","v":0},{"$f":"IF(ISERROR(INDEX(Data!O:O,Report!$B435)),\"\",INDEX(Data!O:O,Report!$B435))","v":4},{"$f":"IF(ISERROR(INDEX(Data!Q:Q,Report!$B435)),\"\",INDEX(Data!Q:Q,Report!$B435))","v":3.5},{"$f":"IF(ISERROR(INDEX(Data!R:R,Report!$B435)),\"\",INDEX(Data!R:R,Report!$B435))","v":24},{"$f":"IF(ISERROR(INDEX(Data!S:S,Report!$B435)),\"\",INDEX(Data!S:S,Report!$B435))","v":14},{"$f":"IF(ISERROR(INDEX(Data!T:T,Report!$B435)),\"\",INDEX(Data!T:T,Report!$B435))","v":3.5},{"$f":"IF(ISERROR(INDEX(Data!U:U,Report!$B435)),\"\",INDEX(Data!U:U,Report!$B435))","v":50},{"$f":"IF(ISERROR(INDEX(Data!V:V,Report!$B435)),\"\",INDEX(Data!V:V,Report!$B435))","v":5.2},null,"                        |","|||||||"]
[432,{"$f":"IF(ISERROR(MATCH(A436,Data!A:A,0)),\"\",MATCH(A436,Data!A:A,0))","v":211},{"$f":"IF(ISERROR(INDEX(Data!I:I,Report!$B436)),\"\",INDEX(Data!I:I,Report!$B436))","v":" "},{"$f":"IF(ISERROR(INDEX(Data!J:J,Report!$B436)),\"\",INDEX(Data!J:J,Report!$B436))","v":"User Drill #188  3 line rated mini tennis"},{"$f":"IF(ISERROR(INDEX(Data!K:K,Report!$B436)),\"\",INDEX(Data!K:K,Report!$B436))","v":0},{"$f":"IF(ISERROR(INDEX(Data!L:L,Report!$B436)),\"\",INDEX(Data!L:L,Report!$B436))","v":0},null,{"$f":"IF(ISERROR(INDEX(Data!N:N,Report!$B436)),\"\",INDEX(Data!N:N,Report!$B436))","v":3},{"$f":"IF(ISERROR(INDEX(Data!P:P,Report!$B436)),\"\",INDEX(Data!P:P,Report!$B436))","v":0},{"$f":"IF(ISERROR(INDEX(Data!O:O,Report!$B436)),\"\",INDEX(Data!O:O,Report!$B436))","v":10},{"$f":"IF(ISERROR(INDEX(Data!Q:Q,Report!$B436)),\"\",INDEX(Data!Q:Q,Report!$B436))","v":3.5},{"$f":"IF(ISERROR(INDEX(Data!R:R,Report!$B436)),\"\",INDEX(Data!R:R,Report!$B436))","v":10},{"$f":"IF(ISERROR(INDEX(Data!S:S,Report!$B436)),\"\",INDEX(Data!S:S,Report!$B436))","v":6},{"$f":"IF(ISERROR(INDEX(Data!T:T,Report!$B436)),\"\",INDEX(Data!T:T,Report!$B436))","v":4.9000000000000004},{"$f":"IF(ISERROR(INDEX(Data!U:U,Report!$B436)),\"\",INDEX(Data!U:U,Report!$B436))","v":29},{"$f":"IF(ISERROR(INDEX(Data!V:V,Report!$B436)),\"\",INDEX(Data!V:V,Report!$B436))","v":4.4000000000000004},null,"          |","|||"]
[433,{"$f":"IF(ISERROR(MATCH(A437,Data!A:A,0)),\"\",MATCH(A437,Data!A:A,0))","v":""},{"$f":"IF(ISERROR(INDEX(Data!I:I,Report!$B437)),\"\",INDEX(Data!I:I,Report!$B437))","v":""},{"$f":"IF(ISERROR(INDEX(Data!J:J,Report!$B437)),\"\",INDEX(Data!J:J,Report!$B437))","v":""},{"$f":"IF(ISERROR(INDEX(Data!K:K,Report!$B437)),\"\",INDEX(Data!K:K,Report!$B437))","v":""},{"$f":"IF(ISERROR(INDEX(Data!L:L,Report!$B437)),\"\",INDEX(Data!L:L,Report!$B437))","v":""},null,{"$f":"IF(ISERROR(INDEX(Data!N:N,Report!$B437)),\"\",INDEX(Data!N:N,Report!$B437))","v":""},{"$f":"IF(ISERROR(INDEX(Data!P:P,Report!$B437)),\"\",INDEX(Data!P:P,Report!$B437))","v":""},{"$f":"IF(ISERROR(INDEX(Data!O:O,Report!$B437)),\"\",INDEX(Data!O:O,Report!$B437))","v":""},{"$f":"IF(ISERROR(INDEX(Data!Q:Q,Report!$B437)),\"\",INDEX(Data!Q:Q,Report!$B437))","v":""},{"$f":"IF(ISERROR(INDEX(Data!R:R,Report!$B437)),\"\",INDEX(Data!R:R,Report!$B437))","v":""},{"$f":"IF(ISERROR(INDEX(Data!S:S,Report!$B437)),\"\",INDEX(Data!S:S,Report!$B437))","v":""},{"$f":"IF(ISERROR(INDEX(Data!T:T,Report!$B437)),\"\",INDEX(Data!T:T,Report!$B437))","v":""},{"$f":"IF(ISERROR(INDEX(Data!U:U,Report!$B437)),\"\",INDEX(Data!U:U,Report!$B437))","v":""},{"$f":"IF(ISERROR(INDEX(Data!V:V,Report!$B437)),\"\",INDEX(Data!V:V,Report!$B437))","v":""},null,"",""]
[434,{"$f":"IF(ISERROR(MATCH(A438,Data!A:A,0)),\"\",MATCH(A438,Data!A:A,0))","v":""},{"$f":"IF(ISERROR(INDEX(Data!I:I,Report!$B438)),\"\",INDEX(Data!I:I,Report!$B438))","v":""},{"$f":"IF(ISERROR(INDEX(Data!J:J,Report!$B438)),\"\",INDEX(Data!J:J,Report!$B438))","v":""},{"$f":"IF(ISERROR(INDEX(Data!K:K,Report!$B438)),\"\",INDEX(Data!K:K,Report!$B438))","v":""},{"$f":"IF(ISERROR(INDEX(Data!L:L,Report!$B438)),\"\",INDEX(Data!L:L,Report!$B438))","v":""},null,{"$f":"IF(ISERROR(INDEX(Data!N:N,Report!$B438)),\"\",INDEX(Data!N:N,Report!$B438))","v":""},{"$f":"IF(ISERROR(INDEX(Data!P:P,Report!$B438)),\"\",INDEX(Data!P:P,Report!$B438))","v":""},{"$f":"IF(ISERROR(INDEX(Data!O:O,Report!$B438)),\"\",INDEX(Data!O:O,Report!$B438))","v":""},{"$f":"IF(ISERROR(INDEX(Data!Q:Q,Report!$B438)),\"\",INDEX(Data!Q:Q,Report!$B438))","v":""},{"$f":"IF(ISERROR(INDEX(Data!R:R,Report!$B438)),\"\",INDEX(Data!R:R,Report!$B438))","v":""},{"$f":"IF(ISERROR(INDEX(Data!S:S,Report!$B438)),\"\",INDEX(Data!S:S,Report!$B438))","v":""},{"$f":"IF(ISERROR(INDEX(Data!T:T,Report!$B438)),\"\",INDEX(Data!T:T,Report!$B438))","v":""},{"$f":"IF(ISERROR(INDEX(Data!U:U,Report!$B438)),\"\",INDEX(Data!U:U,Report!$B438))","v":""},{"$f":"IF(ISERROR(INDEX(Data!V:V,Report!$B438)),\"\",INDEX(Data!V:V,Report!$B438))","v":""},null,"",""]
[435,{"$f":"IF(ISERROR(MATCH(A439,Data!A:A,0)),\"\",MATCH(A439,Data!A:A,0))","v":""},{"$f":"IF(ISERROR(INDEX(Data!I:I,Report!$B439)),\"\",INDEX(Data!I:I,Report!$B439))","v":""},{"$f":"IF(ISERROR(INDEX(Data!J:J,Report!$B439)),\"\",INDEX(Data!J:J,Report!$B439))","v":""},{"$f":"IF(ISERROR(INDEX(Data!K:K,Report!$B439)),\"\",INDEX(Data!K:K,Report!$B439))","v":""},{"$f":"IF(ISERROR(INDEX(Data!L:L,Report!$B439)),\"\",INDEX(Data!L:L,Report!$B439))","v":""},null,{"$f":"IF(ISERROR(INDEX(Data!N:N,Report!$B439)),\"\",INDEX(Data!N:N,Report!$B439))","v":""},{"$f":"IF(ISERROR(INDEX(Data!P:P,Report!$B439)),\"\",INDEX(Data!P:P,Report!$B439))","v":""},{"$f":"IF(ISERROR(INDEX(Data!O:O,Report!$B439)),\"\",INDEX(Data!O:O,Report!$B439))","v":""},{"$f":"IF(ISERROR(INDEX(Data!Q:Q,Report!$B439)),\"\",INDEX(Data!Q:Q,Report!$B439))","v":""},{"$f":"IF(ISERROR(INDEX(Data!R:R,Report!$B439)),\"\",INDEX(Data!R:R,Report!$B439))","v":""},{"$f":"IF(ISERROR(INDEX(Data!S:S,Report!$B439)),\"\",INDEX(Data!S:S,Report!$B439))","v":""},{"$f":"IF(ISERROR(INDEX(Data!T:T,Report!$B439)),\"\",INDEX(Data!T:T,Report!$B439))","v":""},{"$f":"IF(ISERROR(INDEX(Data!U:U,Report!$B439)),\"\",INDEX(Data!U:U,Report!$B439))","v":""},{"$f":"IF(ISERROR(INDEX(Data!V:V,Report!$B439)),\"\",INDEX(Data!V:V,Report!$B439))","v":""},null,"",""]
[436,{"$f":"IF(ISERROR(MATCH(A440,Data!A:A,0)),\"\",MATCH(A440,Data!A:A,0))","v":212},{"$f":"IF(ISERROR(INDEX(Data!I:I,Report!$B440)),\"\",INDEX(Data!I:I,Report!$B440))","v":"04:44:13"},{"$f":"IF(ISERROR(INDEX(Data!J:J,Report!$B440)),\"\",INDEX(Data!J:J,Report!$B440))","v":"Game against Boomer at level 3.5  Single point data:"},{"$f":"IF(ISERROR(INDEX(Data!K:K,Report!$B440)),\"\",INDEX(Data!K:K,Report!$B440))","v":"Player's point"},{"$f":"IF(ISERROR(INDEX(Data!L:L,Report!$B440)),\"\",INDEX(Data!L:L,Report!$B440))","v":"New Point"},null,{"$f":"IF(ISERROR(INDEX(Data!N:N,Report!$B440)),\"\",INDEX(Data!N:N,Report!$B440))","v":1},{"$f":"IF(ISERROR(INDEX(Data!P:P,Report!$B440)),\"\",INDEX(Data!P:P,Report!$B440))","v":"Player Serve"},{"$f":"IF(ISERROR(INDEX(Data!O:O,Report!$B440)),\"\",INDEX(Data!O:O,Report!$B440))","v":4},{"$f":"IF(ISERROR(INDEX(Data!Q:Q,Report!$B440)),\"\",INDEX(Data!Q:Q,Report!$B440))","v":3.5},{"$f":"IF(ISERROR(INDEX(Data!R:R,Report!$B440)),\"\",INDEX(Data!R:R,Report!$B440))","v":15},{"$f":"IF(ISERROR(INDEX(Data!S:S,Report!$B440)),\"\",INDEX(Data!S:S,Report!$B440))","v":3},{"$f":"IF(ISERROR(INDEX(Data!T:T,Report!$B440)),\"\",INDEX(Data!T:T,Report!$B440))","v":4.5999999999999996},{"$f":"IF(ISERROR(INDEX(Data!U:U,Report!$B440)),\"\",INDEX(Data!U:U,Report!$B440))","v":86},{"$f":"IF(ISERROR(INDEX(Data!V:V,Report!$B440)),\"\",INDEX(Data!V:V,Report!$B440))","v":5},null,"               |","|"]
[437,{"$f":"IF(ISERROR(MATCH(A441,Data!A:A,0)),\"\",MATCH(A441,Data!A:A,0))","v":""},{"$f":"IF(ISERROR(INDEX(Data!I:I,Report!$B441)),\"\",INDEX(Data!I:I,Report!$B441))","v":""},{"$f":"IF(ISERROR(INDEX(Data!J:J,Report!$B441)),\"\",INDEX(Data!J:J,Report!$B441))","v":""},{"$f":"IF(ISERROR(INDEX(Data!K:K,Report!$B441)),\"\",INDEX(Data!K:K,Report!$B441))","v":""},{"$f":"IF(ISERROR(INDEX(Data!L:L,Report!$B441)),\"\",INDEX(Data!L:L,Report!$B441))","v":""},null,{"$f":"IF(ISERROR(INDEX(Data!N:N,Report!$B441)),\"\",INDEX(Data!N:N,Report!$B441))","v":""},{"$f":"IF(ISERROR(INDEX(Data!P:P,Report!$B441)),\"\",INDEX(Data!P:P,Report!$B441))","v":""},{"$f":"IF(ISERROR(INDEX(Data!O:O,Report!$B441)),\"\",INDEX(Data!O:O,Report!$B441))","v":""},{"$f":"IF(ISERROR(INDEX(Data!Q:Q,Report!$B441)),\"\",INDEX(Data!Q:Q,Report!$B441))","v":""},{"$f":"IF(ISERROR(INDEX(Data!R:R,Report!$B441)),\"\",INDEX(Data!R:R,Report!$B441))","v":""},{"$f":"IF(ISERROR(INDEX(Data!S:S,Report!$B441)),\"\",INDEX(Data!S:S,Report!$B441))","v":""},{"$f":"IF(ISERROR(INDEX(Data!T:T,Report!$B441)),\"\",INDEX(Data!T:T,Report!$B441))","v":""},{"$f":"IF(ISERROR(INDEX(Data!U:U,Report!$B441)),\"\",INDEX(Data!U:U,Report!$B441))","v":""},{"$f":"IF(ISERROR(INDEX(Data!V:V,Report!$B441)),\"\",INDEX(Data!V:V,Report!$B441))","v":""},null,"",""]
[438,{"$f":"IF(ISERROR(MATCH(A442,Data!A:A,0)),\"\",MATCH(A442,Data!A:A,0))","v":""},{"$f":"IF(ISERROR(INDEX(Data!I:I,Report!$B442)),\"\",INDEX(Data!I:I,Report!$B442))","v":""},{"$f":"IF(ISERROR(INDEX(Data!J:J,Report!$B442)),\"\",INDEX(Data!J:J,Report!$B442))","v":""},{"$f":"IF(ISERROR(INDEX(Data!K:K,Report!$B442)),\"\",INDEX(Data!K:K,Report!$B442))","v":""},{"$f":"IF(ISERROR(INDEX(Data!L:L,Report!$B442)),\"\",INDEX(Data!L:L,Report!$B442))","v":""},null,{"$f":"IF(ISERROR(INDEX(Data!N:N,Report!$B442)),\"\",INDEX(Data!N:N,Report!$B442))","v":""},{"$f":"IF(ISERROR(INDEX(Data!P:P,Report!$B442)),\"\",INDEX(Data!P:P,Report!$B442))","v":""},{"$f":"IF(ISERROR(INDEX(Data!O:O,Report!$B442)),\"\",INDEX(Data!O:O,Report!$B442))","v":""},{"$f":"IF(ISERROR(INDEX(Data!Q:Q,Report!$B442)),\"\",INDEX(Data!Q:Q,Report!$B442))","v":""},{"$f":"IF(ISERROR(INDEX(Data!R:R,Report!$B442)),\"\",INDEX(Data!R:R,Report!$B442))","v":""},{"$f":"IF(ISERROR(INDEX(Data!S:S,Report!$B442)),\"\",INDEX(Data!S:S,Report!$B442))","v":""},{"$f":"IF(ISERROR(INDEX(Data!T:T,Report!$B442)),\"\",INDEX(Data!T:T,Report!$B442))","v":""},{"$f":"IF(ISERROR(INDEX(Data!U:U,Report!$B442)),\"\",INDEX(Data!U:U,Report!$B442))","v":""},{"$f":"IF(ISERROR(INDEX(Data!V:V,Report!$B442)),\"\",INDEX(Data!V:V,Report!$B442))","v":""},null,"",""]
[439,{"$f":"IF(ISERROR(MATCH(A443,Data!A:A,0)),\"\",MATCH(A443,Data!A:A,0))","v":""},{"$f":"IF(ISERROR(INDEX(Data!I:I,Report!$B443)),\"\",INDEX(Data!I:I,Report!$B443))","v":""},{"$f":"IF(ISERROR(INDEX(Data!J:J,Report!$B443)),\"\",INDEX(Data!J:J,Report!$B443))","v":""},{"$f":"IF(ISERROR(INDEX(Data!K:K,Report!$B443)),\"\",INDEX(Data!K:K,Report!$B443))","v":""},{"$f":"IF(ISERROR(INDEX(Data!L:L,Report!$B443)),\"\",INDEX(Data!L:L,Report!$B443))","v":""},null,{"$f":"IF(ISERROR(INDEX(Data!N:N,Report!$B443)),\"\",INDEX(Data!N:N,Report!$B443))","v":""},{"$f":"IF(ISERROR(INDEX(Data!P:P,Report!$B443)),\"\",INDEX(Data!P:P,Report!$B443))","v":""},{"$f":"IF(ISERROR(INDEX(Data!O:O,Report!$B443)),\"\",INDEX(Data!O:O,Report!$B443))","v":""},{"$f":"IF(ISERROR(INDEX(Data!Q:Q,Report!$B443)),\"\",INDEX(Data!Q:Q,Report!$B443))","v":""},{"$f":"IF(ISERROR(INDEX(Data!R:R,Report!$B443)),\"\",INDEX(Data!R:R,Report!$B443))","v":""},{"$f":"IF(ISERROR(INDEX(Data!S:S,Report!$B443)),\"\",INDEX(Data!S:S,Report!$B443))","v":""},{"$f":"IF(ISERROR(INDEX(Data!T:T,Report!$B443)),\"\",INDEX(Data!T:T,Report!$B443))","v":""},{"$f":"IF(ISERROR(INDEX(Data!U:U,Report!$B443)),\"\",INDEX(Data!U:U,Report!$B443))","v":""},{"$f":"IF(ISERROR(INDEX(Data!V:V,Report!$B443)),\"\",INDEX(Data!V:V,Report!$B443))","v":""},null,{"$f":"IF(H443=0,\"\",IF(ISERROR(REPT(\" \",L443) & \"|\"),\"\",REPT(\" \",L443) & \"|\"))","v":""},""]
[440,{"$f":"IF(ISERROR(MATCH(A444,Data!A:A,0)),\"\",MATCH(A444,Data!A:A,0))","v":213},{"$f":"IF(ISERROR(INDEX(Data!I:I,Report!$B444)),\"\",INDEX(Data!I:I,Report!$B444))","v":" "},{"$f":"IF(ISERROR(INDEX(Data!J:J,Report!$B444)),\"\",INDEX(Data!J:J,Report!$B444))","v":"User Drill #188  3 line rated mini tennis"},{"$f":"IF(ISERROR(INDEX(Data!K:K,Report!$B444)),\"\",INDEX(Data!K:K,Report!$B444))","v":0},{"$f":"IF(ISERROR(INDEX(Data!L:L,Report!$B444)),\"\",INDEX(Data!L:L,Report!$B444))","v":"New Point"},null,{"$f":"IF(ISERROR(INDEX(Data!N:N,Report!$B444)),\"\",INDEX(Data!N:N,Report!$B444))","v":1},{"$f":"IF(ISERROR(INDEX(Data!P:P,Report!$B444)),\"\",INDEX(Data!P:P,Report!$B444))","v":0},{"$f":"IF(ISERROR(INDEX(Data!O:O,Report!$B444)),\"\",INDEX(Data!O:O,Report!$B444))","v":11},{"$f":"IF(ISERROR(INDEX(Data!Q:Q,Report!$B444)),\"\",INDEX(Data!Q:Q,Report!$B444))","v":3.5},{"$f":"IF(ISERROR(INDEX(Data!R:R,Report!$B444)),\"\",INDEX(Data!R:R,Report!$B444))","v":0},{"$f":"IF(ISERROR(INDEX(Data!S:S,Report!$B444)),\"\",INDEX(Data!S:S,Report!$B444))","v":0},{"$f":"IF(ISERROR(INDEX(Data!T:T,Report!$B444)),\"\",INDEX(Data!T:T,Report!$B444))","v":0},{"$f":"IF(ISERROR(INDEX(Data!U:U,Report!$B444)),\"\",INDEX(Data!U:U,Report!$B444))","v":0},{"$f":"IF(ISERROR(INDEX(Data!V:V,Report!$B444)),\"\",INDEX(Data!V:V,Report!$B444))","v":0},null,"|",""]
[441,{"$f":"IF(ISERROR(MATCH(A445,Data!A:A,0)),\"\",MATCH(A445,Data!A:A,0))","v":""},{"$f":"IF(ISERROR(INDEX(Data!I:I,Report!$B445)),\"\",INDEX(Data!I:I,Report!$B445))","v":""},{"$f":"IF(ISERROR(INDEX(Data!J:J,Report!$B445)),\"\",INDEX(Data!J:J,Report!$B445))","v":""},{"$f":"IF(ISERROR(INDEX(Data!K:K,Report!$B445)),\"\",INDEX(Data!K:K,Report!$B445))","v":""},{"$f":"IF(ISERROR(INDEX(Data!L:L,Report!$B445)),\"\",INDEX(Data!L:L,Report!$B445))","v":""},null,{"$f":"IF(ISERROR(INDEX(Data!N:N,Report!$B445)),\"\",INDEX(Data!N:N,Report!$B445))","v":""},{"$f":"IF(ISERROR(INDEX(Data!P:P,Report!$B445)),\"\",INDEX(Data!P:P,Report!$B445))","v":""},{"$f":"IF(ISERROR(INDEX(Data!O:O,Report!$B445)),\"\",INDEX(Data!O:O,Report!$B445))","v":""},{"$f":"IF(ISERROR(INDEX(Data!Q:Q,Report!$B445)),\"\",INDEX(Data!Q:Q,Report!$B445))","v":""},{"$f":"IF(ISERROR(INDEX(Data!R:R,Report!$B445)),\"\",INDEX(Data!R:R,Report!$B445))","v":""},{"$f":"IF(ISERROR(INDEX(Data!S:S,Report!$B445)),\"\",INDEX(Data!S:S,Report!$B445))","v":""},{"$f":"IF(ISERROR(INDEX(Data!T:T,Report!$B445)),\"\",INDEX(Data!T:T,Report!$B445))","v":""},{"$f":"IF(ISERROR(INDEX(Data!U:U,Report!$B445)),\"\",INDEX(Data!U:U,Report!$B445))","v":""},{"$f":"IF(ISERROR(INDEX(Data!V:V,Report!$B445)),\"\",INDEX(Data!V:V,Report!$B445))","v":""},null,"",""]
[442,{"$f":"IF(ISERROR(MATCH(A446,Data!A:A,0)),\"\",MATCH(A446,Data!A:A,0))","v":""},{"$f":"IF(ISERROR(INDEX(Data!I:I,Report!$B446)),\"\",INDEX(Data!I:I,Report!$B446))","v":""},{"$f":"IF(ISERROR(INDEX(Data!J:J,Report!$B446)),\"\",INDEX(Data!J:J,Report!$B446))","v":""},{"$f":"IF(ISERROR(INDEX(Data!K:K,Report!$B446)),\"\",INDEX(Data!K:K,Report!$B446))","v":""},{"$f":"IF(ISERROR(INDEX(Data!L:L,Report!$B446)),\"\",INDEX(Data!L:L,Report!$B446))","v":""},null,{"$f":"IF(ISERROR(INDEX(Data!N:N,Report!$B446)),\"\",INDEX(Data!N:N,Report!$B446))","v":""},{"$f":"IF(ISERROR(INDEX(Data!P:P,Report!$B446)),\"\",INDEX(Data!P:P,Report!$B446))","v":""},{"$f":"IF(ISERROR(INDEX(Data!O:O,Report!$B446)),\"\",INDEX(Data!O:O,Report!$B446))","v":""},{"$f":"IF(ISERROR(INDEX(Data!Q:Q,Report!$B446)),\"\",INDEX(Data!Q:Q,Report!$B446))","v":""},{"$f":"IF(ISERROR(INDEX(Data!R:R,Report!$B446)),\"\",INDEX(Data!R:R,Report!$B446))","v":""},{"$f":"IF(ISERROR(INDEX(Data!S:S,Report!$B446)),\"\",INDEX(Data!S:S,Report!$B446))","v":""},{"$f":"IF(ISERROR(INDEX(Data!T:T,Report!$B446)),\"\",INDEX(Data!T:T,Report!$B446))","v":""},{"$f":"IF(ISERROR(INDEX(Data!U:U,Report!$B446)),\"\",INDEX(Data!U:U,Report!$B446))","v":""},{"$f":"IF(ISERROR(INDEX(Data!V:V,Report!$B446)),\"\",INDEX(Data!V:V,Report!$B446))","v":""},null,"",""]
[443,{"$f":"IF(ISERROR(MATCH(A447,Data!A:A,0)),\"\",MATCH(A447,Data!A:A,0))","v":""},{"$f":"IF(ISERROR(INDEX(Data!I:I,Report!$B447)),\"\",INDEX(Data!I:I,Report!$B447))","v":""},{"$f":"IF(ISERROR(INDEX(Data!J:J,Report!$B447)),\"\",INDEX(Data!J:J,Report!$B447))","v":""},{"$f":"IF(ISERROR(INDEX(Data!K:K,Report!$B447)),\"\",INDEX(Data!K:K,Report!$B447))","v":""},{"$f":"IF(ISERROR(INDEX(Data!L:L,Report!$B447)),\"\",INDEX(Data!L:L,Report!$B447))","v":""},null,{"$f":"IF(ISERROR(INDEX(Data!N:N,Report!$B447)),\"\",INDEX(Data!N:N,Report!$B447))","v":""},{"$f":"IF(ISERROR(INDEX(Data!P:P,Report!$B447)),\"\",INDEX(Data!P:P,Report!$B447))","v":""},{"$f":"IF(ISERROR(INDEX(Data!O:O,Report!$B447)),\"\",INDEX(Data!O:O,Report!$B447))","v":""},{"$f":"IF(ISERROR(INDEX(Data!Q:Q,Report!$B447)),\"\",INDEX(Data!Q:Q,Report!$B447))","v":""},{"$f":"IF(ISERROR(INDEX(Data!R:R,Report!$B447)),\"\",INDEX(Data!R:R,Report!$B447))","v":""},{"$f":"IF(ISERROR(INDEX(Data!S:S,Report!$B447)),\"\",INDEX(Data!S:S,Report!$B447))","v":""},{"$f":"IF(ISERROR(INDEX(Data!T:T,Report!$B447)),\"\",INDEX(Data!T:T,Report!$B447))","v":""},{"$f":"IF(ISERROR(INDEX(Data!U:U,Report!$B447)),\"\",INDEX(Data!U:U,Report!$B447))","v":""},{"$f":"IF(ISERROR(INDEX(Data!V:V,Report!$B447)),\"\",INDEX(Data!V:V,Report!$B447))","v":""},null,"",""]
[444,{"$f":"IF(ISERROR(MATCH(A448,Data!A:A,0)),\"\",MATCH(A448,Data!A:A,0))","v":214},{"$f":"IF(ISERROR(INDEX(Data!I:I,Report!$B448)),\"\",INDEX(Data!I:I,Report!$B448))","v":"00:41:29"},{"$f":"IF(ISERROR(INDEX(Data!J:J,Report!$B448)),\"\",INDEX(Data!J:J,Report!$B448))","v":"Game against Boomer at level 2.0  Single point data:"},{"$f":"IF(ISERROR(INDEX(Data!K:K,Report!$B448)),\"\",INDEX(Data!K:K,Report!$B448))","v":"Player's point"},{"$f":"IF(ISERROR(INDEX(Data!L:L,Report!$B448)),\"\",INDEX(Data!L:L,Report!$B448))","v":"New Point"},null,{"$f":"IF(ISERROR(INDEX(Data!N:N,Report!$B448)),\"\",INDEX(Data!N:N,Report!$B448))","v":1},{"$f":"IF(ISERROR(INDEX(Data!P:P,Report!$B448)),\"\",INDEX(Data!P:P,Report!$B448))","v":"Serve"},{"$f":"IF(ISERROR(INDEX(Data!O:O,Report!$B448)),\"\",INDEX(Data!O:O,Report!$B448))","v":5},{"$f":"IF(ISERROR(INDEX(Data!Q:Q,Report!$B448)),\"\",INDEX(Data!Q:Q,Report!$B448))","v":2},{"$f":"IF(ISERROR(INDEX(Data!R:R,Report!$B448)),\"\",INDEX(Data!R:R,Report!$B448))","v":34},{"$f":"IF(ISERROR(INDEX(Data!S:S,Report!$B448)),\"\",INDEX(Data!S:S,Report!$B448))","v":6},{"$f":"IF(ISERROR(INDEX(Data!T:T,Report!$B448)),\"\",INDEX(Data!T:T,Report!$B448))","v":6.1},{"$f":"IF(ISERROR(INDEX(Data!U:U,Report!$B448)),\"\",INDEX(Data!U:U,Report!$B448))","v":56},{"$f":"IF(ISERROR(INDEX(Data!V:V,Report!$B448)),\"\",INDEX(Data!V:V,Report!$B448))","v":5.2},null,"                                  |","|||"]
[445,{"$f":"IF(ISERROR(MATCH(A449,Data!A:A,0)),\"\",MATCH(A449,Data!A:A,0))","v":215},{"$f":"IF(ISERROR(INDEX(Data!I:I,Report!$B449)),\"\",INDEX(Data!I:I,Report!$B449))","v":"04:44:13"},{"$f":"IF(ISERROR(INDEX(Data!J:J,Report!$B449)),\"\",INDEX(Data!J:J,Report!$B449))","v":"Game against Boomer at level 3.5  Single point data:"},{"$f":"IF(ISERROR(INDEX(Data!K:K,Report!$B449)),\"\",INDEX(Data!K:K,Report!$B449))","v":"Player's point"},{"$f":"IF(ISERROR(INDEX(Data!L:L,Report!$B449)),\"\",INDEX(Data!L:L,Report!$B449))","v":0},null,{"$f":"IF(ISERROR(INDEX(Data!N:N,Report!$B449)),\"\",INDEX(Data!N:N,Report!$B449))","v":2},{"$f":"IF(ISERROR(INDEX(Data!P:P,Report!$B449)),\"\",INDEX(Data!P:P,Report!$B449))","v":"Heavy Topspin"},{"$f":"IF(ISERROR(INDEX(Data!O:O,Report!$B449)),\"\",INDEX(Data!O:O,Report!$B449))","v":3},{"$f":"IF(ISERROR(INDEX(Data!Q:Q,Report!$B449)),\"\",INDEX(Data!Q:Q,Report!$B449))","v":3.5},{"$f":"IF(ISERROR(INDEX(Data!R:R,Report!$B449)),\"\",INDEX(Data!R:R,Report!$B449))","v":27},{"$f":"IF(ISERROR(INDEX(Data!S:S,Report!$B449)),\"\",INDEX(Data!S:S,Report!$B449))","v":6},{"$f":"IF(ISERROR(INDEX(Data!T:T,Report!$B449)),\"\",INDEX(Data!T:T,Report!$B449))","v":5},{"$f":"IF(ISERROR(INDEX(Data!U:U,Report!$B449)),\"\",INDEX(Data!U:U,Report!$B449))","v":43},{"$f":"IF(ISERROR(INDEX(Data!V:V,Report!$B449)),\"\",INDEX(Data!V:V,Report!$B449))","v":4.2},null,"                           |","|||"]
[446,{"$f":"IF(ISERROR(MATCH(A450,Data!A:A,0)),\"\",MATCH(A450,Data!A:A,0))","v":216},{"$f":"IF(ISERROR(INDEX(Data!I:I,Report!$B450)),\"\",INDEX(Data!I:I,Report!$B450))","v":"00:41:29"},{"$f":"IF(ISERROR(INDEX(Data!J:J,Report!$B450)),\"\",INDEX(Data!J:J,Report!$B450))","v":"Game against Boomer at level 2.0  Single point data:"},{"$f":"IF(ISERROR(INDEX(Data!K:K,Report!$B450)),\"\",INDEX(Data!K:K,Report!$B450))","v":"Player's point"},{"$f":"IF(ISERROR(INDEX(Data!L:L,Report!$B450)),\"\",INDEX(Data!L:L,Report!$B450))","v":0},null,{"$f":"IF(ISERROR(INDEX(Data!N:N,Report!$B450)),\"\",INDEX(Data!N:N,Report!$B450))","v":2},{"$f":"IF(ISERROR(INDEX(Data!P:P,Report!$B450)),\"\",INDEX(Data!P:P,Report!$B450))","v":"Drop Shot"},{"$f":"IF(ISERROR(INDEX(Data!O:O,Report!$B450)),\"\",INDEX(Data!O:O,Report!$B450))","v":3},{"$f":"IF(ISERROR(INDEX(Data!Q:Q,Report!$B450)),\"\",INDEX(Data!Q:Q,Report!$B450))","v":2},{"$f":"IF(ISERROR(INDEX(Data!R:R,Report!$B450)),\"\",INDEX(Data!R:R,Report!$B450))","v":26},{"$f":"IF(ISERROR(INDEX(Data!S:S,Report!$B450)),\"\",INDEX(Data!S:S,Report!$B450))","v":21},{"$f":"IF(ISERROR(INDEX(Data!T:T,Report!$B450)),\"\",INDEX(Data!T:T,Report!$B450))","v":5},{"$f":"IF(ISERROR(INDEX(Data!U:U,Report!$B450)),\"\",INDEX(Data!U:U,Report!$B450))","v":46},{"$f":"IF(ISERROR(INDEX(Data!V:V,Report!$B450)),\"\",INDEX(Data!V:V,Report!$B450))","v":4.3},null,"                          |","||||||||||"]
[447,{"$f":"IF(ISERROR(MATCH(A451,Data!A:A,0)),\"\",MATCH(A451,Data!A:A,0))","v":217},{"$f":"IF(ISERROR(INDEX(Data!I:I,Report!$B451)),\"\",INDEX(Data!I:I,Report!$B451))","v":" "},{"$f":"IF(ISERROR(INDEX(Data!J:J,Report!$B451)),\"\",INDEX(Data!J:J,Report!$B451))","v":"User Drill #188  3 line rated mini tennis"},{"$f":"IF(ISERROR(INDEX(Data!K:K,Report!$B451)),\"\",INDEX(Data!K:K,Report!$B451))","v":0},{"$f":"IF(ISERROR(INDEX(Data!L:L,Report!$B451)),\"\",INDEX(Data!L:L,Report!$B451))","v":0},null,{"$f":"IF(ISERROR(INDEX(Data!N:N,Report!$B451)),\"\",INDEX(Data!N:N,Report!$B451))","v":2},{"$f":"IF(ISERROR(INDEX(Data!P:P,Report!$B451)),\"\",INDEX(Data!P:P,Report!$B451))","v":0},{"$f":"IF(ISERROR(INDEX(Data!O:O,Report!$B451)),\"\",INDEX(Data!O:O,Report!$B451))","v":4},{"$f":"IF(ISERROR(INDEX(Data!Q:Q,Report!$B451)),\"\",INDEX(Data!Q:Q,Report!$B451))","v":3.5},{"$f":"IF(ISERROR(INDEX(Data!R:R,Report!$B451)),\"\",INDEX(Data!R:R,Report!$B451))","v":7},{"$f":"IF(ISERROR(INDEX(Data!S:S,Report!$B451)),\"\",INDEX(Data!S:S,Report!$B451))","v":23},{"$f":"IF(ISERROR(INDEX(Data!T:T,Report!$B451)),\"\",INDEX(Data!T:T,Report!$B451))","v":4.9000000000000004},{"$f":"IF(ISERROR(INDEX(Data!U:U,Report!$B451)),\"\",INDEX(Data!U:U,Report!$B451))","v":37},{"$f":"IF(ISERROR(INDEX(Data!V:V,Report!$B451)),\"\",INDEX(Data!V:V,Report!$B451))","v":5},null,"       |","|||||||||||"]
[448,{"$f":"IF(ISERROR(MATCH(A452,Data!A:A,0)),\"\",MATCH(A452,Data!A:A,0))","v":218},{"$f":"IF(ISERROR(INDEX(Data!I:I,Report!$B452)),\"\",INDEX(Data!I:I,Report!$B452))","v":" "},{"$f":"IF(ISERROR(INDEX(Data!J:J,Report!$B452)),\"\",INDEX(Data!J:J,Report!$B452))","v":"User Drill #188  3 line rated mini tennis"},{"$f":"IF(ISERROR(INDEX(Data!K:K,Report!$B452)),\"\",INDEX(Data!K:K,Report!$B452))","v":0},{"$f":"IF(ISERROR(INDEX(Data!L:L,Report!$B452)),\"\",INDEX(Data!L:L,Report!$B452))","v":0},null,{"$f":"IF(ISERROR(INDEX(Data!N:N,Report!$B452)),\"\",INDEX(Data!N:N,Report!$B452))","v":3},{"$f":"IF(ISERROR(INDEX(Data!P:P,Report!$B452)),\"\",INDEX(Data!P:P,Report!$B452))","v":0},{"$f":"IF(ISERROR(INDEX(Data!O:O,Report!$B452)),\"\",INDEX(Data!O:O,Report!$B452))","v":10},{"$f":"IF(ISERROR(INDEX(Data!Q:Q,Report!$B452)),\"\",INDEX(Data!Q:Q,Report!$B452))","v":3.5},{"$f":"IF(ISERROR(INDEX(Data!R:R,Report!$B452)),\"\",INDEX(Data!R:R,Report!$B452))","v":7},{"$f":"IF(ISERROR(INDEX(Data!S:S,Report!$B452)),\"\",INDEX(Data!S:S,Report!$B452))","v":26},{"$f":"IF(ISERROR(INDEX(Data!T:T,Report!$B452)),\"\",INDEX(Data!T:T,Report!$B452))","v":7},{"$f":"IF(ISERROR(INDEX(Data!U:U,Report!$B452)),\"\",INDEX(Data!U:U,Report!$B452))","v":12},{"$f":"IF(ISERROR(INDEX(Data!V:V,Report!$B452)),\"\",INDEX(Data!V:V,Report!$B452))","v":4.3},null,"       |","|||||||||||||"]
[449,{"$f":"IF(ISERROR(MATCH(A453,Data!A:A,0)),\"\",MATCH(A453,Data!A:A,0))","v":219},{"$f":"IF(ISERROR(INDEX(Data!I:I,Report!$B453)),\"\",INDEX(Data!I:I,Report!$B453))","v":"04:44:13"},{"$f":"IF(ISERROR(INDEX(Data!J:J,Report!$B453)),\"\",INDEX(Data!J:J,Report!$B453))","v":"Game against Boomer at level 3.5  Single point data:"},{"$f":"IF(ISERROR(INDEX(Data!K:K,Report!$B453)),\"\",INDEX(Data!K:K,Report!$B453))","v":"Player's point"},{"$f":"IF(ISERROR(INDEX(Data!L:L,Report!$B453)),\"\",INDEX(Data!L:L,Report!$B453))","v":0},null,{"$f":"IF(ISERROR(INDEX(Data!N:N,Report!$B453)),\"\",INDEX(Data!N:N,Report!$B453))","v":3},{"$f":"IF(ISERROR(INDEX(Data!P:P,Report!$B453)),\"\",INDEX(Data!P:P,Report!$B453))","v":"Slice"},{"$f":"IF(ISERROR(INDEX(Data!O:O,Report!$B453)),\"\",INDEX(Data!O:O,Report!$B453))","v":5},{"$f":"IF(ISERROR(INDEX(Data!Q:Q,Report!$B453)),\"\",INDEX(Data!Q:Q,Report!$B453))","v":3.5},{"$f":"IF(ISERROR(INDEX(Data!R:R,Report!$B453)),\"\",INDEX(Data!R:R,Report!$B453))","v":28},{"$f":"IF(ISERROR(INDEX(Data!S:S,Report!$B453)),\"\",INDEX(Data!S:S,Report!$B453))","v":24},{"$f":"IF(ISERROR(INDEX(Data!T:T,Report!$B453)),\"\",INDEX(Data!T:T,Report!$B453))","v":5.7},{"$f":"IF(ISERROR(INDEX(Data!U:U,Report!$B453)),\"\",INDEX(Data!U:U,Report!$B453))","v":38},{"$f":"IF(ISERROR(INDEX(Data!V:V,Report!$B453)),\"\",INDEX(Data!V:V,Report!$B453))","v":4.3},null,"                            |","||||||||||||"]
[450,{"$f":"IF(ISERROR(MATCH(A454,Data!A:A,0)),\"\",MATCH(A454,Data!A:A,0))","v":220},{"$f":"IF(ISERROR(INDEX(Data!I:I,Report!$B454)),\"\",INDEX(Data!I:I,Report!$B454))","v":"00:41:29"},{"$f":"IF(ISERROR(INDEX(Data!J:J,Report!$B454)),\"\",INDEX(Data!J:J,Report!$B454))","v":"Game against Boomer at level 2.0  Single point data:"},{"$f":"IF(ISERROR(INDEX(Data!K:K,Report!$B454)),\"\",INDEX(Data!K:K,Report!$B454))","v":"Player's point"},{"$f":"IF(ISERROR(INDEX(Data!L:L,Report!$B454)),\"\",INDEX(Data!L:L,Report!$B454))","v":0},null,{"$f":"IF(ISERROR(INDEX(Data!N:N,Report!$B454)),\"\",INDEX(Data!N:N,Report!$B454))","v":3},{"$f":"IF(ISERROR(INDEX(Data!P:P,Report!$B454)),\"\",INDEX(Data!P:P,Report!$B454))","v":"Pass"},{"$f":"IF(ISERROR(INDEX(Data!O:O,Report!$B454)),\"\",INDEX(Data!O:O,Report!$B454))","v":4},{"$f":"IF(ISERROR(INDEX(Data!Q:Q,Report!$B454)),\"\",INDEX(Data!Q:Q,Report!$B454))","v":2},{"$f":"IF(ISERROR(INDEX(Data!R:R,Report!$B454)),\"\",INDEX(Data!R:R,Report!$B454))","v":34},{"$f":"IF(ISERROR(INDEX(Data!S:S,Report!$B454)),\"\",INDEX(Data!S:S,Report!$B454))","v":3},{"$f":"IF(ISERROR(INDEX(Data!T:T,Report!$B454)),\"\",INDEX(Data!T:T,Report!$B454))","v":6.3},{"$f":"IF(ISERROR(INDEX(Data!U:U,Report!$B454)),\"\",INDEX(Data!U:U,Report!$B454))","v":54},{"$f":"IF(ISERROR(INDEX(Data!V:V,Report!$B454)),\"\",INDEX(Data!V:V,Report!$B454))","v":5.3},null,"                                  |",{"$f":"IF(ISERROR(REPT(\"|\",M454/2)),\"\",REPT(\"|\",M454/2))","v":"|"}]
[{"$f":"A454+1","v":451},{"$f":"IF(ISERROR(MATCH(A455,Data!A:A,0)),\"\",MATCH(A455,Data!A:A,0))","v":221},{"$f":"IF(ISERROR(INDEX(Data!I:I,Report!$B455)),\"\",INDEX(Data!I:I,Report!$B455))","v":"04:44:13"},{"$f":"IF(ISERROR(INDEX(Data!J:J,Report!$B455)),\"\",INDEX(Data!J:J,Report!$B455))","v":"Game against Boomer at level 3.5  Single point data:"},{"$f":"IF(ISERROR(INDEX(Data!K:K,Report!$B455)),\"\",INDEX(Data!K:K,Report!$B455))","v":"Player's point"},{"$f":"IF(ISERROR(INDEX(Data!L:L,Report!$B455)),\"\",INDEX(Data!L:L,Report!$B455))","v":0},null,{"$f":"IF(ISERROR(INDEX(Data!N:N,Report!$B455)),\"\",INDEX(Data!N:N,Report!$B455))","v":4},{"$f":"IF(ISERROR(INDEX(Data!P:P,Report!$B455)),\"\",INDEX(Data!P:P,Report!$B455))","v":"Drop Shot"},{"$f":"IF(ISERROR(INDEX(Data!O:O,Report!$B455)),\"\",INDEX(Data!O:O,Report!$B455))","v":4},{"$f":"IF(ISERROR(INDEX(Data!Q:Q,Report!$B455)),\"\",INDEX(Data!Q:Q,Report!$B455))","v":3.5},{"$f":"IF(ISERROR(INDEX(Data!R:R,Report!$B455)),\"\",INDEX(Data!R:R,Report!$B455))","v":36},{"$f":"IF(ISERROR(INDEX(Data!S:S,Report!$B455)),\"\",INDEX(Data!S:S,Report!$B455))","v":6},{"$f":"IF(ISERROR(INDEX(Data!T:T,Report!$B455)),\"\",INDEX(Data!T:T,Report!$B455))","v":6.2},{"$f":"IF(ISERROR(INDEX(Data!U:U,Report!$B455)),\"\",INDEX(Data!U:U,Report!$B455))","v":38},{"$f":"IF(ISERROR(INDEX(Data!V:V,Report!$B455)),\"\",INDEX(Data!V:V,Report!$B455))","v":5.3},null,"                                    |","|||"]
[452,{"$f":"IF(ISERROR(MATCH(A456,Data!A:A,0)),\"\",MATCH(A456,Data!A:A,0))","v":222},{"$f":"IF(ISERROR(INDEX(Data!I:I,Report!$B456)),\"\",INDEX(Data!I:I,Report!$B456))","v":"04:44:13"},{"$f":"IF(ISERROR(INDEX(Data!J:J,Report!$B456)),\"\",INDEX(Data!J:J,Report!$B456))","v":"Game against Boomer at level 3.5  Single point data:"},{"$f":"IF(ISERROR(INDEX(Data!K:K,Report!$B456)),\"\",INDEX(Data!K:K,Report!$B456))","v":"Player's point"},{"$f":"IF(ISERROR(INDEX(Data!L:L,Report!$B456)),\"\",INDEX(Data!L:L,Report!$B456))","v":0},null,{"$f":"IF(ISERROR(INDEX(Data!N:N,Report!$B456)),\"\",INDEX(Data!N:N,Report!$B456))","v":5},{"$f":"IF(ISERROR(INDEX(Data!P:P,Report!$B456)),\"\",INDEX(Data!P:P,Report!$B456))","v":"Pass"},{"$f":"IF(ISERROR(INDEX(Data!O:O,Report!$B456)),\"\",INDEX(Data!O:O,Report!$B456))","v":5},{"$f":"IF(ISERROR(INDEX(Data!Q:Q,Report!$B456)),\"\",INDEX(Data!Q:Q,Report!$B456))","v":3.5},{"$f":"IF(ISERROR(INDEX(Data!R:R,Report!$B456)),\"\",INDEX(Data!R:R,Report!$B456))","v":29},{"$f":"IF(ISERROR(INDEX(Data!S:S,Report!$B456)),\"\",INDEX(Data!S:S,Report!$B456))","v":22},{"$f":"IF(ISERROR(INDEX(Data!T:T,Report!$B456)),\"\",INDEX(Data!T:T,Report!$B456))","v":5.2},{"$f":"IF(ISERROR(INDEX(Data!U:U,Report!$B456)),\"\",INDEX(Data!U:U,Report!$B456))","v":46},{"$f":"IF(ISERROR(INDEX(Data!V:V,Report!$B456)),\"\",INDEX(Data!V:V,Report!$B456))","v":5.2},null,"                             |","|||||||||||"]
[453,{"$f":"IF(ISERROR(MATCH(A457,Data!A:A,0)),\"\",MATCH(A457,Data!A:A,0))","v":""},{"$f":"IF(ISERROR(INDEX(Data!I:I,Report!$B457)),\"\",INDEX(Data!I:I,Report!$B457))","v":""},{"$f":"IF(ISERROR(INDEX(Data!J:J,Report!$B457)),\"\",INDEX(Data!J:J,Report!$B457))","v":""},{"$f":"IF(ISERROR(INDEX(Data!K:K,Report!$B457)),\"\",INDEX(Data!K:K,Report!$B457))","v":""},{"$f":"IF(ISERROR(INDEX(Data!L:L,Report!$B457)),\"\",INDEX(Data!L:L,Report!$B457))","v":""},null,{"$f":"IF(ISERROR(INDEX(Data!N:N,Report!$B457)),\"\",INDEX(Data!N:N,Report!$B457))","v":""},{"$f":"IF(ISERROR(INDEX(Data!P:P,Report!$B457)),\"\",INDEX(Data!P:P,Report!$B457))","v":""},{"$f":"IF(ISERROR(INDEX(Data!O:O,Report!$B457)),\"\",INDEX(Data!O:O,Report!$B457))","v":""},{"$f":"IF(ISERROR(INDEX(Data!Q:Q,Report!$B457)),\"\",INDEX(Data!Q:Q,Report!$B457))","v":""},{"$f":"IF(ISERROR(INDEX(Data!R:R,Report!$B457)),\"\",INDEX(Data!R:R,Report!$B457))","v":""},{"$f":"IF(ISERROR(INDEX(Data!S:S,Report!$B457)),\"\",INDEX(Data!S:S,Report!$B457))","v":""},{"$f":"IF(ISERROR(INDEX(Data!T:T,Report!$B457)),\"\",INDEX(Data!T:T,Report!$B457))","v":""},{"$f":"IF(ISERROR(INDEX(Data!U:U,Report!$B457)),\"\",INDEX(Data!U:U,Report!$B457))","v":""},{"$f":"IF(ISERROR(INDEX(Data!V:V,Report!$B457)),\"\",INDEX(Data!V:V,Report!$B457))","v":""},null,"",""]
[454,{"$f":"IF(ISERROR(MATCH(A458,Data!A:A,0)),\"\",MATCH(A458,Data!A:A,0))","v":""},{"$f":"IF(ISERROR(INDEX(Data!I:I,Report!$B458)),\"\",INDEX(Data!I:I,Report!$B458))","v":""},{"$f":"IF(ISERROR(INDEX(Data!J:J,Report!$B458)),\"\",INDEX(Data!J:J,Report!$B458))","v":""},{"$f":"IF(ISERROR(INDEX(Data!K:K,Report!$B458)),\"\",INDEX(Data!K:K,Report!$B458))","v":""},{"$f":"IF(ISERROR(INDEX(Data!L:L,Report!$B458)),\"\",INDEX(Data!L:L,Report!$B458))","v":""},null,{"$f":"IF(ISERROR(INDEX(Data!N:N,Report!$B458)),\"\",INDEX(Data!N:N,Report!$B458))","v":""},{"$f":"IF(ISERROR(INDEX(Data!P:P,Report!$B458)),\"\",INDEX(Data!P:P,Report!$B458))","v":""},{"$f":"IF(ISERROR(INDEX(Data!O:O,Report!$B458)),\"\",INDEX(Data!O:O,Report!$B458))","v":""},{"$f":"IF(ISERROR(INDEX(Data!Q:Q,Report!$B458)),\"\",INDEX(Data!Q:Q,Report!$B458))","v":""},{"$f":"IF(ISERROR(INDEX(Data!R:R,Report!$B458)),\"\",INDEX(Data!R:R,Report!$B458))","v":""},{"$f":"IF(ISERROR(INDEX(Data!S:S,Report!$B458)),\"\",INDEX(Data!S:S,Report!$B458))","v":""},{"$f":"IF(ISERROR(INDEX(Data!T:T,Report!$B458)),\"\",INDEX(Data!T:T,Report!$B458))","v":""},{"$f":"IF(ISERROR(INDEX(Data!U:U,Report!$B458)),\"\",INDEX(Data!U:U,Report!$B458))","v":""},{"$f":"IF(ISERROR(INDEX(Data!V:V,Report!$B458)),\"\",INDEX(Data!V:V,Report!$B458))","v":""},null,"",""]
[455,{"$f":"IF(ISERROR(MATCH(A459,Data!A:A,0)),\"\",MATCH(A459,Data!A:A,0))","v":""},{"$f":"IF(ISERROR(INDEX(Data!I:I,Report!$B459)),\"\",INDEX(Data!I:I,Report!$B459))","v":""},{"$f":"IF(ISERROR(INDEX(Data!J:J,Report!$B459)),\"\",INDEX(Data!J:J,Report!$B459))","v":""},{"$f":"IF(ISERROR(INDEX(Data!K:K,Report!$B459)),\"\",INDEX(Data!K:K,Report!$B459))","v":""},{"$f":"IF(ISERROR(INDEX(Data!L:L,Report!$B459)),\"\",INDEX(Data!L:L,Report!$B459))","v":""},null,{"$f":"IF(ISERROR(INDEX(Data!N:N,Report!$B459)),\"\",INDEX(Data!N:N,Report!$B459))","v":""},{"$f":"IF(ISERROR(INDEX(Data!P:P,Report!$B459)),\"\",INDEX(Data!P:P,Report!$B459))","v":""},{"$f":"IF(ISERROR(INDEX(Data!O:O,Report!$B459)),\"\",INDEX(Data!O:O,Report!$B459))","v":""},{"$f":"IF(ISERROR(INDEX(Data!Q:Q,Report!$B459)),\"\",INDEX(Data!Q:Q,Report!$B459))","v":""},{"$f":"IF(ISERROR(INDEX(Data!R:R,Report!$B459)),\"\",INDEX(Data!R:R,Report!$B459))","v":""},{"$f":"IF(ISERROR(INDEX(Data!S:S,Report!$B459)),\"\",INDEX(Data!S:S,Report!$B459))","v":""},{"$f":"IF(ISERROR(INDEX(Data!T:T,Report!$B459)),\"\",INDEX(Data!T:T,Report!$B459))","v":""},{"$f":"IF(ISERROR(INDEX(Data!U:U,Report!$B459)),\"\",INDEX(Data!U:U,Report!$B459))","v":""},{"$f":"IF(ISERROR(INDEX(Data!V:V,Report!$B459)),\"\",INDEX(Data!V:V,Report!$B459))","v":""},null,"",""]
[456,{"$f":"IF(ISERROR(MATCH(A460,Data!A:A,0)),\"\",MATCH(A460,Data!A:A,0))","v":223},{"$f":"IF(ISERROR(INDEX(Data!I:I,Report!$B460)),\"\",INDEX(Data!I:I,Report!$B460))","v":"04:44:35"},{"$f":"IF(ISERROR(INDEX(Data!J:J,Report!$B460)),\"\",INDEX(Data!J:J,Report!$B460))","v":"Game against Boomer at level 3.5  Single point data:"},{"$f":"IF(ISERROR(INDEX(Data!K:K,Report!$B460)),\"\",INDEX(Data!K:K,Report!$B460))","v":"Player's point"},{"$f":"IF(ISERROR(INDEX(Data!L:L,Report!$B460)),\"\",INDEX(Data!L:L,Report!$B460))","v":"New Point"},null,{"$f":"IF(ISERROR(INDEX(Data!N:N,Report!$B460)),\"\",INDEX(Data!N:N,Report!$B460))","v":1},{"$f":"IF(ISERROR(INDEX(Data!P:P,Report!$B460)),\"\",INDEX(Data!P:P,Report!$B460))","v":"Player Serve"},{"$f":"IF(ISERROR(INDEX(Data!O:O,Report!$B460)),\"\",INDEX(Data!O:O,Report!$B460))","v":4},{"$f":"IF(ISERROR(INDEX(Data!Q:Q,Report!$B460)),\"\",INDEX(Data!Q:Q,Report!$B460))","v":3.5},{"$f":"IF(ISERROR(INDEX(Data!R:R,Report!$B460)),\"\",INDEX(Data!R:R,Report!$B460))","v":15},{"$f":"IF(ISERROR(INDEX(Data!S:S,Report!$B460)),\"\",INDEX(Data!S:S,Report!$B460))","v":18},{"$f":"IF(ISERROR(INDEX(Data!T:T,Report!$B460)),\"\",INDEX(Data!T:T,Report!$B460))","v":3.8},{"$f":"IF(ISERROR(INDEX(Data!U:U,Report!$B460)),\"\",INDEX(Data!U:U,Report!$B460))","v":118},{"$f":"IF(ISERROR(INDEX(Data!V:V,Report!$B460)),\"\",INDEX(Data!V:V,Report!$B460))","v":5.4},null,"               |","|||||||||"]
[457,{"$f":"IF(ISERROR(MATCH(A461,Data!A:A,0)),\"\",MATCH(A461,Data!A:A,0))","v":""},{"$f":"IF(ISERROR(INDEX(Data!I:I,Report!$B461)),\"\",INDEX(Data!I:I,Report!$B461))","v":""},{"$f":"IF(ISERROR(INDEX(Data!J:J,Report!$B461)),\"\",INDEX(Data!J:J,Report!$B461))","v":""},{"$f":"IF(ISERROR(INDEX(Data!K:K,Report!$B461)),\"\",INDEX(Data!K:K,Report!$B461))","v":""},{"$f":"IF(ISERROR(INDEX(Data!L:L,Report!$B461)),\"\",INDEX(Data!L:L,Report!$B461))","v":""},null,{"$f":"IF(ISERROR(INDEX(Data!N:N,Report!$B461)),\"\",INDEX(Data!N:N,Report!$B461))","v":""},{"$f":"IF(ISERROR(INDEX(Data!P:P,Report!$B461)),\"\",INDEX(Data!P:P,Report!$B461))","v":""},{"$f":"IF(ISERROR(INDEX(Data!O:O,Report!$B461)),\"\",INDEX(Data!O:O,Report!$B461))","v":""},{"$f":"IF(ISERROR(INDEX(Data!Q:Q,Report!$B461)),\"\",INDEX(Data!Q:Q,Report!$B461))","v":""},{"$f":"IF(ISERROR(INDEX(Data!R:R,Report!$B461)),\"\",INDEX(Data!R:R,Report!$B461))","v":""},{"$f":"IF(ISERROR(INDEX(Data!S:S,Report!$B461)),\"\",INDEX(Data!S:S,Report!$B461))","v":""},{"$f":"IF(ISERROR(INDEX(Data!T:T,Report!$B461)),\"\",INDEX(Data!T:T,Report!$B461))","v":""},{"$f":"IF(ISERROR(INDEX(Data!U:U,Report!$B461)),\"\",INDEX(Data!U:U,Report!$B461))","v":""},{"$f":"IF(ISERROR(INDEX(Data!V:V,Report!$B461)),\"\",INDEX(Data!V:V,Report!$B461))","v":""},null,"",""]
[458,{"$f":"IF(ISERROR(MATCH(A462,Data!A:A,0)),\"\",MATCH(A462,Data!A:A,0))","v":""},{"$f":"IF(ISERROR(INDEX(Data!I:I,Report!$B462)),\"\",INDEX(Data!I:I,Report!$B462))","v":""},{"$f":"IF(ISERROR(INDEX(Data!J:J,Report!$B462)),\"\",INDEX(Data!J:J,Report!$B462))","v":""},{"$f":"IF(ISERROR(INDEX(Data!K:K,Report!$B462)),\"\",INDEX(Data!K:K,Report!$B462))","v":""},{"$f":"IF(ISERROR(INDEX(Data!L:L,Report!$B462)),\"\",INDEX(Data!L:L,Report!$B462))","v":""},null,{"$f":"IF(ISERROR(INDEX(Data!N:N,Report!$B462)),\"\",INDEX(Data!N:N,Report!$B462))","v":""},{"$f":"IF(ISERROR(INDEX(Data!P:P,Report!$B462)),\"\",INDEX(Data!P:P,Report!$B462))","v":""},{"$f":"IF(ISERROR(INDEX(Data!O:O,Report!$B462)),\"\",INDEX(Data!O:O,Report!$B462))","v":""},{"$f":"IF(ISERROR(INDEX(Data!Q:Q,Report!$B462)),\"\",INDEX(Data!Q:Q,Report!$B462))","v":""},{"$f":"IF(ISERROR(INDEX(Data!R:R,Report!$B462)),\"\",INDEX(Data!R:R,Report!$B462))","v":""},{"$f":"IF(ISERROR(INDEX(Data!S:S,Report!$B462)),\"\",INDEX(Data!S:S,Report!$B462))","v":""},{"$f":"IF(ISERROR(INDEX(Data!T:T,Report!$B462)),\"\",INDEX(Data!T:T,Report!$B462))","v":""},{"$f":"IF(ISERROR(INDEX(Data!U:U,Report!$B462)),\"\",INDEX(Data!U:U,Report!$B462))","v":""},{"$f":"IF(ISERROR(INDEX(Data!V:V,Report!$B462)),\"\",INDEX(Data!V:V,Report!$B462))","v":""},null,"",""]
[459,{"$f":"IF(ISERROR(MATCH(A463,Data!A:A,0)),\"\",MATCH(A463,Data!A:A,0))","v":""},{"$f":"IF(ISERROR(INDEX(Data!I:I,Report!$B463)),\"\",INDEX(Data!I:I,Report!$B463))","v":""},{"$f":"IF(ISERROR(INDEX(Data!J:J,Report!$B463)),\"\",INDEX(Data!J:J,Report!$B463))","v":""},{"$f":"IF(ISERROR(INDEX(Data!K:K,Report!$B463)),\"\",INDEX(Data!K:K,Report!$B463))","v":""},{"$f":"IF(ISERROR(INDEX(Data!L:L,Report!$B463)),\"\",INDEX(Data!L:L,Report!$B463))","v":""},null,{"$f":"IF(ISERROR(INDEX(Data!N:N,Report!$B463)),\"\",INDEX(Data!N:N,Report!$B463))","v":""},{"$f":"IF(ISERROR(INDEX(Data!P:P,Report!$B463)),\"\",INDEX(Data!P:P,Report!$B463))","v":""},{"$f":"IF(ISERROR(INDEX(Data!O:O,Report!$B463)),\"\",INDEX(Data!O:O,Report!$B463))","v":""},{"$f":"IF(ISERROR(INDEX(Data!Q:Q,Report!$B463)),\"\",INDEX(Data!Q:Q,Report!$B463))","v":""},{"$f":"IF(ISERROR(INDEX(Data!R:R,Report!$B463)),\"\",INDEX(Data!R:R,Report!$B463))","v":""},{"$f":"IF(ISERROR(INDEX(Data!S:S,Report!$B463)),\"\",INDEX(Data!S:S,Report!$B463))","v":""},{"$f":"IF(ISERROR(INDEX(Data!T:T,Report!$B463)),\"\",INDEX(Data!T:T,Report!$B463))","v":""},{"$f":"IF(ISERROR(INDEX(Data!U:U,Report!$B463)),\"\",INDEX(Data!U:U,Report!$B463))","v":""},{"$f":"IF(ISERROR(INDEX(Data!V:V,Report!$B463)),\"\",INDEX(Data!V:V,Report!$B463))","v":""},null,"",""]
[460,{"$f":"IF(ISERROR(MATCH(A464,Data!A:A,0)),\"\",MATCH(A464,Data!A:A,0))","v":224},{"$f":"IF(ISERROR(INDEX(Data!I:I,Report!$B464)),\"\",INDEX(Data!I:I,Report!$B464))","v":" "},{"$f":"IF(ISERROR(INDEX(Data!J:J,Report!$B464)),\"\",INDEX(Data!J:J,Report!$B464))","v":"User Drill #188  3 line rated mini tennis"},{"$f":"IF(ISERROR(INDEX(Data!K:K,Report!$B464)),\"\",INDEX(Data!K:K,Report!$B464))","v":0},{"$f":"IF(ISERROR(INDEX(Data!L:L,Report!$B464)),\"\",INDEX(Data!L:L,Report!$B464))","v":"New Point"},null,{"$f":"IF(ISERROR(INDEX(Data!N:N,Report!$B464)),\"\",INDEX(Data!N:N,Report!$B464))","v":1},{"$f":"IF(ISERROR(INDEX(Data!P:P,Report!$B464)),\"\",INDEX(Data!P:P,Report!$B464))","v":0},{"$f":"IF(ISERROR(INDEX(Data!O:O,Report!$B464)),\"\",INDEX(Data!O:O,Report!$B464))","v":11},{"$f":"IF(ISERROR(INDEX(Data!Q:Q,Report!$B464)),\"\",INDEX(Data!Q:Q,Report!$B464))","v":3.5},{"$f":"IF(ISERROR(INDEX(Data!R:R,Report!$B464)),\"\",INDEX(Data!R:R,Report!$B464))","v":0},{"$f":"IF(ISERROR(INDEX(Data!S:S,Report!$B464)),\"\",INDEX(Data!S:S,Report!$B464))","v":0},{"$f":"IF(ISERROR(INDEX(Data!T:T,Report!$B464)),\"\",INDEX(Data!T:T,Report!$B464))","v":0},{"$f":"IF(ISERROR(INDEX(Data!U:U,Report!$B464)),\"\",INDEX(Data!U:U,Report!$B464))","v":0},{"$f":"IF(ISERROR(INDEX(Data!V:V,Report!$B464)),\"\",INDEX(Data!V:V,Report!$B464))","v":0},null,"|",""]
[461,{"$f":"IF(ISERROR(MATCH(A465,Data!A:A,0)),\"\",MATCH(A465,Data!A:A,0))","v":""},{"$f":"IF(ISERROR(INDEX(Data!I:I,Report!$B465)),\"\",INDEX(Data!I:I,Report!$B465))","v":""},{"$f":"IF(ISERROR(INDEX(Data!J:J,Report!$B465)),\"\",INDEX(Data!J:J,Report!$B465))","v":""},{"$f":"IF(ISERROR(INDEX(Data!K:K,Report!$B465)),\"\",INDEX(Data!K:K,Report!$B465))","v":""},{"$f":"IF(ISERROR(INDEX(Data!L:L,Report!$B465)),\"\",INDEX(Data!L:L,Report!$B465))","v":""},null,{"$f":"IF(ISERROR(INDEX(Data!N:N,Report!$B465)),\"\",INDEX(Data!N:N,Report!$B465))","v":""},{"$f":"IF(ISERROR(INDEX(Data!P:P,Report!$B465)),\"\",INDEX(Data!P:P,Report!$B465))","v":""},{"$f":"IF(ISERROR(INDEX(Data!O:O,Report!$B465)),\"\",INDEX(Data!O:O,Report!$B465))","v":""},{"$f":"IF(ISERROR(INDEX(Data!Q:Q,Report!$B465)),\"\",INDEX(Data!Q:Q,Report!$B465))","v":""},{"$f":"IF(ISERROR(INDEX(Data!R:R,Report!$B465)),\"\",INDEX(Data!R:R,Report!$B465))","v":""},{"$f":"IF(ISERROR(INDEX(Data!S:S,Report!$B465)),\"\",INDEX(Data!S:S,Report!$B465))","v":""},{"$f":"IF(ISERROR(INDEX(Data!T:T,Report!$B465)),\"\",INDEX(Data!T:T,Report!$B465))","v":""},{"$f":"IF(ISERROR(INDEX(Data!U:U,Report!$B465)),\"\",INDEX(Data!U:U,Report!$B465))","v":""},{"$f":"IF(ISERROR(INDEX(Data!V:V,Report!$B465)),\"\",INDEX(Data!V:V,Report!$B465))","v":""},null,"",""]
[462,{"$f":"IF(ISERROR(MATCH(A466,Data!A:A,0)),\"\",MATCH(A466,Data!A:A,0))","v":""},{"$f":"IF(ISERROR(INDEX(Data!I:I,Report!$B466)),\"\",INDEX(Data!I:I,Report!$B466))","v":""},{"$f":"IF(ISERROR(INDEX(Data!J:J,Report!$B466)),\"\",INDEX(Data!J:J,Report!$B466))","v":""},{"$f":"IF(ISERROR(INDEX(Data!K:K,Report!$B466)),\"\",INDEX(Data!K:K,Report!$B466))","v":""},{"$f":"IF(ISERROR(INDEX(Data!L:L,Report!$B466)),\"\",INDEX(Data!L:L,Report!$B466))","v":""},null,{"$f":"IF(ISERROR(INDEX(Data!N:N,Report!$B466)),\"\",INDEX(Data!N:N,Report!$B466))","v":""},{"$f":"IF(ISERROR(INDEX(Data!P:P,Report!$B466)),\"\",INDEX(Data!P:P,Report!$B466))","v":""},{"$f":"IF(ISERROR(INDEX(Data!O:O,Report!$B466)),\"\",INDEX(Data!O:O,Report!$B466))","v":""},{"$f":"IF(ISERROR(INDEX(Data!Q:Q,Report!$B466)),\"\",INDEX(Data!Q:Q,Report!$B466))","v":""},{"$f":"IF(ISERROR(INDEX(Data!R:R,Report!$B466)),\"\",INDEX(Data!R:R,Report!$B466))","v":""},{"$f":"IF(ISERROR(INDEX(Data!S:S,Report!$B466)),\"\",INDEX(Data!S:S,Report!$B466))","v":""},{"$f":"IF(ISERROR(INDEX(Data!T:T,Report!$B466)),\"\",INDEX(Data!T:T,Report!$B466))","v":""},{"$f":"IF(ISERROR(INDEX(Data!U:U,Report!$B466)),\"\",INDEX(Data!U:U,Report!$B466))","v":""},{"$f":"IF(ISERROR(INDEX(Data!V:V,Report!$B466)),\"\",INDEX(Data!V:V,Report!$B466))","v":""},null,"",""]
[463,{"$f":"IF(ISERROR(MATCH(A467,Data!A:A,0)),\"\",MATCH(A467,Data!A:A,0))","v":""},{"$f":"IF(ISERROR(INDEX(Data!I:I,Report!$B467)),\"\",INDEX(Data!I:I,Report!$B467))","v":""},{"$f":"IF(ISERROR(INDEX(Data!J:J,Report!$B467)),\"\",INDEX(Data!J:J,Report!$B467))","v":""},{"$f":"IF(ISERROR(INDEX(Data!K:K,Report!$B467)),\"\",INDEX(Data!K:K,Report!$B467))","v":""},{"$f":"IF(ISERROR(INDEX(Data!L:L,Report!$B467)),\"\",INDEX(Data!L:L,Report!$B467))","v":""},null,{"$f":"IF(ISERROR(INDEX(Data!N:N,Report!$B467)),\"\",INDEX(Data!N:N,Report!$B467))","v":""},{"$f":"IF(ISERROR(INDEX(Data!P:P,Report!$B467)),\"\",INDEX(Data!P:P,Report!$B467))","v":""},{"$f":"IF(ISERROR(INDEX(Data!O:O,Report!$B467)),\"\",INDEX(Data!O:O,Report!$B467))","v":""},{"$f":"IF(ISERROR(INDEX(Data!Q:Q,Report!$B467)),\"\",INDEX(Data!Q:Q,Report!$B467))","v":""},{"$f":"IF(ISERROR(INDEX(Data!R:R,Report!$B467)),\"\",INDEX(Data!R:R,Report!$B467))","v":""},{"$f":"IF(ISERROR(INDEX(Data!S:S,Report!$B467)),\"\",INDEX(Data!S:S,Report!$B467))","v":""},{"$f":"IF(ISERROR(INDEX(Data!T:T,Report!$B467)),\"\",INDEX(Data!T:T,Report!$B467))","v":""},{"$f":"IF(ISERROR(INDEX(Data!U:U,Report!$B467)),\"\",INDEX(Data!U:U,Report!$B467))","v":""},{"$f":"IF(ISERROR(INDEX(Data!V:V,Report!$B467)),\"\",INDEX(Data!V:V,Report!$B467))","v":""},null,"",""]
[464,{"$f":"IF(ISERROR(MATCH(A468,Data!A:A,0)),\"\",MATCH(A468,Data!A:A,0))","v":225},{"$f":"IF(ISERROR(INDEX(Data!I:I,Report!$B468)),\"\",INDEX(Data!I:I,Report!$B468))","v":"00:41:51"},{"$f":"IF(ISERROR(INDEX(Data!J:J,Report!$B468)),\"\",INDEX(Data!J:J,Report!$B468))","v":"Game against Boomer at level 2.0  Single point data:"},{"$f":"IF(ISERROR(INDEX(Data!K:K,Report!$B468)),\"\",INDEX(Data!K:K,Report!$B468))","v":"Player's point"},{"$f":"IF(ISERROR(INDEX(Data!L:L,Report!$B468)),\"\",INDEX(Data!L:L,Report!$B468))","v":"New Point"},null,{"$f":"IF(ISERROR(INDEX(Data!N:N,Report!$B468)),\"\",INDEX(Data!N:N,Report!$B468))","v":1},{"$f":"IF(ISERROR(INDEX(Data!P:P,Report!$B468)),\"\",INDEX(Data!P:P,Report!$B468))","v":"Serve"},{"$f":"IF(ISERROR(INDEX(Data!O:O,Report!$B468)),\"\",INDEX(Data!O:O,Report!$B468))","v":0},{"$f":"IF(ISERROR(INDEX(Data!Q:Q,Report!$B468)),\"\",INDEX(Data!Q:Q,Report!$B468))","v":2},{"$f":"IF(ISERROR(INDEX(Data!R:R,Report!$B468)),\"\",INDEX(Data!R:R,Report!$B468))","v":31},{"$f":"IF(ISERROR(INDEX(Data!S:S,Report!$B468)),\"\",INDEX(Data!S:S,Report!$B468))","v":2},{"$f":"IF(ISERROR(INDEX(Data!T:T,Report!$B468)),\"\",INDEX(Data!T:T,Report!$B468))","v":6.2},{"$f":"IF(ISERROR(INDEX(Data!U:U,Report!$B468)),\"\",INDEX(Data!U:U,Report!$B468))","v":51},{"$f":"IF(ISERROR(INDEX(Data!V:V,Report!$B468)),\"\",INDEX(Data!V:V,Report!$B468))","v":6},null,"                               |","|"]
[465,{"$f":"IF(ISERROR(MATCH(A469,Data!A:A,0)),\"\",MATCH(A469,Data!A:A,0))","v":226},{"$f":"IF(ISERROR(INDEX(Data!I:I,Report!$B469)),\"\",INDEX(Data!I:I,Report!$B469))","v":"00:41:51"},{"$f":"IF(ISERROR(INDEX(Data!J:J,Report!$B469)),\"\",INDEX(Data!J:J,Report!$B469))","v":"Game against Boomer at level 2.0  Single point data:"},{"$f":"IF(ISERROR(INDEX(Data!K:K,Report!$B469)),\"\",INDEX(Data!K:K,Report!$B469))","v":"Player's point"},{"$f":"IF(ISERROR(INDEX(Data!L:L,Report!$B469)),\"\",INDEX(Data!L:L,Report!$B469))","v":0},null,{"$f":"IF(ISERROR(INDEX(Data!N:N,Report!$B469)),\"\",INDEX(Data!N:N,Report!$B469))","v":2},{"$f":"IF(ISERROR(INDEX(Data!P:P,Report!$B469)),\"\",INDEX(Data!P:P,Report!$B469))","v":"Topspin"},{"$f":"IF(ISERROR(INDEX(Data!O:O,Report!$B469)),\"\",INDEX(Data!O:O,Report!$B469))","v":5},{"$f":"IF(ISERROR(INDEX(Data!Q:Q,Report!$B469)),\"\",INDEX(Data!Q:Q,Report!$B469))","v":2},{"$f":"IF(ISERROR(INDEX(Data!R:R,Report!$B469)),\"\",INDEX(Data!R:R,Report!$B469))","v":19},{"$f":"IF(ISERROR(INDEX(Data!S:S,Report!$B469)),\"\",INDEX(Data!S:S,Report!$B469))","v":10},{"$f":"IF(ISERROR(INDEX(Data!T:T,Report!$B469)),\"\",INDEX(Data!T:T,Report!$B469))","v":3.2},{"$f":"IF(ISERROR(INDEX(Data!U:U,Report!$B469)),\"\",INDEX(Data!U:U,Report!$B469))","v":34},{"$f":"IF(ISERROR(INDEX(Data!V:V,Report!$B469)),\"\",INDEX(Data!V:V,Report!$B469))","v":3.5},null,"                   |","|||||"]
[466,{"$f":"IF(ISERROR(MATCH(A470,Data!A:A,0)),\"\",MATCH(A470,Data!A:A,0))","v":227},{"$f":"IF(ISERROR(INDEX(Data!I:I,Report!$B470)),\"\",INDEX(Data!I:I,Report!$B470))","v":" "},{"$f":"IF(ISERROR(INDEX(Data!J:J,Report!$B470)),\"\",INDEX(Data!J:J,Report!$B470))","v":"User Drill #188  3 line rated mini tennis"},{"$f":"IF(ISERROR(INDEX(Data!K:K,Report!$B470)),\"\",INDEX(Data!K:K,Report!$B470))","v":0},{"$f":"IF(ISERROR(INDEX(Data!L:L,Report!$B470)),\"\",INDEX(Data!L:L,Report!$B470))","v":0},null,{"$f":"IF(ISERROR(INDEX(Data!N:N,Report!$B470)),\"\",INDEX(Data!N:N,Report!$B470))","v":2},{"$f":"IF(ISERROR(INDEX(Data!P:P,Report!$B470)),\"\",INDEX(Data!P:P,Report!$B470))","v":0},{"$f":"IF(ISERROR(INDEX(Data!O:O,Report!$B470)),\"\",INDEX(Data!O:O,Report!$B470))","v":4},{"$f":"IF(ISERROR(INDEX(Data!Q:Q,Report!$B470)),\"\",INDEX(Data!Q:Q,Report!$B470))","v":3.5},{"$f":"IF(ISERROR(INDEX(Data!R:R,Report!$B470)),\"\",INDEX(Data!R:R,Report!$B470))","v":0},{"$f":"IF(ISERROR(INDEX(Data!S:S,Report!$B470)),\"\",INDEX(Data!S:S,Report!$B470))","v":0},{"$f":"IF(ISERROR(INDEX(Data!T:T,Report!$B470)),\"\",INDEX(Data!T:T,Report!$B470))","v":0},{"$f":"IF(ISERROR(INDEX(Data!U:U,Report!$B470)),\"\",INDEX(Data!U:U,Report!$B470))","v":0},{"$f":"IF(ISERROR(INDEX(Data!V:V,Report!$B470)),\"\",INDEX(Data!V:V,Report!$B470))","v":0},null,"|",""]
[467,{"$f":"IF(ISERROR(MATCH(A471,Data!A:A,0)),\"\",MATCH(A471,Data!A:A,0))","v":228},{"$f":"IF(ISERROR(INDEX(Data!I:I,Report!$B471)),\"\",INDEX(Data!I:I,Report!$B471))","v":"00:41:51"},{"$f":"IF(ISERROR(INDEX(Data!J:J,Report!$B471)),\"\",INDEX(Data!J:J,Report!$B471))","v":"Game against Boomer at level 2.0  Single point data:"},{"$f":"IF(ISERROR(INDEX(Data!K:K,Report!$B471)),\"\",INDEX(Data!K:K,Report!$B471))","v":"Player's point"},{"$f":"IF(ISERROR(INDEX(Data!L:L,Report!$B471)),\"\",INDEX(Data!L:L,Report!$B471))","v":0},null,{"$f":"IF(ISERROR(INDEX(Data!N:N,Report!$B471)),\"\",INDEX(Data!N:N,Report!$B471))","v":3},{"$f":"IF(ISERROR(INDEX(Data!P:P,Report!$B471)),\"\",INDEX(Data!P:P,Report!$B471))","v":"Lob"},{"$f":"IF(ISERROR(INDEX(Data!O:O,Report!$B471)),\"\",INDEX(Data!O:O,Report!$B471))","v":3},{"$f":"IF(ISERROR(INDEX(Data!Q:Q,Report!$B471)),\"\",INDEX(Data!Q:Q,Report!$B471))","v":2},{"$f":"IF(ISERROR(INDEX(Data!R:R,Report!$B471)),\"\",INDEX(Data!R:R,Report!$B471))","v":26},{"$f":"IF(ISERROR(INDEX(Data!S:S,Report!$B471)),\"\",INDEX(Data!S:S,Report!$B471))","v":23},{"$f":"IF(ISERROR(INDEX(Data!T:T,Report!$B471)),\"\",INDEX(Data!T:T,Report!$B471))","v":4.9000000000000004},{"$f":"IF(ISERROR(INDEX(Data!U:U,Report!$B471)),\"\",INDEX(Data!U:U,Report!$B471))","v":41},{"$f":"IF(ISERROR(INDEX(Data!V:V,Report!$B471)),\"\",INDEX(Data!V:V,Report!$B471))","v":4.8},null,"                          |","|||||||||||"]
[468,{"$f":"IF(ISERROR(MATCH(A472,Data!A:A,0)),\"\",MATCH(A472,Data!A:A,0))","v":229},{"$f":"IF(ISERROR(INDEX(Data!I:I,Report!$B472)),\"\",INDEX(Data!I:I,Report!$B472))","v":" "},{"$f":"IF(ISERROR(INDEX(Data!J:J,Report!$B472)),\"\",INDEX(Data!J:J,Report!$B472))","v":"User Drill #188  3 line rated mini tennis"},{"$f":"IF(ISERROR(INDEX(Data!K:K,Report!$B472)),\"\",INDEX(Data!K:K,Report!$B472))","v":0},{"$f":"IF(ISERROR(INDEX(Data!L:L,Report!$B472)),\"\",INDEX(Data!L:L,Report!$B472))","v":0},null,{"$f":"IF(ISERROR(INDEX(Data!N:N,Report!$B472)),\"\",INDEX(Data!N:N,Report!$B472))","v":3},{"$f":"IF(ISERROR(INDEX(Data!P:P,Report!$B472)),\"\",INDEX(Data!P:P,Report!$B472))","v":0},{"$f":"IF(ISERROR(INDEX(Data!O:O,Report!$B472)),\"\",INDEX(Data!O:O,Report!$B472))","v":10},{"$f":"IF(ISERROR(INDEX(Data!Q:Q,Report!$B472)),\"\",INDEX(Data!Q:Q,Report!$B472))","v":3.5},{"$f":"IF(ISERROR(INDEX(Data!R:R,Report!$B472)),\"\",INDEX(Data!R:R,Report!$B472))","v":0},{"$f":"IF(ISERROR(INDEX(Data!S:S,Report!$B472)),\"\",INDEX(Data!S:S,Report!$B472))","v":0},{"$f":"IF(ISERROR(INDEX(Data!T:T,Report!$B472)),\"\",INDEX(Data!T:T,Report!$B472))","v":0},{"$f":"IF(ISERROR(INDEX(Data!U:U,Report!$B472)),\"\",INDEX(Data!U:U,Report!$B472))","v":0},{"$f":"IF(ISERROR(INDEX(Data!V:V,Report!$B472)),\"\",INDEX(Data!V:V,Report!$B472))","v":0},null,"|",""]
[469,{"$f":"IF(ISERROR(MATCH(A473,Data!A:A,0)),\"\",MATCH(A473,Data!A:A,0))","v":""},{"$f":"IF(ISERROR(INDEX(Data!I:I,Report!$B473)),\"\",INDEX(Data!I:I,Report!$B473))","v":""},{"$f":"IF(ISERROR(INDEX(Data!J:J,Report!$B473)),\"\",INDEX(Data!J:J,Report!$B473))","v":""},{"$f":"IF(ISERROR(INDEX(Data!K:K,Report!$B473)),\"\",INDEX(Data!K:K,Report!$B473))","v":""},{"$f":"IF(ISERROR(INDEX(Data!L:L,Report!$B473)),\"\",INDEX(Data!L:L,Report!$B473))","v":""},null,{"$f":"IF(ISERROR(INDEX(Data!N:N,Report!$B473)),\"\",INDEX(Data!N:N,Report!$B473))","v":""},{"$f":"IF(ISERROR(INDEX(Data!P:P,Report!$B473)),\"\",INDEX(Data!P:P,Report!$B473))","v":""},{"$f":"IF(ISERROR(INDEX(Data!O:O,Report!$B473)),\"\",INDEX(Data!O:O,Report!$B473))","v":""},{"$f":"IF(ISERROR(INDEX(Data!Q:Q,Report!$B473)),\"\",INDEX(Data!Q:Q,Report!$B473))","v":""},{"$f":"IF(ISERROR(INDEX(Data!R:R,Report!$B473)),\"\",INDEX(Data!R:R,Report!$B473))","v":""},{"$f":"IF(ISERROR(INDEX(Data!S:S,Report!$B473)),\"\",INDEX(Data!S:S,Report!$B473))","v":""},{"$f":"IF(ISERROR(INDEX(Data!T:T,Report!$B473)),\"\",INDEX(Data!T:T,Report!$B473))","v":""},{"$f":"IF(ISERROR(INDEX(Data!U:U,Report!$B473)),\"\",INDEX(Data!U:U,Report!$B473))","v":""},{"$f":"IF(ISERROR(INDEX(Data!V:V,Report!$B473)),\"\",INDEX(Data!V:V,Report!$B473))","v":""},null,"",""]
[470,{"$f":"IF(ISERROR(MATCH(A474,Data!A:A,0)),\"\",MATCH(A474,Data!A:A,0))","v":""},{"$f":"IF(ISERROR(INDEX(Data!I:I,Report!$B474)),\"\",INDEX(Data!I:I,Report!$B474))","v":""},{"$f":"IF(ISERROR(INDEX(Data!J:J,Report!$B474)),\"\",INDEX(Data!J:J,Report!$B474))","v":""},{"$f":"IF(ISERROR(INDEX(Data!K:K,Report!$B474)),\"\",INDEX(Data!K:K,Report!$B474))","v":""},{"$f":"IF(ISERROR(INDEX(Data!L:L,Report!$B474)),\"\",INDEX(Data!L:L,Report!$B474))","v":""},null,{"$f":"IF(ISERROR(INDEX(Data!N:N,Report!$B474)),\"\",INDEX(Data!N:N,Report!$B474))","v":""},{"$f":"IF(ISERROR(INDEX(Data!P:P,Report!$B474)),\"\",INDEX(Data!P:P,Report!$B474))","v":""},{"$f":"IF(ISERROR(INDEX(Data!O:O,Report!$B474)),\"\",INDEX(Data!O:O,Report!$B474))","v":""},{"$f":"IF(ISERROR(INDEX(Data!Q:Q,Report!$B474)),\"\",INDEX(Data!Q:Q,Report!$B474))","v":""},{"$f":"IF(ISERROR(INDEX(Data!R:R,Report!$B474)),\"\",INDEX(Data!R:R,Report!$B474))","v":""},{"$f":"IF(ISERROR(INDEX(Data!S:S,Report!$B474)),\"\",INDEX(Data!S:S,Report!$B474))","v":""},{"$f":"IF(ISERROR(INDEX(Data!T:T,Report!$B474)),\"\",INDEX(Data!T:T,Report!$B474))","v":""},{"$f":"IF(ISERROR(INDEX(Data!U:U,Report!$B474)),\"\",INDEX(Data!U:U,Report!$B474))","v":""},{"$f":"IF(ISERROR(INDEX(Data!V:V,Report!$B474)),\"\",INDEX(Data!V:V,Report!$B474))","v":""},null,"",""]
[471,{"$f":"IF(ISERROR(MATCH(A475,Data!A:A,0)),\"\",MATCH(A475,Data!A:A,0))","v":""},{"$f":"IF(ISERROR(INDEX(Data!I:I,Report!$B475)),\"\",INDEX(Data!I:I,Report!$B475))","v":""},{"$f":"IF(ISERROR(INDEX(Data!J:J,Report!$B475)),\"\",INDEX(Data!J:J,Report!$B475))","v":""},{"$f":"IF(ISERROR(INDEX(Data!K:K,Report!$B475)),\"\",INDEX(Data!K:K,Report!$B475))","v":""},{"$f":"IF(ISERROR(INDEX(Data!L:L,Report!$B475)),\"\",INDEX(Data!L:L,Report!$B475))","v":""},null,{"$f":"IF(ISERROR(INDEX(Data!N:N,Report!$B475)),\"\",INDEX(Data!N:N,Report!$B475))","v":""},{"$f":"IF(ISERROR(INDEX(Data!P:P,Report!$B475)),\"\",INDEX(Data!P:P,Report!$B475))","v":""},{"$f":"IF(ISERROR(INDEX(Data!O:O,Report!$B475)),\"\",INDEX(Data!O:O,Report!$B475))","v":""},{"$f":"IF(ISERROR(INDEX(Data!Q:Q,Report!$B475)),\"\",INDEX(Data!Q:Q,Report!$B475))","v":""},{"$f":"IF(ISERROR(INDEX(Data!R:R,Report!$B475)),\"\",INDEX(Data!R:R,Report!$B475))","v":""},{"$f":"IF(ISERROR(INDEX(Data!S:S,Report!$B475)),\"\",INDEX(Data!S:S,Report!$B475))","v":""},{"$f":"IF(ISERROR(INDEX(Data!T:T,Report!$B475)),\"\",INDEX(Data!T:T,Report!$B475))","v":""},{"$f":"IF(ISERROR(INDEX(Data!U:U,Report!$B475)),\"\",INDEX(Data!U:U,Report!$B475))","v":""},{"$f":"IF(ISERROR(INDEX(Data!V:V,Report!$B475)),\"\",INDEX(Data!V:V,Report!$B475))","v":""},null,"",""]
[472,{"$f":"IF(ISERROR(MATCH(A476,Data!A:A,0)),\"\",MATCH(A476,Data!A:A,0))","v":230},{"$f":"IF(ISERROR(INDEX(Data!I:I,Report!$B476)),\"\",INDEX(Data!I:I,Report!$B476))","v":"00:42:19"},{"$f":"IF(ISERROR(INDEX(Data!J:J,Report!$B476)),\"\",INDEX(Data!J:J,Report!$B476))","v":"Game against Boomer at level 2.0  Single point data:"},{"$f":"IF(ISERROR(INDEX(Data!K:K,Report!$B476)),\"\",INDEX(Data!K:K,Report!$B476))","v":"Player's point"},{"$f":"IF(ISERROR(INDEX(Data!L:L,Report!$B476)),\"\",INDEX(Data!L:L,Report!$B476))","v":"New Point"},null,{"$f":"IF(ISERROR(INDEX(Data!N:N,Report!$B476)),\"\",INDEX(Data!N:N,Report!$B476))","v":1},{"$f":"IF(ISERROR(INDEX(Data!P:P,Report!$B476)),\"\",INDEX(Data!P:P,Report!$B476))","v":"Serve"},{"$f":"IF(ISERROR(INDEX(Data!O:O,Report!$B476)),\"\",INDEX(Data!O:O,Report!$B476))","v":8},{"$f":"IF(ISERROR(INDEX(Data!Q:Q,Report!$B476)),\"\",INDEX(Data!Q:Q,Report!$B476))","v":2},{"$f":"IF(ISERROR(INDEX(Data!R:R,Report!$B476)),\"\",INDEX(Data!R:R,Report!$B476))","v":19},{"$f":"IF(ISERROR(INDEX(Data!S:S,Report!$B476)),\"\",INDEX(Data!S:S,Report!$B476))","v":19},{"$f":"IF(ISERROR(INDEX(Data!T:T,Report!$B476)),\"\",INDEX(Data!T:T,Report!$B476))","v":3.7},{"$f":"IF(ISERROR(INDEX(Data!U:U,Report!$B476)),\"\",INDEX(Data!U:U,Report!$B476))","v":32},{"$f":"IF(ISERROR(INDEX(Data!V:V,Report!$B476)),\"\",INDEX(Data!V:V,Report!$B476))","v":3.1},null,"                   |","|||||||||"]
[473,{"$f":"IF(ISERROR(MATCH(A477,Data!A:A,0)),\"\",MATCH(A477,Data!A:A,0))","v":""},{"$f":"IF(ISERROR(INDEX(Data!I:I,Report!$B477)),\"\",INDEX(Data!I:I,Report!$B477))","v":""},{"$f":"IF(ISERROR(INDEX(Data!J:J,Report!$B477)),\"\",INDEX(Data!J:J,Report!$B477))","v":""},{"$f":"IF(ISERROR(INDEX(Data!K:K,Report!$B477)),\"\",INDEX(Data!K:K,Report!$B477))","v":""},{"$f":"IF(ISERROR(INDEX(Data!L:L,Report!$B477)),\"\",INDEX(Data!L:L,Report!$B477))","v":""},null,{"$f":"IF(ISERROR(INDEX(Data!N:N,Report!$B477)),\"\",INDEX(Data!N:N,Report!$B477))","v":""},{"$f":"IF(ISERROR(INDEX(Data!P:P,Report!$B477)),\"\",INDEX(Data!P:P,Report!$B477))","v":""},{"$f":"IF(ISERROR(INDEX(Data!O:O,Report!$B477)),\"\",INDEX(Data!O:O,Report!$B477))","v":""},{"$f":"IF(ISERROR(INDEX(Data!Q:Q,Report!$B477)),\"\",INDEX(Data!Q:Q,Report!$B477))","v":""},{"$f":"IF(ISERROR(INDEX(Data!R:R,Report!$B477)),\"\",INDEX(Data!R:R,Report!$B477))","v":""},{"$f":"IF(ISERROR(INDEX(Data!S:S,Report!$B477)),\"\",INDEX(Data!S:S,Report!$B477))","v":""},{"$f":"IF(ISERROR(INDEX(Data!T:T,Report!$B477)),\"\",INDEX(Data!T:T,Report!$B477))","v":""},{"$f":"IF(ISERROR(INDEX(Data!U:U,Report!$B477)),\"\",INDEX(Data!U:U,Report!$B477))","v":""},{"$f":"IF(ISERROR(INDEX(Data!V:V,Report!$B477)),\"\",INDEX(Data!V:V,Report!$B477))","v":""},null,"",""]
[474,{"$f":"IF(ISERROR(MATCH(A478,Data!A:A,0)),\"\",MATCH(A478,Data!A:A,0))","v":""},{"$f":"IF(ISERROR(INDEX(Data!I:I,Report!$B478)),\"\",INDEX(Data!I:I,Report!$B478))","v":""},{"$f":"IF(ISERROR(INDEX(Data!J:J,Report!$B478)),\"\",INDEX(Data!J:J,Report!$B478))","v":""},{"$f":"IF(ISERROR(INDEX(Data!K:K,Report!$B478)),\"\",INDEX(Data!K:K,Report!$B478))","v":""},{"$f":"IF(ISERROR(INDEX(Data!L:L,Report!$B478)),\"\",INDEX(Data!L:L,Report!$B478))","v":""},null,{"$f":"IF(ISERROR(INDEX(Data!N:N,Report!$B478)),\"\",INDEX(Data!N:N,Report!$B478))","v":""},{"$f":"IF(ISERROR(INDEX(Data!P:P,Report!$B478)),\"\",INDEX(Data!P:P,Report!$B478))","v":""},{"$f":"IF(ISERROR(INDEX(Data!O:O,Report!$B478)),\"\",INDEX(Data!O:O,Report!$B478))","v":""},{"$f":"IF(ISERROR(INDEX(Data!Q:Q,Report!$B478)),\"\",INDEX(Data!Q:Q,Report!$B478))","v":""},{"$f":"IF(ISERROR(INDEX(Data!R:R,Report!$B478)),\"\",INDEX(Data!R:R,Report!$B478))","v":""},{"$f":"IF(ISERROR(INDEX(Data!S:S,Report!$B478)),\"\",INDEX(Data!S:S,Report!$B478))","v":""},{"$f":"IF(ISERROR(INDEX(Data!T:T,Report!$B478)),\"\",INDEX(Data!T:T,Report!$B478))","v":""},{"$f":"IF(ISERROR(INDEX(Data!U:U,Report!$B478)),\"\",INDEX(Data!U:U,Report!$B478))","v":""},{"$f":"IF(ISERROR(INDEX(Data!V:V,Report!$B478)),\"\",INDEX(Data!V:V,Report!$B478))","v":""},null,"",""]
[475,{"$f":"IF(ISERROR(MATCH(A479,Data!A:A,0)),\"\",MATCH(A479,Data!A:A,0))","v":""},{"$f":"IF(ISERROR(INDEX(Data!I:I,Report!$B479)),\"\",INDEX(Data!I:I,Report!$B479))","v":""},{"$f":"IF(ISERROR(INDEX(Data!J:J,Report!$B479)),\"\",INDEX(Data!J:J,Report!$B479))","v":""},{"$f":"IF(ISERROR(INDEX(Data!K:K,Report!$B479)),\"\",INDEX(Data!K:K,Report!$B479))","v":""},{"$f":"IF(ISERROR(INDEX(Data!L:L,Report!$B479)),\"\",INDEX(Data!L:L,Report!$B479))","v":""},null,{"$f":"IF(ISERROR(INDEX(Data!N:N,Report!$B479)),\"\",INDEX(Data!N:N,Report!$B479))","v":""},{"$f":"IF(ISERROR(INDEX(Data!P:P,Report!$B479)),\"\",INDEX(Data!P:P,Report!$B479))","v":""},{"$f":"IF(ISERROR(INDEX(Data!O:O,Report!$B479)),\"\",INDEX(Data!O:O,Report!$B479))","v":""},{"$f":"IF(ISERROR(INDEX(Data!Q:Q,Report!$B479)),\"\",INDEX(Data!Q:Q,Report!$B479))","v":""},{"$f":"IF(ISERROR(INDEX(Data!R:R,Report!$B479)),\"\",INDEX(Data!R:R,Report!$B479))","v":""},{"$f":"IF(ISERROR(INDEX(Data!S:S,Report!$B479)),\"\",INDEX(Data!S:S,Report!$B479))","v":""},{"$f":"IF(ISERROR(INDEX(Data!T:T,Report!$B479)),\"\",INDEX(Data!T:T,Report!$B479))","v":""},{"$f":"IF(ISERROR(INDEX(Data!U:U,Report!$B479)),\"\",INDEX(Data!U:U,Report!$B479))","v":""},{"$f":"IF(ISERROR(INDEX(Data!V:V,Report!$B479)),\"\",INDEX(Data!V:V,Report!$B479))","v":""},null,"",""]
[476,{"$f":"IF(ISERROR(MATCH(A480,Data!A:A,0)),\"\",MATCH(A480,Data!A:A,0))","v":231},{"$f":"IF(ISERROR(INDEX(Data!I:I,Report!$B480)),\"\",INDEX(Data!I:I,Report!$B480))","v":" "},{"$f":"IF(ISERROR(INDEX(Data!J:J,Report!$B480)),\"\",INDEX(Data!J:J,Report!$B480))","v":"User Drill #188  3 line rated mini tennis"},{"$f":"IF(ISERROR(INDEX(Data!K:K,Report!$B480)),\"\",INDEX(Data!K:K,Report!$B480))","v":0},{"$f":"IF(ISERROR(INDEX(Data!L:L,Report!$B480)),\"\",INDEX(Data!L:L,Report!$B480))","v":"New Point"},null,{"$f":"IF(ISERROR(INDEX(Data!N:N,Report!$B480)),\"\",INDEX(Data!N:N,Report!$B480))","v":1},{"$f":"IF(ISERROR(INDEX(Data!P:P,Report!$B480)),\"\",INDEX(Data!P:P,Report!$B480))","v":0},{"$f":"IF(ISERROR(INDEX(Data!O:O,Report!$B480)),\"\",INDEX(Data!O:O,Report!$B480))","v":11},{"$f":"IF(ISERROR(INDEX(Data!Q:Q,Report!$B480)),\"\",INDEX(Data!Q:Q,Report!$B480))","v":3.5},{"$f":"IF(ISERROR(INDEX(Data!R:R,Report!$B480)),\"\",INDEX(Data!R:R,Report!$B480))","v":14},{"$f":"IF(ISERROR(INDEX(Data!S:S,Report!$B480)),\"\",INDEX(Data!S:S,Report!$B480))","v":0},{"$f":"IF(ISERROR(INDEX(Data!T:T,Report!$B480)),\"\",INDEX(Data!T:T,Report!$B480))","v":7},{"$f":"IF(ISERROR(INDEX(Data!U:U,Report!$B480)),\"\",INDEX(Data!U:U,Report!$B480))","v":34},{"$f":"IF(ISERROR(INDEX(Data!V:V,Report!$B480)),\"\",INDEX(Data!V:V,Report!$B480))","v":5.8},null,"              |",""]
[477,{"$f":"IF(ISERROR(MATCH(A481,Data!A:A,0)),\"\",MATCH(A481,Data!A:A,0))","v":232},{"$f":"IF(ISERROR(INDEX(Data!I:I,Report!$B481)),\"\",INDEX(Data!I:I,Report!$B481))","v":"00:42:19"},{"$f":"IF(ISERROR(INDEX(Data!J:J,Report!$B481)),\"\",INDEX(Data!J:J,Report!$B481))","v":"Game against Boomer at level 2.0  Single point data:"},{"$f":"IF(ISERROR(INDEX(Data!K:K,Report!$B481)),\"\",INDEX(Data!K:K,Report!$B481))","v":"Player's point"},{"$f":"IF(ISERROR(INDEX(Data!L:L,Report!$B481)),\"\",INDEX(Data!L:L,Report!$B481))","v":0},null,{"$f":"IF(ISERROR(INDEX(Data!N:N,Report!$B481)),\"\",INDEX(Data!N:N,Report!$B481))","v":2},{"$f":"IF(ISERROR(INDEX(Data!P:P,Report!$B481)),\"\",INDEX(Data!P:P,Report!$B481))","v":"Flat Drive"},{"$f":"IF(ISERROR(INDEX(Data!O:O,Report!$B481)),\"\",INDEX(Data!O:O,Report!$B481))","v":3},{"$f":"IF(ISERROR(INDEX(Data!Q:Q,Report!$B481)),\"\",INDEX(Data!Q:Q,Report!$B481))","v":2},{"$f":"IF(ISERROR(INDEX(Data!R:R,Report!$B481)),\"\",INDEX(Data!R:R,Report!$B481))","v":20},{"$f":"IF(ISERROR(INDEX(Data!S:S,Report!$B481)),\"\",INDEX(Data!S:S,Report!$B481))","v":6},{"$f":"IF(ISERROR(INDEX(Data!T:T,Report!$B481)),\"\",INDEX(Data!T:T,Report!$B481))","v":4.9000000000000004},{"$f":"IF(ISERROR(INDEX(Data!U:U,Report!$B481)),\"\",INDEX(Data!U:U,Report!$B481))","v":37},{"$f":"IF(ISERROR(INDEX(Data!V:V,Report!$B481)),\"\",INDEX(Data!V:V,Report!$B481))","v":4.5999999999999996},null,"                    |","|||"]
[478,{"$f":"IF(ISERROR(MATCH(A482,Data!A:A,0)),\"\",MATCH(A482,Data!A:A,0))","v":233},{"$f":"IF(ISERROR(INDEX(Data!I:I,Report!$B482)),\"\",INDEX(Data!I:I,Report!$B482))","v":" "},{"$f":"IF(ISERROR(INDEX(Data!J:J,Report!$B482)),\"\",INDEX(Data!J:J,Report!$B482))","v":"User Drill #188  3 line rated mini tennis"},{"$f":"IF(ISERROR(INDEX(Data!K:K,Report!$B482)),\"\",INDEX(Data!K:K,Report!$B482))","v":0},{"$f":"IF(ISERROR(INDEX(Data!L:L,Report!$B482)),\"\",INDEX(Data!L:L,Report!$B482))","v":0},null,{"$f":"IF(ISERROR(INDEX(Data!N:N,Report!$B482)),\"\",INDEX(Data!N:N,Report!$B482))","v":2},{"$f":"IF(ISERROR(INDEX(Data!P:P,Report!$B482)),\"\",INDEX(Data!P:P,Report!$B482))","v":0},{"$f":"IF(ISERROR(INDEX(Data!O:O,Report!$B482)),\"\",INDEX(Data!O:O,Report!$B482))","v":4},{"$f":"IF(ISERROR(INDEX(Data!Q:Q,Report!$B482)),\"\",INDEX(Data!Q:Q,Report!$B482))","v":3.5},{"$f":"IF(ISERROR(INDEX(Data!R:R,Report!$B482)),\"\",INDEX(Data!R:R,Report!$B482))","v":0},{"$f":"IF(ISERROR(INDEX(Data!S:S,Report!$B482)),\"\",INDEX(Data!S:S,Report!$B482))","v":0},{"$f":"IF(ISERROR(INDEX(Data!T:T,Report!$B482)),\"\",INDEX(Data!T:T,Report!$B482))","v":0},{"$f":"IF(ISERROR(INDEX(Data!U:U,Report!$B482)),\"\",INDEX(Data!U:U,Report!$B482))","v":0},{"$f":"IF(ISERROR(INDEX(Data!V:V,Report!$B482)),\"\",INDEX(Data!V:V,Report!$B482))","v":0},null,"|",""]
[479,{"$f":"IF(ISERROR(MATCH(A483,Data!A:A,0)),\"\",MATCH(A483,Data!A:A,0))","v":234},{"$f":"IF(ISERROR(INDEX(Data!I:I,Report!$B483)),\"\",INDEX(Data!I:I,Report!$B483))","v":"00:42:19"},{"$f":"IF(ISERROR(INDEX(Data!J:J,Report!$B483)),\"\",INDEX(Data!J:J,Report!$B483))","v":"Game against Boomer at level 2.0  Single point data:"},{"$f":"IF(ISERROR(INDEX(Data!K:K,Report!$B483)),\"\",INDEX(Data!K:K,Report!$B483))","v":"Player's point"},{"$f":"IF(ISERROR(INDEX(Data!L:L,Report!$B483)),\"\",INDEX(Data!L:L,Report!$B483))","v":0},null,{"$f":"IF(ISERROR(INDEX(Data!N:N,Report!$B483)),\"\",INDEX(Data!N:N,Report!$B483))","v":3},{"$f":"IF(ISERROR(INDEX(Data!P:P,Report!$B483)),\"\",INDEX(Data!P:P,Report!$B483))","v":"Drop Shot"},{"$f":"IF(ISERROR(INDEX(Data!O:O,Report!$B483)),\"\",INDEX(Data!O:O,Report!$B483))","v":5},{"$f":"IF(ISERROR(INDEX(Data!Q:Q,Report!$B483)),\"\",INDEX(Data!Q:Q,Report!$B483))","v":2},{"$f":"IF(ISERROR(INDEX(Data!R:R,Report!$B483)),\"\",INDEX(Data!R:R,Report!$B483))","v":22},{"$f":"IF(ISERROR(INDEX(Data!S:S,Report!$B483)),\"\",INDEX(Data!S:S,Report!$B483))","v":7},{"$f":"IF(ISERROR(INDEX(Data!T:T,Report!$B483)),\"\",INDEX(Data!T:T,Report!$B483))","v":4},{"$f":"IF(ISERROR(INDEX(Data!U:U,Report!$B483)),\"\",INDEX(Data!U:U,Report!$B483))","v":30},{"$f":"IF(ISERROR(INDEX(Data!V:V,Report!$B483)),\"\",INDEX(Data!V:V,Report!$B483))","v":3.7},null,"                      |","|||"]
[480,{"$f":"IF(ISERROR(MATCH(A484,Data!A:A,0)),\"\",MATCH(A484,Data!A:A,0))","v":235},{"$f":"IF(ISERROR(INDEX(Data!I:I,Report!$B484)),\"\",INDEX(Data!I:I,Report!$B484))","v":" "},{"$f":"IF(ISERROR(INDEX(Data!J:J,Report!$B484)),\"\",INDEX(Data!J:J,Report!$B484))","v":"User Drill #188  3 line rated mini tennis"},{"$f":"IF(ISERROR(INDEX(Data!K:K,Report!$B484)),\"\",INDEX(Data!K:K,Report!$B484))","v":0},{"$f":"IF(ISERROR(INDEX(Data!L:L,Report!$B484)),\"\",INDEX(Data!L:L,Report!$B484))","v":0},null,{"$f":"IF(ISERROR(INDEX(Data!N:N,Report!$B484)),\"\",INDEX(Data!N:N,Report!$B484))","v":3},{"$f":"IF(ISERROR(INDEX(Data!P:P,Report!$B484)),\"\",INDEX(Data!P:P,Report!$B484))","v":0},{"$f":"IF(ISERROR(INDEX(Data!O:O,Report!$B484)),\"\",INDEX(Data!O:O,Report!$B484))","v":10},{"$f":"IF(ISERROR(INDEX(Data!Q:Q,Report!$B484)),\"\",INDEX(Data!Q:Q,Report!$B484))","v":3.5},{"$f":"IF(ISERROR(INDEX(Data!R:R,Report!$B484)),\"\",INDEX(Data!R:R,Report!$B484))","v":7},{"$f":"IF(ISERROR(INDEX(Data!S:S,Report!$B484)),\"\",INDEX(Data!S:S,Report!$B484))","v":20},{"$f":"IF(ISERROR(INDEX(Data!T:T,Report!$B484)),\"\",INDEX(Data!T:T,Report!$B484))","v":2.1},{"$f":"IF(ISERROR(INDEX(Data!U:U,Report!$B484)),\"\",INDEX(Data!U:U,Report!$B484))","v":29},{"$f":"IF(ISERROR(INDEX(Data!V:V,Report!$B484)),\"\",INDEX(Data!V:V,Report!$B484))","v":3},null,"       |","||||||||||"]
[481,{"$f":"IF(ISERROR(MATCH(A485,Data!A:A,0)),\"\",MATCH(A485,Data!A:A,0))","v":236},{"$f":"IF(ISERROR(INDEX(Data!I:I,Report!$B485)),\"\",INDEX(Data!I:I,Report!$B485))","v":"00:42:19"},{"$f":"IF(ISERROR(INDEX(Data!J:J,Report!$B485)),\"\",INDEX(Data!J:J,Report!$B485))","v":"Game against Boomer at level 2.0  Single point data:"},{"$f":"IF(ISERROR(INDEX(Data!K:K,Report!$B485)),\"\",INDEX(Data!K:K,Report!$B485))","v":"Player's point"},{"$f":"IF(ISERROR(INDEX(Data!L:L,Report!$B485)),\"\",INDEX(Data!L:L,Report!$B485))","v":0},null,{"$f":"IF(ISERROR(INDEX(Data!N:N,Report!$B485)),\"\",INDEX(Data!N:N,Report!$B485))","v":4},{"$f":"IF(ISERROR(INDEX(Data!P:P,Report!$B485)),\"\",INDEX(Data!P:P,Report!$B485))","v":"Lob"},{"$f":"IF(ISERROR(INDEX(Data!O:O,Report!$B485)),\"\",INDEX(Data!O:O,Report!$B485))","v":3},{"$f":"IF(ISERROR(INDEX(Data!Q:Q,Report!$B485)),\"\",INDEX(Data!Q:Q,Report!$B485))","v":2},{"$f":"IF(ISERROR(INDEX(Data!R:R,Report!$B485)),\"\",INDEX(Data!R:R,Report!$B485))","v":35},{"$f":"IF(ISERROR(INDEX(Data!S:S,Report!$B485)),\"\",INDEX(Data!S:S,Report!$B485))","v":26},{"$f":"IF(ISERROR(INDEX(Data!T:T,Report!$B485)),\"\",INDEX(Data!T:T,Report!$B485))","v":7},{"$f":"IF(ISERROR(INDEX(Data!U:U,Report!$B485)),\"\",INDEX(Data!U:U,Report!$B485))","v":49},{"$f":"IF(ISERROR(INDEX(Data!V:V,Report!$B485)),\"\",INDEX(Data!V:V,Report!$B485))","v":6.3},null,"                                   |","|||||||||||||"]
[482,{"$f":"IF(ISERROR(MATCH(A486,Data!A:A,0)),\"\",MATCH(A486,Data!A:A,0))","v":""},{"$f":"IF(ISERROR(INDEX(Data!I:I,Report!$B486)),\"\",INDEX(Data!I:I,Report!$B486))","v":""},{"$f":"IF(ISERROR(INDEX(Data!J:J,Report!$B486)),\"\",INDEX(Data!J:J,Report!$B486))","v":""},{"$f":"IF(ISERROR(INDEX(Data!K:K,Report!$B486)),\"\",INDEX(Data!K:K,Report!$B486))","v":""},{"$f":"IF(ISERROR(INDEX(Data!L:L,Report!$B486)),\"\",INDEX(Data!L:L,Report!$B486))","v":""},null,{"$f":"IF(ISERROR(INDEX(Data!N:N,Report!$B486)),\"\",INDEX(Data!N:N,Report!$B486))","v":""},{"$f":"IF(ISERROR(INDEX(Data!P:P,Report!$B486)),\"\",INDEX(Data!P:P,Report!$B486))","v":""},{"$f":"IF(ISERROR(INDEX(Data!O:O,Report!$B486)),\"\",INDEX(Data!O:O,Report!$B486))","v":""},{"$f":"IF(ISERROR(INDEX(Data!Q:Q,Report!$B486)),\"\",INDEX(Data!Q:Q,Report!$B486))","v":""},{"$f":"IF(ISERROR(INDEX(Data!R:R,Report!$B486)),\"\",INDEX(Data!R:R,Report!$B486))","v":""},{"$f":"IF(ISERROR(INDEX(Data!S:S,Report!$B486)),\"\",INDEX(Data!S:S,Report!$B486))","v":""},{"$f":"IF(ISERROR(INDEX(Data!T:T,Report!$B486)),\"\",INDEX(Data!T:T,Report!$B486))","v":""},{"$f":"IF(ISERROR(INDEX(Data!U:U,Report!$B486)),\"\",INDEX(Data!U:U,Report!$B486))","v":""},{"$f":"IF(ISERROR(INDEX(Data!V:V,Report!$B486)),\"\",INDEX(Data!V:V,Report!$B486))","v":""},null,"",""]
[483,{"$f":"IF(ISERROR(MATCH(A487,Data!A:A,0)),\"\",MATCH(A487,Data!A:A,0))","v":""},{"$f":"IF(ISERROR(INDEX(Data!I:I,Report!$B487)),\"\",INDEX(Data!I:I,Report!$B487))","v":""},{"$f":"IF(ISERROR(INDEX(Data!J:J,Report!$B487)),\"\",INDEX(Data!J:J,Report!$B487))","v":""},{"$f":"IF(ISERROR(INDEX(Data!K:K,Report!$B487)),\"\",INDEX(Data!K:K,Report!$B487))","v":""},{"$f":"IF(ISERROR(INDEX(Data!L:L,Report!$B487)),\"\",INDEX(Data!L:L,Report!$B487))","v":""},null,{"$f":"IF(ISERROR(INDEX(Data!N:N,Report!$B487)),\"\",INDEX(Data!N:N,Report!$B487))","v":""},{"$f":"IF(ISERROR(INDEX(Data!P:P,Report!$B487)),\"\",INDEX(Data!P:P,Report!$B487))","v":""},{"$f":"IF(ISERROR(INDEX(Data!O:O,Report!$B487)),\"\",INDEX(Data!O:O,Report!$B487))","v":""},{"$f":"IF(ISERROR(INDEX(Data!Q:Q,Report!$B487)),\"\",INDEX(Data!Q:Q,Report!$B487))","v":""},{"$f":"IF(ISERROR(INDEX(Data!R:R,Report!$B487)),\"\",INDEX(Data!R:R,Report!$B487))","v":""},{"$f":"IF(ISERROR(INDEX(Data!S:S,Report!$B487)),\"\",INDEX(Data!S:S,Report!$B487))","v":""},{"$f":"IF(ISERROR(INDEX(Data!T:T,Report!$B487)),\"\",INDEX(Data!T:T,Report!$B487))","v":""},{"$f":"IF(ISERROR(INDEX(Data!U:U,Report!$B487)),\"\",INDEX(Data!U:U,Report!$B487))","v":""},{"$f":"IF(ISERROR(INDEX(Data!V:V,Report!$B487)),\"\",INDEX(Data!V:V,Report!$B487))","v":""},null,"",""]
[484,{"$f":"IF(ISERROR(MATCH(A488,Data!A:A,0)),\"\",MATCH(A488,Data!A:A,0))","v":""},{"$f":"IF(ISERROR(INDEX(Data!I:I,Report!$B488)),\"\",INDEX(Data!I:I,Report!$B488))","v":""},{"$f":"IF(ISERROR(INDEX(Data!J:J,Report!$B488)),\"\",INDEX(Data!J:J,Report!$B488))","v":""},{"$f":"IF(ISERROR(INDEX(Data!K:K,Report!$B488)),\"\",INDEX(Data!K:K,Report!$B488))","v":""},{"$f":"IF(ISERROR(INDEX(Data!L:L,Report!$B488)),\"\",INDEX(Data!L:L,Report!$B488))","v":""},null,{"$f":"IF(ISERROR(INDEX(Data!N:N,Report!$B488)),\"\",INDEX(Data!N:N,Report!$B488))","v":""},{"$f":"IF(ISERROR(INDEX(Data!P:P,Report!$B488)),\"\",INDEX(Data!P:P,Report!$B488))","v":""},{"$f":"IF(ISERROR(INDEX(Data!O:O,Report!$B488)),\"\",INDEX(Data!O:O,Report!$B488))","v":""},{"$f":"IF(ISERROR(INDEX(Data!Q:Q,Report!$B488)),\"\",INDEX(Data!Q:Q,Report!$B488))","v":""},{"$f":"IF(ISERROR(INDEX(Data!R:R,Report!$B488)),\"\",INDEX(Data!R:R,Report!$B488))","v":""},{"$f":"IF(ISERROR(INDEX(Data!S:S,Report!$B488)),\"\",INDEX(Data!S:S,Report!$B488))","v":""},{"$f":"IF(ISERROR(INDEX(Data!T:T,Report!$B488)),\"\",INDEX(Data!T:T,Report!$B488))","v":""},{"$f":"IF(ISERROR(INDEX(Data!U:U,Report!$B488)),\"\",INDEX(Data!U:U,Report!$B488))","v":""},{"$f":"IF(ISERROR(INDEX(Data!V:V,Report!$B488)),\"\",INDEX(Data!V:V,Report!$B488))","v":""},null,"",""]
[485,{"$f":"IF(ISERROR(MATCH(A489,Data!A:A,0)),\"\",MATCH(A489,Data!A:A,0))","v":237},{"$f":"IF(ISERROR(INDEX(Data!I:I,Report!$B489)),\"\",INDEX(Data!I:I,Report!$B489))","v":" "},{"$f":"IF(ISERROR(INDEX(Data!J:J,Report!$B489)),\"\",INDEX(Data!J:J,Report!$B489))","v":"User Drill #188  3 line rated mini tennis"},{"$f":"IF(ISERROR(INDEX(Data!K:K,Report!$B489)),\"\",INDEX(Data!K:K,Report!$B489))","v":0},{"$f":"IF(ISERROR(INDEX(Data!L:L,Report!$B489)),\"\",INDEX(Data!L:L,Report!$B489))","v":"New Point"},null,{"$f":"IF(ISERROR(INDEX(Data!N:N,Report!$B489)),\"\",INDEX(Data!N:N,Report!$B489))","v":1},{"$f":"IF(ISERROR(INDEX(Data!P:P,Report!$B489)),\"\",INDEX(Data!P:P,Report!$B489))","v":0},{"$f":"IF(ISERROR(INDEX(Data!O:O,Report!$B489)),\"\",INDEX(Data!O:O,Report!$B489))","v":11},{"$f":"IF(ISERROR(INDEX(Data!Q:Q,Report!$B489)),\"\",INDEX(Data!Q:Q,Report!$B489))","v":3.5},{"$f":"IF(ISERROR(INDEX(Data!R:R,Report!$B489)),\"\",INDEX(Data!R:R,Report!$B489))","v":0},{"$f":"IF(ISERROR(INDEX(Data!S:S,Report!$B489)),\"\",INDEX(Data!S:S,Report!$B489))","v":0},{"$f":"IF(ISERROR(INDEX(Data!T:T,Report!$B489)),\"\",INDEX(Data!T:T,Report!$B489))","v":0},{"$f":"IF(ISERROR(INDEX(Data!U:U,Report!$B489)),\"\",INDEX(Data!U:U,Report!$B489))","v":0},{"$f":"IF(ISERROR(INDEX(Data!V:V,Report!$B489)),\"\",INDEX(Data!V:V,Report!$B489))","v":0},null,"|",""]
[486,{"$f":"IF(ISERROR(MATCH(A490,Data!A:A,0)),\"\",MATCH(A490,Data!A:A,0))","v":""},{"$f":"IF(ISERROR(INDEX(Data!I:I,Report!$B490)),\"\",INDEX(Data!I:I,Report!$B490))","v":""},{"$f":"IF(ISERROR(INDEX(Data!J:J,Report!$B490)),\"\",INDEX(Data!J:J,Report!$B490))","v":""},{"$f":"IF(ISERROR(INDEX(Data!K:K,Report!$B490)),\"\",INDEX(Data!K:K,Report!$B490))","v":""},{"$f":"IF(ISERROR(INDEX(Data!L:L,Report!$B490)),\"\",INDEX(Data!L:L,Report!$B490))","v":""},null,{"$f":"IF(ISERROR(INDEX(Data!N:N,Report!$B490)),\"\",INDEX(Data!N:N,Report!$B490))","v":""},{"$f":"IF(ISERROR(INDEX(Data!P:P,Report!$B490)),\"\",INDEX(Data!P:P,Report!$B490))","v":""},{"$f":"IF(ISERROR(INDEX(Data!O:O,Report!$B490)),\"\",INDEX(Data!O:O,Report!$B490))","v":""},{"$f":"IF(ISERROR(INDEX(Data!Q:Q,Report!$B490)),\"\",INDEX(Data!Q:Q,Report!$B490))","v":""},{"$f":"IF(ISERROR(INDEX(Data!R:R,Report!$B490)),\"\",INDEX(Data!R:R,Report!$B490))","v":""},{"$f":"IF(ISERROR(INDEX(Data!S:S,Report!$B490)),\"\",INDEX(Data!S:S,Report!$B490))","v":""},{"$f":"IF(ISERROR(INDEX(Data!T:T,Report!$B490)),\"\",INDEX(Data!T:T,Report!$B490))","v":""},{"$f":"IF(ISERROR(INDEX(Data!U:U,Report!$B490)),\"\",INDEX(Data!U:U,Report!$B490))","v":""},{"$f":"IF(ISERROR(INDEX(Data!V:V,Report!$B490)),\"\",INDEX(Data!V:V,Report!$B490))","v":""},null,"",""]
[487,{"$f":"IF(ISERROR(MATCH(A491,Data!A:A,0)),\"\",MATCH(A491,Data!A:A,0))","v":""},{"$f":"IF(ISERROR(INDEX(Data!I:I,Report!$B491)),\"\",INDEX(Data!I:I,Report!$B491))","v":""},{"$f":"IF(ISERROR(INDEX(Data!J:J,Report!$B491)),\"\",INDEX(Data!J:J,Report!$B491))","v":""},{"$f":"IF(ISERROR(INDEX(Data!K:K,Report!$B491)),\"\",INDEX(Data!K:K,Report!$B491))","v":""},{"$f":"IF(ISERROR(INDEX(Data!L:L,Report!$B491)),\"\",INDEX(Data!L:L,Report!$B491))","v":""},null,{"$f":"IF(ISERROR(INDEX(Data!N:N,Report!$B491)),\"\",INDEX(Data!N:N,Report!$B491))","v":""},{"$f":"IF(ISERROR(INDEX(Data!P:P,Report!$B491)),\"\",INDEX(Data!P:P,Report!$B491))","v":""},{"$f":"IF(ISERROR(INDEX(Data!O:O,Report!$B491)),\"\",INDEX(Data!O:O,Report!$B491))","v":""},{"$f":"IF(ISERROR(INDEX(Data!Q:Q,Report!$B491)),\"\",INDEX(Data!Q:Q,Report!$B491))","v":""},{"$f":"IF(ISERROR(INDEX(Data!R:R,Report!$B491)),\"\",INDEX(Data!R:R,Report!$B491))","v":""},{"$f":"IF(ISERROR(INDEX(Data!S:S,Report!$B491)),\"\",INDEX(Data!S:S,Report!$B491))","v":""},{"$f":"IF(ISERROR(INDEX(Data!T:T,Report!$B491)),\"\",INDEX(Data!T:T,Report!$B491))","v":""},{"$f":"IF(ISERROR(INDEX(Data!U:U,Report!$B491)),\"\",INDEX(Data!U:U,Report!$B491))","v":""},{"$f":"IF(ISERROR(INDEX(Data!V:V,Report!$B491)),\"\",INDEX(Data!V:V,Report!$B491))","v":""},null,"",""]
[488,{"$f":"IF(ISERROR(MATCH(A492,Data!A:A,0)),\"\",MATCH(A492,Data!A:A,0))","v":""},{"$f":"IF(ISERROR(INDEX(Data!I:I,Report!$B492)),\"\",INDEX(Data!I:I,Report!$B492))","v":""},{"$f":"IF(ISERROR(INDEX(Data!J:J,Report!$B492)),\"\",INDEX(Data!J:J,Report!$B492))","v":""},{"$f":"IF(ISERROR(INDEX(Data!K:K,Report!$B492)),\"\",INDEX(Data!K:K,Report!$B492))","v":""},{"$f":"IF(ISERROR(INDEX(Data!L:L,Report!$B492)),\"\",INDEX(Data!L:L,Report!$B492))","v":""},null,{"$f":"IF(ISERROR(INDEX(Data!N:N,Report!$B492)),\"\",INDEX(Data!N:N,Report!$B492))","v":""},{"$f":"IF(ISERROR(INDEX(Data!P:P,Report!$B492)),\"\",INDEX(Data!P:P,Report!$B492))","v":""},{"$f":"IF(ISERROR(INDEX(Data!O:O,Report!$B492)),\"\",INDEX(Data!O:O,Report!$B492))","v":""},{"$f":"IF(ISERROR(INDEX(Data!Q:Q,Report!$B492)),\"\",INDEX(Data!Q:Q,Report!$B492))","v":""},{"$f":"IF(ISERROR(INDEX(Data!R:R,Report!$B492)),\"\",INDEX(Data!R:R,Report!$B492))","v":""},{"$f":"IF(ISERROR(INDEX(Data!S:S,Report!$B492)),\"\",INDEX(Data!S:S,Report!$B492))","v":""},{"$f":"IF(ISERROR(INDEX(Data!T:T,Report!$B492)),\"\",INDEX(Data!T:T,Report!$B492))","v":""},{"$f":"IF(ISERROR(INDEX(Data!U:U,Report!$B492)),\"\",INDEX(Data!U:U,Report!$B492))","v":""},{"$f":"IF(ISERROR(INDEX(Data!V:V,Report!$B492)),\"\",INDEX(Data!V:V,Report!$B492))","v":""},null,"",""]
[489,{"$f":"IF(ISERROR(MATCH(A493,Data!A:A,0)),\"\",MATCH(A493,Data!A:A,0))","v":238},{"$f":"IF(ISERROR(INDEX(Data!I:I,Report!$B493)),\"\",INDEX(Data!I:I,Report!$B493))","v":"00:42:42"},{"$f":"IF(ISERROR(INDEX(Data!J:J,Report!$B493)),\"\",INDEX(Data!J:J,Report!$B493))","v":"Game against Boomer at level 2.0  Single point data:"},{"$f":"IF(ISERROR(INDEX(Data!K:K,Report!$B493)),\"\",INDEX(Data!K:K,Report!$B493))","v":"Player's point"},{"$f":"IF(ISERROR(INDEX(Data!L:L,Report!$B493)),\"\",INDEX(Data!L:L,Report!$B493))","v":"New Point"},null,{"$f":"IF(ISERROR(INDEX(Data!N:N,Report!$B493)),\"\",INDEX(Data!N:N,Report!$B493))","v":1},{"$f":"IF(ISERROR(INDEX(Data!P:P,Report!$B493)),\"\",INDEX(Data!P:P,Report!$B493))","v":"Serve"},{"$f":"IF(ISERROR(INDEX(Data!O:O,Report!$B493)),\"\",INDEX(Data!O:O,Report!$B493))","v":0},{"$f":"IF(ISERROR(INDEX(Data!Q:Q,Report!$B493)),\"\",INDEX(Data!Q:Q,Report!$B493))","v":2},{"$f":"IF(ISERROR(INDEX(Data!R:R,Report!$B493)),\"\",INDEX(Data!R:R,Report!$B493))","v":25},{"$f":"IF(ISERROR(INDEX(Data!S:S,Report!$B493)),\"\",INDEX(Data!S:S,Report!$B493))","v":0},{"$f":"IF(ISERROR(INDEX(Data!T:T,Report!$B493)),\"\",INDEX(Data!T:T,Report!$B493))","v":7},{"$f":"IF(ISERROR(INDEX(Data!U:U,Report!$B493)),\"\",INDEX(Data!U:U,Report!$B493))","v":39},{"$f":"IF(ISERROR(INDEX(Data!V:V,Report!$B493)),\"\",INDEX(Data!V:V,Report!$B493))","v":5.7},null,"                         |",""]
[490,{"$f":"IF(ISERROR(MATCH(A494,Data!A:A,0)),\"\",MATCH(A494,Data!A:A,0))","v":239},{"$f":"IF(ISERROR(INDEX(Data!I:I,Report!$B494)),\"\",INDEX(Data!I:I,Report!$B494))","v":" "},{"$f":"IF(ISERROR(INDEX(Data!J:J,Report!$B494)),\"\",INDEX(Data!J:J,Report!$B494))","v":"User Drill #188  3 line rated mini tennis"},{"$f":"IF(ISERROR(INDEX(Data!K:K,Report!$B494)),\"\",INDEX(Data!K:K,Report!$B494))","v":0},{"$f":"IF(ISERROR(INDEX(Data!L:L,Report!$B494)),\"\",INDEX(Data!L:L,Report!$B494))","v":0},null,{"$f":"IF(ISERROR(INDEX(Data!N:N,Report!$B494)),\"\",INDEX(Data!N:N,Report!$B494))","v":2},{"$f":"IF(ISERROR(INDEX(Data!P:P,Report!$B494)),\"\",INDEX(Data!P:P,Report!$B494))","v":0},{"$f":"IF(ISERROR(INDEX(Data!O:O,Report!$B494)),\"\",INDEX(Data!O:O,Report!$B494))","v":4},{"$f":"IF(ISERROR(INDEX(Data!Q:Q,Report!$B494)),\"\",INDEX(Data!Q:Q,Report!$B494))","v":3.5},{"$f":"IF(ISERROR(INDEX(Data!R:R,Report!$B494)),\"\",INDEX(Data!R:R,Report!$B494))","v":0},{"$f":"IF(ISERROR(INDEX(Data!S:S,Report!$B494)),\"\",INDEX(Data!S:S,Report!$B494))","v":0},{"$f":"IF(ISERROR(INDEX(Data!T:T,Report!$B494)),\"\",INDEX(Data!T:T,Report!$B494))","v":0},{"$f":"IF(ISERROR(INDEX(Data!U:U,Report!$B494)),\"\",INDEX(Data!U:U,Report!$B494))","v":0},{"$f":"IF(ISERROR(INDEX(Data!V:V,Report!$B494)),\"\",INDEX(Data!V:V,Report!$B494))","v":0},null,"|",""]
[491,{"$f":"IF(ISERROR(MATCH(A495,Data!A:A,0)),\"\",MATCH(A495,Data!A:A,0))","v":240},{"$f":"IF(ISERROR(INDEX(Data!I:I,Report!$B495)),\"\",INDEX(Data!I:I,Report!$B495))","v":"00:42:42"},{"$f":"IF(ISERROR(INDEX(Data!J:J,Report!$B495)),\"\",INDEX(Data!J:J,Report!$B495))","v":"Game against Boomer at level 2.0  Single point data:"},{"$f":"IF(ISERROR(INDEX(Data!K:K,Report!$B495)),\"\",INDEX(Data!K:K,Report!$B495))","v":"Player's point"},{"$f":"IF(ISERROR(INDEX(Data!L:L,Report!$B495)),\"\",INDEX(Data!L:L,Report!$B495))","v":0},null,{"$f":"IF(ISERROR(INDEX(Data!N:N,Report!$B495)),\"\",INDEX(Data!N:N,Report!$B495))","v":2},{"$f":"IF(ISERROR(INDEX(Data!P:P,Report!$B495)),\"\",INDEX(Data!P:P,Report!$B495))","v":"Topspin"},{"$f":"IF(ISERROR(INDEX(Data!O:O,Report!$B495)),\"\",INDEX(Data!O:O,Report!$B495))","v":5},{"$f":"IF(ISERROR(INDEX(Data!Q:Q,Report!$B495)),\"\",INDEX(Data!Q:Q,Report!$B495))","v":2},{"$f":"IF(ISERROR(INDEX(Data!R:R,Report!$B495)),\"\",INDEX(Data!R:R,Report!$B495))","v":24},{"$f":"IF(ISERROR(INDEX(Data!S:S,Report!$B495)),\"\",INDEX(Data!S:S,Report!$B495))","v":14},{"$f":"IF(ISERROR(INDEX(Data!T:T,Report!$B495)),\"\",INDEX(Data!T:T,Report!$B495))","v":3.5},{"$f":"IF(ISERROR(INDEX(Data!U:U,Report!$B495)),\"\",INDEX(Data!U:U,Report!$B495))","v":50},{"$f":"IF(ISERROR(INDEX(Data!V:V,Report!$B495)),\"\",INDEX(Data!V:V,Report!$B495))","v":4.5999999999999996},null,"                        |","|||||||"]
[492,{"$f":"IF(ISERROR(MATCH(A496,Data!A:A,0)),\"\",MATCH(A496,Data!A:A,0))","v":241},{"$f":"IF(ISERROR(INDEX(Data!I:I,Report!$B496)),\"\",INDEX(Data!I:I,Report!$B496))","v":" "},{"$f":"IF(ISERROR(INDEX(Data!J:J,Report!$B496)),\"\",INDEX(Data!J:J,Report!$B496))","v":"User Drill #188  3 line rated mini tennis"},{"$f":"IF(ISERROR(INDEX(Data!K:K,Report!$B496)),\"\",INDEX(Data!K:K,Report!$B496))","v":0},{"$f":"IF(ISERROR(INDEX(Data!L:L,Report!$B496)),\"\",INDEX(Data!L:L,Report!$B496))","v":0},null,{"$f":"IF(ISERROR(INDEX(Data!N:N,Report!$B496)),\"\",INDEX(Data!N:N,Report!$B496))","v":3},{"$f":"IF(ISERROR(INDEX(Data!P:P,Report!$B496)),\"\",INDEX(Data!P:P,Report!$B496))","v":0},{"$f":"IF(ISERROR(INDEX(Data!O:O,Report!$B496)),\"\",INDEX(Data!O:O,Report!$B496))","v":10},{"$f":"IF(ISERROR(INDEX(Data!Q:Q,Report!$B496)),\"\",INDEX(Data!Q:Q,Report!$B496))","v":3.5},{"$f":"IF(ISERROR(INDEX(Data!R:R,Report!$B496)),\"\",INDEX(Data!R:R,Report!$B496))","v":0},{"$f":"IF(ISERROR(INDEX(Data!S:S,Report!$B496)),\"\",INDEX(Data!S:S,Report!$B496))","v":0},{"$f":"IF(ISERROR(INDEX(Data!T:T,Report!$B496)),\"\",INDEX(Data!T:T,Report!$B496))","v":0},{"$f":"IF(ISERROR(INDEX(Data!U:U,Report!$B496)),\"\",INDEX(Data!U:U,Report!$B496))","v":0},{"$f":"IF(ISERROR(INDEX(Data!V:V,Report!$B496)),\"\",INDEX(Data!V:V,Report!$B496))","v":0},null,"|",""]
[493,{"$f":"IF(ISERROR(MATCH(A497,Data!A:A,0)),\"\",MATCH(A497,Data!A:A,0))","v":""},{"$f":"IF(ISERROR(INDEX(Data!I:I,Report!$B497)),\"\",INDEX(Data!I:I,Report!$B497))","v":""},{"$f":"IF(ISERROR(INDEX(Data!J:J,Report!$B497)),\"\",INDEX(Data!J:J,Report!$B497))","v":""},{"$f":"IF(ISERROR(INDEX(Data!K:K,Report!$B497)),\"\",INDEX(Data!K:K,Report!$B497))","v":""},{"$f":"IF(ISERROR(INDEX(Data!L:L,Report!$B497)),\"\",INDEX(Data!L:L,Report!$B497))","v":""},null,{"$f":"IF(ISERROR(INDEX(Data!N:N,Report!$B497)),\"\",INDEX(Data!N:N,Report!$B497))","v":""},{"$f":"IF(ISERROR(INDEX(Data!P:P,Report!$B497)),\"\",INDEX(Data!P:P,Report!$B497))","v":""},{"$f":"IF(ISERROR(INDEX(Data!O:O,Report!$B497)),\"\",INDEX(Data!O:O,Report!$B497))","v":""},{"$f":"IF(ISERROR(INDEX(Data!Q:Q,Report!$B497)),\"\",INDEX(Data!Q:Q,Report!$B497))","v":""},{"$f":"IF(ISERROR(INDEX(Data!R:R,Report!$B497)),\"\",INDEX(Data!R:R,Report!$B497))","v":""},{"$f":"IF(ISERROR(INDEX(Data!S:S,Report!$B497)),\"\",INDEX(Data!S:S,Report!$B497))","v":""},{"$f":"IF(ISERROR(INDEX(Data!T:T,Report!$B497)),\"\",INDEX(Data!T:T,Report!$B497))","v":""},{"$f":"IF(ISERROR(INDEX(Data!U:U,Report!$B497)),\"\",INDEX(Data!U:U,Report!$B497))","v":""},{"$f":"IF(ISERROR(INDEX(Data!V:V,Report!$B497)),\"\",INDEX(Data!V:V,Report!$B497))","v":""},null,"",""]
[494,{"$f":"IF(ISERROR(MATCH(A498,Data!A:A,0)),\"\",MATCH(A498,Data!A:A,0))","v":""},{"$f":"IF(ISERROR(INDEX(Data!I:I,Report!$B498)),\"\",INDEX(Data!I:I,Report!$B498))","v":""},{"$f":"IF(ISERROR(INDEX(Data!J:J,Report!$B498)),\"\",INDEX(Data!J:J,Report!$B498))","v":""},{"$f":"IF(ISERROR(INDEX(Data!K:K,Report!$B498)),\"\",INDEX(Data!K:K,Report!$B498))","v":""},{"$f":"IF(ISERROR(INDEX(Data!L:L,Report!$B498)),\"\",INDEX(Data!L:L,Report!$B498))","v":""},null,{"$f":"IF(ISERROR(INDEX(Data!N:N,Report!$B498)),\"\",INDEX(Data!N:N,Report!$B498))","v":""},{"$f":"IF(ISERROR(INDEX(Data!P:P,Report!$B498)),\"\",INDEX(Data!P:P,Report!$B498))","v":""},{"$f":"IF(ISERROR(INDEX(Data!O:O,Report!$B498)),\"\",INDEX(Data!O:O,Report!$B498))","v":""},{"$f":"IF(ISERROR(INDEX(Data!Q:Q,Report!$B498)),\"\",INDEX(Data!Q:Q,Report!$B498))","v":""},{"$f":"IF(ISERROR(INDEX(Data!R:R,Report!$B498)),\"\",INDEX(Data!R:R,Report!$B498))","v":""},{"$f":"IF(ISERROR(INDEX(Data!S:S,Report!$B498)),\"\",INDEX(Data!S:S,Report!$B498))","v":""},{"$f":"IF(ISERROR(INDEX(Data!T:T,Report!$B498)),\"\",INDEX(Data!T:T,Report!$B498))","v":""},{"$f":"IF(ISERROR(INDEX(Data!U:U,Report!$B498)),\"\",INDEX(Data!U:U,Report!$B498))","v":""},{"$f":"IF(ISERROR(INDEX(Data!V:V,Report!$B498)),\"\",INDEX(Data!V:V,Report!$B498))","v":""},null,"",""]
[495,{"$f":"IF(ISERROR(MATCH(A499,Data!A:A,0)),\"\",MATCH(A499,Data!A:A,0))","v":""},{"$f":"IF(ISERROR(INDEX(Data!I:I,Report!$B499)),\"\",INDEX(Data!I:I,Report!$B499))","v":""},{"$f":"IF(ISERROR(INDEX(Data!J:J,Report!$B499)),\"\",INDEX(Data!J:J,Report!$B499))","v":""},{"$f":"IF(ISERROR(INDEX(Data!K:K,Report!$B499)),\"\",INDEX(Data!K:K,Report!$B499))","v":""},{"$f":"IF(ISERROR(INDEX(Data!L:L,Report!$B499)),\"\",INDEX(Data!L:L,Report!$B499))","v":""},null,{"$f":"IF(ISERROR(INDEX(Data!N:N,Report!$B499)),\"\",INDEX(Data!N:N,Report!$B499))","v":""},{"$f":"IF(ISERROR(INDEX(Data!P:P,Report!$B499)),\"\",INDEX(Data!P:P,Report!$B499))","v":""},{"$f":"IF(ISERROR(INDEX(Data!O:O,Report!$B499)),\"\",INDEX(Data!O:O,Report!$B499))","v":""},{"$f":"IF(ISERROR(INDEX(Data!Q:Q,Report!$B499)),\"\",INDEX(Data!Q:Q,Report!$B499))","v":""},{"$f":"IF(ISERROR(INDEX(Data!R:R,Report!$B499)),\"\",INDEX(Data!R:R,Report!$B499))","v":""},{"$f":"IF(ISERROR(INDEX(Data!S:S,Report!$B499)),\"\",INDEX(Data!S:S,Report!$B499))","v":""},{"$f":"IF(ISERROR(INDEX(Data!T:T,Report!$B499)),\"\",INDEX(Data!T:T,Report!$B499))","v":""},{"$f":"IF(ISERROR(INDEX(Data!U:U,Report!$B499)),\"\",INDEX(Data!U:U,Report!$B499))","v":""},{"$f":"IF(ISERROR(INDEX(Data!V:V,Report!$B499)),\"\",INDEX(Data!V:V,Report!$B499))","v":""},null,"",""]
[496,{"$f":"IF(ISERROR(MATCH(A500,Data!A:A,0)),\"\",MATCH(A500,Data!A:A,0))","v":242},{"$f":"IF(ISERROR(INDEX(Data!I:I,Report!$B500)),\"\",INDEX(Data!I:I,Report!$B500))","v":"00:43:09"},{"$f":"IF(ISERROR(INDEX(Data!J:J,Report!$B500)),\"\",INDEX(Data!J:J,Report!$B500))","v":"Game against Boomer at level 2.5  Single point data:"},{"$f":"IF(ISERROR(INDEX(Data!K:K,Report!$B500)),\"\",INDEX(Data!K:K,Report!$B500))","v":"Player's point"},{"$f":"IF(ISERROR(INDEX(Data!L:L,Report!$B500)),\"\",INDEX(Data!L:L,Report!$B500))","v":"New Point"},null,{"$f":"IF(ISERROR(INDEX(Data!N:N,Report!$B500)),\"\",INDEX(Data!N:N,Report!$B500))","v":1},{"$f":"IF(ISERROR(INDEX(Data!P:P,Report!$B500)),\"\",INDEX(Data!P:P,Report!$B500))","v":"Player Serve"},{"$f":"IF(ISERROR(INDEX(Data!O:O,Report!$B500)),\"\",INDEX(Data!O:O,Report!$B500))","v":4},{"$f":"IF(ISERROR(INDEX(Data!Q:Q,Report!$B500)),\"\",INDEX(Data!Q:Q,Report!$B500))","v":2.5},{"$f":"IF(ISERROR(INDEX(Data!R:R,Report!$B500)),\"\",INDEX(Data!R:R,Report!$B500))","v":18},{"$f":"IF(ISERROR(INDEX(Data!S:S,Report!$B500)),\"\",INDEX(Data!S:S,Report!$B500))","v":17},{"$f":"IF(ISERROR(INDEX(Data!T:T,Report!$B500)),\"\",INDEX(Data!T:T,Report!$B500))","v":5},{"$f":"IF(ISERROR(INDEX(Data!U:U,Report!$B500)),\"\",INDEX(Data!U:U,Report!$B500))","v":110},{"$f":"IF(ISERROR(INDEX(Data!V:V,Report!$B500)),\"\",INDEX(Data!V:V,Report!$B500))","v":5.9},null,"                  |","||||||||"]
[497,{"$f":"IF(ISERROR(MATCH(A501,Data!A:A,0)),\"\",MATCH(A501,Data!A:A,0))","v":""},{"$f":"IF(ISERROR(INDEX(Data!I:I,Report!$B501)),\"\",INDEX(Data!I:I,Report!$B501))","v":""},{"$f":"IF(ISERROR(INDEX(Data!J:J,Report!$B501)),\"\",INDEX(Data!J:J,Report!$B501))","v":""},{"$f":"IF(ISERROR(INDEX(Data!K:K,Report!$B501)),\"\",INDEX(Data!K:K,Report!$B501))","v":""},{"$f":"IF(ISERROR(INDEX(Data!L:L,Report!$B501)),\"\",INDEX(Data!L:L,Report!$B501))","v":""},null,{"$f":"IF(ISERROR(INDEX(Data!N:N,Report!$B501)),\"\",INDEX(Data!N:N,Report!$B501))","v":""},{"$f":"IF(ISERROR(INDEX(Data!P:P,Report!$B501)),\"\",INDEX(Data!P:P,Report!$B501))","v":""},{"$f":"IF(ISERROR(INDEX(Data!O:O,Report!$B501)),\"\",INDEX(Data!O:O,Report!$B501))","v":""},{"$f":"IF(ISERROR(INDEX(Data!Q:Q,Report!$B501)),\"\",INDEX(Data!Q:Q,Report!$B501))","v":""},{"$f":"IF(ISERROR(INDEX(Data!R:R,Report!$B501)),\"\",INDEX(Data!R:R,Report!$B501))","v":""},{"$f":"IF(ISERROR(INDEX(Data!S:S,Report!$B501)),\"\",INDEX(Data!S:S,Report!$B501))","v":""},{"$f":"IF(ISERROR(INDEX(Data!T:T,Report!$B501)),\"\",INDEX(Data!T:T,Report!$B501))","v":""},{"$f":"IF(ISERROR(INDEX(Data!U:U,Report!$B501)),\"\",INDEX(Data!U:U,Report!$B501))","v":""},{"$f":"IF(ISERROR(INDEX(Data!V:V,Report!$B501)),\"\",INDEX(Data!V:V,Report!$B501))","v":""},null,"",""]
[498,{"$f":"IF(ISERROR(MATCH(A502,Data!A:A,0)),\"\",MATCH(A502,Data!A:A,0))","v":""},{"$f":"IF(ISERROR(INDEX(Data!I:I,Report!$B502)),\"\",INDEX(Data!I:I,Report!$B502))","v":""},{"$f":"IF(ISERROR(INDEX(Data!J:J,Report!$B502)),\"\",INDEX(Data!J:J,Report!$B502))","v":""},{"$f":"IF(ISERROR(INDEX(Data!K:K,Report!$B502)),\"\",INDEX(Data!K:K,Report!$B502))","v":""},{"$f":"IF(ISERROR(INDEX(Data!L:L,Report!$B502)),\"\",INDEX(Data!L:L,Report!$B502))","v":""},null,{"$f":"IF(ISERROR(INDEX(Data!N:N,Report!$B502)),\"\",INDEX(Data!N:N,Report!$B502))","v":""},{"$f":"IF(ISERROR(INDEX(Data!P:P,Report!$B502)),\"\",INDEX(Data!P:P,Report!$B502))","v":""},{"$f":"IF(ISERROR(INDEX(Data!O:O,Report!$B502)),\"\",INDEX(Data!O:O,Report!$B502))","v":""},{"$f":"IF(ISERROR(INDEX(Data!Q:Q,Report!$B502)),\"\",INDEX(Data!Q:Q,Report!$B502))","v":""},{"$f":"IF(ISERROR(INDEX(Data!R:R,Report!$B502)),\"\",INDEX(Data!R:R,Report!$B502))","v":""},{"$f":"IF(ISERROR(INDEX(Data!S:S,Report!$B502)),\"\",INDEX(Data!S:S,Report!$B502))","v":""},{"$f":"IF(ISERROR(INDEX(Data!T:T,Report!$B502)),\"\",INDEX(Data!T:T,Report!$B502))","v":""},{"$f":"IF(ISERROR(INDEX(Data!U:U,Report!$B502)),\"\",INDEX(Data!U:U,Report!$B502))","v":""},{"$f":"IF(ISERROR(INDEX(Data!V:V,Report!$B502)),\"\",INDEX(Data!V:V,Report!$B502))","v":""},null,"",""]
[499,{"$f":"IF(ISERROR(MATCH(A503,Data!A:A,0)),\"\",MATCH(A503,Data!A:A,0))","v":""},{"$f":"IF(ISERROR(INDEX(Data!I:I,Report!$B503)),\"\",INDEX(Data!I:I,Report!$B503))","v":""},{"$f":"IF(ISERROR(INDEX(Data!J:J,Report!$B503)),\"\",INDEX(Data!J:J,Report!$B503))","v":""},{"$f":"IF(ISERROR(INDEX(Data!K:K,Report!$B503)),\"\",INDEX(Data!K:K,Report!$B503))","v":""},{"$f":"IF(ISERROR(INDEX(Data!L:L,Report!$B503)),\"\",INDEX(Data!L:L,Report!$B503))","v":""},null,{"$f":"IF(ISERROR(INDEX(Data!N:N,Report!$B503)),\"\",INDEX(Data!N:N,Report!$B503))","v":""},{"$f":"IF(ISERROR(INDEX(Data!P:P,Report!$B503)),\"\",INDEX(Data!P:P,Report!$B503))","v":""},{"$f":"IF(ISERROR(INDEX(Data!O:O,Report!$B503)),\"\",INDEX(Data!O:O,Report!$B503))","v":""},{"$f":"IF(ISERROR(INDEX(Data!Q:Q,Report!$B503)),\"\",INDEX(Data!Q:Q,Report!$B503))","v":""},{"$f":"IF(ISERROR(INDEX(Data!R:R,Report!$B503)),\"\",INDEX(Data!R:R,Report!$B503))","v":""},{"$f":"IF(ISERROR(INDEX(Data!S:S,Report!$B503)),\"\",INDEX(Data!S:S,Report!$B503))","v":""},{"$f":"IF(ISERROR(INDEX(Data!T:T,Report!$B503)),\"\",INDEX(Data!T:T,Report!$B503))","v":""},{"$f":"IF(ISERROR(INDEX(Data!U:U,Report!$B503)),\"\",INDEX(Data!U:U,Report!$B503))","v":""},{"$f":"IF(ISERROR(INDEX(Data!V:V,Report!$B503)),\"\",INDEX(Data!V:V,Report!$B503))","v":""},null,"",""]
[500,{"$f":"IF(ISERROR(MATCH(A504,Data!A:A,0)),\"\",MATCH(A504,Data!A:A,0))","v":243},{"$f":"IF(ISERROR(INDEX(Data!I:I,Report!$B504)),\"\",INDEX(Data!I:I,Report!$B504))","v":" "},{"$f":"IF(ISERROR(INDEX(Data!J:J,Report!$B504)),\"\",INDEX(Data!J:J,Report!$B504))","v":"User Drill #188  3 line rated mini tennis"},{"$f":"IF(ISERROR(INDEX(Data!K:K,Report!$B504)),\"\",INDEX(Data!K:K,Report!$B504))","v":0},{"$f":"IF(ISERROR(INDEX(Data!L:L,Report!$B504)),\"\",INDEX(Data!L:L,Report!$B504))","v":"New Point"},null,{"$f":"IF(ISERROR(INDEX(Data!N:N,Report!$B504)),\"\",INDEX(Data!N:N,Report!$B504))","v":1},{"$f":"IF(ISERROR(INDEX(Data!P:P,Report!$B504)),\"\",INDEX(Data!P:P,Report!$B504))","v":0},{"$f":"IF(ISERROR(INDEX(Data!O:O,Report!$B504)),\"\",INDEX(Data!O:O,Report!$B504))","v":11},{"$f":"IF(ISERROR(INDEX(Data!Q:Q,Report!$B504)),\"\",INDEX(Data!Q:Q,Report!$B504))","v":3.5},{"$f":"IF(ISERROR(INDEX(Data!R:R,Report!$B504)),\"\",INDEX(Data!R:R,Report!$B504))","v":0},{"$f":"IF(ISERROR(INDEX(Data!S:S,Report!$B504)),\"\",INDEX(Data!S:S,Report!$B504))","v":0},{"$f":"IF(ISERROR(INDEX(Data!T:T,Report!$B504)),\"\",INDEX(Data!T:T,Report!$B504))","v":0},{"$f":"IF(ISERROR(INDEX(Data!U:U,Report!$B504)),\"\",INDEX(Data!U:U,Report!$B504))","v":0},{"$f":"IF(ISERROR(INDEX(Data!V:V,Report!$B504)),\"\",INDEX(Data!V:V,Report!$B504))","v":0},null,"|",""]
[501,{"$f":"IF(ISERROR(MATCH(A505,Data!A:A,0)),\"\",MATCH(A505,Data!A:A,0))","v":244},{"$f":"IF(ISERROR(INDEX(Data!I:I,Report!$B505)),\"\",INDEX(Data!I:I,Report!$B505))","v":" "},{"$f":"IF(ISERROR(INDEX(Data!J:J,Report!$B505)),\"\",INDEX(Data!J:J,Report!$B505))","v":"User Drill #188  3 line rated mini tennis"},{"$f":"IF(ISERROR(INDEX(Data!K:K,Report!$B505)),\"\",INDEX(Data!K:K,Report!$B505))","v":0},{"$f":"IF(ISERROR(INDEX(Data!L:L,Report!$B505)),\"\",INDEX(Data!L:L,Report!$B505))","v":0},null,{"$f":"IF(ISERROR(INDEX(Data!N:N,Report!$B505)),\"\",INDEX(Data!N:N,Report!$B505))","v":2},{"$f":"IF(ISERROR(INDEX(Data!P:P,Report!$B505)),\"\",INDEX(Data!P:P,Report!$B505))","v":0},{"$f":"IF(ISERROR(INDEX(Data!O:O,Report!$B505)),\"\",INDEX(Data!O:O,Report!$B505))","v":4},{"$f":"IF(ISERROR(INDEX(Data!Q:Q,Report!$B505)),\"\",INDEX(Data!Q:Q,Report!$B505))","v":3.5},{"$f":"IF(ISERROR(INDEX(Data!R:R,Report!$B505)),\"\",INDEX(Data!R:R,Report!$B505))","v":0},{"$f":"IF(ISERROR(INDEX(Data!S:S,Report!$B505)),\"\",INDEX(Data!S:S,Report!$B505))","v":0},{"$f":"IF(ISERROR(INDEX(Data!T:T,Report!$B505)),\"\",INDEX(Data!T:T,Report!$B505))","v":0},{"$f":"IF(ISERROR(INDEX(Data!U:U,Report!$B505)),\"\",INDEX(Data!U:U,Report!$B505))","v":0},{"$f":"IF(ISERROR(INDEX(Data!V:V,Report!$B505)),\"\",INDEX(Data!V:V,Report!$B505))","v":0},null,"|",""]
[502,{"$f":"IF(ISERROR(MATCH(A506,Data!A:A,0)),\"\",MATCH(A506,Data!A:A,0))","v":245},{"$f":"IF(ISERROR(INDEX(Data!I:I,Report!$B506)),\"\",INDEX(Data!I:I,Report!$B506))","v":" "},{"$f":"IF(ISERROR(INDEX(Data!J:J,Report!$B506)),\"\",INDEX(Data!J:J,Report!$B506))","v":"User Drill #188  3 line rated mini tennis"},{"$f":"IF(ISERROR(INDEX(Data!K:K,Report!$B506)),\"\",INDEX(Data!K:K,Report!$B506))","v":0},{"$f":"IF(ISERROR(INDEX(Data!L:L,Report!$B506)),\"\",INDEX(Data!L:L,Report!$B506))","v":0},null,{"$f":"IF(ISERROR(INDEX(Data!N:N,Report!$B506)),\"\",INDEX(Data!N:N,Report!$B506))","v":3},{"$f":"IF(ISERROR(INDEX(Data!P:P,Report!$B506)),\"\",INDEX(Data!P:P,Report!$B506))","v":0},{"$f":"IF(ISERROR(INDEX(Data!O:O,Report!$B506)),\"\",INDEX(Data!O:O,Report!$B506))","v":10},{"$f":"IF(ISERROR(INDEX(Data!Q:Q,Report!$B506)),\"\",INDEX(Data!Q:Q,Report!$B506))","v":3.5},{"$f":"IF(ISERROR(INDEX(Data!R:R,Report!$B506)),\"\",INDEX(Data!R:R,Report!$B506))","v":0},{"$f":"IF(ISERROR(INDEX(Data!S:S,Report!$B506)),\"\",INDEX(Data!S:S,Report!$B506))","v":0},{"$f":"IF(ISERROR(INDEX(Data!T:T,Report!$B506)),\"\",INDEX(Data!T:T,Report!$B506))","v":0},{"$f":"IF(ISERROR(INDEX(Data!U:U,Report!$B506)),\"\",INDEX(Data!U:U,Report!$B506))","v":0},{"$f":"IF(ISERROR(INDEX(Data!V:V,Report!$B506)),\"\",INDEX(Data!V:V,Report!$B506))","v":0},null,"|",""]
[503,{"$f":"IF(ISERROR(MATCH(A507,Data!A:A,0)),\"\",MATCH(A507,Data!A:A,0))","v":""},{"$f":"IF(ISERROR(INDEX(Data!I:I,Report!$B507)),\"\",INDEX(Data!I:I,Report!$B507))","v":""},{"$f":"IF(ISERROR(INDEX(Data!J:J,Report!$B507)),\"\",INDEX(Data!J:J,Report!$B507))","v":""},{"$f":"IF(ISERROR(INDEX(Data!K:K,Report!$B507)),\"\",INDEX(Data!K:K,Report!$B507))","v":""},{"$f":"IF(ISERROR(INDEX(Data!L:L,Report!$B507)),\"\",INDEX(Data!L:L,Report!$B507))","v":""},null,{"$f":"IF(ISERROR(INDEX(Data!N:N,Report!$B507)),\"\",INDEX(Data!N:N,Report!$B507))","v":""},{"$f":"IF(ISERROR(INDEX(Data!P:P,Report!$B507)),\"\",INDEX(Data!P:P,Report!$B507))","v":""},{"$f":"IF(ISERROR(INDEX(Data!O:O,Report!$B507)),\"\",INDEX(Data!O:O,Report!$B507))","v":""},{"$f":"IF(ISERROR(INDEX(Data!Q:Q,Report!$B507)),\"\",INDEX(Data!Q:Q,Report!$B507))","v":""},{"$f":"IF(ISERROR(INDEX(Data!R:R,Report!$B507)),\"\",INDEX(Data!R:R,Report!$B507))","v":""},{"$f":"IF(ISERROR(INDEX(Data!S:S,Report!$B507)),\"\",INDEX(Data!S:S,Report!$B507))","v":""},{"$f":"IF(ISERROR(INDEX(Data!T:T,Report!$B507)),\"\",INDEX(Data!T:T,Report!$B507))","v":""},{"$f":"IF(ISERROR(INDEX(Data!U:U,Report!$B507)),\"\",INDEX(Data!U:U,Report!$B507))","v":""},{"$f":"IF(ISERROR(INDEX(Data!V:V,Report!$B507)),\"\",INDEX(Data!V:V,Report!$B507))","v":""},null,{"$f":"IF(H507=0,\"\",IF(ISERROR(REPT(\" \",L507) & \"|\"),\"\",REPT(\" \",L507) & \"|\"))","v":""},""]
[504,{"$f":"IF(ISERROR(MATCH(A508,Data!A:A,0)),\"\",MATCH(A508,Data!A:A,0))","v":""},{"$f":"IF(ISERROR(INDEX(Data!I:I,Report!$B508)),\"\",INDEX(Data!I:I,Report!$B508))","v":""},{"$f":"IF(ISERROR(INDEX(Data!J:J,Report!$B508)),\"\",INDEX(Data!J:J,Report!$B508))","v":""},{"$f":"IF(ISERROR(INDEX(Data!K:K,Report!$B508)),\"\",INDEX(Data!K:K,Report!$B508))","v":""},{"$f":"IF(ISERROR(INDEX(Data!L:L,Report!$B508)),\"\",INDEX(Data!L:L,Report!$B508))","v":""},null,{"$f":"IF(ISERROR(INDEX(Data!N:N,Report!$B508)),\"\",INDEX(Data!N:N,Report!$B508))","v":""},{"$f":"IF(ISERROR(INDEX(Data!P:P,Report!$B508)),\"\",INDEX(Data!P:P,Report!$B508))","v":""},{"$f":"IF(ISERROR(INDEX(Data!O:O,Report!$B508)),\"\",INDEX(Data!O:O,Report!$B508))","v":""},{"$f":"IF(ISERROR(INDEX(Data!Q:Q,Report!$B508)),\"\",INDEX(Data!Q:Q,Report!$B508))","v":""},{"$f":"IF(ISERROR(INDEX(Data!R:R,Report!$B508)),\"\",INDEX(Data!R:R,Report!$B508))","v":""},{"$f":"IF(ISERROR(INDEX(Data!S:S,Report!$B508)),\"\",INDEX(Data!S:S,Report!$B508))","v":""},{"$f":"IF(ISERROR(INDEX(Data!T:T,Report!$B508)),\"\",INDEX(Data!T:T,Report!$B508))","v":""},{"$f":"IF(ISERROR(INDEX(Data!U:U,Report!$B508)),\"\",INDEX(Data!U:U,Report!$B508))","v":""},{"$f":"IF(ISERROR(INDEX(Data!V:V,Report!$B508)),\"\",INDEX(Data!V:V,Report!$B508))","v":""},null,"",""]
[505,{"$f":"IF(ISERROR(MATCH(A509,Data!A:A,0)),\"\",MATCH(A509,Data!A:A,0))","v":""},{"$f":"IF(ISERROR(INDEX(Data!I:I,Report!$B509)),\"\",INDEX(Data!I:I,Report!$B509))","v":""},{"$f":"IF(ISERROR(INDEX(Data!J:J,Report!$B509)),\"\",INDEX(Data!J:J,Report!$B509))","v":""},{"$f":"IF(ISERROR(INDEX(Data!K:K,Report!$B509)),\"\",INDEX(Data!K:K,Report!$B509))","v":""},{"$f":"IF(ISERROR(INDEX(Data!L:L,Report!$B509)),\"\",INDEX(Data!L:L,Report!$B509))","v":""},null,{"$f":"IF(ISERROR(INDEX(Data!N:N,Report!$B509)),\"\",INDEX(Data!N:N,Report!$B509))","v":""},{"$f":"IF(ISERROR(INDEX(Data!P:P,Report!$B509)),\"\",INDEX(Data!P:P,Report!$B509))","v":""},{"$f":"IF(ISERROR(INDEX(Data!O:O,Report!$B509)),\"\",INDEX(Data!O:O,Report!$B509))","v":""},{"$f":"IF(ISERROR(INDEX(Data!Q:Q,Report!$B509)),\"\",INDEX(Data!Q:Q,Report!$B509))","v":""},{"$f":"IF(ISERROR(INDEX(Data!R:R,Report!$B509)),\"\",INDEX(Data!R:R,Report!$B509))","v":""},{"$f":"IF(ISERROR(INDEX(Data!S:S,Report!$B509)),\"\",INDEX(Data!S:S,Report!$B509))","v":""},{"$f":"IF(ISERROR(INDEX(Data!T:T,Report!$B509)),\"\",INDEX(Data!T:T,Report!$B509))","v":""},{"$f":"IF(ISERROR(INDEX(Data!U:U,Report!$B509)),\"\",INDEX(Data!U:U,Report!$B509))","v":""},{"$f":"IF(ISERROR(INDEX(Data!V:V,Report!$B509)),\"\",INDEX(Data!V:V,Report!$B509))","v":""},null,"",""]
[506,{"$f":"IF(ISERROR(MATCH(A510,Data!A:A,0)),\"\",MATCH(A510,Data!A:A,0))","v":246},{"$f":"IF(ISERROR(INDEX(Data!I:I,Report!$B510)),\"\",INDEX(Data!I:I,Report!$B510))","v":" "},{"$f":"IF(ISERROR(INDEX(Data!J:J,Report!$B510)),\"\",INDEX(Data!J:J,Report!$B510))","v":"User Drill #188  3 line rated mini tennis"},{"$f":"IF(ISERROR(INDEX(Data!K:K,Report!$B510)),\"\",INDEX(Data!K:K,Report!$B510))","v":0},{"$f":"IF(ISERROR(INDEX(Data!L:L,Report!$B510)),\"\",INDEX(Data!L:L,Report!$B510))","v":"New Point"},null,{"$f":"IF(ISERROR(INDEX(Data!N:N,Report!$B510)),\"\",INDEX(Data!N:N,Report!$B510))","v":1},{"$f":"IF(ISERROR(INDEX(Data!P:P,Report!$B510)),\"\",INDEX(Data!P:P,Report!$B510))","v":0},{"$f":"IF(ISERROR(INDEX(Data!O:O,Report!$B510)),\"\",INDEX(Data!O:O,Report!$B510))","v":11},{"$f":"IF(ISERROR(INDEX(Data!Q:Q,Report!$B510)),\"\",INDEX(Data!Q:Q,Report!$B510))","v":3.5},{"$f":"IF(ISERROR(INDEX(Data!R:R,Report!$B510)),\"\",INDEX(Data!R:R,Report!$B510))","v":38},{"$f":"IF(ISERROR(INDEX(Data!S:S,Report!$B510)),\"\",INDEX(Data!S:S,Report!$B510))","v":9},{"$f":"IF(ISERROR(INDEX(Data!T:T,Report!$B510)),\"\",INDEX(Data!T:T,Report!$B510))","v":7},{"$f":"IF(ISERROR(INDEX(Data!U:U,Report!$B510)),\"\",INDEX(Data!U:U,Report!$B510))","v":59},{"$f":"IF(ISERROR(INDEX(Data!V:V,Report!$B510)),\"\",INDEX(Data!V:V,Report!$B510))","v":7},null,"                                      |","||||"]
[507,{"$f":"IF(ISERROR(MATCH(A511,Data!A:A,0)),\"\",MATCH(A511,Data!A:A,0))","v":""},{"$f":"IF(ISERROR(INDEX(Data!I:I,Report!$B511)),\"\",INDEX(Data!I:I,Report!$B511))","v":""},{"$f":"IF(ISERROR(INDEX(Data!J:J,Report!$B511)),\"\",INDEX(Data!J:J,Report!$B511))","v":""},{"$f":"IF(ISERROR(INDEX(Data!K:K,Report!$B511)),\"\",INDEX(Data!K:K,Report!$B511))","v":""},{"$f":"IF(ISERROR(INDEX(Data!L:L,Report!$B511)),\"\",INDEX(Data!L:L,Report!$B511))","v":""},null,{"$f":"IF(ISERROR(INDEX(Data!N:N,Report!$B511)),\"\",INDEX(Data!N:N,Report!$B511))","v":""},{"$f":"IF(ISERROR(INDEX(Data!P:P,Report!$B511)),\"\",INDEX(Data!P:P,Report!$B511))","v":""},{"$f":"IF(ISERROR(INDEX(Data!O:O,Report!$B511)),\"\",INDEX(Data!O:O,Report!$B511))","v":""},{"$f":"IF(ISERROR(INDEX(Data!Q:Q,Report!$B511)),\"\",INDEX(Data!Q:Q,Report!$B511))","v":""},{"$f":"IF(ISERROR(INDEX(Data!R:R,Report!$B511)),\"\",INDEX(Data!R:R,Report!$B511))","v":""},{"$f":"IF(ISERROR(INDEX(Data!S:S,Report!$B511)),\"\",INDEX(Data!S:S,Report!$B511))","v":""},{"$f":"IF(ISERROR(INDEX(Data!T:T,Report!$B511)),\"\",INDEX(Data!T:T,Report!$B511))","v":""},{"$f":"IF(ISERROR(INDEX(Data!U:U,Report!$B511)),\"\",INDEX(Data!U:U,Report!$B511))","v":""},{"$f":"IF(ISERROR(INDEX(Data!V:V,Report!$B511)),\"\",INDEX(Data!V:V,Report!$B511))","v":""},null,"",""]
[508,{"$f":"IF(ISERROR(MATCH(A512,Data!A:A,0)),\"\",MATCH(A512,Data!A:A,0))","v":""},{"$f":"IF(ISERROR(INDEX(Data!I:I,Report!$B512)),\"\",INDEX(Data!I:I,Report!$B512))","v":""},{"$f":"IF(ISERROR(INDEX(Data!J:J,Report!$B512)),\"\",INDEX(Data!J:J,Report!$B512))","v":""},{"$f":"IF(ISERROR(INDEX(Data!K:K,Report!$B512)),\"\",INDEX(Data!K:K,Report!$B512))","v":""},{"$f":"IF(ISERROR(INDEX(Data!L:L,Report!$B512)),\"\",INDEX(Data!L:L,Report!$B512))","v":""},null,{"$f":"IF(ISERROR(INDEX(Data!N:N,Report!$B512)),\"\",INDEX(Data!N:N,Report!$B512))","v":""},{"$f":"IF(ISERROR(INDEX(Data!P:P,Report!$B512)),\"\",INDEX(Data!P:P,Report!$B512))","v":""},{"$f":"IF(ISERROR(INDEX(Data!O:O,Report!$B512)),\"\",INDEX(Data!O:O,Report!$B512))","v":""},{"$f":"IF(ISERROR(INDEX(Data!Q:Q,Report!$B512)),\"\",INDEX(Data!Q:Q,Report!$B512))","v":""},{"$f":"IF(ISERROR(INDEX(Data!R:R,Report!$B512)),\"\",INDEX(Data!R:R,Report!$B512))","v":""},{"$f":"IF(ISERROR(INDEX(Data!S:S,Report!$B512)),\"\",INDEX(Data!S:S,Report!$B512))","v":""},{"$f":"IF(ISERROR(INDEX(Data!T:T,Report!$B512)),\"\",INDEX(Data!T:T,Report!$B512))","v":""},{"$f":"IF(ISERROR(INDEX(Data!U:U,Report!$B512)),\"\",INDEX(Data!U:U,Report!$B512))","v":""},{"$f":"IF(ISERROR(INDEX(Data!V:V,Report!$B512)),\"\",INDEX(Data!V:V,Report!$B512))","v":""},null,"",""]
[509,{"$f":"IF(ISERROR(MATCH(A513,Data!A:A,0)),\"\",MATCH(A513,Data!A:A,0))","v":""},{"$f":"IF(ISERROR(INDEX(Data!I:I,Report!$B513)),\"\",INDEX(Data!I:I,Report!$B513))","v":""},{"$f":"IF(ISERROR(INDEX(Data!J:J,Report!$B513)),\"\",INDEX(Data!J:J,Report!$B513))","v":""},{"$f":"IF(ISERROR(INDEX(Data!K:K,Report!$B513)),\"\",INDEX(Data!K:K,Report!$B513))","v":""},{"$f":"IF(ISERROR(INDEX(Data!L:L,Report!$B513)),\"\",INDEX(Data!L:L,Report!$B513))","v":""},null,{"$f":"IF(ISERROR(INDEX(Data!N:N,Report!$B513)),\"\",INDEX(Data!N:N,Report!$B513))","v":""},{"$f":"IF(ISERROR(INDEX(Data!P:P,Report!$B513)),\"\",INDEX(Data!P:P,Report!$B513))","v":""},{"$f":"IF(ISERROR(INDEX(Data!O:O,Report!$B513)),\"\",INDEX(Data!O:O,Report!$B513))","v":""},{"$f":"IF(ISERROR(INDEX(Data!Q:Q,Report!$B513)),\"\",INDEX(Data!Q:Q,Report!$B513))","v":""},{"$f":"IF(ISERROR(INDEX(Data!R:R,Report!$B513)),\"\",INDEX(Data!R:R,Report!$B513))","v":""},{"$f":"IF(ISERROR(INDEX(Data!S:S,Report!$B513)),\"\",INDEX(Data!S:S,Report!$B513))","v":""},{"$f":"IF(ISERROR(INDEX(Data!T:T,Report!$B513)),\"\",INDEX(Data!T:T,Report!$B513))","v":""},{"$f":"IF(ISERROR(INDEX(Data!U:U,Report!$B513)),\"\",INDEX(Data!U:U,Report!$B513))","v":""},{"$f":"IF(ISERROR(INDEX(Data!V:V,Report!$B513)),\"\",INDEX(Data!V:V,Report!$B513))","v":""},null,"",""]
[510,{"$f":"IF(ISERROR(MATCH(A514,Data!A:A,0)),\"\",MATCH(A514,Data!A:A,0))","v":247},{"$f":"IF(ISERROR(INDEX(Data!I:I,Report!$B514)),\"\",INDEX(Data!I:I,Report!$B514))","v":"00:43:26"},{"$f":"IF(ISERROR(INDEX(Data!J:J,Report!$B514)),\"\",INDEX(Data!J:J,Report!$B514))","v":"Game against Boomer at level 2.5  Single point data:"},{"$f":"IF(ISERROR(INDEX(Data!K:K,Report!$B514)),\"\",INDEX(Data!K:K,Report!$B514))","v":"Player's point"},{"$f":"IF(ISERROR(INDEX(Data!L:L,Report!$B514)),\"\",INDEX(Data!L:L,Report!$B514))","v":"New Point"},null,{"$f":"IF(ISERROR(INDEX(Data!N:N,Report!$B514)),\"\",INDEX(Data!N:N,Report!$B514))","v":1},{"$f":"IF(ISERROR(INDEX(Data!P:P,Report!$B514)),\"\",INDEX(Data!P:P,Report!$B514))","v":"Player Serve"},{"$f":"IF(ISERROR(INDEX(Data!O:O,Report!$B514)),\"\",INDEX(Data!O:O,Report!$B514))","v":4},{"$f":"IF(ISERROR(INDEX(Data!Q:Q,Report!$B514)),\"\",INDEX(Data!Q:Q,Report!$B514))","v":2.5},{"$f":"IF(ISERROR(INDEX(Data!R:R,Report!$B514)),\"\",INDEX(Data!R:R,Report!$B514))","v":17},{"$f":"IF(ISERROR(INDEX(Data!S:S,Report!$B514)),\"\",INDEX(Data!S:S,Report!$B514))","v":5},{"$f":"IF(ISERROR(INDEX(Data!T:T,Report!$B514)),\"\",INDEX(Data!T:T,Report!$B514))","v":4.0999999999999996},{"$f":"IF(ISERROR(INDEX(Data!U:U,Report!$B514)),\"\",INDEX(Data!U:U,Report!$B514))","v":109},{"$f":"IF(ISERROR(INDEX(Data!V:V,Report!$B514)),\"\",INDEX(Data!V:V,Report!$B514))","v":5.5},null,"                 |","||"]
[511,{"$f":"IF(ISERROR(MATCH(A515,Data!A:A,0)),\"\",MATCH(A515,Data!A:A,0))","v":248},{"$f":"IF(ISERROR(INDEX(Data!I:I,Report!$B515)),\"\",INDEX(Data!I:I,Report!$B515))","v":" "},{"$f":"IF(ISERROR(INDEX(Data!J:J,Report!$B515)),\"\",INDEX(Data!J:J,Report!$B515))","v":"User Drill #188  3 line rated mini tennis"},{"$f":"IF(ISERROR(INDEX(Data!K:K,Report!$B515)),\"\",INDEX(Data!K:K,Report!$B515))","v":0},{"$f":"IF(ISERROR(INDEX(Data!L:L,Report!$B515)),\"\",INDEX(Data!L:L,Report!$B515))","v":0},null,{"$f":"IF(ISERROR(INDEX(Data!N:N,Report!$B515)),\"\",INDEX(Data!N:N,Report!$B515))","v":2},{"$f":"IF(ISERROR(INDEX(Data!P:P,Report!$B515)),\"\",INDEX(Data!P:P,Report!$B515))","v":0},{"$f":"IF(ISERROR(INDEX(Data!O:O,Report!$B515)),\"\",INDEX(Data!O:O,Report!$B515))","v":4},{"$f":"IF(ISERROR(INDEX(Data!Q:Q,Report!$B515)),\"\",INDEX(Data!Q:Q,Report!$B515))","v":3.5},{"$f":"IF(ISERROR(INDEX(Data!R:R,Report!$B515)),\"\",INDEX(Data!R:R,Report!$B515))","v":0},{"$f":"IF(ISERROR(INDEX(Data!S:S,Report!$B515)),\"\",INDEX(Data!S:S,Report!$B515))","v":0},{"$f":"IF(ISERROR(INDEX(Data!T:T,Report!$B515)),\"\",INDEX(Data!T:T,Report!$B515))","v":0},{"$f":"IF(ISERROR(INDEX(Data!U:U,Report!$B515)),\"\",INDEX(Data!U:U,Report!$B515))","v":0},{"$f":"IF(ISERROR(INDEX(Data!V:V,Report!$B515)),\"\",INDEX(Data!V:V,Report!$B515))","v":0},null,"|",""]
[512,{"$f":"IF(ISERROR(MATCH(A516,Data!A:A,0)),\"\",MATCH(A516,Data!A:A,0))","v":249},{"$f":"IF(ISERROR(INDEX(Data!I:I,Report!$B516)),\"\",INDEX(Data!I:I,Report!$B516))","v":" "},{"$f":"IF(ISERROR(INDEX(Data!J:J,Report!$B516)),\"\",INDEX(Data!J:J,Report!$B516))","v":"User Drill #188  3 line rated mini tennis"},{"$f":"IF(ISERROR(INDEX(Data!K:K,Report!$B516)),\"\",INDEX(Data!K:K,Report!$B516))","v":0},{"$f":"IF(ISERROR(INDEX(Data!L:L,Report!$B516)),\"\",INDEX(Data!L:L,Report!$B516))","v":0},null,{"$f":"IF(ISERROR(INDEX(Data!N:N,Report!$B516)),\"\",INDEX(Data!N:N,Report!$B516))","v":3},{"$f":"IF(ISERROR(INDEX(Data!P:P,Report!$B516)),\"\",INDEX(Data!P:P,Report!$B516))","v":0},{"$f":"IF(ISERROR(INDEX(Data!O:O,Report!$B516)),\"\",INDEX(Data!O:O,Report!$B516))","v":10},{"$f":"IF(ISERROR(INDEX(Data!Q:Q,Report!$B516)),\"\",INDEX(Data!Q:Q,Report!$B516))","v":3.5},{"$f":"IF(ISERROR(INDEX(Data!R:R,Report!$B516)),\"\",INDEX(Data!R:R,Report!$B516))","v":0},{"$f":"IF(ISERROR(INDEX(Data!S:S,Report!$B516)),\"\",INDEX(Data!S:S,Report!$B516))","v":0},{"$f":"IF(ISERROR(INDEX(Data!T:T,Report!$B516)),\"\",INDEX(Data!T:T,Report!$B516))","v":0},{"$f":"IF(ISERROR(INDEX(Data!U:U,Report!$B516)),\"\",INDEX(Data!U:U,Report!$B516))","v":0},{"$f":"IF(ISERROR(INDEX(Data!V:V,Report!$B516)),\"\",INDEX(Data!V:V,Report!$B516))","v":0},null,"|",""]
[513,{"$f":"IF(ISERROR(MATCH(A517,Data!A:A,0)),\"\",MATCH(A517,Data!A:A,0))","v":""},{"$f":"IF(ISERROR(INDEX(Data!I:I,Report!$B517)),\"\",INDEX(Data!I:I,Report!$B517))","v":""},{"$f":"IF(ISERROR(INDEX(Data!J:J,Report!$B517)),\"\",INDEX(Data!J:J,Report!$B517))","v":""},{"$f":"IF(ISERROR(INDEX(Data!K:K,Report!$B517)),\"\",INDEX(Data!K:K,Report!$B517))","v":""},{"$f":"IF(ISERROR(INDEX(Data!L:L,Report!$B517)),\"\",INDEX(Data!L:L,Report!$B517))","v":""},null,{"$f":"IF(ISERROR(INDEX(Data!N:N,Report!$B517)),\"\",INDEX(Data!N:N,Report!$B517))","v":""},{"$f":"IF(ISERROR(INDEX(Data!P:P,Report!$B517)),\"\",INDEX(Data!P:P,Report!$B517))","v":""},{"$f":"IF(ISERROR(INDEX(Data!O:O,Report!$B517)),\"\",INDEX(Data!O:O,Report!$B517))","v":""},{"$f":"IF(ISERROR(INDEX(Data!Q:Q,Report!$B517)),\"\",INDEX(Data!Q:Q,Report!$B517))","v":""},{"$f":"IF(ISERROR(INDEX(Data!R:R,Report!$B517)),\"\",INDEX(Data!R:R,Report!$B517))","v":""},{"$f":"IF(ISERROR(INDEX(Data!S:S,Report!$B517)),\"\",INDEX(Data!S:S,Report!$B517))","v":""},{"$f":"IF(ISERROR(INDEX(Data!T:T,Report!$B517)),\"\",INDEX(Data!T:T,Report!$B517))","v":""},{"$f":"IF(ISERROR(INDEX(Data!U:U,Report!$B517)),\"\",INDEX(Data!U:U,Report!$B517))","v":""},{"$f":"IF(ISERROR(INDEX(Data!V:V,Report!$B517)),\"\",INDEX(Data!V:V,Report!$B517))","v":""},null,"",""]
[514,{"$f":"IF(ISERROR(MATCH(A518,Data!A:A,0)),\"\",MATCH(A518,Data!A:A,0))","v":""},{"$f":"IF(ISERROR(INDEX(Data!I:I,Report!$B518)),\"\",INDEX(Data!I:I,Report!$B518))","v":""},{"$f":"IF(ISERROR(INDEX(Data!J:J,Report!$B518)),\"\",INDEX(Data!J:J,Report!$B518))","v":""},{"$f":"IF(ISERROR(INDEX(Data!K:K,Report!$B518)),\"\",INDEX(Data!K:K,Report!$B518))","v":""},{"$f":"IF(ISERROR(INDEX(Data!L:L,Report!$B518)),\"\",INDEX(Data!L:L,Report!$B518))","v":""},null,{"$f":"IF(ISERROR(INDEX(Data!N:N,Report!$B518)),\"\",INDEX(Data!N:N,Report!$B518))","v":""},{"$f":"IF(ISERROR(INDEX(Data!P:P,Report!$B518)),\"\",INDEX(Data!P:P,Report!$B518))","v":""},{"$f":"IF(ISERROR(INDEX(Data!O:O,Report!$B518)),\"\",INDEX(Data!O:O,Report!$B518))","v":""},{"$f":"IF(ISERROR(INDEX(Data!Q:Q,Report!$B518)),\"\",INDEX(Data!Q:Q,Report!$B518))","v":""},{"$f":"IF(ISERROR(INDEX(Data!R:R,Report!$B518)),\"\",INDEX(Data!R:R,Report!$B518))","v":""},{"$f":"IF(ISERROR(INDEX(Data!S:S,Report!$B518)),\"\",INDEX(Data!S:S,Report!$B518))","v":""},{"$f":"IF(ISERROR(INDEX(Data!T:T,Report!$B518)),\"\",INDEX(Data!T:T,Report!$B518))","v":""},{"$f":"IF(ISERROR(INDEX(Data!U:U,Report!$B518)),\"\",INDEX(Data!U:U,Report!$B518))","v":""},{"$f":"IF(ISERROR(INDEX(Data!V:V,Report!$B518)),\"\",INDEX(Data!V:V,Report!$B518))","v":""},null,"",{"$f":"IF(ISERROR(REPT(\"|\",M518/2)),\"\",REPT(\"|\",M518/2))","v":""}]
[{"$f":"A518+1","v":515},{"$f":"IF(ISERROR(MATCH(A519,Data!A:A,0)),\"\",MATCH(A519,Data!A:A,0))","v":""},{"$f":"IF(ISERROR(INDEX(Data!I:I,Report!$B519)),\"\",INDEX(Data!I:I,Report!$B519))","v":""},{"$f":"IF(ISERROR(INDEX(Data!J:J,Report!$B519)),\"\",INDEX(Data!J:J,Report!$B519))","v":""},{"$f":"IF(ISERROR(INDEX(Data!K:K,Report!$B519)),\"\",INDEX(Data!K:K,Report!$B519))","v":""},{"$f":"IF(ISERROR(INDEX(Data!L:L,Report!$B519)),\"\",INDEX(Data!L:L,Report!$B519))","v":""},null,{"$f":"IF(ISERROR(INDEX(Data!N:N,Report!$B519)),\"\",INDEX(Data!N:N,Report!$B519))","v":""},{"$f":"IF(ISERROR(INDEX(Data!P:P,Report!$B519)),\"\",INDEX(Data!P:P,Report!$B519))","v":""},{"$f":"IF(ISERROR(INDEX(Data!O:O,Report!$B519)),\"\",INDEX(Data!O:O,Report!$B519))","v":""},{"$f":"IF(ISERROR(INDEX(Data!Q:Q,Report!$B519)),\"\",INDEX(Data!Q:Q,Report!$B519))","v":""},{"$f":"IF(ISERROR(INDEX(Data!R:R,Report!$B519)),\"\",INDEX(Data!R:R,Report!$B519))","v":""},{"$f":"IF(ISERROR(INDEX(Data!S:S,Report!$B519)),\"\",INDEX(Data!S:S,Report!$B519))","v":""},{"$f":"IF(ISERROR(INDEX(Data!T:T,Report!$B519)),\"\",INDEX(Data!T:T,Report!$B519))","v":""},{"$f":"IF(ISERROR(INDEX(Data!U:U,Report!$B519)),\"\",INDEX(Data!U:U,Report!$B519))","v":""},{"$f":"IF(ISERROR(INDEX(Data!V:V,Report!$B519)),\"\",INDEX(Data!V:V,Report!$B519))","v":""},null,"",""]
[516,{"$f":"IF(ISERROR(MATCH(A520,Data!A:A,0)),\"\",MATCH(A520,Data!A:A,0))","v":250},{"$f":"IF(ISERROR(INDEX(Data!I:I,Report!$B520)),\"\",INDEX(Data!I:I,Report!$B520))","v":"00:43:49"},{"$f":"IF(ISERROR(INDEX(Data!J:J,Report!$B520)),\"\",INDEX(Data!J:J,Report!$B520))","v":"Game against Boomer at level 2.5  Single point data:"},{"$f":"IF(ISERROR(INDEX(Data!K:K,Report!$B520)),\"\",INDEX(Data!K:K,Report!$B520))","v":"Player's point"},{"$f":"IF(ISERROR(INDEX(Data!L:L,Report!$B520)),\"\",INDEX(Data!L:L,Report!$B520))","v":"New Point"},null,{"$f":"IF(ISERROR(INDEX(Data!N:N,Report!$B520)),\"\",INDEX(Data!N:N,Report!$B520))","v":1},{"$f":"IF(ISERROR(INDEX(Data!P:P,Report!$B520)),\"\",INDEX(Data!P:P,Report!$B520))","v":"Player Serve"},{"$f":"IF(ISERROR(INDEX(Data!O:O,Report!$B520)),\"\",INDEX(Data!O:O,Report!$B520))","v":4},{"$f":"IF(ISERROR(INDEX(Data!Q:Q,Report!$B520)),\"\",INDEX(Data!Q:Q,Report!$B520))","v":2.5},{"$f":"IF(ISERROR(INDEX(Data!R:R,Report!$B520)),\"\",INDEX(Data!R:R,Report!$B520))","v":0},{"$f":"IF(ISERROR(INDEX(Data!S:S,Report!$B520)),\"\",INDEX(Data!S:S,Report!$B520))","v":0},{"$f":"IF(ISERROR(INDEX(Data!T:T,Report!$B520)),\"\",INDEX(Data!T:T,Report!$B520))","v":0},{"$f":"IF(ISERROR(INDEX(Data!U:U,Report!$B520)),\"\",INDEX(Data!U:U,Report!$B520))","v":0},{"$f":"IF(ISERROR(INDEX(Data!V:V,Report!$B520)),\"\",INDEX(Data!V:V,Report!$B520))","v":0},null,"|",""]
[517,{"$f":"IF(ISERROR(MATCH(A521,Data!A:A,0)),\"\",MATCH(A521,Data!A:A,0))","v":""},{"$f":"IF(ISERROR(INDEX(Data!I:I,Report!$B521)),\"\",INDEX(Data!I:I,Report!$B521))","v":""},{"$f":"IF(ISERROR(INDEX(Data!J:J,Report!$B521)),\"\",INDEX(Data!J:J,Report!$B521))","v":""},{"$f":"IF(ISERROR(INDEX(Data!K:K,Report!$B521)),\"\",INDEX(Data!K:K,Report!$B521))","v":""},{"$f":"IF(ISERROR(INDEX(Data!L:L,Report!$B521)),\"\",INDEX(Data!L:L,Report!$B521))","v":""},null,{"$f":"IF(ISERROR(INDEX(Data!N:N,Report!$B521)),\"\",INDEX(Data!N:N,Report!$B521))","v":""},{"$f":"IF(ISERROR(INDEX(Data!P:P,Report!$B521)),\"\",INDEX(Data!P:P,Report!$B521))","v":""},{"$f":"IF(ISERROR(INDEX(Data!O:O,Report!$B521)),\"\",INDEX(Data!O:O,Report!$B521))","v":""},{"$f":"IF(ISERROR(INDEX(Data!Q:Q,Report!$B521)),\"\",INDEX(Data!Q:Q,Report!$B521))","v":""},{"$f":"IF(ISERROR(INDEX(Data!R:R,Report!$B521)),\"\",INDEX(Data!R:R,Report!$B521))","v":""},{"$f":"IF(ISERROR(INDEX(Data!S:S,Report!$B521)),\"\",INDEX(Data!S:S,Report!$B521))","v":""},{"$f":"IF(ISERROR(INDEX(Data!T:T,Report!$B521)),\"\",INDEX(Data!T:T,Report!$B521))","v":""},{"$f":"IF(ISERROR(INDEX(Data!U:U,Report!$B521)),\"\",INDEX(Data!U:U,Report!$B521))","v":""},{"$f":"IF(ISERROR(INDEX(Data!V:V,Report!$B521)),\"\",INDEX(Data!V:V,Report!$B521))","v":""},null,"",""]
[518,{"$f":"IF(ISERROR(MATCH(A522,Data!A:A,0)),\"\",MATCH(A522,Data!A:A,0))","v":""},{"$f":"IF(ISERROR(INDEX(Data!I:I,Report!$B522)),\"\",INDEX(Data!I:I,Report!$B522))","v":""},{"$f":"IF(ISERROR(INDEX(Data!J:J,Report!$B522)),\"\",INDEX(Data!J:J,Report!$B522))","v":""},{"$f":"IF(ISERROR(INDEX(Data!K:K,Report!$B522)),\"\",INDEX(Data!K:K,Report!$B522))","v":""},{"$f":"IF(ISERROR(INDEX(Data!L:L,Report!$B522)),\"\",INDEX(Data!L:L,Report!$B522))","v":""},null,{"$f":"IF(ISERROR(INDEX(Data!N:N,Report!$B522)),\"\",INDEX(Data!N:N,Report!$B522))","v":""},{"$f":"IF(ISERROR(INDEX(Data!P:P,Report!$B522)),\"\",INDEX(Data!P:P,Report!$B522))","v":""},{"$f":"IF(ISERROR(INDEX(Data!O:O,Report!$B522)),\"\",INDEX(Data!O:O,Report!$B522))","v":""},{"$f":"IF(ISERROR(INDEX(Data!Q:Q,Report!$B522)),\"\",INDEX(Data!Q:Q,Report!$B522))","v":""},{"$f":"IF(ISERROR(INDEX(Data!R:R,Report!$B522)),\"\",INDEX(Data!R:R,Report!$B522))","v":""},{"$f":"IF(ISERROR(INDEX(Data!S:S,Report!$B522)),\"\",INDEX(Data!S:S,Report!$B522))","v":""},{"$f":"IF(ISERROR(INDEX(Data!T:T,Report!$B522)),\"\",INDEX(Data!T:T,Report!$B522))","v":""},{"$f":"IF(ISERROR(INDEX(Data!U:U,Report!$B522)),\"\",INDEX(Data!U:U,Report!$B522))","v":""},{"$f":"IF(ISERROR(INDEX(Data!V:V,Report!$B522)),\"\",INDEX(Data!V:V,Report!$B522))","v":""},null,"",""]
[519,{"$f":"IF(ISERROR(MATCH(A523,Data!A:A,0)),\"\",MATCH(A523,Data!A:A,0))","v":""},{"$f":"IF(ISERROR(INDEX(Data!I:I,Report!$B523)),\"\",INDEX(Data!I:I,Report!$B523))","v":""},{"$f":"IF(ISERROR(INDEX(Data!J:J,Report!$B523)),\"\",INDEX(Data!J:J,Report!$B523))","v":""},{"$f":"IF(ISERROR(INDEX(Data!K:K,Report!$B523)),\"\",INDEX(Data!K:K,Report!$B523))","v":""},{"$f":"IF(ISERROR(INDEX(Data!L:L,Report!$B523)),\"\",INDEX(Data!L:L,Report!$B523))","v":""},null,{"$f":"IF(ISERROR(INDEX(Data!N:N,Report!$B523)),\"\",INDEX(Data!N:N,Report!$B523))","v":""},{"$f":"IF(ISERROR(INDEX(Data!P:P,Report!$B523)),\"\",INDEX(Data!P:P,Report!$B523))","v":""},{"$f":"IF(ISERROR(INDEX(Data!O:O,Report!$B523)),\"\",INDEX(Data!O:O,Report!$B523))","v":""},{"$f":"IF(ISERROR(INDEX(Data!Q:Q,Report!$B523)),\"\",INDEX(Data!Q:Q,Report!$B523))","v":""},{"$f":"IF(ISERROR(INDEX(Data!R:R,Report!$B523)),\"\",INDEX(Data!R:R,Report!$B523))","v":""},{"$f":"IF(ISERROR(INDEX(Data!S:S,Report!$B523)),\"\",INDEX(Data!S:S,Report!$B523))","v":""},{"$f":"IF(ISERROR(INDEX(Data!T:T,Report!$B523)),\"\",INDEX(Data!T:T,Report!$B523))","v":""},{"$f":"IF(ISERROR(INDEX(Data!U:U,Report!$B523)),\"\",INDEX(Data!U:U,Report!$B523))","v":""},{"$f":"IF(ISERROR(INDEX(Data!V:V,Report!$B523)),\"\",INDEX(Data!V:V,Report!$B523))","v":""},null,"",""]
[520,{"$f":"IF(ISERROR(MATCH(A524,Data!A:A,0)),\"\",MATCH(A524,Data!A:A,0))","v":251},{"$f":"IF(ISERROR(INDEX(Data!I:I,Report!$B524)),\"\",INDEX(Data!I:I,Report!$B524))","v":" "},{"$f":"IF(ISERROR(INDEX(Data!J:J,Report!$B524)),\"\",INDEX(Data!J:J,Report!$B524))","v":"User Drill #188  3 line rated mini tennis"},{"$f":"IF(ISERROR(INDEX(Data!K:K,Report!$B524)),\"\",INDEX(Data!K:K,Report!$B524))","v":0},{"$f":"IF(ISERROR(INDEX(Data!L:L,Report!$B524)),\"\",INDEX(Data!L:L,Report!$B524))","v":"New Point"},null,{"$f":"IF(ISERROR(INDEX(Data!N:N,Report!$B524)),\"\",INDEX(Data!N:N,Report!$B524))","v":1},{"$f":"IF(ISERROR(INDEX(Data!P:P,Report!$B524)),\"\",INDEX(Data!P:P,Report!$B524))","v":0},{"$f":"IF(ISERROR(INDEX(Data!O:O,Report!$B524)),\"\",INDEX(Data!O:O,Report!$B524))","v":11},{"$f":"IF(ISERROR(INDEX(Data!Q:Q,Report!$B524)),\"\",INDEX(Data!Q:Q,Report!$B524))","v":3.5},{"$f":"IF(ISERROR(INDEX(Data!R:R,Report!$B524)),\"\",INDEX(Data!R:R,Report!$B524))","v":0},{"$f":"IF(ISERROR(INDEX(Data!S:S,Report!$B524)),\"\",INDEX(Data!S:S,Report!$B524))","v":0},{"$f":"IF(ISERROR(INDEX(Data!T:T,Report!$B524)),\"\",INDEX(Data!T:T,Report!$B524))","v":0},{"$f":"IF(ISERROR(INDEX(Data!U:U,Report!$B524)),\"\",INDEX(Data!U:U,Report!$B524))","v":0},{"$f":"IF(ISERROR(INDEX(Data!V:V,Report!$B524)),\"\",INDEX(Data!V:V,Report!$B524))","v":0},null,"|",""]
[521,{"$f":"IF(ISERROR(MATCH(A525,Data!A:A,0)),\"\",MATCH(A525,Data!A:A,0))","v":252},{"$f":"IF(ISERROR(INDEX(Data!I:I,Report!$B525)),\"\",INDEX(Data!I:I,Report!$B525))","v":" "},{"$f":"IF(ISERROR(INDEX(Data!J:J,Report!$B525)),\"\",INDEX(Data!J:J,Report!$B525))","v":"User Drill #188  3 line rated mini tennis"},{"$f":"IF(ISERROR(INDEX(Data!K:K,Report!$B525)),\"\",INDEX(Data!K:K,Report!$B525))","v":0},{"$f":"IF(ISERROR(INDEX(Data!L:L,Report!$B525)),\"\",INDEX(Data!L:L,Report!$B525))","v":0},null,{"$f":"IF(ISERROR(INDEX(Data!N:N,Report!$B525)),\"\",INDEX(Data!N:N,Report!$B525))","v":2},{"$f":"IF(ISERROR(INDEX(Data!P:P,Report!$B525)),\"\",INDEX(Data!P:P,Report!$B525))","v":0},{"$f":"IF(ISERROR(INDEX(Data!O:O,Report!$B525)),\"\",INDEX(Data!O:O,Report!$B525))","v":4},{"$f":"IF(ISERROR(INDEX(Data!Q:Q,Report!$B525)),\"\",INDEX(Data!Q:Q,Report!$B525))","v":3.5},{"$f":"IF(ISERROR(INDEX(Data!R:R,Report!$B525)),\"\",INDEX(Data!R:R,Report!$B525))","v":0},{"$f":"IF(ISERROR(INDEX(Data!S:S,Report!$B525)),\"\",INDEX(Data!S:S,Report!$B525))","v":0},{"$f":"IF(ISERROR(INDEX(Data!T:T,Report!$B525)),\"\",INDEX(Data!T:T,Report!$B525))","v":0},{"$f":"IF(ISERROR(INDEX(Data!U:U,Report!$B525)),\"\",INDEX(Data!U:U,Report!$B525))","v":0},{"$f":"IF(ISERROR(INDEX(Data!V:V,Report!$B525)),\"\",INDEX(Data!V:V,Report!$B525))","v":0},null,"|",""]
[522,{"$f":"IF(ISERROR(MATCH(A526,Data!A:A,0)),\"\",MATCH(A526,Data!A:A,0))","v":253},{"$f":"IF(ISERROR(INDEX(Data!I:I,Report!$B526)),\"\",INDEX(Data!I:I,Report!$B526))","v":"00:43:49"},{"$f":"IF(ISERROR(INDEX(Data!J:J,Report!$B526)),\"\",INDEX(Data!J:J,Report!$B526))","v":"Game against Boomer at level 2.5  Single point data:"},{"$f":"IF(ISERROR(INDEX(Data!K:K,Report!$B526)),\"\",INDEX(Data!K:K,Report!$B526))","v":"Player's point"},{"$f":"IF(ISERROR(INDEX(Data!L:L,Report!$B526)),\"\",INDEX(Data!L:L,Report!$B526))","v":0},null,{"$f":"IF(ISERROR(INDEX(Data!N:N,Report!$B526)),\"\",INDEX(Data!N:N,Report!$B526))","v":2},{"$f":"IF(ISERROR(INDEX(Data!P:P,Report!$B526)),\"\",INDEX(Data!P:P,Report!$B526))","v":"Player Serve"},{"$f":"IF(ISERROR(INDEX(Data!O:O,Report!$B526)),\"\",INDEX(Data!O:O,Report!$B526))","v":4},{"$f":"IF(ISERROR(INDEX(Data!Q:Q,Report!$B526)),\"\",INDEX(Data!Q:Q,Report!$B526))","v":2.5},{"$f":"IF(ISERROR(INDEX(Data!R:R,Report!$B526)),\"\",INDEX(Data!R:R,Report!$B526))","v":12},{"$f":"IF(ISERROR(INDEX(Data!S:S,Report!$B526)),\"\",INDEX(Data!S:S,Report!$B526))","v":17},{"$f":"IF(ISERROR(INDEX(Data!T:T,Report!$B526)),\"\",INDEX(Data!T:T,Report!$B526))","v":3.6},{"$f":"IF(ISERROR(INDEX(Data!U:U,Report!$B526)),\"\",INDEX(Data!U:U,Report!$B526))","v":123},{"$f":"IF(ISERROR(INDEX(Data!V:V,Report!$B526)),\"\",INDEX(Data!V:V,Report!$B526))","v":5.3},null,"            |","||||||||"]
[523,{"$f":"IF(ISERROR(MATCH(A527,Data!A:A,0)),\"\",MATCH(A527,Data!A:A,0))","v":254},{"$f":"IF(ISERROR(INDEX(Data!I:I,Report!$B527)),\"\",INDEX(Data!I:I,Report!$B527))","v":" "},{"$f":"IF(ISERROR(INDEX(Data!J:J,Report!$B527)),\"\",INDEX(Data!J:J,Report!$B527))","v":"User Drill #188  3 line rated mini tennis"},{"$f":"IF(ISERROR(INDEX(Data!K:K,Report!$B527)),\"\",INDEX(Data!K:K,Report!$B527))","v":0},{"$f":"IF(ISERROR(INDEX(Data!L:L,Report!$B527)),\"\",INDEX(Data!L:L,Report!$B527))","v":0},null,{"$f":"IF(ISERROR(INDEX(Data!N:N,Report!$B527)),\"\",INDEX(Data!N:N,Report!$B527))","v":3},{"$f":"IF(ISERROR(INDEX(Data!P:P,Report!$B527)),\"\",INDEX(Data!P:P,Report!$B527))","v":0},{"$f":"IF(ISERROR(INDEX(Data!O:O,Report!$B527)),\"\",INDEX(Data!O:O,Report!$B527))","v":10},{"$f":"IF(ISERROR(INDEX(Data!Q:Q,Report!$B527)),\"\",INDEX(Data!Q:Q,Report!$B527))","v":3.5},{"$f":"IF(ISERROR(INDEX(Data!R:R,Report!$B527)),\"\",INDEX(Data!R:R,Report!$B527))","v":0},{"$f":"IF(ISERROR(INDEX(Data!S:S,Report!$B527)),\"\",INDEX(Data!S:S,Report!$B527))","v":0},{"$f":"IF(ISERROR(INDEX(Data!T:T,Report!$B527)),\"\",INDEX(Data!T:T,Report!$B527))","v":0},{"$f":"IF(ISERROR(INDEX(Data!U:U,Report!$B527)),\"\",INDEX(Data!U:U,Report!$B527))","v":0},{"$f":"IF(ISERROR(INDEX(Data!V:V,Report!$B527)),\"\",INDEX(Data!V:V,Report!$B527))","v":0},null,"|",""]
[524,{"$f":"IF(ISERROR(MATCH(A528,Data!A:A,0)),\"\",MATCH(A528,Data!A:A,0))","v":""},{"$f":"IF(ISERROR(INDEX(Data!I:I,Report!$B528)),\"\",INDEX(Data!I:I,Report!$B528))","v":""},{"$f":"IF(ISERROR(INDEX(Data!J:J,Report!$B528)),\"\",INDEX(Data!J:J,Report!$B528))","v":""},{"$f":"IF(ISERROR(INDEX(Data!K:K,Report!$B528)),\"\",INDEX(Data!K:K,Report!$B528))","v":""},{"$f":"IF(ISERROR(INDEX(Data!L:L,Report!$B528)),\"\",INDEX(Data!L:L,Report!$B528))","v":""},null,{"$f":"IF(ISERROR(INDEX(Data!N:N,Report!$B528)),\"\",INDEX(Data!N:N,Report!$B528))","v":""},{"$f":"IF(ISERROR(INDEX(Data!P:P,Report!$B528)),\"\",INDEX(Data!P:P,Report!$B528))","v":""},{"$f":"IF(ISERROR(INDEX(Data!O:O,Report!$B528)),\"\",INDEX(Data!O:O,Report!$B528))","v":""},{"$f":"IF(ISERROR(INDEX(Data!Q:Q,Report!$B528)),\"\",INDEX(Data!Q:Q,Report!$B528))","v":""},{"$f":"IF(ISERROR(INDEX(Data!R:R,Report!$B528)),\"\",INDEX(Data!R:R,Report!$B528))","v":""},{"$f":"IF(ISERROR(INDEX(Data!S:S,Report!$B528)),\"\",INDEX(Data!S:S,Report!$B528))","v":""},{"$f":"IF(ISERROR(INDEX(Data!T:T,Report!$B528)),\"\",INDEX(Data!T:T,Report!$B528))","v":""},{"$f":"IF(ISERROR(INDEX(Data!U:U,Report!$B528)),\"\",INDEX(Data!U:U,Report!$B528))","v":""},{"$f":"IF(ISERROR(INDEX(Data!V:V,Report!$B528)),\"\",INDEX(Data!V:V,Report!$B528))","v":""},null,"",""]
[525,{"$f":"IF(ISERROR(MATCH(A529,Data!A:A,0)),\"\",MATCH(A529,Data!A:A,0))","v":""},{"$f":"IF(ISERROR(INDEX(Data!I:I,Report!$B529)),\"\",INDEX(Data!I:I,Report!$B529))","v":""},{"$f":"IF(ISERROR(INDEX(Data!J:J,Report!$B529)),\"\",INDEX(Data!J:J,Report!$B529))","v":""},{"$f":"IF(ISERROR(INDEX(Data!K:K,Report!$B529)),\"\",INDEX(Data!K:K,Report!$B529))","v":""},{"$f":"IF(ISERROR(INDEX(Data!L:L,Report!$B529)),\"\",INDEX(Data!L:L,Report!$B529))","v":""},null,{"$f":"IF(ISERROR(INDEX(Data!N:N,Report!$B529)),\"\",INDEX(Data!N:N,Report!$B529))","v":""},{"$f":"IF(ISERROR(INDEX(Data!P:P,Report!$B529)),\"\",INDEX(Data!P:P,Report!$B529))","v":""},{"$f":"IF(ISERROR(INDEX(Data!O:O,Report!$B529)),\"\",INDEX(Data!O:O,Report!$B529))","v":""},{"$f":"IF(ISERROR(INDEX(Data!Q:Q,Report!$B529)),\"\",INDEX(Data!Q:Q,Report!$B529))","v":""},{"$f":"IF(ISERROR(INDEX(Data!R:R,Report!$B529)),\"\",INDEX(Data!R:R,Report!$B529))","v":""},{"$f":"IF(ISERROR(INDEX(Data!S:S,Report!$B529)),\"\",INDEX(Data!S:S,Report!$B529))","v":""},{"$f":"IF(ISERROR(INDEX(Data!T:T,Report!$B529)),\"\",INDEX(Data!T:T,Report!$B529))","v":""},{"$f":"IF(ISERROR(INDEX(Data!U:U,Report!$B529)),\"\",INDEX(Data!U:U,Report!$B529))","v":""},{"$f":"IF(ISERROR(INDEX(Data!V:V,Report!$B529)),\"\",INDEX(Data!V:V,Report!$B529))","v":""},null,"",""]
[526,{"$f":"IF(ISERROR(MATCH(A530,Data!A:A,0)),\"\",MATCH(A530,Data!A:A,0))","v":""},{"$f":"IF(ISERROR(INDEX(Data!I:I,Report!$B530)),\"\",INDEX(Data!I:I,Report!$B530))","v":""},{"$f":"IF(ISERROR(INDEX(Data!J:J,Report!$B530)),\"\",INDEX(Data!J:J,Report!$B530))","v":""},{"$f":"IF(ISERROR(INDEX(Data!K:K,Report!$B530)),\"\",INDEX(Data!K:K,Report!$B530))","v":""},{"$f":"IF(ISERROR(INDEX(Data!L:L,Report!$B530)),\"\",INDEX(Data!L:L,Report!$B530))","v":""},null,{"$f":"IF(ISERROR(INDEX(Data!N:N,Report!$B530)),\"\",INDEX(Data!N:N,Report!$B530))","v":""},{"$f":"IF(ISERROR(INDEX(Data!P:P,Report!$B530)),\"\",INDEX(Data!P:P,Report!$B530))","v":""},{"$f":"IF(ISERROR(INDEX(Data!O:O,Report!$B530)),\"\",INDEX(Data!O:O,Report!$B530))","v":""},{"$f":"IF(ISERROR(INDEX(Data!Q:Q,Report!$B530)),\"\",INDEX(Data!Q:Q,Report!$B530))","v":""},{"$f":"IF(ISERROR(INDEX(Data!R:R,Report!$B530)),\"\",INDEX(Data!R:R,Report!$B530))","v":""},{"$f":"IF(ISERROR(INDEX(Data!S:S,Report!$B530)),\"\",INDEX(Data!S:S,Report!$B530))","v":""},{"$f":"IF(ISERROR(INDEX(Data!T:T,Report!$B530)),\"\",INDEX(Data!T:T,Report!$B530))","v":""},{"$f":"IF(ISERROR(INDEX(Data!U:U,Report!$B530)),\"\",INDEX(Data!U:U,Report!$B530))","v":""},{"$f":"IF(ISERROR(INDEX(Data!V:V,Report!$B530)),\"\",INDEX(Data!V:V,Report!$B530))","v":""},null,"",""]
[527,{"$f":"IF(ISERROR(MATCH(A531,Data!A:A,0)),\"\",MATCH(A531,Data!A:A,0))","v":255},{"$f":"IF(ISERROR(INDEX(Data!I:I,Report!$B531)),\"\",INDEX(Data!I:I,Report!$B531))","v":"00:44:15"},{"$f":"IF(ISERROR(INDEX(Data!J:J,Report!$B531)),\"\",INDEX(Data!J:J,Report!$B531))","v":"Game against Boomer at level 2.5  Single point data:"},{"$f":"IF(ISERROR(INDEX(Data!K:K,Report!$B531)),\"\",INDEX(Data!K:K,Report!$B531))","v":"Player's point"},{"$f":"IF(ISERROR(INDEX(Data!L:L,Report!$B531)),\"\",INDEX(Data!L:L,Report!$B531))","v":"New Point"},null,{"$f":"IF(ISERROR(INDEX(Data!N:N,Report!$B531)),\"\",INDEX(Data!N:N,Report!$B531))","v":1},{"$f":"IF(ISERROR(INDEX(Data!P:P,Report!$B531)),\"\",INDEX(Data!P:P,Report!$B531))","v":"Player Serve"},{"$f":"IF(ISERROR(INDEX(Data!O:O,Report!$B531)),\"\",INDEX(Data!O:O,Report!$B531))","v":4},{"$f":"IF(ISERROR(INDEX(Data!Q:Q,Report!$B531)),\"\",INDEX(Data!Q:Q,Report!$B531))","v":2.5},{"$f":"IF(ISERROR(INDEX(Data!R:R,Report!$B531)),\"\",INDEX(Data!R:R,Report!$B531))","v":19},{"$f":"IF(ISERROR(INDEX(Data!S:S,Report!$B531)),\"\",INDEX(Data!S:S,Report!$B531))","v":9},{"$f":"IF(ISERROR(INDEX(Data!T:T,Report!$B531)),\"\",INDEX(Data!T:T,Report!$B531))","v":4.9000000000000004},{"$f":"IF(ISERROR(INDEX(Data!U:U,Report!$B531)),\"\",INDEX(Data!U:U,Report!$B531))","v":118},{"$f":"IF(ISERROR(INDEX(Data!V:V,Report!$B531)),\"\",INDEX(Data!V:V,Report!$B531))","v":5.9},null,"                   |","||||"]
[528,{"$f":"IF(ISERROR(MATCH(A532,Data!A:A,0)),\"\",MATCH(A532,Data!A:A,0))","v":""},{"$f":"IF(ISERROR(INDEX(Data!I:I,Report!$B532)),\"\",INDEX(Data!I:I,Report!$B532))","v":""},{"$f":"IF(ISERROR(INDEX(Data!J:J,Report!$B532)),\"\",INDEX(Data!J:J,Report!$B532))","v":""},{"$f":"IF(ISERROR(INDEX(Data!K:K,Report!$B532)),\"\",INDEX(Data!K:K,Report!$B532))","v":""},{"$f":"IF(ISERROR(INDEX(Data!L:L,Report!$B532)),\"\",INDEX(Data!L:L,Report!$B532))","v":""},null,{"$f":"IF(ISERROR(INDEX(Data!N:N,Report!$B532)),\"\",INDEX(Data!N:N,Report!$B532))","v":""},{"$f":"IF(ISERROR(INDEX(Data!P:P,Report!$B532)),\"\",INDEX(Data!P:P,Report!$B532))","v":""},{"$f":"IF(ISERROR(INDEX(Data!O:O,Report!$B532)),\"\",INDEX(Data!O:O,Report!$B532))","v":""},{"$f":"IF(ISERROR(INDEX(Data!Q:Q,Report!$B532)),\"\",INDEX(Data!Q:Q,Report!$B532))","v":""},{"$f":"IF(ISERROR(INDEX(Data!R:R,Report!$B532)),\"\",INDEX(Data!R:R,Report!$B532))","v":""},{"$f":"IF(ISERROR(INDEX(Data!S:S,Report!$B532)),\"\",INDEX(Data!S:S,Report!$B532))","v":""},{"$f":"IF(ISERROR(INDEX(Data!T:T,Report!$B532)),\"\",INDEX(Data!T:T,Report!$B532))","v":""},{"$f":"IF(ISERROR(INDEX(Data!U:U,Report!$B532)),\"\",INDEX(Data!U:U,Report!$B532))","v":""},{"$f":"IF(ISERROR(INDEX(Data!V:V,Report!$B532)),\"\",INDEX(Data!V:V,Report!$B532))","v":""},null,"",""]
[529,{"$f":"IF(ISERROR(MATCH(A533,Data!A:A,0)),\"\",MATCH(A533,Data!A:A,0))","v":""},{"$f":"IF(ISERROR(INDEX(Data!I:I,Report!$B533)),\"\",INDEX(Data!I:I,Report!$B533))","v":""},{"$f":"IF(ISERROR(INDEX(Data!J:J,Report!$B533)),\"\",INDEX(Data!J:J,Report!$B533))","v":""},{"$f":"IF(ISERROR(INDEX(Data!K:K,Report!$B533)),\"\",INDEX(Data!K:K,Report!$B533))","v":""},{"$f":"IF(ISERROR(INDEX(Data!L:L,Report!$B533)),\"\",INDEX(Data!L:L,Report!$B533))","v":""},null,{"$f":"IF(ISERROR(INDEX(Data!N:N,Report!$B533)),\"\",INDEX(Data!N:N,Report!$B533))","v":""},{"$f":"IF(ISERROR(INDEX(Data!P:P,Report!$B533)),\"\",INDEX(Data!P:P,Report!$B533))","v":""},{"$f":"IF(ISERROR(INDEX(Data!O:O,Report!$B533)),\"\",INDEX(Data!O:O,Report!$B533))","v":""},{"$f":"IF(ISERROR(INDEX(Data!Q:Q,Report!$B533)),\"\",INDEX(Data!Q:Q,Report!$B533))","v":""},{"$f":"IF(ISERROR(INDEX(Data!R:R,Report!$B533)),\"\",INDEX(Data!R:R,Report!$B533))","v":""},{"$f":"IF(ISERROR(INDEX(Data!S:S,Report!$B533)),\"\",INDEX(Data!S:S,Report!$B533))","v":""},{"$f":"IF(ISERROR(INDEX(Data!T:T,Report!$B533)),\"\",INDEX(Data!T:T,Report!$B533))","v":""},{"$f":"IF(ISERROR(INDEX(Data!U:U,Report!$B533)),\"\",INDEX(Data!U:U,Report!$B533))","v":""},{"$f":"IF(ISERROR(INDEX(Data!V:V,Report!$B533)),\"\",INDEX(Data!V:V,Report!$B533))","v":""},null,"",""]
[530,{"$f":"IF(ISERROR(MATCH(A534,Data!A:A,0)),\"\",MATCH(A534,Data!A:A,0))","v":""},{"$f":"IF(ISERROR(INDEX(Data!I:I,Report!$B534)),\"\",INDEX(Data!I:I,Report!$B534))","v":""},{"$f":"IF(ISERROR(INDEX(Data!J:J,Report!$B534)),\"\",INDEX(Data!J:J,Report!$B534))","v":""},{"$f":"IF(ISERROR(INDEX(Data!K:K,Report!$B534)),\"\",INDEX(Data!K:K,Report!$B534))","v":""},{"$f":"IF(ISERROR(INDEX(Data!L:L,Report!$B534)),\"\",INDEX(Data!L:L,Report!$B534))","v":""},null,{"$f":"IF(ISERROR(INDEX(Data!N:N,Report!$B534)),\"\",INDEX(Data!N:N,Report!$B534))","v":""},{"$f":"IF(ISERROR(INDEX(Data!P:P,Report!$B534)),\"\",INDEX(Data!P:P,Report!$B534))","v":""},{"$f":"IF(ISERROR(INDEX(Data!O:O,Report!$B534)),\"\",INDEX(Data!O:O,Report!$B534))","v":""},{"$f":"IF(ISERROR(INDEX(Data!Q:Q,Report!$B534)),\"\",INDEX(Data!Q:Q,Report!$B534))","v":""},{"$f":"IF(ISERROR(INDEX(Data!R:R,Report!$B534)),\"\",INDEX(Data!R:R,Report!$B534))","v":""},{"$f":"IF(ISERROR(INDEX(Data!S:S,Report!$B534)),\"\",INDEX(Data!S:S,Report!$B534))","v":""},{"$f":"IF(ISERROR(INDEX(Data!T:T,Report!$B534)),\"\",INDEX(Data!T:T,Report!$B534))","v":""},{"$f":"IF(ISERROR(INDEX(Data!U:U,Report!$B534)),\"\",INDEX(Data!U:U,Report!$B534))","v":""},{"$f":"IF(ISERROR(INDEX(Data!V:V,Report!$B534)),\"\",INDEX(Data!V:V,Report!$B534))","v":""},null,"",""]
[531,{"$f":"IF(ISERROR(MATCH(A535,Data!A:A,0)),\"\",MATCH(A535,Data!A:A,0))","v":256},{"$f":"IF(ISERROR(INDEX(Data!I:I,Report!$B535)),\"\",INDEX(Data!I:I,Report!$B535))","v":" "},{"$f":"IF(ISERROR(INDEX(Data!J:J,Report!$B535)),\"\",INDEX(Data!J:J,Report!$B535))","v":"User Drill #188  3 line rated mini tennis"},{"$f":"IF(ISERROR(INDEX(Data!K:K,Report!$B535)),\"\",INDEX(Data!K:K,Report!$B535))","v":0},{"$f":"IF(ISERROR(INDEX(Data!L:L,Report!$B535)),\"\",INDEX(Data!L:L,Report!$B535))","v":"New Point"},null,{"$f":"IF(ISERROR(INDEX(Data!N:N,Report!$B535)),\"\",INDEX(Data!N:N,Report!$B535))","v":1},{"$f":"IF(ISERROR(INDEX(Data!P:P,Report!$B535)),\"\",INDEX(Data!P:P,Report!$B535))","v":0},{"$f":"IF(ISERROR(INDEX(Data!O:O,Report!$B535)),\"\",INDEX(Data!O:O,Report!$B535))","v":11},{"$f":"IF(ISERROR(INDEX(Data!Q:Q,Report!$B535)),\"\",INDEX(Data!Q:Q,Report!$B535))","v":3.5},{"$f":"IF(ISERROR(INDEX(Data!R:R,Report!$B535)),\"\",INDEX(Data!R:R,Report!$B535))","v":0},{"$f":"IF(ISERROR(INDEX(Data!S:S,Report!$B535)),\"\",INDEX(Data!S:S,Report!$B535))","v":0},{"$f":"IF(ISERROR(INDEX(Data!T:T,Report!$B535)),\"\",INDEX(Data!T:T,Report!$B535))","v":0},{"$f":"IF(ISERROR(INDEX(Data!U:U,Report!$B535)),\"\",INDEX(Data!U:U,Report!$B535))","v":0},{"$f":"IF(ISERROR(INDEX(Data!V:V,Report!$B535)),\"\",INDEX(Data!V:V,Report!$B535))","v":0},null,"|",""]
[532,{"$f":"IF(ISERROR(MATCH(A536,Data!A:A,0)),\"\",MATCH(A536,Data!A:A,0))","v":257},{"$f":"IF(ISERROR(INDEX(Data!I:I,Report!$B536)),\"\",INDEX(Data!I:I,Report!$B536))","v":" "},{"$f":"IF(ISERROR(INDEX(Data!J:J,Report!$B536)),\"\",INDEX(Data!J:J,Report!$B536))","v":"User Drill #188  3 line rated mini tennis"},{"$f":"IF(ISERROR(INDEX(Data!K:K,Report!$B536)),\"\",INDEX(Data!K:K,Report!$B536))","v":0},{"$f":"IF(ISERROR(INDEX(Data!L:L,Report!$B536)),\"\",INDEX(Data!L:L,Report!$B536))","v":0},null,{"$f":"IF(ISERROR(INDEX(Data!N:N,Report!$B536)),\"\",INDEX(Data!N:N,Report!$B536))","v":2},{"$f":"IF(ISERROR(INDEX(Data!P:P,Report!$B536)),\"\",INDEX(Data!P:P,Report!$B536))","v":0},{"$f":"IF(ISERROR(INDEX(Data!O:O,Report!$B536)),\"\",INDEX(Data!O:O,Report!$B536))","v":4},{"$f":"IF(ISERROR(INDEX(Data!Q:Q,Report!$B536)),\"\",INDEX(Data!Q:Q,Report!$B536))","v":3.5},{"$f":"IF(ISERROR(INDEX(Data!R:R,Report!$B536)),\"\",INDEX(Data!R:R,Report!$B536))","v":0},{"$f":"IF(ISERROR(INDEX(Data!S:S,Report!$B536)),\"\",INDEX(Data!S:S,Report!$B536))","v":0},{"$f":"IF(ISERROR(INDEX(Data!T:T,Report!$B536)),\"\",INDEX(Data!T:T,Report!$B536))","v":0},{"$f":"IF(ISERROR(INDEX(Data!U:U,Report!$B536)),\"\",INDEX(Data!U:U,Report!$B536))","v":0},{"$f":"IF(ISERROR(INDEX(Data!V:V,Report!$B536)),\"\",INDEX(Data!V:V,Report!$B536))","v":0},null,"|",""]
[533,{"$f":"IF(ISERROR(MATCH(A537,Data!A:A,0)),\"\",MATCH(A537,Data!A:A,0))","v":258},{"$f":"IF(ISERROR(INDEX(Data!I:I,Report!$B537)),\"\",INDEX(Data!I:I,Report!$B537))","v":" "},{"$f":"IF(ISERROR(INDEX(Data!J:J,Report!$B537)),\"\",INDEX(Data!J:J,Report!$B537))","v":"User Drill #188  3 line rated mini tennis"},{"$f":"IF(ISERROR(INDEX(Data!K:K,Report!$B537)),\"\",INDEX(Data!K:K,Report!$B537))","v":0},{"$f":"IF(ISERROR(INDEX(Data!L:L,Report!$B537)),\"\",INDEX(Data!L:L,Report!$B537))","v":0},null,{"$f":"IF(ISERROR(INDEX(Data!N:N,Report!$B537)),\"\",INDEX(Data!N:N,Report!$B537))","v":3},{"$f":"IF(ISERROR(INDEX(Data!P:P,Report!$B537)),\"\",INDEX(Data!P:P,Report!$B537))","v":0},{"$f":"IF(ISERROR(INDEX(Data!O:O,Report!$B537)),\"\",INDEX(Data!O:O,Report!$B537))","v":10},{"$f":"IF(ISERROR(INDEX(Data!Q:Q,Report!$B537)),\"\",INDEX(Data!Q:Q,Report!$B537))","v":3.5},{"$f":"IF(ISERROR(INDEX(Data!R:R,Report!$B537)),\"\",INDEX(Data!R:R,Report!$B537))","v":11},{"$f":"IF(ISERROR(INDEX(Data!S:S,Report!$B537)),\"\",INDEX(Data!S:S,Report!$B537))","v":16},{"$f":"IF(ISERROR(INDEX(Data!T:T,Report!$B537)),\"\",INDEX(Data!T:T,Report!$B537))","v":2.1},{"$f":"IF(ISERROR(INDEX(Data!U:U,Report!$B537)),\"\",INDEX(Data!U:U,Report!$B537))","v":29},{"$f":"IF(ISERROR(INDEX(Data!V:V,Report!$B537)),\"\",INDEX(Data!V:V,Report!$B537))","v":3},null,"           |","||||||||"]
[534,{"$f":"IF(ISERROR(MATCH(A538,Data!A:A,0)),\"\",MATCH(A538,Data!A:A,0))","v":""},{"$f":"IF(ISERROR(INDEX(Data!I:I,Report!$B538)),\"\",INDEX(Data!I:I,Report!$B538))","v":""},{"$f":"IF(ISERROR(INDEX(Data!J:J,Report!$B538)),\"\",INDEX(Data!J:J,Report!$B538))","v":""},{"$f":"IF(ISERROR(INDEX(Data!K:K,Report!$B538)),\"\",INDEX(Data!K:K,Report!$B538))","v":""},{"$f":"IF(ISERROR(INDEX(Data!L:L,Report!$B538)),\"\",INDEX(Data!L:L,Report!$B538))","v":""},null,{"$f":"IF(ISERROR(INDEX(Data!N:N,Report!$B538)),\"\",INDEX(Data!N:N,Report!$B538))","v":""},{"$f":"IF(ISERROR(INDEX(Data!P:P,Report!$B538)),\"\",INDEX(Data!P:P,Report!$B538))","v":""},{"$f":"IF(ISERROR(INDEX(Data!O:O,Report!$B538)),\"\",INDEX(Data!O:O,Report!$B538))","v":""},{"$f":"IF(ISERROR(INDEX(Data!Q:Q,Report!$B538)),\"\",INDEX(Data!Q:Q,Report!$B538))","v":""},{"$f":"IF(ISERROR(INDEX(Data!R:R,Report!$B538)),\"\",INDEX(Data!R:R,Report!$B538))","v":""},{"$f":"IF(ISERROR(INDEX(Data!S:S,Report!$B538)),\"\",INDEX(Data!S:S,Report!$B538))","v":""},{"$f":"IF(ISERROR(INDEX(Data!T:T,Report!$B538)),\"\",INDEX(Data!T:T,Report!$B538))","v":""},{"$f":"IF(ISERROR(INDEX(Data!U:U,Report!$B538)),\"\",INDEX(Data!U:U,Report!$B538))","v":""},{"$f":"IF(ISERROR(INDEX(Data!V:V,Report!$B538)),\"\",INDEX(Data!V:V,Report!$B538))","v":""},null,"",""]
[535,{"$f":"IF(ISERROR(MATCH(A539,Data!A:A,0)),\"\",MATCH(A539,Data!A:A,0))","v":""},{"$f":"IF(ISERROR(INDEX(Data!I:I,Report!$B539)),\"\",INDEX(Data!I:I,Report!$B539))","v":""},{"$f":"IF(ISERROR(INDEX(Data!J:J,Report!$B539)),\"\",INDEX(Data!J:J,Report!$B539))","v":""},{"$f":"IF(ISERROR(INDEX(Data!K:K,Report!$B539)),\"\",INDEX(Data!K:K,Report!$B539))","v":""},{"$f":"IF(ISERROR(INDEX(Data!L:L,Report!$B539)),\"\",INDEX(Data!L:L,Report!$B539))","v":""},null,{"$f":"IF(ISERROR(INDEX(Data!N:N,Report!$B539)),\"\",INDEX(Data!N:N,Report!$B539))","v":""},{"$f":"IF(ISERROR(INDEX(Data!P:P,Report!$B539)),\"\",INDEX(Data!P:P,Report!$B539))","v":""},{"$f":"IF(ISERROR(INDEX(Data!O:O,Report!$B539)),\"\",INDEX(Data!O:O,Report!$B539))","v":""},{"$f":"IF(ISERROR(INDEX(Data!Q:Q,Report!$B539)),\"\",INDEX(Data!Q:Q,Report!$B539))","v":""},{"$f":"IF(ISERROR(INDEX(Data!R:R,Report!$B539)),\"\",INDEX(Data!R:R,Report!$B539))","v":""},{"$f":"IF(ISERROR(INDEX(Data!S:S,Report!$B539)),\"\",INDEX(Data!S:S,Report!$B539))","v":""},{"$f":"IF(ISERROR(INDEX(Data!T:T,Report!$B539)),\"\",INDEX(Data!T:T,Report!$B539))","v":""},{"$f":"IF(ISERROR(INDEX(Data!U:U,Report!$B539)),\"\",INDEX(Data!U:U,Report!$B539))","v":""},{"$f":"IF(ISERROR(INDEX(Data!V:V,Report!$B539)),\"\",INDEX(Data!V:V,Report!$B539))","v":""},null,"",""]
[536,{"$f":"IF(ISERROR(MATCH(A540,Data!A:A,0)),\"\",MATCH(A540,Data!A:A,0))","v":""},{"$f":"IF(ISERROR(INDEX(Data!I:I,Report!$B540)),\"\",INDEX(Data!I:I,Report!$B540))","v":""},{"$f":"IF(ISERROR(INDEX(Data!J:J,Report!$B540)),\"\",INDEX(Data!J:J,Report!$B540))","v":""},{"$f":"IF(ISERROR(INDEX(Data!K:K,Report!$B540)),\"\",INDEX(Data!K:K,Report!$B540))","v":""},{"$f":"IF(ISERROR(INDEX(Data!L:L,Report!$B540)),\"\",INDEX(Data!L:L,Report!$B540))","v":""},null,{"$f":"IF(ISERROR(INDEX(Data!N:N,Report!$B540)),\"\",INDEX(Data!N:N,Report!$B540))","v":""},{"$f":"IF(ISERROR(INDEX(Data!P:P,Report!$B540)),\"\",INDEX(Data!P:P,Report!$B540))","v":""},{"$f":"IF(ISERROR(INDEX(Data!O:O,Report!$B540)),\"\",INDEX(Data!O:O,Report!$B540))","v":""},{"$f":"IF(ISERROR(INDEX(Data!Q:Q,Report!$B540)),\"\",INDEX(Data!Q:Q,Report!$B540))","v":""},{"$f":"IF(ISERROR(INDEX(Data!R:R,Report!$B540)),\"\",INDEX(Data!R:R,Report!$B540))","v":""},{"$f":"IF(ISERROR(INDEX(Data!S:S,Report!$B540)),\"\",INDEX(Data!S:S,Report!$B540))","v":""},{"$f":"IF(ISERROR(INDEX(Data!T:T,Report!$B540)),\"\",INDEX(Data!T:T,Report!$B540))","v":""},{"$f":"IF(ISERROR(INDEX(Data!U:U,Report!$B540)),\"\",INDEX(Data!U:U,Report!$B540))","v":""},{"$f":"IF(ISERROR(INDEX(Data!V:V,Report!$B540)),\"\",INDEX(Data!V:V,Report!$B540))","v":""},null,"",""]
[537,{"$f":"IF(ISERROR(MATCH(A541,Data!A:A,0)),\"\",MATCH(A541,Data!A:A,0))","v":259},{"$f":"IF(ISERROR(INDEX(Data!I:I,Report!$B541)),\"\",INDEX(Data!I:I,Report!$B541))","v":"00:44:44"},{"$f":"IF(ISERROR(INDEX(Data!J:J,Report!$B541)),\"\",INDEX(Data!J:J,Report!$B541))","v":"Game against Boomer at level 2.5  Single point data:"},{"$f":"IF(ISERROR(INDEX(Data!K:K,Report!$B541)),\"\",INDEX(Data!K:K,Report!$B541))","v":"Player's point"},{"$f":"IF(ISERROR(INDEX(Data!L:L,Report!$B541)),\"\",INDEX(Data!L:L,Report!$B541))","v":"New Point"},null,{"$f":"IF(ISERROR(INDEX(Data!N:N,Report!$B541)),\"\",INDEX(Data!N:N,Report!$B541))","v":1},{"$f":"IF(ISERROR(INDEX(Data!P:P,Report!$B541)),\"\",INDEX(Data!P:P,Report!$B541))","v":"Serve"},{"$f":"IF(ISERROR(INDEX(Data!O:O,Report!$B541)),\"\",INDEX(Data!O:O,Report!$B541))","v":3},{"$f":"IF(ISERROR(INDEX(Data!Q:Q,Report!$B541)),\"\",INDEX(Data!Q:Q,Report!$B541))","v":2.5},{"$f":"IF(ISERROR(INDEX(Data!R:R,Report!$B541)),\"\",INDEX(Data!R:R,Report!$B541))","v":36},{"$f":"IF(ISERROR(INDEX(Data!S:S,Report!$B541)),\"\",INDEX(Data!S:S,Report!$B541))","v":24},{"$f":"IF(ISERROR(INDEX(Data!T:T,Report!$B541)),\"\",INDEX(Data!T:T,Report!$B541))","v":6.5},{"$f":"IF(ISERROR(INDEX(Data!U:U,Report!$B541)),\"\",INDEX(Data!U:U,Report!$B541))","v":53},{"$f":"IF(ISERROR(INDEX(Data!V:V,Report!$B541)),\"\",INDEX(Data!V:V,Report!$B541))","v":5.3},null,"                                    |","||||||||||||"]
[538,{"$f":"IF(ISERROR(MATCH(A542,Data!A:A,0)),\"\",MATCH(A542,Data!A:A,0))","v":""},{"$f":"IF(ISERROR(INDEX(Data!I:I,Report!$B542)),\"\",INDEX(Data!I:I,Report!$B542))","v":""},{"$f":"IF(ISERROR(INDEX(Data!J:J,Report!$B542)),\"\",INDEX(Data!J:J,Report!$B542))","v":""},{"$f":"IF(ISERROR(INDEX(Data!K:K,Report!$B542)),\"\",INDEX(Data!K:K,Report!$B542))","v":""},{"$f":"IF(ISERROR(INDEX(Data!L:L,Report!$B542)),\"\",INDEX(Data!L:L,Report!$B542))","v":""},null,{"$f":"IF(ISERROR(INDEX(Data!N:N,Report!$B542)),\"\",INDEX(Data!N:N,Report!$B542))","v":""},{"$f":"IF(ISERROR(INDEX(Data!P:P,Report!$B542)),\"\",INDEX(Data!P:P,Report!$B542))","v":""},{"$f":"IF(ISERROR(INDEX(Data!O:O,Report!$B542)),\"\",INDEX(Data!O:O,Report!$B542))","v":""},{"$f":"IF(ISERROR(INDEX(Data!Q:Q,Report!$B542)),\"\",INDEX(Data!Q:Q,Report!$B542))","v":""},{"$f":"IF(ISERROR(INDEX(Data!R:R,Report!$B542)),\"\",INDEX(Data!R:R,Report!$B542))","v":""},{"$f":"IF(ISERROR(INDEX(Data!S:S,Report!$B542)),\"\",INDEX(Data!S:S,Report!$B542))","v":""},{"$f":"IF(ISERROR(INDEX(Data!T:T,Report!$B542)),\"\",INDEX(Data!T:T,Report!$B542))","v":""},{"$f":"IF(ISERROR(INDEX(Data!U:U,Report!$B542)),\"\",INDEX(Data!U:U,Report!$B542))","v":""},{"$f":"IF(ISERROR(INDEX(Data!V:V,Report!$B542)),\"\",INDEX(Data!V:V,Report!$B542))","v":""},null,"",""]
[539,{"$f":"IF(ISERROR(MATCH(A543,Data!A:A,0)),\"\",MATCH(A543,Data!A:A,0))","v":""},{"$f":"IF(ISERROR(INDEX(Data!I:I,Report!$B543)),\"\",INDEX(Data!I:I,Report!$B543))","v":""},{"$f":"IF(ISERROR(INDEX(Data!J:J,Report!$B543)),\"\",INDEX(Data!J:J,Report!$B543))","v":""},{"$f":"IF(ISERROR(INDEX(Data!K:K,Report!$B543)),\"\",INDEX(Data!K:K,Report!$B543))","v":""},{"$f":"IF(ISERROR(INDEX(Data!L:L,Report!$B543)),\"\",INDEX(Data!L:L,Report!$B543))","v":""},null,{"$f":"IF(ISERROR(INDEX(Data!N:N,Report!$B543)),\"\",INDEX(Data!N:N,Report!$B543))","v":""},{"$f":"IF(ISERROR(INDEX(Data!P:P,Report!$B543)),\"\",INDEX(Data!P:P,Report!$B543))","v":""},{"$f":"IF(ISERROR(INDEX(Data!O:O,Report!$B543)),\"\",INDEX(Data!O:O,Report!$B543))","v":""},{"$f":"IF(ISERROR(INDEX(Data!Q:Q,Report!$B543)),\"\",INDEX(Data!Q:Q,Report!$B543))","v":""},{"$f":"IF(ISERROR(INDEX(Data!R:R,Report!$B543)),\"\",INDEX(Data!R:R,Report!$B543))","v":""},{"$f":"IF(ISERROR(INDEX(Data!S:S,Report!$B543)),\"\",INDEX(Data!S:S,Report!$B543))","v":""},{"$f":"IF(ISERROR(INDEX(Data!T:T,Report!$B543)),\"\",INDEX(Data!T:T,Report!$B543))","v":""},{"$f":"IF(ISERROR(INDEX(Data!U:U,Report!$B543)),\"\",INDEX(Data!U:U,Report!$B543))","v":""},{"$f":"IF(ISERROR(INDEX(Data!V:V,Report!$B543)),\"\",INDEX(Data!V:V,Report!$B543))","v":""},null,"",""]
[540,{"$f":"IF(ISERROR(MATCH(A544,Data!A:A,0)),\"\",MATCH(A544,Data!A:A,0))","v":""},{"$f":"IF(ISERROR(INDEX(Data!I:I,Report!$B544)),\"\",INDEX(Data!I:I,Report!$B544))","v":""},{"$f":"IF(ISERROR(INDEX(Data!J:J,Report!$B544)),\"\",INDEX(Data!J:J,Report!$B544))","v":""},{"$f":"IF(ISERROR(INDEX(Data!K:K,Report!$B544)),\"\",INDEX(Data!K:K,Report!$B544))","v":""},{"$f":"IF(ISERROR(INDEX(Data!L:L,Report!$B544)),\"\",INDEX(Data!L:L,Report!$B544))","v":""},null,{"$f":"IF(ISERROR(INDEX(Data!N:N,Report!$B544)),\"\",INDEX(Data!N:N,Report!$B544))","v":""},{"$f":"IF(ISERROR(INDEX(Data!P:P,Report!$B544)),\"\",INDEX(Data!P:P,Report!$B544))","v":""},{"$f":"IF(ISERROR(INDEX(Data!O:O,Report!$B544)),\"\",INDEX(Data!O:O,Report!$B544))","v":""},{"$f":"IF(ISERROR(INDEX(Data!Q:Q,Report!$B544)),\"\",INDEX(Data!Q:Q,Report!$B544))","v":""},{"$f":"IF(ISERROR(INDEX(Data!R:R,Report!$B544)),\"\",INDEX(Data!R:R,Report!$B544))","v":""},{"$f":"IF(ISERROR(INDEX(Data!S:S,Report!$B544)),\"\",INDEX(Data!S:S,Report!$B544))","v":""},{"$f":"IF(ISERROR(INDEX(Data!T:T,Report!$B544)),\"\",INDEX(Data!T:T,Report!$B544))","v":""},{"$f":"IF(ISERROR(INDEX(Data!U:U,Report!$B544)),\"\",INDEX(Data!U:U,Report!$B544))","v":""},{"$f":"IF(ISERROR(INDEX(Data!V:V,Report!$B544)),\"\",INDEX(Data!V:V,Report!$B544))","v":""},null,"",""]
[541,{"$f":"IF(ISERROR(MATCH(A545,Data!A:A,0)),\"\",MATCH(A545,Data!A:A,0))","v":260},{"$f":"IF(ISERROR(INDEX(Data!I:I,Report!$B545)),\"\",INDEX(Data!I:I,Report!$B545))","v":" "},{"$f":"IF(ISERROR(INDEX(Data!J:J,Report!$B545)),\"\",INDEX(Data!J:J,Report!$B545))","v":"User Drill #188  3 line rated mini tennis"},{"$f":"IF(ISERROR(INDEX(Data!K:K,Report!$B545)),\"\",INDEX(Data!K:K,Report!$B545))","v":0},{"$f":"IF(ISERROR(INDEX(Data!L:L,Report!$B545)),\"\",INDEX(Data!L:L,Report!$B545))","v":"New Point"},null,{"$f":"IF(ISERROR(INDEX(Data!N:N,Report!$B545)),\"\",INDEX(Data!N:N,Report!$B545))","v":1},{"$f":"IF(ISERROR(INDEX(Data!P:P,Report!$B545)),\"\",INDEX(Data!P:P,Report!$B545))","v":0},{"$f":"IF(ISERROR(INDEX(Data!O:O,Report!$B545)),\"\",INDEX(Data!O:O,Report!$B545))","v":11},{"$f":"IF(ISERROR(INDEX(Data!Q:Q,Report!$B545)),\"\",INDEX(Data!Q:Q,Report!$B545))","v":3.5},{"$f":"IF(ISERROR(INDEX(Data!R:R,Report!$B545)),\"\",INDEX(Data!R:R,Report!$B545))","v":0},{"$f":"IF(ISERROR(INDEX(Data!S:S,Report!$B545)),\"\",INDEX(Data!S:S,Report!$B545))","v":0},{"$f":"IF(ISERROR(INDEX(Data!T:T,Report!$B545)),\"\",INDEX(Data!T:T,Report!$B545))","v":0},{"$f":"IF(ISERROR(INDEX(Data!U:U,Report!$B545)),\"\",INDEX(Data!U:U,Report!$B545))","v":0},{"$f":"IF(ISERROR(INDEX(Data!V:V,Report!$B545)),\"\",INDEX(Data!V:V,Report!$B545))","v":0},null,"|",""]
[542,{"$f":"IF(ISERROR(MATCH(A546,Data!A:A,0)),\"\",MATCH(A546,Data!A:A,0))","v":261},{"$f":"IF(ISERROR(INDEX(Data!I:I,Report!$B546)),\"\",INDEX(Data!I:I,Report!$B546))","v":"00:44:44"},{"$f":"IF(ISERROR(INDEX(Data!J:J,Report!$B546)),\"\",INDEX(Data!J:J,Report!$B546))","v":"Game against Boomer at level 2.5  Single point data:"},{"$f":"IF(ISERROR(INDEX(Data!K:K,Report!$B546)),\"\",INDEX(Data!K:K,Report!$B546))","v":"Player's point"},{"$f":"IF(ISERROR(INDEX(Data!L:L,Report!$B546)),\"\",INDEX(Data!L:L,Report!$B546))","v":0},null,{"$f":"IF(ISERROR(INDEX(Data!N:N,Report!$B546)),\"\",INDEX(Data!N:N,Report!$B546))","v":2},{"$f":"IF(ISERROR(INDEX(Data!P:P,Report!$B546)),\"\",INDEX(Data!P:P,Report!$B546))","v":"Heavy Topspin"},{"$f":"IF(ISERROR(INDEX(Data!O:O,Report!$B546)),\"\",INDEX(Data!O:O,Report!$B546))","v":5},{"$f":"IF(ISERROR(INDEX(Data!Q:Q,Report!$B546)),\"\",INDEX(Data!Q:Q,Report!$B546))","v":2.5},{"$f":"IF(ISERROR(INDEX(Data!R:R,Report!$B546)),\"\",INDEX(Data!R:R,Report!$B546))","v":21},{"$f":"IF(ISERROR(INDEX(Data!S:S,Report!$B546)),\"\",INDEX(Data!S:S,Report!$B546))","v":21},{"$f":"IF(ISERROR(INDEX(Data!T:T,Report!$B546)),\"\",INDEX(Data!T:T,Report!$B546))","v":4.2},{"$f":"IF(ISERROR(INDEX(Data!U:U,Report!$B546)),\"\",INDEX(Data!U:U,Report!$B546))","v":41},{"$f":"IF(ISERROR(INDEX(Data!V:V,Report!$B546)),\"\",INDEX(Data!V:V,Report!$B546))","v":3.7},null,"                     |","||||||||||"]
[543,{"$f":"IF(ISERROR(MATCH(A547,Data!A:A,0)),\"\",MATCH(A547,Data!A:A,0))","v":262},{"$f":"IF(ISERROR(INDEX(Data!I:I,Report!$B547)),\"\",INDEX(Data!I:I,Report!$B547))","v":" "},{"$f":"IF(ISERROR(INDEX(Data!J:J,Report!$B547)),\"\",INDEX(Data!J:J,Report!$B547))","v":"User Drill #188  3 line rated mini tennis"},{"$f":"IF(ISERROR(INDEX(Data!K:K,Report!$B547)),\"\",INDEX(Data!K:K,Report!$B547))","v":0},{"$f":"IF(ISERROR(INDEX(Data!L:L,Report!$B547)),\"\",INDEX(Data!L:L,Report!$B547))","v":0},null,{"$f":"IF(ISERROR(INDEX(Data!N:N,Report!$B547)),\"\",INDEX(Data!N:N,Report!$B547))","v":2},{"$f":"IF(ISERROR(INDEX(Data!P:P,Report!$B547)),\"\",INDEX(Data!P:P,Report!$B547))","v":0},{"$f":"IF(ISERROR(INDEX(Data!O:O,Report!$B547)),\"\",INDEX(Data!O:O,Report!$B547))","v":4},{"$f":"IF(ISERROR(INDEX(Data!Q:Q,Report!$B547)),\"\",INDEX(Data!Q:Q,Report!$B547))","v":3.5},{"$f":"IF(ISERROR(INDEX(Data!R:R,Report!$B547)),\"\",INDEX(Data!R:R,Report!$B547))","v":0},{"$f":"IF(ISERROR(INDEX(Data!S:S,Report!$B547)),\"\",INDEX(Data!S:S,Report!$B547))","v":0},{"$f":"IF(ISERROR(INDEX(Data!T:T,Report!$B547)),\"\",INDEX(Data!T:T,Report!$B547))","v":0},{"$f":"IF(ISERROR(INDEX(Data!U:U,Report!$B547)),\"\",INDEX(Data!U:U,Report!$B547))","v":0},{"$f":"IF(ISERROR(INDEX(Data!V:V,Report!$B547)),\"\",INDEX(Data!V:V,Report!$B547))","v":0},null,"|",""]
[544,{"$f":"IF(ISERROR(MATCH(A548,Data!A:A,0)),\"\",MATCH(A548,Data!A:A,0))","v":263},{"$f":"IF(ISERROR(INDEX(Data!I:I,Report!$B548)),\"\",INDEX(Data!I:I,Report!$B548))","v":"00:44:44"},{"$f":"IF(ISERROR(INDEX(Data!J:J,Report!$B548)),\"\",INDEX(Data!J:J,Report!$B548))","v":"Game against Boomer at level 2.5  Single point data:"},{"$f":"IF(ISERROR(INDEX(Data!K:K,Report!$B548)),\"\",INDEX(Data!K:K,Report!$B548))","v":"Player's point"},{"$f":"IF(ISERROR(INDEX(Data!L:L,Report!$B548)),\"\",INDEX(Data!L:L,Report!$B548))","v":0},null,{"$f":"IF(ISERROR(INDEX(Data!N:N,Report!$B548)),\"\",INDEX(Data!N:N,Report!$B548))","v":3},{"$f":"IF(ISERROR(INDEX(Data!P:P,Report!$B548)),\"\",INDEX(Data!P:P,Report!$B548))","v":"Topspin"},{"$f":"IF(ISERROR(INDEX(Data!O:O,Report!$B548)),\"\",INDEX(Data!O:O,Report!$B548))","v":5},{"$f":"IF(ISERROR(INDEX(Data!Q:Q,Report!$B548)),\"\",INDEX(Data!Q:Q,Report!$B548))","v":2.5},{"$f":"IF(ISERROR(INDEX(Data!R:R,Report!$B548)),\"\",INDEX(Data!R:R,Report!$B548))","v":37},{"$f":"IF(ISERROR(INDEX(Data!S:S,Report!$B548)),\"\",INDEX(Data!S:S,Report!$B548))","v":22},{"$f":"IF(ISERROR(INDEX(Data!T:T,Report!$B548)),\"\",INDEX(Data!T:T,Report!$B548))","v":6.3},{"$f":"IF(ISERROR(INDEX(Data!U:U,Report!$B548)),\"\",INDEX(Data!U:U,Report!$B548))","v":51},{"$f":"IF(ISERROR(INDEX(Data!V:V,Report!$B548)),\"\",INDEX(Data!V:V,Report!$B548))","v":5.0999999999999996},null,"                                     |","|||||||||||"]
[545,{"$f":"IF(ISERROR(MATCH(A549,Data!A:A,0)),\"\",MATCH(A549,Data!A:A,0))","v":264},{"$f":"IF(ISERROR(INDEX(Data!I:I,Report!$B549)),\"\",INDEX(Data!I:I,Report!$B549))","v":" "},{"$f":"IF(ISERROR(INDEX(Data!J:J,Report!$B549)),\"\",INDEX(Data!J:J,Report!$B549))","v":"User Drill #188  3 line rated mini tennis"},{"$f":"IF(ISERROR(INDEX(Data!K:K,Report!$B549)),\"\",INDEX(Data!K:K,Report!$B549))","v":0},{"$f":"IF(ISERROR(INDEX(Data!L:L,Report!$B549)),\"\",INDEX(Data!L:L,Report!$B549))","v":0},null,{"$f":"IF(ISERROR(INDEX(Data!N:N,Report!$B549)),\"\",INDEX(Data!N:N,Report!$B549))","v":3},{"$f":"IF(ISERROR(INDEX(Data!P:P,Report!$B549)),\"\",INDEX(Data!P:P,Report!$B549))","v":0},{"$f":"IF(ISERROR(INDEX(Data!O:O,Report!$B549)),\"\",INDEX(Data!O:O,Report!$B549))","v":10},{"$f":"IF(ISERROR(INDEX(Data!Q:Q,Report!$B549)),\"\",INDEX(Data!Q:Q,Report!$B549))","v":3.5},{"$f":"IF(ISERROR(INDEX(Data!R:R,Report!$B549)),\"\",INDEX(Data!R:R,Report!$B549))","v":0},{"$f":"IF(ISERROR(INDEX(Data!S:S,Report!$B549)),\"\",INDEX(Data!S:S,Report!$B549))","v":0},{"$f":"IF(ISERROR(INDEX(Data!T:T,Report!$B549)),\"\",INDEX(Data!T:T,Report!$B549))","v":0},{"$f":"IF(ISERROR(INDEX(Data!U:U,Report!$B549)),\"\",INDEX(Data!U:U,Report!$B549))","v":0},{"$f":"IF(ISERROR(INDEX(Data!V:V,Report!$B549)),\"\",INDEX(Data!V:V,Report!$B549))","v":0},null,"|",""]
[546,{"$f":"IF(ISERROR(MATCH(A550,Data!A:A,0)),\"\",MATCH(A550,Data!A:A,0))","v":265},{"$f":"IF(ISERROR(INDEX(Data!I:I,Report!$B550)),\"\",INDEX(Data!I:I,Report!$B550))","v":"00:44:44"},{"$f":"IF(ISERROR(INDEX(Data!J:J,Report!$B550)),\"\",INDEX(Data!J:J,Report!$B550))","v":"Game against Boomer at level 2.5  Single point data:"},{"$f":"IF(ISERROR(INDEX(Data!K:K,Report!$B550)),\"\",INDEX(Data!K:K,Report!$B550))","v":"Player's point"},{"$f":"IF(ISERROR(INDEX(Data!L:L,Report!$B550)),\"\",INDEX(Data!L:L,Report!$B550))","v":0},null,{"$f":"IF(ISERROR(INDEX(Data!N:N,Report!$B550)),\"\",INDEX(Data!N:N,Report!$B550))","v":4},{"$f":"IF(ISERROR(INDEX(Data!P:P,Report!$B550)),\"\",INDEX(Data!P:P,Report!$B550))","v":"Heavy Topspin"},{"$f":"IF(ISERROR(INDEX(Data!O:O,Report!$B550)),\"\",INDEX(Data!O:O,Report!$B550))","v":3},{"$f":"IF(ISERROR(INDEX(Data!Q:Q,Report!$B550)),\"\",INDEX(Data!Q:Q,Report!$B550))","v":2.5},{"$f":"IF(ISERROR(INDEX(Data!R:R,Report!$B550)),\"\",INDEX(Data!R:R,Report!$B550))","v":24},{"$f":"IF(ISERROR(INDEX(Data!S:S,Report!$B550)),\"\",INDEX(Data!S:S,Report!$B550))","v":25},{"$f":"IF(ISERROR(INDEX(Data!T:T,Report!$B550)),\"\",INDEX(Data!T:T,Report!$B550))","v":6.2},{"$f":"IF(ISERROR(INDEX(Data!U:U,Report!$B550)),\"\",INDEX(Data!U:U,Report!$B550))","v":48},{"$f":"IF(ISERROR(INDEX(Data!V:V,Report!$B550)),\"\",INDEX(Data!V:V,Report!$B550))","v":5.9},null,"                        |","||||||||||||"]
[547,{"$f":"IF(ISERROR(MATCH(A551,Data!A:A,0)),\"\",MATCH(A551,Data!A:A,0))","v":""},{"$f":"IF(ISERROR(INDEX(Data!I:I,Report!$B551)),\"\",INDEX(Data!I:I,Report!$B551))","v":""},{"$f":"IF(ISERROR(INDEX(Data!J:J,Report!$B551)),\"\",INDEX(Data!J:J,Report!$B551))","v":""},{"$f":"IF(ISERROR(INDEX(Data!K:K,Report!$B551)),\"\",INDEX(Data!K:K,Report!$B551))","v":""},{"$f":"IF(ISERROR(INDEX(Data!L:L,Report!$B551)),\"\",INDEX(Data!L:L,Report!$B551))","v":""},null,{"$f":"IF(ISERROR(INDEX(Data!N:N,Report!$B551)),\"\",INDEX(Data!N:N,Report!$B551))","v":""},{"$f":"IF(ISERROR(INDEX(Data!P:P,Report!$B551)),\"\",INDEX(Data!P:P,Report!$B551))","v":""},{"$f":"IF(ISERROR(INDEX(Data!O:O,Report!$B551)),\"\",INDEX(Data!O:O,Report!$B551))","v":""},{"$f":"IF(ISERROR(INDEX(Data!Q:Q,Report!$B551)),\"\",INDEX(Data!Q:Q,Report!$B551))","v":""},{"$f":"IF(ISERROR(INDEX(Data!R:R,Report!$B551)),\"\",INDEX(Data!R:R,Report!$B551))","v":""},{"$f":"IF(ISERROR(INDEX(Data!S:S,Report!$B551)),\"\",INDEX(Data!S:S,Report!$B551))","v":""},{"$f":"IF(ISERROR(INDEX(Data!T:T,Report!$B551)),\"\",INDEX(Data!T:T,Report!$B551))","v":""},{"$f":"IF(ISERROR(INDEX(Data!U:U,Report!$B551)),\"\",INDEX(Data!U:U,Report!$B551))","v":""},{"$f":"IF(ISERROR(INDEX(Data!V:V,Report!$B551)),\"\",INDEX(Data!V:V,Report!$B551))","v":""},null,"",""]
[548,{"$f":"IF(ISERROR(MATCH(A552,Data!A:A,0)),\"\",MATCH(A552,Data!A:A,0))","v":""},{"$f":"IF(ISERROR(INDEX(Data!I:I,Report!$B552)),\"\",INDEX(Data!I:I,Report!$B552))","v":""},{"$f":"IF(ISERROR(INDEX(Data!J:J,Report!$B552)),\"\",INDEX(Data!J:J,Report!$B552))","v":""},{"$f":"IF(ISERROR(INDEX(Data!K:K,Report!$B552)),\"\",INDEX(Data!K:K,Report!$B552))","v":""},{"$f":"IF(ISERROR(INDEX(Data!L:L,Report!$B552)),\"\",INDEX(Data!L:L,Report!$B552))","v":""},null,{"$f":"IF(ISERROR(INDEX(Data!N:N,Report!$B552)),\"\",INDEX(Data!N:N,Report!$B552))","v":""},{"$f":"IF(ISERROR(INDEX(Data!P:P,Report!$B552)),\"\",INDEX(Data!P:P,Report!$B552))","v":""},{"$f":"IF(ISERROR(INDEX(Data!O:O,Report!$B552)),\"\",INDEX(Data!O:O,Report!$B552))","v":""},{"$f":"IF(ISERROR(INDEX(Data!Q:Q,Report!$B552)),\"\",INDEX(Data!Q:Q,Report!$B552))","v":""},{"$f":"IF(ISERROR(INDEX(Data!R:R,Report!$B552)),\"\",INDEX(Data!R:R,Report!$B552))","v":""},{"$f":"IF(ISERROR(INDEX(Data!S:S,Report!$B552)),\"\",INDEX(Data!S:S,Report!$B552))","v":""},{"$f":"IF(ISERROR(INDEX(Data!T:T,Report!$B552)),\"\",INDEX(Data!T:T,Report!$B552))","v":""},{"$f":"IF(ISERROR(INDEX(Data!U:U,Report!$B552)),\"\",INDEX(Data!U:U,Report!$B552))","v":""},{"$f":"IF(ISERROR(INDEX(Data!V:V,Report!$B552)),\"\",INDEX(Data!V:V,Report!$B552))","v":""},null,"",""]
[549,{"$f":"IF(ISERROR(MATCH(A553,Data!A:A,0)),\"\",MATCH(A553,Data!A:A,0))","v":""},{"$f":"IF(ISERROR(INDEX(Data!I:I,Report!$B553)),\"\",INDEX(Data!I:I,Report!$B553))","v":""},{"$f":"IF(ISERROR(INDEX(Data!J:J,Report!$B553)),\"\",INDEX(Data!J:J,Report!$B553))","v":""},{"$f":"IF(ISERROR(INDEX(Data!K:K,Report!$B553)),\"\",INDEX(Data!K:K,Report!$B553))","v":""},{"$f":"IF(ISERROR(INDEX(Data!L:L,Report!$B553)),\"\",INDEX(Data!L:L,Report!$B553))","v":""},null,{"$f":"IF(ISERROR(INDEX(Data!N:N,Report!$B553)),\"\",INDEX(Data!N:N,Report!$B553))","v":""},{"$f":"IF(ISERROR(INDEX(Data!P:P,Report!$B553)),\"\",INDEX(Data!P:P,Report!$B553))","v":""},{"$f":"IF(ISERROR(INDEX(Data!O:O,Report!$B553)),\"\",INDEX(Data!O:O,Report!$B553))","v":""},{"$f":"IF(ISERROR(INDEX(Data!Q:Q,Report!$B553)),\"\",INDEX(Data!Q:Q,Report!$B553))","v":""},{"$f":"IF(ISERROR(INDEX(Data!R:R,Report!$B553)),\"\",INDEX(Data!R:R,Report!$B553))","v":""},{"$f":"IF(ISERROR(INDEX(Data!S:S,Report!$B553)),\"\",INDEX(Data!S:S,Report!$B553))","v":""},{"$f":"IF(ISERROR(INDEX(Data!T:T,Report!$B553)),\"\",INDEX(Data!T:T,Report!$B553))","v":""},{"$f":"IF(ISERROR(INDEX(Data!U:U,Report!$B553)),\"\",INDEX(Data!U:U,Report!$B553))","v":""},{"$f":"IF(ISERROR(INDEX(Data!V:V,Report!$B553)),\"\",INDEX(Data!V:V,Report!$B553))","v":""},null,"",""]
[550,{"$f":"IF(ISERROR(MATCH(A554,Data!A:A,0)),\"\",MATCH(A554,Data!A:A,0))","v":266},{"$f":"IF(ISERROR(INDEX(Data!I:I,Report!$B554)),\"\",INDEX(Data!I:I,Report!$B554))","v":" "},{"$f":"IF(ISERROR(INDEX(Data!J:J,Report!$B554)),\"\",INDEX(Data!J:J,Report!$B554))","v":"User Drill #188  3 line rated mini tennis"},{"$f":"IF(ISERROR(INDEX(Data!K:K,Report!$B554)),\"\",INDEX(Data!K:K,Report!$B554))","v":0},{"$f":"IF(ISERROR(INDEX(Data!L:L,Report!$B554)),\"\",INDEX(Data!L:L,Report!$B554))","v":"New Point"},null,{"$f":"IF(ISERROR(INDEX(Data!N:N,Report!$B554)),\"\",INDEX(Data!N:N,Report!$B554))","v":1},{"$f":"IF(ISERROR(INDEX(Data!P:P,Report!$B554)),\"\",INDEX(Data!P:P,Report!$B554))","v":0},{"$f":"IF(ISERROR(INDEX(Data!O:O,Report!$B554)),\"\",INDEX(Data!O:O,Report!$B554))","v":11},{"$f":"IF(ISERROR(INDEX(Data!Q:Q,Report!$B554)),\"\",INDEX(Data!Q:Q,Report!$B554))","v":3.5},{"$f":"IF(ISERROR(INDEX(Data!R:R,Report!$B554)),\"\",INDEX(Data!R:R,Report!$B554))","v":0},{"$f":"IF(ISERROR(INDEX(Data!S:S,Report!$B554)),\"\",INDEX(Data!S:S,Report!$B554))","v":0},{"$f":"IF(ISERROR(INDEX(Data!T:T,Report!$B554)),\"\",INDEX(Data!T:T,Report!$B554))","v":0},{"$f":"IF(ISERROR(INDEX(Data!U:U,Report!$B554)),\"\",INDEX(Data!U:U,Report!$B554))","v":0},{"$f":"IF(ISERROR(INDEX(Data!V:V,Report!$B554)),\"\",INDEX(Data!V:V,Report!$B554))","v":0},null,"|",""]
[551,{"$f":"IF(ISERROR(MATCH(A555,Data!A:A,0)),\"\",MATCH(A555,Data!A:A,0))","v":""},{"$f":"IF(ISERROR(INDEX(Data!I:I,Report!$B555)),\"\",INDEX(Data!I:I,Report!$B555))","v":""},{"$f":"IF(ISERROR(INDEX(Data!J:J,Report!$B555)),\"\",INDEX(Data!J:J,Report!$B555))","v":""},{"$f":"IF(ISERROR(INDEX(Data!K:K,Report!$B555)),\"\",INDEX(Data!K:K,Report!$B555))","v":""},{"$f":"IF(ISERROR(INDEX(Data!L:L,Report!$B555)),\"\",INDEX(Data!L:L,Report!$B555))","v":""},null,{"$f":"IF(ISERROR(INDEX(Data!N:N,Report!$B555)),\"\",INDEX(Data!N:N,Report!$B555))","v":""},{"$f":"IF(ISERROR(INDEX(Data!P:P,Report!$B555)),\"\",INDEX(Data!P:P,Report!$B555))","v":""},{"$f":"IF(ISERROR(INDEX(Data!O:O,Report!$B555)),\"\",INDEX(Data!O:O,Report!$B555))","v":""},{"$f":"IF(ISERROR(INDEX(Data!Q:Q,Report!$B555)),\"\",INDEX(Data!Q:Q,Report!$B555))","v":""},{"$f":"IF(ISERROR(INDEX(Data!R:R,Report!$B555)),\"\",INDEX(Data!R:R,Report!$B555))","v":""},{"$f":"IF(ISERROR(INDEX(Data!S:S,Report!$B555)),\"\",INDEX(Data!S:S,Report!$B555))","v":""},{"$f":"IF(ISERROR(INDEX(Data!T:T,Report!$B555)),\"\",INDEX(Data!T:T,Report!$B555))","v":""},{"$f":"IF(ISERROR(INDEX(Data!U:U,Report!$B555)),\"\",INDEX(Data!U:U,Report!$B555))","v":""},{"$f":"IF(ISERROR(INDEX(Data!V:V,Report!$B555)),\"\",INDEX(Data!V:V,Report!$B555))","v":""},null,"",""]
[552,{"$f":"IF(ISERROR(MATCH(A556,Data!A:A,0)),\"\",MATCH(A556,Data!A:A,0))","v":""},{"$f":"IF(ISERROR(INDEX(Data!I:I,Report!$B556)),\"\",INDEX(Data!I:I,Report!$B556))","v":""},{"$f":"IF(ISERROR(INDEX(Data!J:J,Report!$B556)),\"\",INDEX(Data!J:J,Report!$B556))","v":""},{"$f":"IF(ISERROR(INDEX(Data!K:K,Report!$B556)),\"\",INDEX(Data!K:K,Report!$B556))","v":""},{"$f":"IF(ISERROR(INDEX(Data!L:L,Report!$B556)),\"\",INDEX(Data!L:L,Report!$B556))","v":""},null,{"$f":"IF(ISERROR(INDEX(Data!N:N,Report!$B556)),\"\",INDEX(Data!N:N,Report!$B556))","v":""},{"$f":"IF(ISERROR(INDEX(Data!P:P,Report!$B556)),\"\",INDEX(Data!P:P,Report!$B556))","v":""},{"$f":"IF(ISERROR(INDEX(Data!O:O,Report!$B556)),\"\",INDEX(Data!O:O,Report!$B556))","v":""},{"$f":"IF(ISERROR(INDEX(Data!Q:Q,Report!$B556)),\"\",INDEX(Data!Q:Q,Report!$B556))","v":""},{"$f":"IF(ISERROR(INDEX(Data!R:R,Report!$B556)),\"\",INDEX(Data!R:R,Report!$B556))","v":""},{"$f":"IF(ISERROR(INDEX(Data!S:S,Report!$B556)),\"\",INDEX(Data!S:S,Report!$B556))","v":""},{"$f":"IF(ISERROR(INDEX(Data!T:T,Report!$B556)),\"\",INDEX(Data!T:T,Report!$B556))","v":""},{"$f":"IF(ISERROR(INDEX(Data!U:U,Report!$B556)),\"\",INDEX(Data!U:U,Report!$B556))","v":""},{"$f":"IF(ISERROR(INDEX(Data!V:V,Report!$B556)),\"\",INDEX(Data!V:V,Report!$B556))","v":""},null,"",""]
[553,{"$f":"IF(ISERROR(MATCH(A557,Data!A:A,0)),\"\",MATCH(A557,Data!A:A,0))","v":""},{"$f":"IF(ISERROR(INDEX(Data!I:I,Report!$B557)),\"\",INDEX(Data!I:I,Report!$B557))","v":""},{"$f":"IF(ISERROR(INDEX(Data!J:J,Report!$B557)),\"\",INDEX(Data!J:J,Report!$B557))","v":""},{"$f":"IF(ISERROR(INDEX(Data!K:K,Report!$B557)),\"\",INDEX(Data!K:K,Report!$B557))","v":""},{"$f":"IF(ISERROR(INDEX(Data!L:L,Report!$B557)),\"\",INDEX(Data!L:L,Report!$B557))","v":""},null,{"$f":"IF(ISERROR(INDEX(Data!N:N,Report!$B557)),\"\",INDEX(Data!N:N,Report!$B557))","v":""},{"$f":"IF(ISERROR(INDEX(Data!P:P,Report!$B557)),\"\",INDEX(Data!P:P,Report!$B557))","v":""},{"$f":"IF(ISERROR(INDEX(Data!O:O,Report!$B557)),\"\",INDEX(Data!O:O,Report!$B557))","v":""},{"$f":"IF(ISERROR(INDEX(Data!Q:Q,Report!$B557)),\"\",INDEX(Data!Q:Q,Report!$B557))","v":""},{"$f":"IF(ISERROR(INDEX(Data!R:R,Report!$B557)),\"\",INDEX(Data!R:R,Report!$B557))","v":""},{"$f":"IF(ISERROR(INDEX(Data!S:S,Report!$B557)),\"\",INDEX(Data!S:S,Report!$B557))","v":""},{"$f":"IF(ISERROR(INDEX(Data!T:T,Report!$B557)),\"\",INDEX(Data!T:T,Report!$B557))","v":""},{"$f":"IF(ISERROR(INDEX(Data!U:U,Report!$B557)),\"\",INDEX(Data!U:U,Report!$B557))","v":""},{"$f":"IF(ISERROR(INDEX(Data!V:V,Report!$B557)),\"\",INDEX(Data!V:V,Report!$B557))","v":""},null,"",""]
[554,{"$f":"IF(ISERROR(MATCH(A558,Data!A:A,0)),\"\",MATCH(A558,Data!A:A,0))","v":267},{"$f":"IF(ISERROR(INDEX(Data!I:I,Report!$B558)),\"\",INDEX(Data!I:I,Report!$B558))","v":"00:45:05"},{"$f":"IF(ISERROR(INDEX(Data!J:J,Report!$B558)),\"\",INDEX(Data!J:J,Report!$B558))","v":"Game against Boomer at level 2.5  Single point data:"},{"$f":"IF(ISERROR(INDEX(Data!K:K,Report!$B558)),\"\",INDEX(Data!K:K,Report!$B558))","v":"Player's point"},{"$f":"IF(ISERROR(INDEX(Data!L:L,Report!$B558)),\"\",INDEX(Data!L:L,Report!$B558))","v":"New Point"},null,{"$f":"IF(ISERROR(INDEX(Data!N:N,Report!$B558)),\"\",INDEX(Data!N:N,Report!$B558))","v":1},{"$f":"IF(ISERROR(INDEX(Data!P:P,Report!$B558)),\"\",INDEX(Data!P:P,Report!$B558))","v":"Serve"},{"$f":"IF(ISERROR(INDEX(Data!O:O,Report!$B558)),\"\",INDEX(Data!O:O,Report!$B558))","v":5},{"$f":"IF(ISERROR(INDEX(Data!Q:Q,Report!$B558)),\"\",INDEX(Data!Q:Q,Report!$B558))","v":2.5},{"$f":"IF(ISERROR(INDEX(Data!R:R,Report!$B558)),\"\",INDEX(Data!R:R,Report!$B558))","v":23},{"$f":"IF(ISERROR(INDEX(Data!S:S,Report!$B558)),\"\",INDEX(Data!S:S,Report!$B558))","v":8},{"$f":"IF(ISERROR(INDEX(Data!T:T,Report!$B558)),\"\",INDEX(Data!T:T,Report!$B558))","v":4.5},{"$f":"IF(ISERROR(INDEX(Data!U:U,Report!$B558)),\"\",INDEX(Data!U:U,Report!$B558))","v":49},{"$f":"IF(ISERROR(INDEX(Data!V:V,Report!$B558)),\"\",INDEX(Data!V:V,Report!$B558))","v":4.2},null,"                       |","||||"]
[555,{"$f":"IF(ISERROR(MATCH(A559,Data!A:A,0)),\"\",MATCH(A559,Data!A:A,0))","v":268},{"$f":"IF(ISERROR(INDEX(Data!I:I,Report!$B559)),\"\",INDEX(Data!I:I,Report!$B559))","v":"00:45:05"},{"$f":"IF(ISERROR(INDEX(Data!J:J,Report!$B559)),\"\",INDEX(Data!J:J,Report!$B559))","v":"Game against Boomer at level 2.5  Single point data:"},{"$f":"IF(ISERROR(INDEX(Data!K:K,Report!$B559)),\"\",INDEX(Data!K:K,Report!$B559))","v":"Player's point"},{"$f":"IF(ISERROR(INDEX(Data!L:L,Report!$B559)),\"\",INDEX(Data!L:L,Report!$B559))","v":0},null,{"$f":"IF(ISERROR(INDEX(Data!N:N,Report!$B559)),\"\",INDEX(Data!N:N,Report!$B559))","v":2},{"$f":"IF(ISERROR(INDEX(Data!P:P,Report!$B559)),\"\",INDEX(Data!P:P,Report!$B559))","v":"Slice"},{"$f":"IF(ISERROR(INDEX(Data!O:O,Report!$B559)),\"\",INDEX(Data!O:O,Report!$B559))","v":3},{"$f":"IF(ISERROR(INDEX(Data!Q:Q,Report!$B559)),\"\",INDEX(Data!Q:Q,Report!$B559))","v":2.5},{"$f":"IF(ISERROR(INDEX(Data!R:R,Report!$B559)),\"\",INDEX(Data!R:R,Report!$B559))","v":29},{"$f":"IF(ISERROR(INDEX(Data!S:S,Report!$B559)),\"\",INDEX(Data!S:S,Report!$B559))","v":22},{"$f":"IF(ISERROR(INDEX(Data!T:T,Report!$B559)),\"\",INDEX(Data!T:T,Report!$B559))","v":5.6},{"$f":"IF(ISERROR(INDEX(Data!U:U,Report!$B559)),\"\",INDEX(Data!U:U,Report!$B559))","v":55},{"$f":"IF(ISERROR(INDEX(Data!V:V,Report!$B559)),\"\",INDEX(Data!V:V,Report!$B559))","v":6},null,"                             |","|||||||||||"]
[556,{"$f":"IF(ISERROR(MATCH(A560,Data!A:A,0)),\"\",MATCH(A560,Data!A:A,0))","v":269},{"$f":"IF(ISERROR(INDEX(Data!I:I,Report!$B560)),\"\",INDEX(Data!I:I,Report!$B560))","v":" "},{"$f":"IF(ISERROR(INDEX(Data!J:J,Report!$B560)),\"\",INDEX(Data!J:J,Report!$B560))","v":"User Drill #188  3 line rated mini tennis"},{"$f":"IF(ISERROR(INDEX(Data!K:K,Report!$B560)),\"\",INDEX(Data!K:K,Report!$B560))","v":0},{"$f":"IF(ISERROR(INDEX(Data!L:L,Report!$B560)),\"\",INDEX(Data!L:L,Report!$B560))","v":0},null,{"$f":"IF(ISERROR(INDEX(Data!N:N,Report!$B560)),\"\",INDEX(Data!N:N,Report!$B560))","v":2},{"$f":"IF(ISERROR(INDEX(Data!P:P,Report!$B560)),\"\",INDEX(Data!P:P,Report!$B560))","v":0},{"$f":"IF(ISERROR(INDEX(Data!O:O,Report!$B560)),\"\",INDEX(Data!O:O,Report!$B560))","v":4},{"$f":"IF(ISERROR(INDEX(Data!Q:Q,Report!$B560)),\"\",INDEX(Data!Q:Q,Report!$B560))","v":3.5},{"$f":"IF(ISERROR(INDEX(Data!R:R,Report!$B560)),\"\",INDEX(Data!R:R,Report!$B560))","v":0},{"$f":"IF(ISERROR(INDEX(Data!S:S,Report!$B560)),\"\",INDEX(Data!S:S,Report!$B560))","v":0},{"$f":"IF(ISERROR(INDEX(Data!T:T,Report!$B560)),\"\",INDEX(Data!T:T,Report!$B560))","v":0},{"$f":"IF(ISERROR(INDEX(Data!U:U,Report!$B560)),\"\",INDEX(Data!U:U,Report!$B560))","v":0},{"$f":"IF(ISERROR(INDEX(Data!V:V,Report!$B560)),\"\",INDEX(Data!V:V,Report!$B560))","v":0},null,"|",""]
[557,{"$f":"IF(ISERROR(MATCH(A561,Data!A:A,0)),\"\",MATCH(A561,Data!A:A,0))","v":270},{"$f":"IF(ISERROR(INDEX(Data!I:I,Report!$B561)),\"\",INDEX(Data!I:I,Report!$B561))","v":" "},{"$f":"IF(ISERROR(INDEX(Data!J:J,Report!$B561)),\"\",INDEX(Data!J:J,Report!$B561))","v":"User Drill #188  3 line rated mini tennis"},{"$f":"IF(ISERROR(INDEX(Data!K:K,Report!$B561)),\"\",INDEX(Data!K:K,Report!$B561))","v":0},{"$f":"IF(ISERROR(INDEX(Data!L:L,Report!$B561)),\"\",INDEX(Data!L:L,Report!$B561))","v":0},null,{"$f":"IF(ISERROR(INDEX(Data!N:N,Report!$B561)),\"\",INDEX(Data!N:N,Report!$B561))","v":3},{"$f":"IF(ISERROR(INDEX(Data!P:P,Report!$B561)),\"\",INDEX(Data!P:P,Report!$B561))","v":0},{"$f":"IF(ISERROR(INDEX(Data!O:O,Report!$B561)),\"\",INDEX(Data!O:O,Report!$B561))","v":10},{"$f":"IF(ISERROR(INDEX(Data!Q:Q,Report!$B561)),\"\",INDEX(Data!Q:Q,Report!$B561))","v":3.5},{"$f":"IF(ISERROR(INDEX(Data!R:R,Report!$B561)),\"\",INDEX(Data!R:R,Report!$B561))","v":0},{"$f":"IF(ISERROR(INDEX(Data!S:S,Report!$B561)),\"\",INDEX(Data!S:S,Report!$B561))","v":0},{"$f":"IF(ISERROR(INDEX(Data!T:T,Report!$B561)),\"\",INDEX(Data!T:T,Report!$B561))","v":0},{"$f":"IF(ISERROR(INDEX(Data!U:U,Report!$B561)),\"\",INDEX(Data!U:U,Report!$B561))","v":0},{"$f":"IF(ISERROR(INDEX(Data!V:V,Report!$B561)),\"\",INDEX(Data!V:V,Report!$B561))","v":0},null,"|",""]
[558,{"$f":"IF(ISERROR(MATCH(A562,Data!A:A,0)),\"\",MATCH(A562,Data!A:A,0))","v":""},{"$f":"IF(ISERROR(INDEX(Data!I:I,Report!$B562)),\"\",INDEX(Data!I:I,Report!$B562))","v":""},{"$f":"IF(ISERROR(INDEX(Data!J:J,Report!$B562)),\"\",INDEX(Data!J:J,Report!$B562))","v":""},{"$f":"IF(ISERROR(INDEX(Data!K:K,Report!$B562)),\"\",INDEX(Data!K:K,Report!$B562))","v":""},{"$f":"IF(ISERROR(INDEX(Data!L:L,Report!$B562)),\"\",INDEX(Data!L:L,Report!$B562))","v":""},null,{"$f":"IF(ISERROR(INDEX(Data!N:N,Report!$B562)),\"\",INDEX(Data!N:N,Report!$B562))","v":""},{"$f":"IF(ISERROR(INDEX(Data!P:P,Report!$B562)),\"\",INDEX(Data!P:P,Report!$B562))","v":""},{"$f":"IF(ISERROR(INDEX(Data!O:O,Report!$B562)),\"\",INDEX(Data!O:O,Report!$B562))","v":""},{"$f":"IF(ISERROR(INDEX(Data!Q:Q,Report!$B562)),\"\",INDEX(Data!Q:Q,Report!$B562))","v":""},{"$f":"IF(ISERROR(INDEX(Data!R:R,Report!$B562)),\"\",INDEX(Data!R:R,Report!$B562))","v":""},{"$f":"IF(ISERROR(INDEX(Data!S:S,Report!$B562)),\"\",INDEX(Data!S:S,Report!$B562))","v":""},{"$f":"IF(ISERROR(INDEX(Data!T:T,Report!$B562)),\"\",INDEX(Data!T:T,Report!$B562))","v":""},{"$f":"IF(ISERROR(INDEX(Data!U:U,Report!$B562)),\"\",INDEX(Data!U:U,Report!$B562))","v":""},{"$f":"IF(ISERROR(INDEX(Data!V:V,Report!$B562)),\"\",INDEX(Data!V:V,Report!$B562))","v":""},null,"",""]
[559,{"$f":"IF(ISERROR(MATCH(A563,Data!A:A,0)),\"\",MATCH(A563,Data!A:A,0))","v":""},{"$f":"IF(ISERROR(INDEX(Data!I:I,Report!$B563)),\"\",INDEX(Data!I:I,Report!$B563))","v":""},{"$f":"IF(ISERROR(INDEX(Data!J:J,Report!$B563)),\"\",INDEX(Data!J:J,Report!$B563))","v":""},{"$f":"IF(ISERROR(INDEX(Data!K:K,Report!$B563)),\"\",INDEX(Data!K:K,Report!$B563))","v":""},{"$f":"IF(ISERROR(INDEX(Data!L:L,Report!$B563)),\"\",INDEX(Data!L:L,Report!$B563))","v":""},null,{"$f":"IF(ISERROR(INDEX(Data!N:N,Report!$B563)),\"\",INDEX(Data!N:N,Report!$B563))","v":""},{"$f":"IF(ISERROR(INDEX(Data!P:P,Report!$B563)),\"\",INDEX(Data!P:P,Report!$B563))","v":""},{"$f":"IF(ISERROR(INDEX(Data!O:O,Report!$B563)),\"\",INDEX(Data!O:O,Report!$B563))","v":""},{"$f":"IF(ISERROR(INDEX(Data!Q:Q,Report!$B563)),\"\",INDEX(Data!Q:Q,Report!$B563))","v":""},{"$f":"IF(ISERROR(INDEX(Data!R:R,Report!$B563)),\"\",INDEX(Data!R:R,Report!$B563))","v":""},{"$f":"IF(ISERROR(INDEX(Data!S:S,Report!$B563)),\"\",INDEX(Data!S:S,Report!$B563))","v":""},{"$f":"IF(ISERROR(INDEX(Data!T:T,Report!$B563)),\"\",INDEX(Data!T:T,Report!$B563))","v":""},{"$f":"IF(ISERROR(INDEX(Data!U:U,Report!$B563)),\"\",INDEX(Data!U:U,Report!$B563))","v":""},{"$f":"IF(ISERROR(INDEX(Data!V:V,Report!$B563)),\"\",INDEX(Data!V:V,Report!$B563))","v":""},null,"",""]
[560,{"$f":"IF(ISERROR(MATCH(A564,Data!A:A,0)),\"\",MATCH(A564,Data!A:A,0))","v":""},{"$f":"IF(ISERROR(INDEX(Data!I:I,Report!$B564)),\"\",INDEX(Data!I:I,Report!$B564))","v":""},{"$f":"IF(ISERROR(INDEX(Data!J:J,Report!$B564)),\"\",INDEX(Data!J:J,Report!$B564))","v":""},{"$f":"IF(ISERROR(INDEX(Data!K:K,Report!$B564)),\"\",INDEX(Data!K:K,Report!$B564))","v":""},{"$f":"IF(ISERROR(INDEX(Data!L:L,Report!$B564)),\"\",INDEX(Data!L:L,Report!$B564))","v":""},null,{"$f":"IF(ISERROR(INDEX(Data!N:N,Report!$B564)),\"\",INDEX(Data!N:N,Report!$B564))","v":""},{"$f":"IF(ISERROR(INDEX(Data!P:P,Report!$B564)),\"\",INDEX(Data!P:P,Report!$B564))","v":""},{"$f":"IF(ISERROR(INDEX(Data!O:O,Report!$B564)),\"\",INDEX(Data!O:O,Report!$B564))","v":""},{"$f":"IF(ISERROR(INDEX(Data!Q:Q,Report!$B564)),\"\",INDEX(Data!Q:Q,Report!$B564))","v":""},{"$f":"IF(ISERROR(INDEX(Data!R:R,Report!$B564)),\"\",INDEX(Data!R:R,Report!$B564))","v":""},{"$f":"IF(ISERROR(INDEX(Data!S:S,Report!$B564)),\"\",INDEX(Data!S:S,Report!$B564))","v":""},{"$f":"IF(ISERROR(INDEX(Data!T:T,Report!$B564)),\"\",INDEX(Data!T:T,Report!$B564))","v":""},{"$f":"IF(ISERROR(INDEX(Data!U:U,Report!$B564)),\"\",INDEX(Data!U:U,Report!$B564))","v":""},{"$f":"IF(ISERROR(INDEX(Data!V:V,Report!$B564)),\"\",INDEX(Data!V:V,Report!$B564))","v":""},null,"",""]
[561,{"$f":"IF(ISERROR(MATCH(A565,Data!A:A,0)),\"\",MATCH(A565,Data!A:A,0))","v":271},{"$f":"IF(ISERROR(INDEX(Data!I:I,Report!$B565)),\"\",INDEX(Data!I:I,Report!$B565))","v":" "},{"$f":"IF(ISERROR(INDEX(Data!J:J,Report!$B565)),\"\",INDEX(Data!J:J,Report!$B565))","v":"User Drill #188  3 line rated mini tennis"},{"$f":"IF(ISERROR(INDEX(Data!K:K,Report!$B565)),\"\",INDEX(Data!K:K,Report!$B565))","v":0},{"$f":"IF(ISERROR(INDEX(Data!L:L,Report!$B565)),\"\",INDEX(Data!L:L,Report!$B565))","v":"New Point"},null,{"$f":"IF(ISERROR(INDEX(Data!N:N,Report!$B565)),\"\",INDEX(Data!N:N,Report!$B565))","v":1},{"$f":"IF(ISERROR(INDEX(Data!P:P,Report!$B565)),\"\",INDEX(Data!P:P,Report!$B565))","v":0},{"$f":"IF(ISERROR(INDEX(Data!O:O,Report!$B565)),\"\",INDEX(Data!O:O,Report!$B565))","v":11},{"$f":"IF(ISERROR(INDEX(Data!Q:Q,Report!$B565)),\"\",INDEX(Data!Q:Q,Report!$B565))","v":3.5},{"$f":"IF(ISERROR(INDEX(Data!R:R,Report!$B565)),\"\",INDEX(Data!R:R,Report!$B565))","v":0},{"$f":"IF(ISERROR(INDEX(Data!S:S,Report!$B565)),\"\",INDEX(Data!S:S,Report!$B565))","v":0},{"$f":"IF(ISERROR(INDEX(Data!T:T,Report!$B565)),\"\",INDEX(Data!T:T,Report!$B565))","v":0},{"$f":"IF(ISERROR(INDEX(Data!U:U,Report!$B565)),\"\",INDEX(Data!U:U,Report!$B565))","v":0},{"$f":"IF(ISERROR(INDEX(Data!V:V,Report!$B565)),\"\",INDEX(Data!V:V,Report!$B565))","v":0},null,"|",""]
[562,{"$f":"IF(ISERROR(MATCH(A566,Data!A:A,0)),\"\",MATCH(A566,Data!A:A,0))","v":""},{"$f":"IF(ISERROR(INDEX(Data!I:I,Report!$B566)),\"\",INDEX(Data!I:I,Report!$B566))","v":""},{"$f":"IF(ISERROR(INDEX(Data!J:J,Report!$B566)),\"\",INDEX(Data!J:J,Report!$B566))","v":""},{"$f":"IF(ISERROR(INDEX(Data!K:K,Report!$B566)),\"\",INDEX(Data!K:K,Report!$B566))","v":""},{"$f":"IF(ISERROR(INDEX(Data!L:L,Report!$B566)),\"\",INDEX(Data!L:L,Report!$B566))","v":""},null,{"$f":"IF(ISERROR(INDEX(Data!N:N,Report!$B566)),\"\",INDEX(Data!N:N,Report!$B566))","v":""},{"$f":"IF(ISERROR(INDEX(Data!P:P,Report!$B566)),\"\",INDEX(Data!P:P,Report!$B566))","v":""},{"$f":"IF(ISERROR(INDEX(Data!O:O,Report!$B566)),\"\",INDEX(Data!O:O,Report!$B566))","v":""},{"$f":"IF(ISERROR(INDEX(Data!Q:Q,Report!$B566)),\"\",INDEX(Data!Q:Q,Report!$B566))","v":""},{"$f":"IF(ISERROR(INDEX(Data!R:R,Report!$B566)),\"\",INDEX(Data!R:R,Report!$B566))","v":""},{"$f":"IF(ISERROR(INDEX(Data!S:S,Report!$B566)),\"\",INDEX(Data!S:S,Report!$B566))","v":""},{"$f":"IF(ISERROR(INDEX(Data!T:T,Report!$B566)),\"\",INDEX(Data!T:T,Report!$B566))","v":""},{"$f":"IF(ISERROR(INDEX(Data!U:U,Report!$B566)),\"\",INDEX(Data!U:U,Report!$B566))","v":""},{"$f":"IF(ISERROR(INDEX(Data!V:V,Report!$B566)),\"\",INDEX(Data!V:V,Report!$B566))","v":""},null,"",""]
[563,{"$f":"IF(ISERROR(MATCH(A567,Data!A:A,0)),\"\",MATCH(A567,Data!A:A,0))","v":""},{"$f":"IF(ISERROR(INDEX(Data!I:I,Report!$B567)),\"\",INDEX(Data!I:I,Report!$B567))","v":""},{"$f":"IF(ISERROR(INDEX(Data!J:J,Report!$B567)),\"\",INDEX(Data!J:J,Report!$B567))","v":""},{"$f":"IF(ISERROR(INDEX(Data!K:K,Report!$B567)),\"\",INDEX(Data!K:K,Report!$B567))","v":""},{"$f":"IF(ISERROR(INDEX(Data!L:L,Report!$B567)),\"\",INDEX(Data!L:L,Report!$B567))","v":""},null,{"$f":"IF(ISERROR(INDEX(Data!N:N,Report!$B567)),\"\",INDEX(Data!N:N,Report!$B567))","v":""},{"$f":"IF(ISERROR(INDEX(Data!P:P,Report!$B567)),\"\",INDEX(Data!P:P,Report!$B567))","v":""},{"$f":"IF(ISERROR(INDEX(Data!O:O,Report!$B567)),\"\",INDEX(Data!O:O,Report!$B567))","v":""},{"$f":"IF(ISERROR(INDEX(Data!Q:Q,Report!$B567)),\"\",INDEX(Data!Q:Q,Report!$B567))","v":""},{"$f":"IF(ISERROR(INDEX(Data!R:R,Report!$B567)),\"\",INDEX(Data!R:R,Report!$B567))","v":""},{"$f":"IF(ISERROR(INDEX(Data!S:S,Report!$B567)),\"\",INDEX(Data!S:S,Report!$B567))","v":""},{"$f":"IF(ISERROR(INDEX(Data!T:T,Report!$B567)),\"\",INDEX(Data!T:T,Report!$B567))","v":""},{"$f":"IF(ISERROR(INDEX(Data!U:U,Report!$B567)),\"\",INDEX(Data!U:U,Report!$B567))","v":""},{"$f":"IF(ISERROR(INDEX(Data!V:V,Report!$B567)),\"\",INDEX(Data!V:V,Report!$B567))","v":""},null,"",""]
[564,{"$f":"IF(ISERROR(MATCH(A568,Data!A:A,0)),\"\",MATCH(A568,Data!A:A,0))","v":""},{"$f":"IF(ISERROR(INDEX(Data!I:I,Report!$B568)),\"\",INDEX(Data!I:I,Report!$B568))","v":""},{"$f":"IF(ISERROR(INDEX(Data!J:J,Report!$B568)),\"\",INDEX(Data!J:J,Report!$B568))","v":""},{"$f":"IF(ISERROR(INDEX(Data!K:K,Report!$B568)),\"\",INDEX(Data!K:K,Report!$B568))","v":""},{"$f":"IF(ISERROR(INDEX(Data!L:L,Report!$B568)),\"\",INDEX(Data!L:L,Report!$B568))","v":""},null,{"$f":"IF(ISERROR(INDEX(Data!N:N,Report!$B568)),\"\",INDEX(Data!N:N,Report!$B568))","v":""},{"$f":"IF(ISERROR(INDEX(Data!P:P,Report!$B568)),\"\",INDEX(Data!P:P,Report!$B568))","v":""},{"$f":"IF(ISERROR(INDEX(Data!O:O,Report!$B568)),\"\",INDEX(Data!O:O,Report!$B568))","v":""},{"$f":"IF(ISERROR(INDEX(Data!Q:Q,Report!$B568)),\"\",INDEX(Data!Q:Q,Report!$B568))","v":""},{"$f":"IF(ISERROR(INDEX(Data!R:R,Report!$B568)),\"\",INDEX(Data!R:R,Report!$B568))","v":""},{"$f":"IF(ISERROR(INDEX(Data!S:S,Report!$B568)),\"\",INDEX(Data!S:S,Report!$B568))","v":""},{"$f":"IF(ISERROR(INDEX(Data!T:T,Report!$B568)),\"\",INDEX(Data!T:T,Report!$B568))","v":""},{"$f":"IF(ISERROR(INDEX(Data!U:U,Report!$B568)),\"\",INDEX(Data!U:U,Report!$B568))","v":""},{"$f":"IF(ISERROR(INDEX(Data!V:V,Report!$B568)),\"\",INDEX(Data!V:V,Report!$B568))","v":""},null,"",""]
[565,{"$f":"IF(ISERROR(MATCH(A569,Data!A:A,0)),\"\",MATCH(A569,Data!A:A,0))","v":272},{"$f":"IF(ISERROR(INDEX(Data!I:I,Report!$B569)),\"\",INDEX(Data!I:I,Report!$B569))","v":"00:45:27"},{"$f":"IF(ISERROR(INDEX(Data!J:J,Report!$B569)),\"\",INDEX(Data!J:J,Report!$B569))","v":"Game against Boomer at level 2.5  Single point data:"},{"$f":"IF(ISERROR(INDEX(Data!K:K,Report!$B569)),\"\",INDEX(Data!K:K,Report!$B569))","v":"Player's point"},{"$f":"IF(ISERROR(INDEX(Data!L:L,Report!$B569)),\"\",INDEX(Data!L:L,Report!$B569))","v":"New Point"},null,{"$f":"IF(ISERROR(INDEX(Data!N:N,Report!$B569)),\"\",INDEX(Data!N:N,Report!$B569))","v":1},{"$f":"IF(ISERROR(INDEX(Data!P:P,Report!$B569)),\"\",INDEX(Data!P:P,Report!$B569))","v":"Serve"},{"$f":"IF(ISERROR(INDEX(Data!O:O,Report!$B569)),\"\",INDEX(Data!O:O,Report!$B569))","v":3},{"$f":"IF(ISERROR(INDEX(Data!Q:Q,Report!$B569)),\"\",INDEX(Data!Q:Q,Report!$B569))","v":2.5},{"$f":"IF(ISERROR(INDEX(Data!R:R,Report!$B569)),\"\",INDEX(Data!R:R,Report!$B569))","v":28},{"$f":"IF(ISERROR(INDEX(Data!S:S,Report!$B569)),\"\",INDEX(Data!S:S,Report!$B569))","v":5},{"$f":"IF(ISERROR(INDEX(Data!T:T,Report!$B569)),\"\",INDEX(Data!T:T,Report!$B569))","v":5.3},{"$f":"IF(ISERROR(INDEX(Data!U:U,Report!$B569)),\"\",INDEX(Data!U:U,Report!$B569))","v":44},{"$f":"IF(ISERROR(INDEX(Data!V:V,Report!$B569)),\"\",INDEX(Data!V:V,Report!$B569))","v":4.4000000000000004},null,"                            |","||"]
[566,{"$f":"IF(ISERROR(MATCH(A570,Data!A:A,0)),\"\",MATCH(A570,Data!A:A,0))","v":273},{"$f":"IF(ISERROR(INDEX(Data!I:I,Report!$B570)),\"\",INDEX(Data!I:I,Report!$B570))","v":"00:45:27"},{"$f":"IF(ISERROR(INDEX(Data!J:J,Report!$B570)),\"\",INDEX(Data!J:J,Report!$B570))","v":"Game against Boomer at level 2.5  Single point data:"},{"$f":"IF(ISERROR(INDEX(Data!K:K,Report!$B570)),\"\",INDEX(Data!K:K,Report!$B570))","v":"Player's point"},{"$f":"IF(ISERROR(INDEX(Data!L:L,Report!$B570)),\"\",INDEX(Data!L:L,Report!$B570))","v":0},null,{"$f":"IF(ISERROR(INDEX(Data!N:N,Report!$B570)),\"\",INDEX(Data!N:N,Report!$B570))","v":2},{"$f":"IF(ISERROR(INDEX(Data!P:P,Report!$B570)),\"\",INDEX(Data!P:P,Report!$B570))","v":"Topspin"},{"$f":"IF(ISERROR(INDEX(Data!O:O,Report!$B570)),\"\",INDEX(Data!O:O,Report!$B570))","v":4},{"$f":"IF(ISERROR(INDEX(Data!Q:Q,Report!$B570)),\"\",INDEX(Data!Q:Q,Report!$B570))","v":2.5},{"$f":"IF(ISERROR(INDEX(Data!R:R,Report!$B570)),\"\",INDEX(Data!R:R,Report!$B570))","v":26},{"$f":"IF(ISERROR(INDEX(Data!S:S,Report!$B570)),\"\",INDEX(Data!S:S,Report!$B570))","v":25},{"$f":"IF(ISERROR(INDEX(Data!T:T,Report!$B570)),\"\",INDEX(Data!T:T,Report!$B570))","v":6.2},{"$f":"IF(ISERROR(INDEX(Data!U:U,Report!$B570)),\"\",INDEX(Data!U:U,Report!$B570))","v":49},{"$f":"IF(ISERROR(INDEX(Data!V:V,Report!$B570)),\"\",INDEX(Data!V:V,Report!$B570))","v":5.9},null,"                          |","||||||||||||"]
[567,{"$f":"IF(ISERROR(MATCH(A571,Data!A:A,0)),\"\",MATCH(A571,Data!A:A,0))","v":274},{"$f":"IF(ISERROR(INDEX(Data!I:I,Report!$B571)),\"\",INDEX(Data!I:I,Report!$B571))","v":" "},{"$f":"IF(ISERROR(INDEX(Data!J:J,Report!$B571)),\"\",INDEX(Data!J:J,Report!$B571))","v":"User Drill #188  3 line rated mini tennis"},{"$f":"IF(ISERROR(INDEX(Data!K:K,Report!$B571)),\"\",INDEX(Data!K:K,Report!$B571))","v":0},{"$f":"IF(ISERROR(INDEX(Data!L:L,Report!$B571)),\"\",INDEX(Data!L:L,Report!$B571))","v":0},null,{"$f":"IF(ISERROR(INDEX(Data!N:N,Report!$B571)),\"\",INDEX(Data!N:N,Report!$B571))","v":2},{"$f":"IF(ISERROR(INDEX(Data!P:P,Report!$B571)),\"\",INDEX(Data!P:P,Report!$B571))","v":0},{"$f":"IF(ISERROR(INDEX(Data!O:O,Report!$B571)),\"\",INDEX(Data!O:O,Report!$B571))","v":4},{"$f":"IF(ISERROR(INDEX(Data!Q:Q,Report!$B571)),\"\",INDEX(Data!Q:Q,Report!$B571))","v":3.5},{"$f":"IF(ISERROR(INDEX(Data!R:R,Report!$B571)),\"\",INDEX(Data!R:R,Report!$B571))","v":28},{"$f":"IF(ISERROR(INDEX(Data!S:S,Report!$B571)),\"\",INDEX(Data!S:S,Report!$B571))","v":16},{"$f":"IF(ISERROR(INDEX(Data!T:T,Report!$B571)),\"\",INDEX(Data!T:T,Report!$B571))","v":4.3},{"$f":"IF(ISERROR(INDEX(Data!U:U,Report!$B571)),\"\",INDEX(Data!U:U,Report!$B571))","v":27},{"$f":"IF(ISERROR(INDEX(Data!V:V,Report!$B571)),\"\",INDEX(Data!V:V,Report!$B571))","v":4},null,{"$f":"IF(H571=0,\"\",IF(ISERROR(REPT(\" \",L571) & \"|\"),\"\",REPT(\" \",L571) & \"|\"))","v":"                            |"},"||||||||"]
[568,{"$f":"IF(ISERROR(MATCH(A572,Data!A:A,0)),\"\",MATCH(A572,Data!A:A,0))","v":275},{"$f":"IF(ISERROR(INDEX(Data!I:I,Report!$B572)),\"\",INDEX(Data!I:I,Report!$B572))","v":" "},{"$f":"IF(ISERROR(INDEX(Data!J:J,Report!$B572)),\"\",INDEX(Data!J:J,Report!$B572))","v":"User Drill #188  3 line rated mini tennis"},{"$f":"IF(ISERROR(INDEX(Data!K:K,Report!$B572)),\"\",INDEX(Data!K:K,Report!$B572))","v":0},{"$f":"IF(ISERROR(INDEX(Data!L:L,Report!$B572)),\"\",INDEX(Data!L:L,Report!$B572))","v":0},null,{"$f":"IF(ISERROR(INDEX(Data!N:N,Report!$B572)),\"\",INDEX(Data!N:N,Report!$B572))","v":3},{"$f":"IF(ISERROR(INDEX(Data!P:P,Report!$B572)),\"\",INDEX(Data!P:P,Report!$B572))","v":0},{"$f":"IF(ISERROR(INDEX(Data!O:O,Report!$B572)),\"\",INDEX(Data!O:O,Report!$B572))","v":10},{"$f":"IF(ISERROR(INDEX(Data!Q:Q,Report!$B572)),\"\",INDEX(Data!Q:Q,Report!$B572))","v":3.5},{"$f":"IF(ISERROR(INDEX(Data!R:R,Report!$B572)),\"\",INDEX(Data!R:R,Report!$B572))","v":0},{"$f":"IF(ISERROR(INDEX(Data!S:S,Report!$B572)),\"\",INDEX(Data!S:S,Report!$B572))","v":0},{"$f":"IF(ISERROR(INDEX(Data!T:T,Report!$B572)),\"\",INDEX(Data!T:T,Report!$B572))","v":0},{"$f":"IF(ISERROR(INDEX(Data!U:U,Report!$B572)),\"\",INDEX(Data!U:U,Report!$B572))","v":0},{"$f":"IF(ISERROR(INDEX(Data!V:V,Report!$B572)),\"\",INDEX(Data!V:V,Report!$B572))","v":0},null,"|",""]
[569,{"$f":"IF(ISERROR(MATCH(A573,Data!A:A,0)),\"\",MATCH(A573,Data!A:A,0))","v":""},{"$f":"IF(ISERROR(INDEX(Data!I:I,Report!$B573)),\"\",INDEX(Data!I:I,Report!$B573))","v":""},{"$f":"IF(ISERROR(INDEX(Data!J:J,Report!$B573)),\"\",INDEX(Data!J:J,Report!$B573))","v":""},{"$f":"IF(ISERROR(INDEX(Data!K:K,Report!$B573)),\"\",INDEX(Data!K:K,Report!$B573))","v":""},{"$f":"IF(ISERROR(INDEX(Data!L:L,Report!$B573)),\"\",INDEX(Data!L:L,Report!$B573))","v":""},null,{"$f":"IF(ISERROR(INDEX(Data!N:N,Report!$B573)),\"\",INDEX(Data!N:N,Report!$B573))","v":""},{"$f":"IF(ISERROR(INDEX(Data!P:P,Report!$B573)),\"\",INDEX(Data!P:P,Report!$B573))","v":""},{"$f":"IF(ISERROR(INDEX(Data!O:O,Report!$B573)),\"\",INDEX(Data!O:O,Report!$B573))","v":""},{"$f":"IF(ISERROR(INDEX(Data!Q:Q,Report!$B573)),\"\",INDEX(Data!Q:Q,Report!$B573))","v":""},{"$f":"IF(ISERROR(INDEX(Data!R:R,Report!$B573)),\"\",INDEX(Data!R:R,Report!$B573))","v":""},{"$f":"IF(ISERROR(INDEX(Data!S:S,Report!$B573)),\"\",INDEX(Data!S:S,Report!$B573))","v":""},{"$f":"IF(ISERROR(INDEX(Data!T:T,Report!$B573)),\"\",INDEX(Data!T:T,Report!$B573))","v":""},{"$f":"IF(ISERROR(INDEX(Data!U:U,Report!$B573)),\"\",INDEX(Data!U:U,Report!$B573))","v":""},{"$f":"IF(ISERROR(INDEX(Data!V:V,Report!$B573)),\"\",INDEX(Data!V:V,Report!$B573))","v":""},null,"",""]
[570,{"$f":"IF(ISERROR(MATCH(A574,Data!A:A,0)),\"\",MATCH(A574,Data!A:A,0))","v":""},{"$f":"IF(ISERROR(INDEX(Data!I:I,Report!$B574)),\"\",INDEX(Data!I:I,Report!$B574))","v":""},{"$f":"IF(ISERROR(INDEX(Data!J:J,Report!$B574)),\"\",INDEX(Data!J:J,Report!$B574))","v":""},{"$f":"IF(ISERROR(INDEX(Data!K:K,Report!$B574)),\"\",INDEX(Data!K:K,Report!$B574))","v":""},{"$f":"IF(ISERROR(INDEX(Data!L:L,Report!$B574)),\"\",INDEX(Data!L:L,Report!$B574))","v":""},null,{"$f":"IF(ISERROR(INDEX(Data!N:N,Report!$B574)),\"\",INDEX(Data!N:N,Report!$B574))","v":""},{"$f":"IF(ISERROR(INDEX(Data!P:P,Report!$B574)),\"\",INDEX(Data!P:P,Report!$B574))","v":""},{"$f":"IF(ISERROR(INDEX(Data!O:O,Report!$B574)),\"\",INDEX(Data!O:O,Report!$B574))","v":""},{"$f":"IF(ISERROR(INDEX(Data!Q:Q,Report!$B574)),\"\",INDEX(Data!Q:Q,Report!$B574))","v":""},{"$f":"IF(ISERROR(INDEX(Data!R:R,Report!$B574)),\"\",INDEX(Data!R:R,Report!$B574))","v":""},{"$f":"IF(ISERROR(INDEX(Data!S:S,Report!$B574)),\"\",INDEX(Data!S:S,Report!$B574))","v":""},{"$f":"IF(ISERROR(INDEX(Data!T:T,Report!$B574)),\"\",INDEX(Data!T:T,Report!$B574))","v":""},{"$f":"IF(ISERROR(INDEX(Data!U:U,Report!$B574)),\"\",INDEX(Data!U:U,Report!$B574))","v":""},{"$f":"IF(ISERROR(INDEX(Data!V:V,Report!$B574)),\"\",INDEX(Data!V:V,Report!$B574))","v":""},null,"",""]
[571,{"$f":"IF(ISERROR(MATCH(A575,Data!A:A,0)),\"\",MATCH(A575,Data!A:A,0))","v":""},{"$f":"IF(ISERROR(INDEX(Data!I:I,Report!$B575)),\"\",INDEX(Data!I:I,Report!$B575))","v":""},{"$f":"IF(ISERROR(INDEX(Data!J:J,Report!$B575)),\"\",INDEX(Data!J:J,Report!$B575))","v":""},{"$f":"IF(ISERROR(INDEX(Data!K:K,Report!$B575)),\"\",INDEX(Data!K:K,Report!$B575))","v":""},{"$f":"IF(ISERROR(INDEX(Data!L:L,Report!$B575)),\"\",INDEX(Data!L:L,Report!$B575))","v":""},null,{"$f":"IF(ISERROR(INDEX(Data!N:N,Report!$B575)),\"\",INDEX(Data!N:N,Report!$B575))","v":""},{"$f":"IF(ISERROR(INDEX(Data!P:P,Report!$B575)),\"\",INDEX(Data!P:P,Report!$B575))","v":""},{"$f":"IF(ISERROR(INDEX(Data!O:O,Report!$B575)),\"\",INDEX(Data!O:O,Report!$B575))","v":""},{"$f":"IF(ISERROR(INDEX(Data!Q:Q,Report!$B575)),\"\",INDEX(Data!Q:Q,Report!$B575))","v":""},{"$f":"IF(ISERROR(INDEX(Data!R:R,Report!$B575)),\"\",INDEX(Data!R:R,Report!$B575))","v":""},{"$f":"IF(ISERROR(INDEX(Data!S:S,Report!$B575)),\"\",INDEX(Data!S:S,Report!$B575))","v":""},{"$f":"IF(ISERROR(INDEX(Data!T:T,Report!$B575)),\"\",INDEX(Data!T:T,Report!$B575))","v":""},{"$f":"IF(ISERROR(INDEX(Data!U:U,Report!$B575)),\"\",INDEX(Data!U:U,Report!$B575))","v":""},{"$f":"IF(ISERROR(INDEX(Data!V:V,Report!$B575)),\"\",INDEX(Data!V:V,Report!$B575))","v":""},null,"",""]
[572,{"$f":"IF(ISERROR(MATCH(A576,Data!A:A,0)),\"\",MATCH(A576,Data!A:A,0))","v":276},{"$f":"IF(ISERROR(INDEX(Data!I:I,Report!$B576)),\"\",INDEX(Data!I:I,Report!$B576))","v":" "},{"$f":"IF(ISERROR(INDEX(Data!J:J,Report!$B576)),\"\",INDEX(Data!J:J,Report!$B576))","v":"User Drill #188  3 line rated mini tennis"},{"$f":"IF(ISERROR(INDEX(Data!K:K,Report!$B576)),\"\",INDEX(Data!K:K,Report!$B576))","v":0},{"$f":"IF(ISERROR(INDEX(Data!L:L,Report!$B576)),\"\",INDEX(Data!L:L,Report!$B576))","v":"New Point"},null,{"$f":"IF(ISERROR(INDEX(Data!N:N,Report!$B576)),\"\",INDEX(Data!N:N,Report!$B576))","v":1},{"$f":"IF(ISERROR(INDEX(Data!P:P,Report!$B576)),\"\",INDEX(Data!P:P,Report!$B576))","v":0},{"$f":"IF(ISERROR(INDEX(Data!O:O,Report!$B576)),\"\",INDEX(Data!O:O,Report!$B576))","v":11},{"$f":"IF(ISERROR(INDEX(Data!Q:Q,Report!$B576)),\"\",INDEX(Data!Q:Q,Report!$B576))","v":3.5},{"$f":"IF(ISERROR(INDEX(Data!R:R,Report!$B576)),\"\",INDEX(Data!R:R,Report!$B576))","v":0},{"$f":"IF(ISERROR(INDEX(Data!S:S,Report!$B576)),\"\",INDEX(Data!S:S,Report!$B576))","v":0},{"$f":"IF(ISERROR(INDEX(Data!T:T,Report!$B576)),\"\",INDEX(Data!T:T,Report!$B576))","v":0},{"$f":"IF(ISERROR(INDEX(Data!U:U,Report!$B576)),\"\",INDEX(Data!U:U,Report!$B576))","v":0},{"$f":"IF(ISERROR(INDEX(Data!V:V,Report!$B576)),\"\",INDEX(Data!V:V,Report!$B576))","v":0},null,"|",""]
[573,{"$f":"IF(ISERROR(MATCH(A577,Data!A:A,0)),\"\",MATCH(A577,Data!A:A,0))","v":""},{"$f":"IF(ISERROR(INDEX(Data!I:I,Report!$B577)),\"\",INDEX(Data!I:I,Report!$B577))","v":""},{"$f":"IF(ISERROR(INDEX(Data!J:J,Report!$B577)),\"\",INDEX(Data!J:J,Report!$B577))","v":""},{"$f":"IF(ISERROR(INDEX(Data!K:K,Report!$B577)),\"\",INDEX(Data!K:K,Report!$B577))","v":""},{"$f":"IF(ISERROR(INDEX(Data!L:L,Report!$B577)),\"\",INDEX(Data!L:L,Report!$B577))","v":""},null,{"$f":"IF(ISERROR(INDEX(Data!N:N,Report!$B577)),\"\",INDEX(Data!N:N,Report!$B577))","v":""},{"$f":"IF(ISERROR(INDEX(Data!P:P,Report!$B577)),\"\",INDEX(Data!P:P,Report!$B577))","v":""},{"$f":"IF(ISERROR(INDEX(Data!O:O,Report!$B577)),\"\",INDEX(Data!O:O,Report!$B577))","v":""},{"$f":"IF(ISERROR(INDEX(Data!Q:Q,Report!$B577)),\"\",INDEX(Data!Q:Q,Report!$B577))","v":""},{"$f":"IF(ISERROR(INDEX(Data!R:R,Report!$B577)),\"\",INDEX(Data!R:R,Report!$B577))","v":""},{"$f":"IF(ISERROR(INDEX(Data!S:S,Report!$B577)),\"\",INDEX(Data!S:S,Report!$B577))","v":""},{"$f":"IF(ISERROR(INDEX(Data!T:T,Report!$B577)),\"\",INDEX(Data!T:T,Report!$B577))","v":""},{"$f":"IF(ISERROR(INDEX(Data!U:U,Report!$B577)),\"\",INDEX(Data!U:U,Report!$B577))","v":""},{"$f":"IF(ISERROR(INDEX(Data!V:V,Report!$B577)),\"\",INDEX(Data!V:V,Report!$B577))","v":""},null,"",""]
[574,{"$f":"IF(ISERROR(MATCH(A578,Data!A:A,0)),\"\",MATCH(A578,Data!A:A,0))","v":""},{"$f":"IF(ISERROR(INDEX(Data!I:I,Report!$B578)),\"\",INDEX(Data!I:I,Report!$B578))","v":""},{"$f":"IF(ISERROR(INDEX(Data!J:J,Report!$B578)),\"\",INDEX(Data!J:J,Report!$B578))","v":""},{"$f":"IF(ISERROR(INDEX(Data!K:K,Report!$B578)),\"\",INDEX(Data!K:K,Report!$B578))","v":""},{"$f":"IF(ISERROR(INDEX(Data!L:L,Report!$B578)),\"\",INDEX(Data!L:L,Report!$B578))","v":""},null,{"$f":"IF(ISERROR(INDEX(Data!N:N,Report!$B578)),\"\",INDEX(Data!N:N,Report!$B578))","v":""},{"$f":"IF(ISERROR(INDEX(Data!P:P,Report!$B578)),\"\",INDEX(Data!P:P,Report!$B578))","v":""},{"$f":"IF(ISERROR(INDEX(Data!O:O,Report!$B578)),\"\",INDEX(Data!O:O,Report!$B578))","v":""},{"$f":"IF(ISERROR(INDEX(Data!Q:Q,Report!$B578)),\"\",INDEX(Data!Q:Q,Report!$B578))","v":""},{"$f":"IF(ISERROR(INDEX(Data!R:R,Report!$B578)),\"\",INDEX(Data!R:R,Report!$B578))","v":""},{"$f":"IF(ISERROR(INDEX(Data!S:S,Report!$B578)),\"\",INDEX(Data!S:S,Report!$B578))","v":""},{"$f":"IF(ISERROR(INDEX(Data!T:T,Report!$B578)),\"\",INDEX(Data!T:T,Report!$B578))","v":""},{"$f":"IF(ISERROR(INDEX(Data!U:U,Report!$B578)),\"\",INDEX(Data!U:U,Report!$B578))","v":""},{"$f":"IF(ISERROR(INDEX(Data!V:V,Report!$B578)),\"\",INDEX(Data!V:V,Report!$B578))","v":""},null,"",""]
[575,{"$f":"IF(ISERROR(MATCH(A579,Data!A:A,0)),\"\",MATCH(A579,Data!A:A,0))","v":""},{"$f":"IF(ISERROR(INDEX(Data!I:I,Report!$B579)),\"\",INDEX(Data!I:I,Report!$B579))","v":""},{"$f":"IF(ISERROR(INDEX(Data!J:J,Report!$B579)),\"\",INDEX(Data!J:J,Report!$B579))","v":""},{"$f":"IF(ISERROR(INDEX(Data!K:K,Report!$B579)),\"\",INDEX(Data!K:K,Report!$B579))","v":""},{"$f":"IF(ISERROR(INDEX(Data!L:L,Report!$B579)),\"\",INDEX(Data!L:L,Report!$B579))","v":""},null,{"$f":"IF(ISERROR(INDEX(Data!N:N,Report!$B579)),\"\",INDEX(Data!N:N,Report!$B579))","v":""},{"$f":"IF(ISERROR(INDEX(Data!P:P,Report!$B579)),\"\",INDEX(Data!P:P,Report!$B579))","v":""},{"$f":"IF(ISERROR(INDEX(Data!O:O,Report!$B579)),\"\",INDEX(Data!O:O,Report!$B579))","v":""},{"$f":"IF(ISERROR(INDEX(Data!Q:Q,Report!$B579)),\"\",INDEX(Data!Q:Q,Report!$B579))","v":""},{"$f":"IF(ISERROR(INDEX(Data!R:R,Report!$B579)),\"\",INDEX(Data!R:R,Report!$B579))","v":""},{"$f":"IF(ISERROR(INDEX(Data!S:S,Report!$B579)),\"\",INDEX(Data!S:S,Report!$B579))","v":""},{"$f":"IF(ISERROR(INDEX(Data!T:T,Report!$B579)),\"\",INDEX(Data!T:T,Report!$B579))","v":""},{"$f":"IF(ISERROR(INDEX(Data!U:U,Report!$B579)),\"\",INDEX(Data!U:U,Report!$B579))","v":""},{"$f":"IF(ISERROR(INDEX(Data!V:V,Report!$B579)),\"\",INDEX(Data!V:V,Report!$B579))","v":""},null,"",""]
[576,{"$f":"IF(ISERROR(MATCH(A580,Data!A:A,0)),\"\",MATCH(A580,Data!A:A,0))","v":277},{"$f":"IF(ISERROR(INDEX(Data!I:I,Report!$B580)),\"\",INDEX(Data!I:I,Report!$B580))","v":"00:45:55"},{"$f":"IF(ISERROR(INDEX(Data!J:J,Report!$B580)),\"\",INDEX(Data!J:J,Report!$B580))","v":"Game against Boomer at level 2.5  Single point data:"},{"$f":"IF(ISERROR(INDEX(Data!K:K,Report!$B580)),\"\",INDEX(Data!K:K,Report!$B580))","v":"Player's point"},{"$f":"IF(ISERROR(INDEX(Data!L:L,Report!$B580)),\"\",INDEX(Data!L:L,Report!$B580))","v":"New Point"},null,{"$f":"IF(ISERROR(INDEX(Data!N:N,Report!$B580)),\"\",INDEX(Data!N:N,Report!$B580))","v":1},{"$f":"IF(ISERROR(INDEX(Data!P:P,Report!$B580)),\"\",INDEX(Data!P:P,Report!$B580))","v":"Serve"},{"$f":"IF(ISERROR(INDEX(Data!O:O,Report!$B580)),\"\",INDEX(Data!O:O,Report!$B580))","v":8},{"$f":"IF(ISERROR(INDEX(Data!Q:Q,Report!$B580)),\"\",INDEX(Data!Q:Q,Report!$B580))","v":2.5},{"$f":"IF(ISERROR(INDEX(Data!R:R,Report!$B580)),\"\",INDEX(Data!R:R,Report!$B580))","v":34},{"$f":"IF(ISERROR(INDEX(Data!S:S,Report!$B580)),\"\",INDEX(Data!S:S,Report!$B580))","v":2},{"$f":"IF(ISERROR(INDEX(Data!T:T,Report!$B580)),\"\",INDEX(Data!T:T,Report!$B580))","v":6.5},{"$f":"IF(ISERROR(INDEX(Data!U:U,Report!$B580)),\"\",INDEX(Data!U:U,Report!$B580))","v":44},{"$f":"IF(ISERROR(INDEX(Data!V:V,Report!$B580)),\"\",INDEX(Data!V:V,Report!$B580))","v":5},null,"                                  |","|"]
[577,{"$f":"IF(ISERROR(MATCH(A581,Data!A:A,0)),\"\",MATCH(A581,Data!A:A,0))","v":278},{"$f":"IF(ISERROR(INDEX(Data!I:I,Report!$B581)),\"\",INDEX(Data!I:I,Report!$B581))","v":"00:45:55"},{"$f":"IF(ISERROR(INDEX(Data!J:J,Report!$B581)),\"\",INDEX(Data!J:J,Report!$B581))","v":"Game against Boomer at level 2.5  Single point data:"},{"$f":"IF(ISERROR(INDEX(Data!K:K,Report!$B581)),\"\",INDEX(Data!K:K,Report!$B581))","v":"Player's point"},{"$f":"IF(ISERROR(INDEX(Data!L:L,Report!$B581)),\"\",INDEX(Data!L:L,Report!$B581))","v":0},null,{"$f":"IF(ISERROR(INDEX(Data!N:N,Report!$B581)),\"\",INDEX(Data!N:N,Report!$B581))","v":2},{"$f":"IF(ISERROR(INDEX(Data!P:P,Report!$B581)),\"\",INDEX(Data!P:P,Report!$B581))","v":"Heavy Topspin"},{"$f":"IF(ISERROR(INDEX(Data!O:O,Report!$B581)),\"\",INDEX(Data!O:O,Report!$B581))","v":4},{"$f":"IF(ISERROR(INDEX(Data!Q:Q,Report!$B581)),\"\",INDEX(Data!Q:Q,Report!$B581))","v":2.5},{"$f":"IF(ISERROR(INDEX(Data!R:R,Report!$B581)),\"\",INDEX(Data!R:R,Report!$B581))","v":30},{"$f":"IF(ISERROR(INDEX(Data!S:S,Report!$B581)),\"\",INDEX(Data!S:S,Report!$B581))","v":22},{"$f":"IF(ISERROR(INDEX(Data!T:T,Report!$B581)),\"\",INDEX(Data!T:T,Report!$B581))","v":5.6},{"$f":"IF(ISERROR(INDEX(Data!U:U,Report!$B581)),\"\",INDEX(Data!U:U,Report!$B581))","v":43},{"$f":"IF(ISERROR(INDEX(Data!V:V,Report!$B581)),\"\",INDEX(Data!V:V,Report!$B581))","v":5.3},null,"                              |","|||||||||||"]
[578,{"$f":"IF(ISERROR(MATCH(A582,Data!A:A,0)),\"\",MATCH(A582,Data!A:A,0))","v":279},{"$f":"IF(ISERROR(INDEX(Data!I:I,Report!$B582)),\"\",INDEX(Data!I:I,Report!$B582))","v":" "},{"$f":"IF(ISERROR(INDEX(Data!J:J,Report!$B582)),\"\",INDEX(Data!J:J,Report!$B582))","v":"User Drill #188  3 line rated mini tennis"},{"$f":"IF(ISERROR(INDEX(Data!K:K,Report!$B582)),\"\",INDEX(Data!K:K,Report!$B582))","v":0},{"$f":"IF(ISERROR(INDEX(Data!L:L,Report!$B582)),\"\",INDEX(Data!L:L,Report!$B582))","v":0},null,{"$f":"IF(ISERROR(INDEX(Data!N:N,Report!$B582)),\"\",INDEX(Data!N:N,Report!$B582))","v":2},{"$f":"IF(ISERROR(INDEX(Data!P:P,Report!$B582)),\"\",INDEX(Data!P:P,Report!$B582))","v":0},{"$f":"IF(ISERROR(INDEX(Data!O:O,Report!$B582)),\"\",INDEX(Data!O:O,Report!$B582))","v":4},{"$f":"IF(ISERROR(INDEX(Data!Q:Q,Report!$B582)),\"\",INDEX(Data!Q:Q,Report!$B582))","v":3.5},{"$f":"IF(ISERROR(INDEX(Data!R:R,Report!$B582)),\"\",INDEX(Data!R:R,Report!$B582))","v":23},{"$f":"IF(ISERROR(INDEX(Data!S:S,Report!$B582)),\"\",INDEX(Data!S:S,Report!$B582))","v":22},{"$f":"IF(ISERROR(INDEX(Data!T:T,Report!$B582)),\"\",INDEX(Data!T:T,Report!$B582))","v":4.9000000000000004},{"$f":"IF(ISERROR(INDEX(Data!U:U,Report!$B582)),\"\",INDEX(Data!U:U,Report!$B582))","v":34},{"$f":"IF(ISERROR(INDEX(Data!V:V,Report!$B582)),\"\",INDEX(Data!V:V,Report!$B582))","v":4.8},null,"                       |",{"$f":"IF(ISERROR(REPT(\"|\",M582/2)),\"\",REPT(\"|\",M582/2))","v":"|||||||||||"}]
[{"$f":"A582+1","v":579},{"$f":"IF(ISERROR(MATCH(A583,Data!A:A,0)),\"\",MATCH(A583,Data!A:A,0))","v":280},{"$f":"IF(ISERROR(INDEX(Data!I:I,Report!$B583)),\"\",INDEX(Data!I:I,Report!$B583))","v":" "},{"$f":"IF(ISERROR(INDEX(Data!J:J,Report!$B583)),\"\",INDEX(Data!J:J,Report!$B583))","v":"User Drill #188  3 line rated mini tennis"},{"$f":"IF(ISERROR(INDEX(Data!K:K,Report!$B583)),\"\",INDEX(Data!K:K,Report!$B583))","v":0},{"$f":"IF(ISERROR(INDEX(Data!L:L,Report!$B583)),\"\",INDEX(Data!L:L,Report!$B583))","v":0},null,{"$f":"IF(ISERROR(INDEX(Data!N:N,Report!$B583)),\"\",INDEX(Data!N:N,Report!$B583))","v":3},{"$f":"IF(ISERROR(INDEX(Data!P:P,Report!$B583)),\"\",INDEX(Data!P:P,Report!$B583))","v":0},{"$f":"IF(ISERROR(INDEX(Data!O:O,Report!$B583)),\"\",INDEX(Data!O:O,Report!$B583))","v":10},{"$f":"IF(ISERROR(INDEX(Data!Q:Q,Report!$B583)),\"\",INDEX(Data!Q:Q,Report!$B583))","v":3.5},{"$f":"IF(ISERROR(INDEX(Data!R:R,Report!$B583)),\"\",INDEX(Data!R:R,Report!$B583))","v":0},{"$f":"IF(ISERROR(INDEX(Data!S:S,Report!$B583)),\"\",INDEX(Data!S:S,Report!$B583))","v":0},{"$f":"IF(ISERROR(INDEX(Data!T:T,Report!$B583)),\"\",INDEX(Data!T:T,Report!$B583))","v":0},{"$f":"IF(ISERROR(INDEX(Data!U:U,Report!$B583)),\"\",INDEX(Data!U:U,Report!$B583))","v":0},{"$f":"IF(ISERROR(INDEX(Data!V:V,Report!$B583)),\"\",INDEX(Data!V:V,Report!$B583))","v":0},null,"|",""]
[580,{"$f":"IF(ISERROR(MATCH(A584,Data!A:A,0)),\"\",MATCH(A584,Data!A:A,0))","v":""},{"$f":"IF(ISERROR(INDEX(Data!I:I,Report!$B584)),\"\",INDEX(Data!I:I,Report!$B584))","v":""},{"$f":"IF(ISERROR(INDEX(Data!J:J,Report!$B584)),\"\",INDEX(Data!J:J,Report!$B584))","v":""},{"$f":"IF(ISERROR(INDEX(Data!K:K,Report!$B584)),\"\",INDEX(Data!K:K,Report!$B584))","v":""},{"$f":"IF(ISERROR(INDEX(Data!L:L,Report!$B584)),\"\",INDEX(Data!L:L,Report!$B584))","v":""},null,{"$f":"IF(ISERROR(INDEX(Data!N:N,Report!$B584)),\"\",INDEX(Data!N:N,Report!$B584))","v":""},{"$f":"IF(ISERROR(INDEX(Data!P:P,Report!$B584)),\"\",INDEX(Data!P:P,Report!$B584))","v":""},{"$f":"IF(ISERROR(INDEX(Data!O:O,Report!$B584)),\"\",INDEX(Data!O:O,Report!$B584))","v":""},{"$f":"IF(ISERROR(INDEX(Data!Q:Q,Report!$B584)),\"\",INDEX(Data!Q:Q,Report!$B584))","v":""},{"$f":"IF(ISERROR(INDEX(Data!R:R,Report!$B584)),\"\",INDEX(Data!R:R,Report!$B584))","v":""},{"$f":"IF(ISERROR(INDEX(Data!S:S,Report!$B584)),\"\",INDEX(Data!S:S,Report!$B584))","v":""},{"$f":"IF(ISERROR(INDEX(Data!T:T,Report!$B584)),\"\",INDEX(Data!T:T,Report!$B584))","v":""},{"$f":"IF(ISERROR(INDEX(Data!U:U,Report!$B584)),\"\",INDEX(Data!U:U,Report!$B584))","v":""},{"$f":"IF(ISERROR(INDEX(Data!V:V,Report!$B584)),\"\",INDEX(Data!V:V,Report!$B584))","v":""},null,"",""]
[581,{"$f":"IF(ISERROR(MATCH(A585,Data!A:A,0)),\"\",MATCH(A585,Data!A:A,0))","v":""},{"$f":"IF(ISERROR(INDEX(Data!I:I,Report!$B585)),\"\",INDEX(Data!I:I,Report!$B585))","v":""},{"$f":"IF(ISERROR(INDEX(Data!J:J,Report!$B585)),\"\",INDEX(Data!J:J,Report!$B585))","v":""},{"$f":"IF(ISERROR(INDEX(Data!K:K,Report!$B585)),\"\",INDEX(Data!K:K,Report!$B585))","v":""},{"$f":"IF(ISERROR(INDEX(Data!L:L,Report!$B585)),\"\",INDEX(Data!L:L,Report!$B585))","v":""},null,{"$f":"IF(ISERROR(INDEX(Data!N:N,Report!$B585)),\"\",INDEX(Data!N:N,Report!$B585))","v":""},{"$f":"IF(ISERROR(INDEX(Data!P:P,Report!$B585)),\"\",INDEX(Data!P:P,Report!$B585))","v":""},{"$f":"IF(ISERROR(INDEX(Data!O:O,Report!$B585)),\"\",INDEX(Data!O:O,Report!$B585))","v":""},{"$f":"IF(ISERROR(INDEX(Data!Q:Q,Report!$B585)),\"\",INDEX(Data!Q:Q,Report!$B585))","v":""},{"$f":"IF(ISERROR(INDEX(Data!R:R,Report!$B585)),\"\",INDEX(Data!R:R,Report!$B585))","v":""},{"$f":"IF(ISERROR(INDEX(Data!S:S,Report!$B585)),\"\",INDEX(Data!S:S,Report!$B585))","v":""},{"$f":"IF(ISERROR(INDEX(Data!T:T,Report!$B585)),\"\",INDEX(Data!T:T,Report!$B585))","v":""},{"$f":"IF(ISERROR(INDEX(Data!U:U,Report!$B585)),\"\",INDEX(Data!U:U,Report!$B585))","v":""},{"$f":"IF(ISERROR(INDEX(Data!V:V,Report!$B585)),\"\",INDEX(Data!V:V,Report!$B585))","v":""},null,"",""]
[582,{"$f":"IF(ISERROR(MATCH(A586,Data!A:A,0)),\"\",MATCH(A586,Data!A:A,0))","v":""},{"$f":"IF(ISERROR(INDEX(Data!I:I,Report!$B586)),\"\",INDEX(Data!I:I,Report!$B586))","v":""},{"$f":"IF(ISERROR(INDEX(Data!J:J,Report!$B586)),\"\",INDEX(Data!J:J,Report!$B586))","v":""},{"$f":"IF(ISERROR(INDEX(Data!K:K,Report!$B586)),\"\",INDEX(Data!K:K,Report!$B586))","v":""},{"$f":"IF(ISERROR(INDEX(Data!L:L,Report!$B586)),\"\",INDEX(Data!L:L,Report!$B586))","v":""},null,{"$f":"IF(ISERROR(INDEX(Data!N:N,Report!$B586)),\"\",INDEX(Data!N:N,Report!$B586))","v":""},{"$f":"IF(ISERROR(INDEX(Data!P:P,Report!$B586)),\"\",INDEX(Data!P:P,Report!$B586))","v":""},{"$f":"IF(ISERROR(INDEX(Data!O:O,Report!$B586)),\"\",INDEX(Data!O:O,Report!$B586))","v":""},{"$f":"IF(ISERROR(INDEX(Data!Q:Q,Report!$B586)),\"\",INDEX(Data!Q:Q,Report!$B586))","v":""},{"$f":"IF(ISERROR(INDEX(Data!R:R,Report!$B586)),\"\",INDEX(Data!R:R,Report!$B586))","v":""},{"$f":"IF(ISERROR(INDEX(Data!S:S,Report!$B586)),\"\",INDEX(Data!S:S,Report!$B586))","v":""},{"$f":"IF(ISERROR(INDEX(Data!T:T,Report!$B586)),\"\",INDEX(Data!T:T,Report!$B586))","v":""},{"$f":"IF(ISERROR(INDEX(Data!U:U,Report!$B586)),\"\",INDEX(Data!U:U,Report!$B586))","v":""},{"$f":"IF(ISERROR(INDEX(Data!V:V,Report!$B586)),\"\",INDEX(Data!V:V,Report!$B586))","v":""},null,"",""]
[583,{"$f":"IF(ISERROR(MATCH(A587,Data!A:A,0)),\"\",MATCH(A587,Data!A:A,0))","v":281},{"$f":"IF(ISERROR(INDEX(Data!I:I,Report!$B587)),\"\",INDEX(Data!I:I,Report!$B587))","v":"00:46:15"},{"$f":"IF(ISERROR(INDEX(Data!J:J,Report!$B587)),\"\",INDEX(Data!J:J,Report!$B587))","v":"Game against Boomer at level 2.5  Single point data:"},{"$f":"IF(ISERROR(INDEX(Data!K:K,Report!$B587)),\"\",INDEX(Data!K:K,Report!$B587))","v":"Player's point"},{"$f":"IF(ISERROR(INDEX(Data!L:L,Report!$B587)),\"\",INDEX(Data!L:L,Report!$B587))","v":"New Point"},null,{"$f":"IF(ISERROR(INDEX(Data!N:N,Report!$B587)),\"\",INDEX(Data!N:N,Report!$B587))","v":1},{"$f":"IF(ISERROR(INDEX(Data!P:P,Report!$B587)),\"\",INDEX(Data!P:P,Report!$B587))","v":"Player Serve"},{"$f":"IF(ISERROR(INDEX(Data!O:O,Report!$B587)),\"\",INDEX(Data!O:O,Report!$B587))","v":4},{"$f":"IF(ISERROR(INDEX(Data!Q:Q,Report!$B587)),\"\",INDEX(Data!Q:Q,Report!$B587))","v":2.5},{"$f":"IF(ISERROR(INDEX(Data!R:R,Report!$B587)),\"\",INDEX(Data!R:R,Report!$B587))","v":11},{"$f":"IF(ISERROR(INDEX(Data!S:S,Report!$B587)),\"\",INDEX(Data!S:S,Report!$B587))","v":15},{"$f":"IF(ISERROR(INDEX(Data!T:T,Report!$B587)),\"\",INDEX(Data!T:T,Report!$B587))","v":4.4000000000000004},{"$f":"IF(ISERROR(INDEX(Data!U:U,Report!$B587)),\"\",INDEX(Data!U:U,Report!$B587))","v":122},{"$f":"IF(ISERROR(INDEX(Data!V:V,Report!$B587)),\"\",INDEX(Data!V:V,Report!$B587))","v":5.7},null,"           |","|||||||"]
[584,{"$f":"IF(ISERROR(MATCH(A588,Data!A:A,0)),\"\",MATCH(A588,Data!A:A,0))","v":""},{"$f":"IF(ISERROR(INDEX(Data!I:I,Report!$B588)),\"\",INDEX(Data!I:I,Report!$B588))","v":""},{"$f":"IF(ISERROR(INDEX(Data!J:J,Report!$B588)),\"\",INDEX(Data!J:J,Report!$B588))","v":""},{"$f":"IF(ISERROR(INDEX(Data!K:K,Report!$B588)),\"\",INDEX(Data!K:K,Report!$B588))","v":""},{"$f":"IF(ISERROR(INDEX(Data!L:L,Report!$B588)),\"\",INDEX(Data!L:L,Report!$B588))","v":""},null,{"$f":"IF(ISERROR(INDEX(Data!N:N,Report!$B588)),\"\",INDEX(Data!N:N,Report!$B588))","v":""},{"$f":"IF(ISERROR(INDEX(Data!P:P,Report!$B588)),\"\",INDEX(Data!P:P,Report!$B588))","v":""},{"$f":"IF(ISERROR(INDEX(Data!O:O,Report!$B588)),\"\",INDEX(Data!O:O,Report!$B588))","v":""},{"$f":"IF(ISERROR(INDEX(Data!Q:Q,Report!$B588)),\"\",INDEX(Data!Q:Q,Report!$B588))","v":""},{"$f":"IF(ISERROR(INDEX(Data!R:R,Report!$B588)),\"\",INDEX(Data!R:R,Report!$B588))","v":""},{"$f":"IF(ISERROR(INDEX(Data!S:S,Report!$B588)),\"\",INDEX(Data!S:S,Report!$B588))","v":""},{"$f":"IF(ISERROR(INDEX(Data!T:T,Report!$B588)),\"\",INDEX(Data!T:T,Report!$B588))","v":""},{"$f":"IF(ISERROR(INDEX(Data!U:U,Report!$B588)),\"\",INDEX(Data!U:U,Report!$B588))","v":""},{"$f":"IF(ISERROR(INDEX(Data!V:V,Report!$B588)),\"\",INDEX(Data!V:V,Report!$B588))","v":""},null,"",""]
[585,{"$f":"IF(ISERROR(MATCH(A589,Data!A:A,0)),\"\",MATCH(A589,Data!A:A,0))","v":""},{"$f":"IF(ISERROR(INDEX(Data!I:I,Report!$B589)),\"\",INDEX(Data!I:I,Report!$B589))","v":""},{"$f":"IF(ISERROR(INDEX(Data!J:J,Report!$B589)),\"\",INDEX(Data!J:J,Report!$B589))","v":""},{"$f":"IF(ISERROR(INDEX(Data!K:K,Report!$B589)),\"\",INDEX(Data!K:K,Report!$B589))","v":""},{"$f":"IF(ISERROR(INDEX(Data!L:L,Report!$B589)),\"\",INDEX(Data!L:L,Report!$B589))","v":""},null,{"$f":"IF(ISERROR(INDEX(Data!N:N,Report!$B589)),\"\",INDEX(Data!N:N,Report!$B589))","v":""},{"$f":"IF(ISERROR(INDEX(Data!P:P,Report!$B589)),\"\",INDEX(Data!P:P,Report!$B589))","v":""},{"$f":"IF(ISERROR(INDEX(Data!O:O,Report!$B589)),\"\",INDEX(Data!O:O,Report!$B589))","v":""},{"$f":"IF(ISERROR(INDEX(Data!Q:Q,Report!$B589)),\"\",INDEX(Data!Q:Q,Report!$B589))","v":""},{"$f":"IF(ISERROR(INDEX(Data!R:R,Report!$B589)),\"\",INDEX(Data!R:R,Report!$B589))","v":""},{"$f":"IF(ISERROR(INDEX(Data!S:S,Report!$B589)),\"\",INDEX(Data!S:S,Report!$B589))","v":""},{"$f":"IF(ISERROR(INDEX(Data!T:T,Report!$B589)),\"\",INDEX(Data!T:T,Report!$B589))","v":""},{"$f":"IF(ISERROR(INDEX(Data!U:U,Report!$B589)),\"\",INDEX(Data!U:U,Report!$B589))","v":""},{"$f":"IF(ISERROR(INDEX(Data!V:V,Report!$B589)),\"\",INDEX(Data!V:V,Report!$B589))","v":""},null,"",""]
[586,{"$f":"IF(ISERROR(MATCH(A590,Data!A:A,0)),\"\",MATCH(A590,Data!A:A,0))","v":""},{"$f":"IF(ISERROR(INDEX(Data!I:I,Report!$B590)),\"\",INDEX(Data!I:I,Report!$B590))","v":""},{"$f":"IF(ISERROR(INDEX(Data!J:J,Report!$B590)),\"\",INDEX(Data!J:J,Report!$B590))","v":""},{"$f":"IF(ISERROR(INDEX(Data!K:K,Report!$B590)),\"\",INDEX(Data!K:K,Report!$B590))","v":""},{"$f":"IF(ISERROR(INDEX(Data!L:L,Report!$B590)),\"\",INDEX(Data!L:L,Report!$B590))","v":""},null,{"$f":"IF(ISERROR(INDEX(Data!N:N,Report!$B590)),\"\",INDEX(Data!N:N,Report!$B590))","v":""},{"$f":"IF(ISERROR(INDEX(Data!P:P,Report!$B590)),\"\",INDEX(Data!P:P,Report!$B590))","v":""},{"$f":"IF(ISERROR(INDEX(Data!O:O,Report!$B590)),\"\",INDEX(Data!O:O,Report!$B590))","v":""},{"$f":"IF(ISERROR(INDEX(Data!Q:Q,Report!$B590)),\"\",INDEX(Data!Q:Q,Report!$B590))","v":""},{"$f":"IF(ISERROR(INDEX(Data!R:R,Report!$B590)),\"\",INDEX(Data!R:R,Report!$B590))","v":""},{"$f":"IF(ISERROR(INDEX(Data!S:S,Report!$B590)),\"\",INDEX(Data!S:S,Report!$B590))","v":""},{"$f":"IF(ISERROR(INDEX(Data!T:T,Report!$B590)),\"\",INDEX(Data!T:T,Report!$B590))","v":""},{"$f":"IF(ISERROR(INDEX(Data!U:U,Report!$B590)),\"\",INDEX(Data!U:U,Report!$B590))","v":""},{"$f":"IF(ISERROR(INDEX(Data!V:V,Report!$B590)),\"\",INDEX(Data!V:V,Report!$B590))","v":""},null,"",""]
[587,{"$f":"IF(ISERROR(MATCH(A591,Data!A:A,0)),\"\",MATCH(A591,Data!A:A,0))","v":282},{"$f":"IF(ISERROR(INDEX(Data!I:I,Report!$B591)),\"\",INDEX(Data!I:I,Report!$B591))","v":" "},{"$f":"IF(ISERROR(INDEX(Data!J:J,Report!$B591)),\"\",INDEX(Data!J:J,Report!$B591))","v":"User Drill #188  3 line rated mini tennis"},{"$f":"IF(ISERROR(INDEX(Data!K:K,Report!$B591)),\"\",INDEX(Data!K:K,Report!$B591))","v":0},{"$f":"IF(ISERROR(INDEX(Data!L:L,Report!$B591)),\"\",INDEX(Data!L:L,Report!$B591))","v":"New Point"},null,{"$f":"IF(ISERROR(INDEX(Data!N:N,Report!$B591)),\"\",INDEX(Data!N:N,Report!$B591))","v":1},{"$f":"IF(ISERROR(INDEX(Data!P:P,Report!$B591)),\"\",INDEX(Data!P:P,Report!$B591))","v":0},{"$f":"IF(ISERROR(INDEX(Data!O:O,Report!$B591)),\"\",INDEX(Data!O:O,Report!$B591))","v":11},{"$f":"IF(ISERROR(INDEX(Data!Q:Q,Report!$B591)),\"\",INDEX(Data!Q:Q,Report!$B591))","v":3.5},{"$f":"IF(ISERROR(INDEX(Data!R:R,Report!$B591)),\"\",INDEX(Data!R:R,Report!$B591))","v":0},{"$f":"IF(ISERROR(INDEX(Data!S:S,Report!$B591)),\"\",INDEX(Data!S:S,Report!$B591))","v":0},{"$f":"IF(ISERROR(INDEX(Data!T:T,Report!$B591)),\"\",INDEX(Data!T:T,Report!$B591))","v":0},{"$f":"IF(ISERROR(INDEX(Data!U:U,Report!$B591)),\"\",INDEX(Data!U:U,Report!$B591))","v":0},{"$f":"IF(ISERROR(INDEX(Data!V:V,Report!$B591)),\"\",INDEX(Data!V:V,Report!$B591))","v":0},null,"|",""]
[588,{"$f":"IF(ISERROR(MATCH(A592,Data!A:A,0)),\"\",MATCH(A592,Data!A:A,0))","v":283},{"$f":"IF(ISERROR(INDEX(Data!I:I,Report!$B592)),\"\",INDEX(Data!I:I,Report!$B592))","v":" "},{"$f":"IF(ISERROR(INDEX(Data!J:J,Report!$B592)),\"\",INDEX(Data!J:J,Report!$B592))","v":"User Drill #188  3 line rated mini tennis"},{"$f":"IF(ISERROR(INDEX(Data!K:K,Report!$B592)),\"\",INDEX(Data!K:K,Report!$B592))","v":0},{"$f":"IF(ISERROR(INDEX(Data!L:L,Report!$B592)),\"\",INDEX(Data!L:L,Report!$B592))","v":0},null,{"$f":"IF(ISERROR(INDEX(Data!N:N,Report!$B592)),\"\",INDEX(Data!N:N,Report!$B592))","v":2},{"$f":"IF(ISERROR(INDEX(Data!P:P,Report!$B592)),\"\",INDEX(Data!P:P,Report!$B592))","v":0},{"$f":"IF(ISERROR(INDEX(Data!O:O,Report!$B592)),\"\",INDEX(Data!O:O,Report!$B592))","v":4},{"$f":"IF(ISERROR(INDEX(Data!Q:Q,Report!$B592)),\"\",INDEX(Data!Q:Q,Report!$B592))","v":3.5},{"$f":"IF(ISERROR(INDEX(Data!R:R,Report!$B592)),\"\",INDEX(Data!R:R,Report!$B592))","v":0},{"$f":"IF(ISERROR(INDEX(Data!S:S,Report!$B592)),\"\",INDEX(Data!S:S,Report!$B592))","v":0},{"$f":"IF(ISERROR(INDEX(Data!T:T,Report!$B592)),\"\",INDEX(Data!T:T,Report!$B592))","v":0},{"$f":"IF(ISERROR(INDEX(Data!U:U,Report!$B592)),\"\",INDEX(Data!U:U,Report!$B592))","v":0},{"$f":"IF(ISERROR(INDEX(Data!V:V,Report!$B592)),\"\",INDEX(Data!V:V,Report!$B592))","v":0},null,"|",""]
[589,{"$f":"IF(ISERROR(MATCH(A593,Data!A:A,0)),\"\",MATCH(A593,Data!A:A,0))","v":284},{"$f":"IF(ISERROR(INDEX(Data!I:I,Report!$B593)),\"\",INDEX(Data!I:I,Report!$B593))","v":" "},{"$f":"IF(ISERROR(INDEX(Data!J:J,Report!$B593)),\"\",INDEX(Data!J:J,Report!$B593))","v":"User Drill #188  3 line rated mini tennis"},{"$f":"IF(ISERROR(INDEX(Data!K:K,Report!$B593)),\"\",INDEX(Data!K:K,Report!$B593))","v":0},{"$f":"IF(ISERROR(INDEX(Data!L:L,Report!$B593)),\"\",INDEX(Data!L:L,Report!$B593))","v":0},null,{"$f":"IF(ISERROR(INDEX(Data!N:N,Report!$B593)),\"\",INDEX(Data!N:N,Report!$B593))","v":3},{"$f":"IF(ISERROR(INDEX(Data!P:P,Report!$B593)),\"\",INDEX(Data!P:P,Report!$B593))","v":0},{"$f":"IF(ISERROR(INDEX(Data!O:O,Report!$B593)),\"\",INDEX(Data!O:O,Report!$B593))","v":10},{"$f":"IF(ISERROR(INDEX(Data!Q:Q,Report!$B593)),\"\",INDEX(Data!Q:Q,Report!$B593))","v":3.5},{"$f":"IF(ISERROR(INDEX(Data!R:R,Report!$B593)),\"\",INDEX(Data!R:R,Report!$B593))","v":38},{"$f":"IF(ISERROR(INDEX(Data!S:S,Report!$B593)),\"\",INDEX(Data!S:S,Report!$B593))","v":22},{"$f":"IF(ISERROR(INDEX(Data!T:T,Report!$B593)),\"\",INDEX(Data!T:T,Report!$B593))","v":7},{"$f":"IF(ISERROR(INDEX(Data!U:U,Report!$B593)),\"\",INDEX(Data!U:U,Report!$B593))","v":53},{"$f":"IF(ISERROR(INDEX(Data!V:V,Report!$B593)),\"\",INDEX(Data!V:V,Report!$B593))","v":7},null,"                                      |","|||||||||||"]
[590,{"$f":"IF(ISERROR(MATCH(A594,Data!A:A,0)),\"\",MATCH(A594,Data!A:A,0))","v":""},{"$f":"IF(ISERROR(INDEX(Data!I:I,Report!$B594)),\"\",INDEX(Data!I:I,Report!$B594))","v":""},{"$f":"IF(ISERROR(INDEX(Data!J:J,Report!$B594)),\"\",INDEX(Data!J:J,Report!$B594))","v":""},{"$f":"IF(ISERROR(INDEX(Data!K:K,Report!$B594)),\"\",INDEX(Data!K:K,Report!$B594))","v":""},{"$f":"IF(ISERROR(INDEX(Data!L:L,Report!$B594)),\"\",INDEX(Data!L:L,Report!$B594))","v":""},null,{"$f":"IF(ISERROR(INDEX(Data!N:N,Report!$B594)),\"\",INDEX(Data!N:N,Report!$B594))","v":""},{"$f":"IF(ISERROR(INDEX(Data!P:P,Report!$B594)),\"\",INDEX(Data!P:P,Report!$B594))","v":""},{"$f":"IF(ISERROR(INDEX(Data!O:O,Report!$B594)),\"\",INDEX(Data!O:O,Report!$B594))","v":""},{"$f":"IF(ISERROR(INDEX(Data!Q:Q,Report!$B594)),\"\",INDEX(Data!Q:Q,Report!$B594))","v":""},{"$f":"IF(ISERROR(INDEX(Data!R:R,Report!$B594)),\"\",INDEX(Data!R:R,Report!$B594))","v":""},{"$f":"IF(ISERROR(INDEX(Data!S:S,Report!$B594)),\"\",INDEX(Data!S:S,Report!$B594))","v":""},{"$f":"IF(ISERROR(INDEX(Data!T:T,Report!$B594)),\"\",INDEX(Data!T:T,Report!$B594))","v":""},{"$f":"IF(ISERROR(INDEX(Data!U:U,Report!$B594)),\"\",INDEX(Data!U:U,Report!$B594))","v":""},{"$f":"IF(ISERROR(INDEX(Data!V:V,Report!$B594)),\"\",INDEX(Data!V:V,Report!$B594))","v":""},null,"",""]
[591,{"$f":"IF(ISERROR(MATCH(A595,Data!A:A,0)),\"\",MATCH(A595,Data!A:A,0))","v":""},{"$f":"IF(ISERROR(INDEX(Data!I:I,Report!$B595)),\"\",INDEX(Data!I:I,Report!$B595))","v":""},{"$f":"IF(ISERROR(INDEX(Data!J:J,Report!$B595)),\"\",INDEX(Data!J:J,Report!$B595))","v":""},{"$f":"IF(ISERROR(INDEX(Data!K:K,Report!$B595)),\"\",INDEX(Data!K:K,Report!$B595))","v":""},{"$f":"IF(ISERROR(INDEX(Data!L:L,Report!$B595)),\"\",INDEX(Data!L:L,Report!$B595))","v":""},null,{"$f":"IF(ISERROR(INDEX(Data!N:N,Report!$B595)),\"\",INDEX(Data!N:N,Report!$B595))","v":""},{"$f":"IF(ISERROR(INDEX(Data!P:P,Report!$B595)),\"\",INDEX(Data!P:P,Report!$B595))","v":""},{"$f":"IF(ISERROR(INDEX(Data!O:O,Report!$B595)),\"\",INDEX(Data!O:O,Report!$B595))","v":""},{"$f":"IF(ISERROR(INDEX(Data!Q:Q,Report!$B595)),\"\",INDEX(Data!Q:Q,Report!$B595))","v":""},{"$f":"IF(ISERROR(INDEX(Data!R:R,Report!$B595)),\"\",INDEX(Data!R:R,Report!$B595))","v":""},{"$f":"IF(ISERROR(INDEX(Data!S:S,Report!$B595)),\"\",INDEX(Data!S:S,Report!$B595))","v":""},{"$f":"IF(ISERROR(INDEX(Data!T:T,Report!$B595)),\"\",INDEX(Data!T:T,Report!$B595))","v":""},{"$f":"IF(ISERROR(INDEX(Data!U:U,Report!$B595)),\"\",INDEX(Data!U:U,Report!$B595))","v":""},{"$f":"IF(ISERROR(INDEX(Data!V:V,Report!$B595)),\"\",INDEX(Data!V:V,Report!$B595))","v":""},null,"",""]
[592,{"$f":"IF(ISERROR(MATCH(A596,Data!A:A,0)),\"\",MATCH(A596,Data!A:A,0))","v":""},{"$f":"IF(ISERROR(INDEX(Data!I:I,Report!$B596)),\"\",INDEX(Data!I:I,Report!$B596))","v":""},{"$f":"IF(ISERROR(INDEX(Data!J:J,Report!$B596)),\"\",INDEX(Data!J:J,Report!$B596))","v":""},{"$f":"IF(ISERROR(INDEX(Data!K:K,Report!$B596)),\"\",INDEX(Data!K:K,Report!$B596))","v":""},{"$f":"IF(ISERROR(INDEX(Data!L:L,Report!$B596)),\"\",INDEX(Data!L:L,Report!$B596))","v":""},null,{"$f":"IF(ISERROR(INDEX(Data!N:N,Report!$B596)),\"\",INDEX(Data!N:N,Report!$B596))","v":""},{"$f":"IF(ISERROR(INDEX(Data!P:P,Report!$B596)),\"\",INDEX(Data!P:P,Report!$B596))","v":""},{"$f":"IF(ISERROR(INDEX(Data!O:O,Report!$B596)),\"\",INDEX(Data!O:O,Report!$B596))","v":""},{"$f":"IF(ISERROR(INDEX(Data!Q:Q,Report!$B596)),\"\",INDEX(Data!Q:Q,Report!$B596))","v":""},{"$f":"IF(ISERROR(INDEX(Data!R:R,Report!$B596)),\"\",INDEX(Data!R:R,Report!$B596))","v":""},{"$f":"IF(ISERROR(INDEX(Data!S:S,Report!$B596)),\"\",INDEX(Data!S:S,Report!$B596))","v":""},{"$f":"IF(ISERROR(INDEX(Data!T:T,Report!$B596)),\"\",INDEX(Data!T:T,Report!$B596))","v":""},{"$f":"IF(ISERROR(INDEX(Data!U:U,Report!$B596)),\"\",INDEX(Data!U:U,Report!$B596))","v":""},{"$f":"IF(ISERROR(INDEX(Data!V:V,Report!$B596)),\"\",INDEX(Data!V:V,Report!$B596))","v":""},null,"",""]
[593,{"$f":"IF(ISERROR(MATCH(A597,Data!A:A,0)),\"\",MATCH(A597,Data!A:A,0))","v":285},{"$f":"IF(ISERROR(INDEX(Data!I:I,Report!$B597)),\"\",INDEX(Data!I:I,Report!$B597))","v":"00:46:31"},{"$f":"IF(ISERROR(INDEX(Data!J:J,Report!$B597)),\"\",INDEX(Data!J:J,Report!$B597))","v":"Game against Boomer at level 2.5  Single point data:"},{"$f":"IF(ISERROR(INDEX(Data!K:K,Report!$B597)),\"\",INDEX(Data!K:K,Report!$B597))","v":"Player's point"},{"$f":"IF(ISERROR(INDEX(Data!L:L,Report!$B597)),\"\",INDEX(Data!L:L,Report!$B597))","v":"New Point"},null,{"$f":"IF(ISERROR(INDEX(Data!N:N,Report!$B597)),\"\",INDEX(Data!N:N,Report!$B597))","v":1},{"$f":"IF(ISERROR(INDEX(Data!P:P,Report!$B597)),\"\",INDEX(Data!P:P,Report!$B597))","v":"Player Serve"},{"$f":"IF(ISERROR(INDEX(Data!O:O,Report!$B597)),\"\",INDEX(Data!O:O,Report!$B597))","v":4},{"$f":"IF(ISERROR(INDEX(Data!Q:Q,Report!$B597)),\"\",INDEX(Data!Q:Q,Report!$B597))","v":2.5},{"$f":"IF(ISERROR(INDEX(Data!R:R,Report!$B597)),\"\",INDEX(Data!R:R,Report!$B597))","v":16},{"$f":"IF(ISERROR(INDEX(Data!S:S,Report!$B597)),\"\",INDEX(Data!S:S,Report!$B597))","v":9},{"$f":"IF(ISERROR(INDEX(Data!T:T,Report!$B597)),\"\",INDEX(Data!T:T,Report!$B597))","v":4.4000000000000004},{"$f":"IF(ISERROR(INDEX(Data!U:U,Report!$B597)),\"\",INDEX(Data!U:U,Report!$B597))","v":116},{"$f":"IF(ISERROR(INDEX(Data!V:V,Report!$B597)),\"\",INDEX(Data!V:V,Report!$B597))","v":5.7},null,"                |","||||"]
[594,{"$f":"IF(ISERROR(MATCH(A598,Data!A:A,0)),\"\",MATCH(A598,Data!A:A,0))","v":""},{"$f":"IF(ISERROR(INDEX(Data!I:I,Report!$B598)),\"\",INDEX(Data!I:I,Report!$B598))","v":""},{"$f":"IF(ISERROR(INDEX(Data!J:J,Report!$B598)),\"\",INDEX(Data!J:J,Report!$B598))","v":""},{"$f":"IF(ISERROR(INDEX(Data!K:K,Report!$B598)),\"\",INDEX(Data!K:K,Report!$B598))","v":""},{"$f":"IF(ISERROR(INDEX(Data!L:L,Report!$B598)),\"\",INDEX(Data!L:L,Report!$B598))","v":""},null,{"$f":"IF(ISERROR(INDEX(Data!N:N,Report!$B598)),\"\",INDEX(Data!N:N,Report!$B598))","v":""},{"$f":"IF(ISERROR(INDEX(Data!P:P,Report!$B598)),\"\",INDEX(Data!P:P,Report!$B598))","v":""},{"$f":"IF(ISERROR(INDEX(Data!O:O,Report!$B598)),\"\",INDEX(Data!O:O,Report!$B598))","v":""},{"$f":"IF(ISERROR(INDEX(Data!Q:Q,Report!$B598)),\"\",INDEX(Data!Q:Q,Report!$B598))","v":""},{"$f":"IF(ISERROR(INDEX(Data!R:R,Report!$B598)),\"\",INDEX(Data!R:R,Report!$B598))","v":""},{"$f":"IF(ISERROR(INDEX(Data!S:S,Report!$B598)),\"\",INDEX(Data!S:S,Report!$B598))","v":""},{"$f":"IF(ISERROR(INDEX(Data!T:T,Report!$B598)),\"\",INDEX(Data!T:T,Report!$B598))","v":""},{"$f":"IF(ISERROR(INDEX(Data!U:U,Report!$B598)),\"\",INDEX(Data!U:U,Report!$B598))","v":""},{"$f":"IF(ISERROR(INDEX(Data!V:V,Report!$B598)),\"\",INDEX(Data!V:V,Report!$B598))","v":""},null,"",""]
[595,{"$f":"IF(ISERROR(MATCH(A599,Data!A:A,0)),\"\",MATCH(A599,Data!A:A,0))","v":""},{"$f":"IF(ISERROR(INDEX(Data!I:I,Report!$B599)),\"\",INDEX(Data!I:I,Report!$B599))","v":""},{"$f":"IF(ISERROR(INDEX(Data!J:J,Report!$B599)),\"\",INDEX(Data!J:J,Report!$B599))","v":""},{"$f":"IF(ISERROR(INDEX(Data!K:K,Report!$B599)),\"\",INDEX(Data!K:K,Report!$B599))","v":""},{"$f":"IF(ISERROR(INDEX(Data!L:L,Report!$B599)),\"\",INDEX(Data!L:L,Report!$B599))","v":""},null,{"$f":"IF(ISERROR(INDEX(Data!N:N,Report!$B599)),\"\",INDEX(Data!N:N,Report!$B599))","v":""},{"$f":"IF(ISERROR(INDEX(Data!P:P,Report!$B599)),\"\",INDEX(Data!P:P,Report!$B599))","v":""},{"$f":"IF(ISERROR(INDEX(Data!O:O,Report!$B599)),\"\",INDEX(Data!O:O,Report!$B599))","v":""},{"$f":"IF(ISERROR(INDEX(Data!Q:Q,Report!$B599)),\"\",INDEX(Data!Q:Q,Report!$B599))","v":""},{"$f":"IF(ISERROR(INDEX(Data!R:R,Report!$B599)),\"\",INDEX(Data!R:R,Report!$B599))","v":""},{"$f":"IF(ISERROR(INDEX(Data!S:S,Report!$B599)),\"\",INDEX(Data!S:S,Report!$B599))","v":""},{"$f":"IF(ISERROR(INDEX(Data!T:T,Report!$B599)),\"\",INDEX(Data!T:T,Report!$B599))","v":""},{"$f":"IF(ISERROR(INDEX(Data!U:U,Report!$B599)),\"\",INDEX(Data!U:U,Report!$B599))","v":""},{"$f":"IF(ISERROR(INDEX(Data!V:V,Report!$B599)),\"\",INDEX(Data!V:V,Report!$B599))","v":""},null,"",""]
[596,{"$f":"IF(ISERROR(MATCH(A600,Data!A:A,0)),\"\",MATCH(A600,Data!A:A,0))","v":""},{"$f":"IF(ISERROR(INDEX(Data!I:I,Report!$B600)),\"\",INDEX(Data!I:I,Report!$B600))","v":""},{"$f":"IF(ISERROR(INDEX(Data!J:J,Report!$B600)),\"\",INDEX(Data!J:J,Report!$B600))","v":""},{"$f":"IF(ISERROR(INDEX(Data!K:K,Report!$B600)),\"\",INDEX(Data!K:K,Report!$B600))","v":""},{"$f":"IF(ISERROR(INDEX(Data!L:L,Report!$B600)),\"\",INDEX(Data!L:L,Report!$B600))","v":""},null,{"$f":"IF(ISERROR(INDEX(Data!N:N,Report!$B600)),\"\",INDEX(Data!N:N,Report!$B600))","v":""},{"$f":"IF(ISERROR(INDEX(Data!P:P,Report!$B600)),\"\",INDEX(Data!P:P,Report!$B600))","v":""},{"$f":"IF(ISERROR(INDEX(Data!O:O,Report!$B600)),\"\",INDEX(Data!O:O,Report!$B600))","v":""},{"$f":"IF(ISERROR(INDEX(Data!Q:Q,Report!$B600)),\"\",INDEX(Data!Q:Q,Report!$B600))","v":""},{"$f":"IF(ISERROR(INDEX(Data!R:R,Report!$B600)),\"\",INDEX(Data!R:R,Report!$B600))","v":""},{"$f":"IF(ISERROR(INDEX(Data!S:S,Report!$B600)),\"\",INDEX(Data!S:S,Report!$B600))","v":""},{"$f":"IF(ISERROR(INDEX(Data!T:T,Report!$B600)),\"\",INDEX(Data!T:T,Report!$B600))","v":""},{"$f":"IF(ISERROR(INDEX(Data!U:U,Report!$B600)),\"\",INDEX(Data!U:U,Report!$B600))","v":""},{"$f":"IF(ISERROR(INDEX(Data!V:V,Report!$B600)),\"\",INDEX(Data!V:V,Report!$B600))","v":""},null,"",""]
[597,{"$f":"IF(ISERROR(MATCH(A601,Data!A:A,0)),\"\",MATCH(A601,Data!A:A,0))","v":286},{"$f":"IF(ISERROR(INDEX(Data!I:I,Report!$B601)),\"\",INDEX(Data!I:I,Report!$B601))","v":" "},{"$f":"IF(ISERROR(INDEX(Data!J:J,Report!$B601)),\"\",INDEX(Data!J:J,Report!$B601))","v":"User Drill #188  3 line rated mini tennis"},{"$f":"IF(ISERROR(INDEX(Data!K:K,Report!$B601)),\"\",INDEX(Data!K:K,Report!$B601))","v":0},{"$f":"IF(ISERROR(INDEX(Data!L:L,Report!$B601)),\"\",INDEX(Data!L:L,Report!$B601))","v":"New Point"},null,{"$f":"IF(ISERROR(INDEX(Data!N:N,Report!$B601)),\"\",INDEX(Data!N:N,Report!$B601))","v":1},{"$f":"IF(ISERROR(INDEX(Data!P:P,Report!$B601)),\"\",INDEX(Data!P:P,Report!$B601))","v":0},{"$f":"IF(ISERROR(INDEX(Data!O:O,Report!$B601)),\"\",INDEX(Data!O:O,Report!$B601))","v":11},{"$f":"IF(ISERROR(INDEX(Data!Q:Q,Report!$B601)),\"\",INDEX(Data!Q:Q,Report!$B601))","v":3.5},{"$f":"IF(ISERROR(INDEX(Data!R:R,Report!$B601)),\"\",INDEX(Data!R:R,Report!$B601))","v":0},{"$f":"IF(ISERROR(INDEX(Data!S:S,Report!$B601)),\"\",INDEX(Data!S:S,Report!$B601))","v":0},{"$f":"IF(ISERROR(INDEX(Data!T:T,Report!$B601)),\"\",INDEX(Data!T:T,Report!$B601))","v":0},{"$f":"IF(ISERROR(INDEX(Data!U:U,Report!$B601)),\"\",INDEX(Data!U:U,Report!$B601))","v":0},{"$f":"IF(ISERROR(INDEX(Data!V:V,Report!$B601)),\"\",INDEX(Data!V:V,Report!$B601))","v":0},null,"|",""]
[598,{"$f":"IF(ISERROR(MATCH(A602,Data!A:A,0)),\"\",MATCH(A602,Data!A:A,0))","v":287},{"$f":"IF(ISERROR(INDEX(Data!I:I,Report!$B602)),\"\",INDEX(Data!I:I,Report!$B602))","v":" "},{"$f":"IF(ISERROR(INDEX(Data!J:J,Report!$B602)),\"\",INDEX(Data!J:J,Report!$B602))","v":"User Drill #188  3 line rated mini tennis"},{"$f":"IF(ISERROR(INDEX(Data!K:K,Report!$B602)),\"\",INDEX(Data!K:K,Report!$B602))","v":0},{"$f":"IF(ISERROR(INDEX(Data!L:L,Report!$B602)),\"\",INDEX(Data!L:L,Report!$B602))","v":0},null,{"$f":"IF(ISERROR(INDEX(Data!N:N,Report!$B602)),\"\",INDEX(Data!N:N,Report!$B602))","v":2},{"$f":"IF(ISERROR(INDEX(Data!P:P,Report!$B602)),\"\",INDEX(Data!P:P,Report!$B602))","v":0},{"$f":"IF(ISERROR(INDEX(Data!O:O,Report!$B602)),\"\",INDEX(Data!O:O,Report!$B602))","v":4},{"$f":"IF(ISERROR(INDEX(Data!Q:Q,Report!$B602)),\"\",INDEX(Data!Q:Q,Report!$B602))","v":3.5},{"$f":"IF(ISERROR(INDEX(Data!R:R,Report!$B602)),\"\",INDEX(Data!R:R,Report!$B602))","v":0},{"$f":"IF(ISERROR(INDEX(Data!S:S,Report!$B602)),\"\",INDEX(Data!S:S,Report!$B602))","v":0},{"$f":"IF(ISERROR(INDEX(Data!T:T,Report!$B602)),\"\",INDEX(Data!T:T,Report!$B602))","v":0},{"$f":"IF(ISERROR(INDEX(Data!U:U,Report!$B602)),\"\",INDEX(Data!U:U,Report!$B602))","v":0},{"$f":"IF(ISERROR(INDEX(Data!V:V,Report!$B602)),\"\",INDEX(Data!V:V,Report!$B602))","v":0},null,"|",""]
[599,{"$f":"IF(ISERROR(MATCH(A603,Data!A:A,0)),\"\",MATCH(A603,Data!A:A,0))","v":288},{"$f":"IF(ISERROR(INDEX(Data!I:I,Report!$B603)),\"\",INDEX(Data!I:I,Report!$B603))","v":" "},{"$f":"IF(ISERROR(INDEX(Data!J:J,Report!$B603)),\"\",INDEX(Data!J:J,Report!$B603))","v":"User Drill #188  3 line rated mini tennis"},{"$f":"IF(ISERROR(INDEX(Data!K:K,Report!$B603)),\"\",INDEX(Data!K:K,Report!$B603))","v":0},{"$f":"IF(ISERROR(INDEX(Data!L:L,Report!$B603)),\"\",INDEX(Data!L:L,Report!$B603))","v":0},null,{"$f":"IF(ISERROR(INDEX(Data!N:N,Report!$B603)),\"\",INDEX(Data!N:N,Report!$B603))","v":3},{"$f":"IF(ISERROR(INDEX(Data!P:P,Report!$B603)),\"\",INDEX(Data!P:P,Report!$B603))","v":0},{"$f":"IF(ISERROR(INDEX(Data!O:O,Report!$B603)),\"\",INDEX(Data!O:O,Report!$B603))","v":10},{"$f":"IF(ISERROR(INDEX(Data!Q:Q,Report!$B603)),\"\",INDEX(Data!Q:Q,Report!$B603))","v":3.5},{"$f":"IF(ISERROR(INDEX(Data!R:R,Report!$B603)),\"\",INDEX(Data!R:R,Report!$B603))","v":13},{"$f":"IF(ISERROR(INDEX(Data!S:S,Report!$B603)),\"\",INDEX(Data!S:S,Report!$B603))","v":23},{"$f":"IF(ISERROR(INDEX(Data!T:T,Report!$B603)),\"\",INDEX(Data!T:T,Report!$B603))","v":4.9000000000000004},{"$f":"IF(ISERROR(INDEX(Data!U:U,Report!$B603)),\"\",INDEX(Data!U:U,Report!$B603))","v":37},{"$f":"IF(ISERROR(INDEX(Data!V:V,Report!$B603)),\"\",INDEX(Data!V:V,Report!$B603))","v":5},null,"             |","|||||||||||"]
[600,{"$f":"IF(ISERROR(MATCH(A604,Data!A:A,0)),\"\",MATCH(A604,Data!A:A,0))","v":""},{"$f":"IF(ISERROR(INDEX(Data!I:I,Report!$B604)),\"\",INDEX(Data!I:I,Report!$B604))","v":""},{"$f":"IF(ISERROR(INDEX(Data!J:J,Report!$B604)),\"\",INDEX(Data!J:J,Report!$B604))","v":""},{"$f":"IF(ISERROR(INDEX(Data!K:K,Report!$B604)),\"\",INDEX(Data!K:K,Report!$B604))","v":""},{"$f":"IF(ISERROR(INDEX(Data!L:L,Report!$B604)),\"\",INDEX(Data!L:L,Report!$B604))","v":""},null,{"$f":"IF(ISERROR(INDEX(Data!N:N,Report!$B604)),\"\",INDEX(Data!N:N,Report!$B604))","v":""},{"$f":"IF(ISERROR(INDEX(Data!P:P,Report!$B604)),\"\",INDEX(Data!P:P,Report!$B604))","v":""},{"$f":"IF(ISERROR(INDEX(Data!O:O,Report!$B604)),\"\",INDEX(Data!O:O,Report!$B604))","v":""},{"$f":"IF(ISERROR(INDEX(Data!Q:Q,Report!$B604)),\"\",INDEX(Data!Q:Q,Report!$B604))","v":""},{"$f":"IF(ISERROR(INDEX(Data!R:R,Report!$B604)),\"\",INDEX(Data!R:R,Report!$B604))","v":""},{"$f":"IF(ISERROR(INDEX(Data!S:S,Report!$B604)),\"\",INDEX(Data!S:S,Report!$B604))","v":""},{"$f":"IF(ISERROR(INDEX(Data!T:T,Report!$B604)),\"\",INDEX(Data!T:T,Report!$B604))","v":""},{"$f":"IF(ISERROR(INDEX(Data!U:U,Report!$B604)),\"\",INDEX(Data!U:U,Report!$B604))","v":""},{"$f":"IF(ISERROR(INDEX(Data!V:V,Report!$B604)),\"\",INDEX(Data!V:V,Report!$B604))","v":""},null,"",""]
[601,{"$f":"IF(ISERROR(MATCH(A605,Data!A:A,0)),\"\",MATCH(A605,Data!A:A,0))","v":""},{"$f":"IF(ISERROR(INDEX(Data!I:I,Report!$B605)),\"\",INDEX(Data!I:I,Report!$B605))","v":""},{"$f":"IF(ISERROR(INDEX(Data!J:J,Report!$B605)),\"\",INDEX(Data!J:J,Report!$B605))","v":""},{"$f":"IF(ISERROR(INDEX(Data!K:K,Report!$B605)),\"\",INDEX(Data!K:K,Report!$B605))","v":""},{"$f":"IF(ISERROR(INDEX(Data!L:L,Report!$B605)),\"\",INDEX(Data!L:L,Report!$B605))","v":""},null,{"$f":"IF(ISERROR(INDEX(Data!N:N,Report!$B605)),\"\",INDEX(Data!N:N,Report!$B605))","v":""},{"$f":"IF(ISERROR(INDEX(Data!P:P,Report!$B605)),\"\",INDEX(Data!P:P,Report!$B605))","v":""},{"$f":"IF(ISERROR(INDEX(Data!O:O,Report!$B605)),\"\",INDEX(Data!O:O,Report!$B605))","v":""},{"$f":"IF(ISERROR(INDEX(Data!Q:Q,Report!$B605)),\"\",INDEX(Data!Q:Q,Report!$B605))","v":""},{"$f":"IF(ISERROR(INDEX(Data!R:R,Report!$B605)),\"\",INDEX(Data!R:R,Report!$B605))","v":""},{"$f":"IF(ISERROR(INDEX(Data!S:S,Report!$B605)),\"\",INDEX(Data!S:S,Report!$B605))","v":""},{"$f":"IF(ISERROR(INDEX(Data!T:T,Report!$B605)),\"\",INDEX(Data!T:T,Report!$B605))","v":""},{"$f":"IF(ISERROR(INDEX(Data!U:U,Report!$B605)),\"\",INDEX(Data!U:U,Report!$B605))","v":""},{"$f":"IF(ISERROR(INDEX(Data!V:V,Report!$B605)),\"\",INDEX(Data!V:V,Report!$B605))","v":""},null,"",""]
[602,{"$f":"IF(ISERROR(MATCH(A606,Data!A:A,0)),\"\",MATCH(A606,Data!A:A,0))","v":""},{"$f":"IF(ISERROR(INDEX(Data!I:I,Report!$B606)),\"\",INDEX(Data!I:I,Report!$B606))","v":""},{"$f":"IF(ISERROR(INDEX(Data!J:J,Report!$B606)),\"\",INDEX(Data!J:J,Report!$B606))","v":""},{"$f":"IF(ISERROR(INDEX(Data!K:K,Report!$B606)),\"\",INDEX(Data!K:K,Report!$B606))","v":""},{"$f":"IF(ISERROR(INDEX(Data!L:L,Report!$B606)),\"\",INDEX(Data!L:L,Report!$B606))","v":""},null,{"$f":"IF(ISERROR(INDEX(Data!N:N,Report!$B606)),\"\",INDEX(Data!N:N,Report!$B606))","v":""},{"$f":"IF(ISERROR(INDEX(Data!P:P,Report!$B606)),\"\",INDEX(Data!P:P,Report!$B606))","v":""},{"$f":"IF(ISERROR(INDEX(Data!O:O,Report!$B606)),\"\",INDEX(Data!O:O,Report!$B606))","v":""},{"$f":"IF(ISERROR(INDEX(Data!Q:Q,Report!$B606)),\"\",INDEX(Data!Q:Q,Report!$B606))","v":""},{"$f":"IF(ISERROR(INDEX(Data!R:R,Report!$B606)),\"\",INDEX(Data!R:R,Report!$B606))","v":""},{"$f":"IF(ISERROR(INDEX(Data!S:S,Report!$B606)),\"\",INDEX(Data!S:S,Report!$B606))","v":""},{"$f":"IF(ISERROR(INDEX(Data!T:T,Report!$B606)),\"\",INDEX(Data!T:T,Report!$B606))","v":""},{"$f":"IF(ISERROR(INDEX(Data!U:U,Report!$B606)),\"\",INDEX(Data!U:U,Report!$B606))","v":""},{"$f":"IF(ISERROR(INDEX(Data!V:V,Report!$B606)),\"\",INDEX(Data!V:V,Report!$B606))","v":""},null,"",""]
[603,{"$f":"IF(ISERROR(MATCH(A607,Data!A:A,0)),\"\",MATCH(A607,Data!A:A,0))","v":289},{"$f":"IF(ISERROR(INDEX(Data!I:I,Report!$B607)),\"\",INDEX(Data!I:I,Report!$B607))","v":"00:46:59"},{"$f":"IF(ISERROR(INDEX(Data!J:J,Report!$B607)),\"\",INDEX(Data!J:J,Report!$B607))","v":"Game against Boomer at level 2.5  Single point data:"},{"$f":"IF(ISERROR(INDEX(Data!K:K,Report!$B607)),\"\",INDEX(Data!K:K,Report!$B607))","v":"Boomer's point"},{"$f":"IF(ISERROR(INDEX(Data!L:L,Report!$B607)),\"\",INDEX(Data!L:L,Report!$B607))","v":"New Point"},null,{"$f":"IF(ISERROR(INDEX(Data!N:N,Report!$B607)),\"\",INDEX(Data!N:N,Report!$B607))","v":1},{"$f":"IF(ISERROR(INDEX(Data!P:P,Report!$B607)),\"\",INDEX(Data!P:P,Report!$B607))","v":"Player Serve"},{"$f":"IF(ISERROR(INDEX(Data!O:O,Report!$B607)),\"\",INDEX(Data!O:O,Report!$B607))","v":4},{"$f":"IF(ISERROR(INDEX(Data!Q:Q,Report!$B607)),\"\",INDEX(Data!Q:Q,Report!$B607))","v":2.5},{"$f":"IF(ISERROR(INDEX(Data!R:R,Report!$B607)),\"\",INDEX(Data!R:R,Report!$B607))","v":9},{"$f":"IF(ISERROR(INDEX(Data!S:S,Report!$B607)),\"\",INDEX(Data!S:S,Report!$B607))","v":18},{"$f":"IF(ISERROR(INDEX(Data!T:T,Report!$B607)),\"\",INDEX(Data!T:T,Report!$B607))","v":2.7},{"$f":"IF(ISERROR(INDEX(Data!U:U,Report!$B607)),\"\",INDEX(Data!U:U,Report!$B607))","v":114},{"$f":"IF(ISERROR(INDEX(Data!V:V,Report!$B607)),\"\",INDEX(Data!V:V,Report!$B607))","v":4.8},null,"         |","|||||||||"]
[604,{"$f":"IF(ISERROR(MATCH(A608,Data!A:A,0)),\"\",MATCH(A608,Data!A:A,0))","v":""},{"$f":"IF(ISERROR(INDEX(Data!I:I,Report!$B608)),\"\",INDEX(Data!I:I,Report!$B608))","v":""},{"$f":"IF(ISERROR(INDEX(Data!J:J,Report!$B608)),\"\",INDEX(Data!J:J,Report!$B608))","v":""},{"$f":"IF(ISERROR(INDEX(Data!K:K,Report!$B608)),\"\",INDEX(Data!K:K,Report!$B608))","v":""},{"$f":"IF(ISERROR(INDEX(Data!L:L,Report!$B608)),\"\",INDEX(Data!L:L,Report!$B608))","v":""},null,{"$f":"IF(ISERROR(INDEX(Data!N:N,Report!$B608)),\"\",INDEX(Data!N:N,Report!$B608))","v":""},{"$f":"IF(ISERROR(INDEX(Data!P:P,Report!$B608)),\"\",INDEX(Data!P:P,Report!$B608))","v":""},{"$f":"IF(ISERROR(INDEX(Data!O:O,Report!$B608)),\"\",INDEX(Data!O:O,Report!$B608))","v":""},{"$f":"IF(ISERROR(INDEX(Data!Q:Q,Report!$B608)),\"\",INDEX(Data!Q:Q,Report!$B608))","v":""},{"$f":"IF(ISERROR(INDEX(Data!R:R,Report!$B608)),\"\",INDEX(Data!R:R,Report!$B608))","v":""},{"$f":"IF(ISERROR(INDEX(Data!S:S,Report!$B608)),\"\",INDEX(Data!S:S,Report!$B608))","v":""},{"$f":"IF(ISERROR(INDEX(Data!T:T,Report!$B608)),\"\",INDEX(Data!T:T,Report!$B608))","v":""},{"$f":"IF(ISERROR(INDEX(Data!U:U,Report!$B608)),\"\",INDEX(Data!U:U,Report!$B608))","v":""},{"$f":"IF(ISERROR(INDEX(Data!V:V,Report!$B608)),\"\",INDEX(Data!V:V,Report!$B608))","v":""},null,"",""]
[605,{"$f":"IF(ISERROR(MATCH(A609,Data!A:A,0)),\"\",MATCH(A609,Data!A:A,0))","v":""},{"$f":"IF(ISERROR(INDEX(Data!I:I,Report!$B609)),\"\",INDEX(Data!I:I,Report!$B609))","v":""},{"$f":"IF(ISERROR(INDEX(Data!J:J,Report!$B609)),\"\",INDEX(Data!J:J,Report!$B609))","v":""},{"$f":"IF(ISERROR(INDEX(Data!K:K,Report!$B609)),\"\",INDEX(Data!K:K,Report!$B609))","v":""},{"$f":"IF(ISERROR(INDEX(Data!L:L,Report!$B609)),\"\",INDEX(Data!L:L,Report!$B609))","v":""},null,{"$f":"IF(ISERROR(INDEX(Data!N:N,Report!$B609)),\"\",INDEX(Data!N:N,Report!$B609))","v":""},{"$f":"IF(ISERROR(INDEX(Data!P:P,Report!$B609)),\"\",INDEX(Data!P:P,Report!$B609))","v":""},{"$f":"IF(ISERROR(INDEX(Data!O:O,Report!$B609)),\"\",INDEX(Data!O:O,Report!$B609))","v":""},{"$f":"IF(ISERROR(INDEX(Data!Q:Q,Report!$B609)),\"\",INDEX(Data!Q:Q,Report!$B609))","v":""},{"$f":"IF(ISERROR(INDEX(Data!R:R,Report!$B609)),\"\",INDEX(Data!R:R,Report!$B609))","v":""},{"$f":"IF(ISERROR(INDEX(Data!S:S,Report!$B609)),\"\",INDEX(Data!S:S,Report!$B609))","v":""},{"$f":"IF(ISERROR(INDEX(Data!T:T,Report!$B609)),\"\",INDEX(Data!T:T,Report!$B609))","v":""},{"$f":"IF(ISERROR(INDEX(Data!U:U,Report!$B609)),\"\",INDEX(Data!U:U,Report!$B609))","v":""},{"$f":"IF(ISERROR(INDEX(Data!V:V,Report!$B609)),\"\",INDEX(Data!V:V,Report!$B609))","v":""},null,"",""]
[606,{"$f":"IF(ISERROR(MATCH(A610,Data!A:A,0)),\"\",MATCH(A610,Data!A:A,0))","v":""},{"$f":"IF(ISERROR(INDEX(Data!I:I,Report!$B610)),\"\",INDEX(Data!I:I,Report!$B610))","v":""},{"$f":"IF(ISERROR(INDEX(Data!J:J,Report!$B610)),\"\",INDEX(Data!J:J,Report!$B610))","v":""},{"$f":"IF(ISERROR(INDEX(Data!K:K,Report!$B610)),\"\",INDEX(Data!K:K,Report!$B610))","v":""},{"$f":"IF(ISERROR(INDEX(Data!L:L,Report!$B610)),\"\",INDEX(Data!L:L,Report!$B610))","v":""},null,{"$f":"IF(ISERROR(INDEX(Data!N:N,Report!$B610)),\"\",INDEX(Data!N:N,Report!$B610))","v":""},{"$f":"IF(ISERROR(INDEX(Data!P:P,Report!$B610)),\"\",INDEX(Data!P:P,Report!$B610))","v":""},{"$f":"IF(ISERROR(INDEX(Data!O:O,Report!$B610)),\"\",INDEX(Data!O:O,Report!$B610))","v":""},{"$f":"IF(ISERROR(INDEX(Data!Q:Q,Report!$B610)),\"\",INDEX(Data!Q:Q,Report!$B610))","v":""},{"$f":"IF(ISERROR(INDEX(Data!R:R,Report!$B610)),\"\",INDEX(Data!R:R,Report!$B610))","v":""},{"$f":"IF(ISERROR(INDEX(Data!S:S,Report!$B610)),\"\",INDEX(Data!S:S,Report!$B610))","v":""},{"$f":"IF(ISERROR(INDEX(Data!T:T,Report!$B610)),\"\",INDEX(Data!T:T,Report!$B610))","v":""},{"$f":"IF(ISERROR(INDEX(Data!U:U,Report!$B610)),\"\",INDEX(Data!U:U,Report!$B610))","v":""},{"$f":"IF(ISERROR(INDEX(Data!V:V,Report!$B610)),\"\",INDEX(Data!V:V,Report!$B610))","v":""},null,"",""]
[607,{"$f":"IF(ISERROR(MATCH(A611,Data!A:A,0)),\"\",MATCH(A611,Data!A:A,0))","v":290},{"$f":"IF(ISERROR(INDEX(Data!I:I,Report!$B611)),\"\",INDEX(Data!I:I,Report!$B611))","v":" "},{"$f":"IF(ISERROR(INDEX(Data!J:J,Report!$B611)),\"\",INDEX(Data!J:J,Report!$B611))","v":"User Drill #188  3 line rated mini tennis"},{"$f":"IF(ISERROR(INDEX(Data!K:K,Report!$B611)),\"\",INDEX(Data!K:K,Report!$B611))","v":0},{"$f":"IF(ISERROR(INDEX(Data!L:L,Report!$B611)),\"\",INDEX(Data!L:L,Report!$B611))","v":"New Point"},null,{"$f":"IF(ISERROR(INDEX(Data!N:N,Report!$B611)),\"\",INDEX(Data!N:N,Report!$B611))","v":1},{"$f":"IF(ISERROR(INDEX(Data!P:P,Report!$B611)),\"\",INDEX(Data!P:P,Report!$B611))","v":0},{"$f":"IF(ISERROR(INDEX(Data!O:O,Report!$B611)),\"\",INDEX(Data!O:O,Report!$B611))","v":11},{"$f":"IF(ISERROR(INDEX(Data!Q:Q,Report!$B611)),\"\",INDEX(Data!Q:Q,Report!$B611))","v":3.5},{"$f":"IF(ISERROR(INDEX(Data!R:R,Report!$B611)),\"\",INDEX(Data!R:R,Report!$B611))","v":0},{"$f":"IF(ISERROR(INDEX(Data!S:S,Report!$B611)),\"\",INDEX(Data!S:S,Report!$B611))","v":0},{"$f":"IF(ISERROR(INDEX(Data!T:T,Report!$B611)),\"\",INDEX(Data!T:T,Report!$B611))","v":0},{"$f":"IF(ISERROR(INDEX(Data!U:U,Report!$B611)),\"\",INDEX(Data!U:U,Report!$B611))","v":0},{"$f":"IF(ISERROR(INDEX(Data!V:V,Report!$B611)),\"\",INDEX(Data!V:V,Report!$B611))","v":0},null,"|",""]
[608,{"$f":"IF(ISERROR(MATCH(A612,Data!A:A,0)),\"\",MATCH(A612,Data!A:A,0))","v":291},{"$f":"IF(ISERROR(INDEX(Data!I:I,Report!$B612)),\"\",INDEX(Data!I:I,Report!$B612))","v":"00:46:59"},{"$f":"IF(ISERROR(INDEX(Data!J:J,Report!$B612)),\"\",INDEX(Data!J:J,Report!$B612))","v":"Game against Boomer at level 2.5  Single point data:"},{"$f":"IF(ISERROR(INDEX(Data!K:K,Report!$B612)),\"\",INDEX(Data!K:K,Report!$B612))","v":"Boomer's point"},{"$f":"IF(ISERROR(INDEX(Data!L:L,Report!$B612)),\"\",INDEX(Data!L:L,Report!$B612))","v":0},null,{"$f":"IF(ISERROR(INDEX(Data!N:N,Report!$B612)),\"\",INDEX(Data!N:N,Report!$B612))","v":2},{"$f":"IF(ISERROR(INDEX(Data!P:P,Report!$B612)),\"\",INDEX(Data!P:P,Report!$B612))","v":"Topspin"},{"$f":"IF(ISERROR(INDEX(Data!O:O,Report!$B612)),\"\",INDEX(Data!O:O,Report!$B612))","v":5},{"$f":"IF(ISERROR(INDEX(Data!Q:Q,Report!$B612)),\"\",INDEX(Data!Q:Q,Report!$B612))","v":2.5},{"$f":"IF(ISERROR(INDEX(Data!R:R,Report!$B612)),\"\",INDEX(Data!R:R,Report!$B612))","v":10},{"$f":"IF(ISERROR(INDEX(Data!S:S,Report!$B612)),\"\",INDEX(Data!S:S,Report!$B612))","v":13},{"$f":"IF(ISERROR(INDEX(Data!T:T,Report!$B612)),\"\",INDEX(Data!T:T,Report!$B612))","v":1.9},{"$f":"IF(ISERROR(INDEX(Data!U:U,Report!$B612)),\"\",INDEX(Data!U:U,Report!$B612))","v":36},{"$f":"IF(ISERROR(INDEX(Data!V:V,Report!$B612)),\"\",INDEX(Data!V:V,Report!$B612))","v":2.2999999999999998},null,"          |","||||||"]
[609,{"$f":"IF(ISERROR(MATCH(A613,Data!A:A,0)),\"\",MATCH(A613,Data!A:A,0))","v":292},{"$f":"IF(ISERROR(INDEX(Data!I:I,Report!$B613)),\"\",INDEX(Data!I:I,Report!$B613))","v":" "},{"$f":"IF(ISERROR(INDEX(Data!J:J,Report!$B613)),\"\",INDEX(Data!J:J,Report!$B613))","v":"User Drill #188  3 line rated mini tennis"},{"$f":"IF(ISERROR(INDEX(Data!K:K,Report!$B613)),\"\",INDEX(Data!K:K,Report!$B613))","v":0},{"$f":"IF(ISERROR(INDEX(Data!L:L,Report!$B613)),\"\",INDEX(Data!L:L,Report!$B613))","v":0},null,{"$f":"IF(ISERROR(INDEX(Data!N:N,Report!$B613)),\"\",INDEX(Data!N:N,Report!$B613))","v":2},{"$f":"IF(ISERROR(INDEX(Data!P:P,Report!$B613)),\"\",INDEX(Data!P:P,Report!$B613))","v":0},{"$f":"IF(ISERROR(INDEX(Data!O:O,Report!$B613)),\"\",INDEX(Data!O:O,Report!$B613))","v":4},{"$f":"IF(ISERROR(INDEX(Data!Q:Q,Report!$B613)),\"\",INDEX(Data!Q:Q,Report!$B613))","v":3.5},{"$f":"IF(ISERROR(INDEX(Data!R:R,Report!$B613)),\"\",INDEX(Data!R:R,Report!$B613))","v":0},{"$f":"IF(ISERROR(INDEX(Data!S:S,Report!$B613)),\"\",INDEX(Data!S:S,Report!$B613))","v":0},{"$f":"IF(ISERROR(INDEX(Data!T:T,Report!$B613)),\"\",INDEX(Data!T:T,Report!$B613))","v":0},{"$f":"IF(ISERROR(INDEX(Data!U:U,Report!$B613)),\"\",INDEX(Data!U:U,Report!$B613))","v":0},{"$f":"IF(ISERROR(INDEX(Data!V:V,Report!$B613)),\"\",INDEX(Data!V:V,Report!$B613))","v":0},null,"|",""]
[610,{"$f":"IF(ISERROR(MATCH(A614,Data!A:A,0)),\"\",MATCH(A614,Data!A:A,0))","v":293},{"$f":"IF(ISERROR(INDEX(Data!I:I,Report!$B614)),\"\",INDEX(Data!I:I,Report!$B614))","v":"00:46:59"},{"$f":"IF(ISERROR(INDEX(Data!J:J,Report!$B614)),\"\",INDEX(Data!J:J,Report!$B614))","v":"Game against Boomer at level 2.5  Single point data:"},{"$f":"IF(ISERROR(INDEX(Data!K:K,Report!$B614)),\"\",INDEX(Data!K:K,Report!$B614))","v":"Boomer's point"},{"$f":"IF(ISERROR(INDEX(Data!L:L,Report!$B614)),\"\",INDEX(Data!L:L,Report!$B614))","v":0},null,{"$f":"IF(ISERROR(INDEX(Data!N:N,Report!$B614)),\"\",INDEX(Data!N:N,Report!$B614))","v":3},{"$f":"IF(ISERROR(INDEX(Data!P:P,Report!$B614)),\"\",INDEX(Data!P:P,Report!$B614))","v":"Drop Shot"},{"$f":"IF(ISERROR(INDEX(Data!O:O,Report!$B614)),\"\",INDEX(Data!O:O,Report!$B614))","v":3},{"$f":"IF(ISERROR(INDEX(Data!Q:Q,Report!$B614)),\"\",INDEX(Data!Q:Q,Report!$B614))","v":2.5},{"$f":"IF(ISERROR(INDEX(Data!R:R,Report!$B614)),\"\",INDEX(Data!R:R,Report!$B614))","v":35},{"$f":"IF(ISERROR(INDEX(Data!S:S,Report!$B614)),\"\",INDEX(Data!S:S,Report!$B614))","v":4},{"$f":"IF(ISERROR(INDEX(Data!T:T,Report!$B614)),\"\",INDEX(Data!T:T,Report!$B614))","v":6.3},{"$f":"IF(ISERROR(INDEX(Data!U:U,Report!$B614)),\"\",INDEX(Data!U:U,Report!$B614))","v":50},{"$f":"IF(ISERROR(INDEX(Data!V:V,Report!$B614)),\"\",INDEX(Data!V:V,Report!$B614))","v":5.0999999999999996},null,"                                   |","||"]
[611,{"$f":"IF(ISERROR(MATCH(A615,Data!A:A,0)),\"\",MATCH(A615,Data!A:A,0))","v":294},{"$f":"IF(ISERROR(INDEX(Data!I:I,Report!$B615)),\"\",INDEX(Data!I:I,Report!$B615))","v":" "},{"$f":"IF(ISERROR(INDEX(Data!J:J,Report!$B615)),\"\",INDEX(Data!J:J,Report!$B615))","v":"User Drill #188  3 line rated mini tennis"},{"$f":"IF(ISERROR(INDEX(Data!K:K,Report!$B615)),\"\",INDEX(Data!K:K,Report!$B615))","v":0},{"$f":"IF(ISERROR(INDEX(Data!L:L,Report!$B615)),\"\",INDEX(Data!L:L,Report!$B615))","v":0},null,{"$f":"IF(ISERROR(INDEX(Data!N:N,Report!$B615)),\"\",INDEX(Data!N:N,Report!$B615))","v":3},{"$f":"IF(ISERROR(INDEX(Data!P:P,Report!$B615)),\"\",INDEX(Data!P:P,Report!$B615))","v":0},{"$f":"IF(ISERROR(INDEX(Data!O:O,Report!$B615)),\"\",INDEX(Data!O:O,Report!$B615))","v":10},{"$f":"IF(ISERROR(INDEX(Data!Q:Q,Report!$B615)),\"\",INDEX(Data!Q:Q,Report!$B615))","v":3.5},{"$f":"IF(ISERROR(INDEX(Data!R:R,Report!$B615)),\"\",INDEX(Data!R:R,Report!$B615))","v":25},{"$f":"IF(ISERROR(INDEX(Data!S:S,Report!$B615)),\"\",INDEX(Data!S:S,Report!$B615))","v":2},{"$f":"IF(ISERROR(INDEX(Data!T:T,Report!$B615)),\"\",INDEX(Data!T:T,Report!$B615))","v":7},{"$f":"IF(ISERROR(INDEX(Data!U:U,Report!$B615)),\"\",INDEX(Data!U:U,Report!$B615))","v":37},{"$f":"IF(ISERROR(INDEX(Data!V:V,Report!$B615)),\"\",INDEX(Data!V:V,Report!$B615))","v":6},null,"                         |","|"]
[612,{"$f":"IF(ISERROR(MATCH(A616,Data!A:A,0)),\"\",MATCH(A616,Data!A:A,0))","v":295},{"$f":"IF(ISERROR(INDEX(Data!I:I,Report!$B616)),\"\",INDEX(Data!I:I,Report!$B616))","v":"00:46:59"},{"$f":"IF(ISERROR(INDEX(Data!J:J,Report!$B616)),\"\",INDEX(Data!J:J,Report!$B616))","v":"Game against Boomer at level 2.5  Single point data:"},{"$f":"IF(ISERROR(INDEX(Data!K:K,Report!$B616)),\"\",INDEX(Data!K:K,Report!$B616))","v":"Boomer's point"},{"$f":"IF(ISERROR(INDEX(Data!L:L,Report!$B616)),\"\",INDEX(Data!L:L,Report!$B616))","v":0},null,{"$f":"IF(ISERROR(INDEX(Data!N:N,Report!$B616)),\"\",INDEX(Data!N:N,Report!$B616))","v":4},{"$f":"IF(ISERROR(INDEX(Data!P:P,Report!$B616)),\"\",INDEX(Data!P:P,Report!$B616))","v":"Pass"},{"$f":"IF(ISERROR(INDEX(Data!O:O,Report!$B616)),\"\",INDEX(Data!O:O,Report!$B616))","v":5},{"$f":"IF(ISERROR(INDEX(Data!Q:Q,Report!$B616)),\"\",INDEX(Data!Q:Q,Report!$B616))","v":2.5},{"$f":"IF(ISERROR(INDEX(Data!R:R,Report!$B616)),\"\",INDEX(Data!R:R,Report!$B616))","v":0},{"$f":"IF(ISERROR(INDEX(Data!S:S,Report!$B616)),\"\",INDEX(Data!S:S,Report!$B616))","v":0},{"$f":"IF(ISERROR(INDEX(Data!T:T,Report!$B616)),\"\",INDEX(Data!T:T,Report!$B616))","v":0},{"$f":"IF(ISERROR(INDEX(Data!U:U,Report!$B616)),\"\",INDEX(Data!U:U,Report!$B616))","v":0},{"$f":"IF(ISERROR(INDEX(Data!V:V,Report!$B616)),\"\",INDEX(Data!V:V,Report!$B616))","v":0},null,"|",""]
[613,{"$f":"IF(ISERROR(MATCH(A617,Data!A:A,0)),\"\",MATCH(A617,Data!A:A,0))","v":""},{"$f":"IF(ISERROR(INDEX(Data!I:I,Report!$B617)),\"\",INDEX(Data!I:I,Report!$B617))","v":""},{"$f":"IF(ISERROR(INDEX(Data!J:J,Report!$B617)),\"\",INDEX(Data!J:J,Report!$B617))","v":""},{"$f":"IF(ISERROR(INDEX(Data!K:K,Report!$B617)),\"\",INDEX(Data!K:K,Report!$B617))","v":""},{"$f":"IF(ISERROR(INDEX(Data!L:L,Report!$B617)),\"\",INDEX(Data!L:L,Report!$B617))","v":""},null,{"$f":"IF(ISERROR(INDEX(Data!N:N,Report!$B617)),\"\",INDEX(Data!N:N,Report!$B617))","v":""},{"$f":"IF(ISERROR(INDEX(Data!P:P,Report!$B617)),\"\",INDEX(Data!P:P,Report!$B617))","v":""},{"$f":"IF(ISERROR(INDEX(Data!O:O,Report!$B617)),\"\",INDEX(Data!O:O,Report!$B617))","v":""},{"$f":"IF(ISERROR(INDEX(Data!Q:Q,Report!$B617)),\"\",INDEX(Data!Q:Q,Report!$B617))","v":""},{"$f":"IF(ISERROR(INDEX(Data!R:R,Report!$B617)),\"\",INDEX(Data!R:R,Report!$B617))","v":""},{"$f":"IF(ISERROR(INDEX(Data!S:S,Report!$B617)),\"\",INDEX(Data!S:S,Report!$B617))","v":""},{"$f":"IF(ISERROR(INDEX(Data!T:T,Report!$B617)),\"\",INDEX(Data!T:T,Report!$B617))","v":""},{"$f":"IF(ISERROR(INDEX(Data!U:U,Report!$B617)),\"\",INDEX(Data!U:U,Report!$B617))","v":""},{"$f":"IF(ISERROR(INDEX(Data!V:V,Report!$B617)),\"\",INDEX(Data!V:V,Report!$B617))","v":""},null,"",""]
[614,{"$f":"IF(ISERROR(MATCH(A618,Data!A:A,0)),\"\",MATCH(A618,Data!A:A,0))","v":""},{"$f":"IF(ISERROR(INDEX(Data!I:I,Report!$B618)),\"\",INDEX(Data!I:I,Report!$B618))","v":""},{"$f":"IF(ISERROR(INDEX(Data!J:J,Report!$B618)),\"\",INDEX(Data!J:J,Report!$B618))","v":""},{"$f":"IF(ISERROR(INDEX(Data!K:K,Report!$B618)),\"\",INDEX(Data!K:K,Report!$B618))","v":""},{"$f":"IF(ISERROR(INDEX(Data!L:L,Report!$B618)),\"\",INDEX(Data!L:L,Report!$B618))","v":""},null,{"$f":"IF(ISERROR(INDEX(Data!N:N,Report!$B618)),\"\",INDEX(Data!N:N,Report!$B618))","v":""},{"$f":"IF(ISERROR(INDEX(Data!P:P,Report!$B618)),\"\",INDEX(Data!P:P,Report!$B618))","v":""},{"$f":"IF(ISERROR(INDEX(Data!O:O,Report!$B618)),\"\",INDEX(Data!O:O,Report!$B618))","v":""},{"$f":"IF(ISERROR(INDEX(Data!Q:Q,Report!$B618)),\"\",INDEX(Data!Q:Q,Report!$B618))","v":""},{"$f":"IF(ISERROR(INDEX(Data!R:R,Report!$B618)),\"\",INDEX(Data!R:R,Report!$B618))","v":""},{"$f":"IF(ISERROR(INDEX(Data!S:S,Report!$B618)),\"\",INDEX(Data!S:S,Report!$B618))","v":""},{"$f":"IF(ISERROR(INDEX(Data!T:T,Report!$B618)),\"\",INDEX(Data!T:T,Report!$B618))","v":""},{"$f":"IF(ISERROR(INDEX(Data!U:U,Report!$B618)),\"\",INDEX(Data!U:U,Report!$B618))","v":""},{"$f":"IF(ISERROR(INDEX(Data!V:V,Report!$B618)),\"\",INDEX(Data!V:V,Report!$B618))","v":""},null,"",""]
[615,{"$f":"IF(ISERROR(MATCH(A619,Data!A:A,0)),\"\",MATCH(A619,Data!A:A,0))","v":""},{"$f":"IF(ISERROR(INDEX(Data!I:I,Report!$B619)),\"\",INDEX(Data!I:I,Report!$B619))","v":""},{"$f":"IF(ISERROR(INDEX(Data!J:J,Report!$B619)),\"\",INDEX(Data!J:J,Report!$B619))","v":""},{"$f":"IF(ISERROR(INDEX(Data!K:K,Report!$B619)),\"\",INDEX(Data!K:K,Report!$B619))","v":""},{"$f":"IF(ISERROR(INDEX(Data!L:L,Report!$B619)),\"\",INDEX(Data!L:L,Report!$B619))","v":""},null,{"$f":"IF(ISERROR(INDEX(Data!N:N,Report!$B619)),\"\",INDEX(Data!N:N,Report!$B619))","v":""},{"$f":"IF(ISERROR(INDEX(Data!P:P,Report!$B619)),\"\",INDEX(Data!P:P,Report!$B619))","v":""},{"$f":"IF(ISERROR(INDEX(Data!O:O,Report!$B619)),\"\",INDEX(Data!O:O,Report!$B619))","v":""},{"$f":"IF(ISERROR(INDEX(Data!Q:Q,Report!$B619)),\"\",INDEX(Data!Q:Q,Report!$B619))","v":""},{"$f":"IF(ISERROR(INDEX(Data!R:R,Report!$B619)),\"\",INDEX(Data!R:R,Report!$B619))","v":""},{"$f":"IF(ISERROR(INDEX(Data!S:S,Report!$B619)),\"\",INDEX(Data!S:S,Report!$B619))","v":""},{"$f":"IF(ISERROR(INDEX(Data!T:T,Report!$B619)),\"\",INDEX(Data!T:T,Report!$B619))","v":""},{"$f":"IF(ISERROR(INDEX(Data!U:U,Report!$B619)),\"\",INDEX(Data!U:U,Report!$B619))","v":""},{"$f":"IF(ISERROR(INDEX(Data!V:V,Report!$B619)),\"\",INDEX(Data!V:V,Report!$B619))","v":""},null,"",""]
[616,{"$f":"IF(ISERROR(MATCH(A620,Data!A:A,0)),\"\",MATCH(A620,Data!A:A,0))","v":296},{"$f":"IF(ISERROR(INDEX(Data!I:I,Report!$B620)),\"\",INDEX(Data!I:I,Report!$B620))","v":" "},{"$f":"IF(ISERROR(INDEX(Data!J:J,Report!$B620)),\"\",INDEX(Data!J:J,Report!$B620))","v":"User Drill #188  3 line rated mini tennis"},{"$f":"IF(ISERROR(INDEX(Data!K:K,Report!$B620)),\"\",INDEX(Data!K:K,Report!$B620))","v":0},{"$f":"IF(ISERROR(INDEX(Data!L:L,Report!$B620)),\"\",INDEX(Data!L:L,Report!$B620))","v":"New Point"},null,{"$f":"IF(ISERROR(INDEX(Data!N:N,Report!$B620)),\"\",INDEX(Data!N:N,Report!$B620))","v":1},{"$f":"IF(ISERROR(INDEX(Data!P:P,Report!$B620)),\"\",INDEX(Data!P:P,Report!$B620))","v":0},{"$f":"IF(ISERROR(INDEX(Data!O:O,Report!$B620)),\"\",INDEX(Data!O:O,Report!$B620))","v":11},{"$f":"IF(ISERROR(INDEX(Data!Q:Q,Report!$B620)),\"\",INDEX(Data!Q:Q,Report!$B620))","v":3.5},{"$f":"IF(ISERROR(INDEX(Data!R:R,Report!$B620)),\"\",INDEX(Data!R:R,Report!$B620))","v":0},{"$f":"IF(ISERROR(INDEX(Data!S:S,Report!$B620)),\"\",INDEX(Data!S:S,Report!$B620))","v":0},{"$f":"IF(ISERROR(INDEX(Data!T:T,Report!$B620)),\"\",INDEX(Data!T:T,Report!$B620))","v":0},{"$f":"IF(ISERROR(INDEX(Data!U:U,Report!$B620)),\"\",INDEX(Data!U:U,Report!$B620))","v":0},{"$f":"IF(ISERROR(INDEX(Data!V:V,Report!$B620)),\"\",INDEX(Data!V:V,Report!$B620))","v":0},null,"|",""]
[617,{"$f":"IF(ISERROR(MATCH(A621,Data!A:A,0)),\"\",MATCH(A621,Data!A:A,0))","v":""},{"$f":"IF(ISERROR(INDEX(Data!I:I,Report!$B621)),\"\",INDEX(Data!I:I,Report!$B621))","v":""},{"$f":"IF(ISERROR(INDEX(Data!J:J,Report!$B621)),\"\",INDEX(Data!J:J,Report!$B621))","v":""},{"$f":"IF(ISERROR(INDEX(Data!K:K,Report!$B621)),\"\",INDEX(Data!K:K,Report!$B621))","v":""},{"$f":"IF(ISERROR(INDEX(Data!L:L,Report!$B621)),\"\",INDEX(Data!L:L,Report!$B621))","v":""},null,{"$f":"IF(ISERROR(INDEX(Data!N:N,Report!$B621)),\"\",INDEX(Data!N:N,Report!$B621))","v":""},{"$f":"IF(ISERROR(INDEX(Data!P:P,Report!$B621)),\"\",INDEX(Data!P:P,Report!$B621))","v":""},{"$f":"IF(ISERROR(INDEX(Data!O:O,Report!$B621)),\"\",INDEX(Data!O:O,Report!$B621))","v":""},{"$f":"IF(ISERROR(INDEX(Data!Q:Q,Report!$B621)),\"\",INDEX(Data!Q:Q,Report!$B621))","v":""},{"$f":"IF(ISERROR(INDEX(Data!R:R,Report!$B621)),\"\",INDEX(Data!R:R,Report!$B621))","v":""},{"$f":"IF(ISERROR(INDEX(Data!S:S,Report!$B621)),\"\",INDEX(Data!S:S,Report!$B621))","v":""},{"$f":"IF(ISERROR(INDEX(Data!T:T,Report!$B621)),\"\",INDEX(Data!T:T,Report!$B621))","v":""},{"$f":"IF(ISERROR(INDEX(Data!U:U,Report!$B621)),\"\",INDEX(Data!U:U,Report!$B621))","v":""},{"$f":"IF(ISERROR(INDEX(Data!V:V,Report!$B621)),\"\",INDEX(Data!V:V,Report!$B621))","v":""},null,"",""]
[618,{"$f":"IF(ISERROR(MATCH(A622,Data!A:A,0)),\"\",MATCH(A622,Data!A:A,0))","v":""},{"$f":"IF(ISERROR(INDEX(Data!I:I,Report!$B622)),\"\",INDEX(Data!I:I,Report!$B622))","v":""},{"$f":"IF(ISERROR(INDEX(Data!J:J,Report!$B622)),\"\",INDEX(Data!J:J,Report!$B622))","v":""},{"$f":"IF(ISERROR(INDEX(Data!K:K,Report!$B622)),\"\",INDEX(Data!K:K,Report!$B622))","v":""},{"$f":"IF(ISERROR(INDEX(Data!L:L,Report!$B622)),\"\",INDEX(Data!L:L,Report!$B622))","v":""},null,{"$f":"IF(ISERROR(INDEX(Data!N:N,Report!$B622)),\"\",INDEX(Data!N:N,Report!$B622))","v":""},{"$f":"IF(ISERROR(INDEX(Data!P:P,Report!$B622)),\"\",INDEX(Data!P:P,Report!$B622))","v":""},{"$f":"IF(ISERROR(INDEX(Data!O:O,Report!$B622)),\"\",INDEX(Data!O:O,Report!$B622))","v":""},{"$f":"IF(ISERROR(INDEX(Data!Q:Q,Report!$B622)),\"\",INDEX(Data!Q:Q,Report!$B622))","v":""},{"$f":"IF(ISERROR(INDEX(Data!R:R,Report!$B622)),\"\",INDEX(Data!R:R,Report!$B622))","v":""},{"$f":"IF(ISERROR(INDEX(Data!S:S,Report!$B622)),\"\",INDEX(Data!S:S,Report!$B622))","v":""},{"$f":"IF(ISERROR(INDEX(Data!T:T,Report!$B622)),\"\",INDEX(Data!T:T,Report!$B622))","v":""},{"$f":"IF(ISERROR(INDEX(Data!U:U,Report!$B622)),\"\",INDEX(Data!U:U,Report!$B622))","v":""},{"$f":"IF(ISERROR(INDEX(Data!V:V,Report!$B622)),\"\",INDEX(Data!V:V,Report!$B622))","v":""},null,"",""]
[619,{"$f":"IF(ISERROR(MATCH(A623,Data!A:A,0)),\"\",MATCH(A623,Data!A:A,0))","v":""},{"$f":"IF(ISERROR(INDEX(Data!I:I,Report!$B623)),\"\",INDEX(Data!I:I,Report!$B623))","v":""},{"$f":"IF(ISERROR(INDEX(Data!J:J,Report!$B623)),\"\",INDEX(Data!J:J,Report!$B623))","v":""},{"$f":"IF(ISERROR(INDEX(Data!K:K,Report!$B623)),\"\",INDEX(Data!K:K,Report!$B623))","v":""},{"$f":"IF(ISERROR(INDEX(Data!L:L,Report!$B623)),\"\",INDEX(Data!L:L,Report!$B623))","v":""},null,{"$f":"IF(ISERROR(INDEX(Data!N:N,Report!$B623)),\"\",INDEX(Data!N:N,Report!$B623))","v":""},{"$f":"IF(ISERROR(INDEX(Data!P:P,Report!$B623)),\"\",INDEX(Data!P:P,Report!$B623))","v":""},{"$f":"IF(ISERROR(INDEX(Data!O:O,Report!$B623)),\"\",INDEX(Data!O:O,Report!$B623))","v":""},{"$f":"IF(ISERROR(INDEX(Data!Q:Q,Report!$B623)),\"\",INDEX(Data!Q:Q,Report!$B623))","v":""},{"$f":"IF(ISERROR(INDEX(Data!R:R,Report!$B623)),\"\",INDEX(Data!R:R,Report!$B623))","v":""},{"$f":"IF(ISERROR(INDEX(Data!S:S,Report!$B623)),\"\",INDEX(Data!S:S,Report!$B623))","v":""},{"$f":"IF(ISERROR(INDEX(Data!T:T,Report!$B623)),\"\",INDEX(Data!T:T,Report!$B623))","v":""},{"$f":"IF(ISERROR(INDEX(Data!U:U,Report!$B623)),\"\",INDEX(Data!U:U,Report!$B623))","v":""},{"$f":"IF(ISERROR(INDEX(Data!V:V,Report!$B623)),\"\",INDEX(Data!V:V,Report!$B623))","v":""},null,"",""]
[620,{"$f":"IF(ISERROR(MATCH(A624,Data!A:A,0)),\"\",MATCH(A624,Data!A:A,0))","v":297},{"$f":"IF(ISERROR(INDEX(Data!I:I,Report!$B624)),\"\",INDEX(Data!I:I,Report!$B624))","v":"00:47:15"},{"$f":"IF(ISERROR(INDEX(Data!J:J,Report!$B624)),\"\",INDEX(Data!J:J,Report!$B624))","v":"Game against Boomer at level 2.5  Single point data:"},{"$f":"IF(ISERROR(INDEX(Data!K:K,Report!$B624)),\"\",INDEX(Data!K:K,Report!$B624))","v":"Player's point"},{"$f":"IF(ISERROR(INDEX(Data!L:L,Report!$B624)),\"\",INDEX(Data!L:L,Report!$B624))","v":"New Point"},null,{"$f":"IF(ISERROR(INDEX(Data!N:N,Report!$B624)),\"\",INDEX(Data!N:N,Report!$B624))","v":1},{"$f":"IF(ISERROR(INDEX(Data!P:P,Report!$B624)),\"\",INDEX(Data!P:P,Report!$B624))","v":"Player Serve"},{"$f":"IF(ISERROR(INDEX(Data!O:O,Report!$B624)),\"\",INDEX(Data!O:O,Report!$B624))","v":4},{"$f":"IF(ISERROR(INDEX(Data!Q:Q,Report!$B624)),\"\",INDEX(Data!Q:Q,Report!$B624))","v":2.5},{"$f":"IF(ISERROR(INDEX(Data!R:R,Report!$B624)),\"\",INDEX(Data!R:R,Report!$B624))","v":14},{"$f":"IF(ISERROR(INDEX(Data!S:S,Report!$B624)),\"\",INDEX(Data!S:S,Report!$B624))","v":9},{"$f":"IF(ISERROR(INDEX(Data!T:T,Report!$B624)),\"\",INDEX(Data!T:T,Report!$B624))","v":3.7},{"$f":"IF(ISERROR(INDEX(Data!U:U,Report!$B624)),\"\",INDEX(Data!U:U,Report!$B624))","v":132},{"$f":"IF(ISERROR(INDEX(Data!V:V,Report!$B624)),\"\",INDEX(Data!V:V,Report!$B624))","v":5.3},null,"              |","||||"]
[621,{"$f":"IF(ISERROR(MATCH(A625,Data!A:A,0)),\"\",MATCH(A625,Data!A:A,0))","v":298},{"$f":"IF(ISERROR(INDEX(Data!I:I,Report!$B625)),\"\",INDEX(Data!I:I,Report!$B625))","v":" "},{"$f":"IF(ISERROR(INDEX(Data!J:J,Report!$B625)),\"\",INDEX(Data!J:J,Report!$B625))","v":"User Drill #188  3 line rated mini tennis"},{"$f":"IF(ISERROR(INDEX(Data!K:K,Report!$B625)),\"\",INDEX(Data!K:K,Report!$B625))","v":0},{"$f":"IF(ISERROR(INDEX(Data!L:L,Report!$B625)),\"\",INDEX(Data!L:L,Report!$B625))","v":0},null,{"$f":"IF(ISERROR(INDEX(Data!N:N,Report!$B625)),\"\",INDEX(Data!N:N,Report!$B625))","v":2},{"$f":"IF(ISERROR(INDEX(Data!P:P,Report!$B625)),\"\",INDEX(Data!P:P,Report!$B625))","v":0},{"$f":"IF(ISERROR(INDEX(Data!O:O,Report!$B625)),\"\",INDEX(Data!O:O,Report!$B625))","v":4},{"$f":"IF(ISERROR(INDEX(Data!Q:Q,Report!$B625)),\"\",INDEX(Data!Q:Q,Report!$B625))","v":3.5},{"$f":"IF(ISERROR(INDEX(Data!R:R,Report!$B625)),\"\",INDEX(Data!R:R,Report!$B625))","v":0},{"$f":"IF(ISERROR(INDEX(Data!S:S,Report!$B625)),\"\",INDEX(Data!S:S,Report!$B625))","v":0},{"$f":"IF(ISERROR(INDEX(Data!T:T,Report!$B625)),\"\",INDEX(Data!T:T,Report!$B625))","v":0},{"$f":"IF(ISERROR(INDEX(Data!U:U,Report!$B625)),\"\",INDEX(Data!U:U,Report!$B625))","v":0},{"$f":"IF(ISERROR(INDEX(Data!V:V,Report!$B625)),\"\",INDEX(Data!V:V,Report!$B625))","v":0},null,"|",""]
[622,{"$f":"IF(ISERROR(MATCH(A626,Data!A:A,0)),\"\",MATCH(A626,Data!A:A,0))","v":299},{"$f":"IF(ISERROR(INDEX(Data!I:I,Report!$B626)),\"\",INDEX(Data!I:I,Report!$B626))","v":" "},{"$f":"IF(ISERROR(INDEX(Data!J:J,Report!$B626)),\"\",INDEX(Data!J:J,Report!$B626))","v":"User Drill #188  3 line rated mini tennis"},{"$f":"IF(ISERROR(INDEX(Data!K:K,Report!$B626)),\"\",INDEX(Data!K:K,Report!$B626))","v":0},{"$f":"IF(ISERROR(INDEX(Data!L:L,Report!$B626)),\"\",INDEX(Data!L:L,Report!$B626))","v":0},null,{"$f":"IF(ISERROR(INDEX(Data!N:N,Report!$B626)),\"\",INDEX(Data!N:N,Report!$B626))","v":3},{"$f":"IF(ISERROR(INDEX(Data!P:P,Report!$B626)),\"\",INDEX(Data!P:P,Report!$B626))","v":0},{"$f":"IF(ISERROR(INDEX(Data!O:O,Report!$B626)),\"\",INDEX(Data!O:O,Report!$B626))","v":10},{"$f":"IF(ISERROR(INDEX(Data!Q:Q,Report!$B626)),\"\",INDEX(Data!Q:Q,Report!$B626))","v":3.5},{"$f":"IF(ISERROR(INDEX(Data!R:R,Report!$B626)),\"\",INDEX(Data!R:R,Report!$B626))","v":24},{"$f":"IF(ISERROR(INDEX(Data!S:S,Report!$B626)),\"\",INDEX(Data!S:S,Report!$B626))","v":14},{"$f":"IF(ISERROR(INDEX(Data!T:T,Report!$B626)),\"\",INDEX(Data!T:T,Report!$B626))","v":3.5},{"$f":"IF(ISERROR(INDEX(Data!U:U,Report!$B626)),\"\",INDEX(Data!U:U,Report!$B626))","v":50},{"$f":"IF(ISERROR(INDEX(Data!V:V,Report!$B626)),\"\",INDEX(Data!V:V,Report!$B626))","v":5.2},null,"                        |","|||||||"]
[623,{"$f":"IF(ISERROR(MATCH(A627,Data!A:A,0)),\"\",MATCH(A627,Data!A:A,0))","v":""},{"$f":"IF(ISERROR(INDEX(Data!I:I,Report!$B627)),\"\",INDEX(Data!I:I,Report!$B627))","v":""},{"$f":"IF(ISERROR(INDEX(Data!J:J,Report!$B627)),\"\",INDEX(Data!J:J,Report!$B627))","v":""},{"$f":"IF(ISERROR(INDEX(Data!K:K,Report!$B627)),\"\",INDEX(Data!K:K,Report!$B627))","v":""},{"$f":"IF(ISERROR(INDEX(Data!L:L,Report!$B627)),\"\",INDEX(Data!L:L,Report!$B627))","v":""},null,{"$f":"IF(ISERROR(INDEX(Data!N:N,Report!$B627)),\"\",INDEX(Data!N:N,Report!$B627))","v":""},{"$f":"IF(ISERROR(INDEX(Data!P:P,Report!$B627)),\"\",INDEX(Data!P:P,Report!$B627))","v":""},{"$f":"IF(ISERROR(INDEX(Data!O:O,Report!$B627)),\"\",INDEX(Data!O:O,Report!$B627))","v":""},{"$f":"IF(ISERROR(INDEX(Data!Q:Q,Report!$B627)),\"\",INDEX(Data!Q:Q,Report!$B627))","v":""},{"$f":"IF(ISERROR(INDEX(Data!R:R,Report!$B627)),\"\",INDEX(Data!R:R,Report!$B627))","v":""},{"$f":"IF(ISERROR(INDEX(Data!S:S,Report!$B627)),\"\",INDEX(Data!S:S,Report!$B627))","v":""},{"$f":"IF(ISERROR(INDEX(Data!T:T,Report!$B627)),\"\",INDEX(Data!T:T,Report!$B627))","v":""},{"$f":"IF(ISERROR(INDEX(Data!U:U,Report!$B627)),\"\",INDEX(Data!U:U,Report!$B627))","v":""},{"$f":"IF(ISERROR(INDEX(Data!V:V,Report!$B627)),\"\",INDEX(Data!V:V,Report!$B627))","v":""},null,"",""]
[624,{"$f":"IF(ISERROR(MATCH(A628,Data!A:A,0)),\"\",MATCH(A628,Data!A:A,0))","v":""},{"$f":"IF(ISERROR(INDEX(Data!I:I,Report!$B628)),\"\",INDEX(Data!I:I,Report!$B628))","v":""},{"$f":"IF(ISERROR(INDEX(Data!J:J,Report!$B628)),\"\",INDEX(Data!J:J,Report!$B628))","v":""},{"$f":"IF(ISERROR(INDEX(Data!K:K,Report!$B628)),\"\",INDEX(Data!K:K,Report!$B628))","v":""},{"$f":"IF(ISERROR(INDEX(Data!L:L,Report!$B628)),\"\",INDEX(Data!L:L,Report!$B628))","v":""},null,{"$f":"IF(ISERROR(INDEX(Data!N:N,Report!$B628)),\"\",INDEX(Data!N:N,Report!$B628))","v":""},{"$f":"IF(ISERROR(INDEX(Data!P:P,Report!$B628)),\"\",INDEX(Data!P:P,Report!$B628))","v":""},{"$f":"IF(ISERROR(INDEX(Data!O:O,Report!$B628)),\"\",INDEX(Data!O:O,Report!$B628))","v":""},{"$f":"IF(ISERROR(INDEX(Data!Q:Q,Report!$B628)),\"\",INDEX(Data!Q:Q,Report!$B628))","v":""},{"$f":"IF(ISERROR(INDEX(Data!R:R,Report!$B628)),\"\",INDEX(Data!R:R,Report!$B628))","v":""},{"$f":"IF(ISERROR(INDEX(Data!S:S,Report!$B628)),\"\",INDEX(Data!S:S,Report!$B628))","v":""},{"$f":"IF(ISERROR(INDEX(Data!T:T,Report!$B628)),\"\",INDEX(Data!T:T,Report!$B628))","v":""},{"$f":"IF(ISERROR(INDEX(Data!U:U,Report!$B628)),\"\",INDEX(Data!U:U,Report!$B628))","v":""},{"$f":"IF(ISERROR(INDEX(Data!V:V,Report!$B628)),\"\",INDEX(Data!V:V,Report!$B628))","v":""},null,"",""]
[625,{"$f":"IF(ISERROR(MATCH(A629,Data!A:A,0)),\"\",MATCH(A629,Data!A:A,0))","v":""},{"$f":"IF(ISERROR(INDEX(Data!I:I,Report!$B629)),\"\",INDEX(Data!I:I,Report!$B629))","v":""},{"$f":"IF(ISERROR(INDEX(Data!J:J,Report!$B629)),\"\",INDEX(Data!J:J,Report!$B629))","v":""},{"$f":"IF(ISERROR(INDEX(Data!K:K,Report!$B629)),\"\",INDEX(Data!K:K,Report!$B629))","v":""},{"$f":"IF(ISERROR(INDEX(Data!L:L,Report!$B629)),\"\",INDEX(Data!L:L,Report!$B629))","v":""},null,{"$f":"IF(ISERROR(INDEX(Data!N:N,Report!$B629)),\"\",INDEX(Data!N:N,Report!$B629))","v":""},{"$f":"IF(ISERROR(INDEX(Data!P:P,Report!$B629)),\"\",INDEX(Data!P:P,Report!$B629))","v":""},{"$f":"IF(ISERROR(INDEX(Data!O:O,Report!$B629)),\"\",INDEX(Data!O:O,Report!$B629))","v":""},{"$f":"IF(ISERROR(INDEX(Data!Q:Q,Report!$B629)),\"\",INDEX(Data!Q:Q,Report!$B629))","v":""},{"$f":"IF(ISERROR(INDEX(Data!R:R,Report!$B629)),\"\",INDEX(Data!R:R,Report!$B629))","v":""},{"$f":"IF(ISERROR(INDEX(Data!S:S,Report!$B629)),\"\",INDEX(Data!S:S,Report!$B629))","v":""},{"$f":"IF(ISERROR(INDEX(Data!T:T,Report!$B629)),\"\",INDEX(Data!T:T,Report!$B629))","v":""},{"$f":"IF(ISERROR(INDEX(Data!U:U,Report!$B629)),\"\",INDEX(Data!U:U,Report!$B629))","v":""},{"$f":"IF(ISERROR(INDEX(Data!V:V,Report!$B629)),\"\",INDEX(Data!V:V,Report!$B629))","v":""},null,"",""]
[626,{"$f":"IF(ISERROR(MATCH(A630,Data!A:A,0)),\"\",MATCH(A630,Data!A:A,0))","v":300},{"$f":"IF(ISERROR(INDEX(Data!I:I,Report!$B630)),\"\",INDEX(Data!I:I,Report!$B630))","v":" "},{"$f":"IF(ISERROR(INDEX(Data!J:J,Report!$B630)),\"\",INDEX(Data!J:J,Report!$B630))","v":"User Drill #188  3 line rated mini tennis"},{"$f":"IF(ISERROR(INDEX(Data!K:K,Report!$B630)),\"\",INDEX(Data!K:K,Report!$B630))","v":0},{"$f":"IF(ISERROR(INDEX(Data!L:L,Report!$B630)),\"\",INDEX(Data!L:L,Report!$B630))","v":"New Point"},null,{"$f":"IF(ISERROR(INDEX(Data!N:N,Report!$B630)),\"\",INDEX(Data!N:N,Report!$B630))","v":1},{"$f":"IF(ISERROR(INDEX(Data!P:P,Report!$B630)),\"\",INDEX(Data!P:P,Report!$B630))","v":0},{"$f":"IF(ISERROR(INDEX(Data!O:O,Report!$B630)),\"\",INDEX(Data!O:O,Report!$B630))","v":11},{"$f":"IF(ISERROR(INDEX(Data!Q:Q,Report!$B630)),\"\",INDEX(Data!Q:Q,Report!$B630))","v":3.5},{"$f":"IF(ISERROR(INDEX(Data!R:R,Report!$B630)),\"\",INDEX(Data!R:R,Report!$B630))","v":0},{"$f":"IF(ISERROR(INDEX(Data!S:S,Report!$B630)),\"\",INDEX(Data!S:S,Report!$B630))","v":0},{"$f":"IF(ISERROR(INDEX(Data!T:T,Report!$B630)),\"\",INDEX(Data!T:T,Report!$B630))","v":0},{"$f":"IF(ISERROR(INDEX(Data!U:U,Report!$B630)),\"\",INDEX(Data!U:U,Report!$B630))","v":0},{"$f":"IF(ISERROR(INDEX(Data!V:V,Report!$B630)),\"\",INDEX(Data!V:V,Report!$B630))","v":0},null,"|",""]
[627,{"$f":"IF(ISERROR(MATCH(A631,Data!A:A,0)),\"\",MATCH(A631,Data!A:A,0))","v":""},{"$f":"IF(ISERROR(INDEX(Data!I:I,Report!$B631)),\"\",INDEX(Data!I:I,Report!$B631))","v":""},{"$f":"IF(ISERROR(INDEX(Data!J:J,Report!$B631)),\"\",INDEX(Data!J:J,Report!$B631))","v":""},{"$f":"IF(ISERROR(INDEX(Data!K:K,Report!$B631)),\"\",INDEX(Data!K:K,Report!$B631))","v":""},{"$f":"IF(ISERROR(INDEX(Data!L:L,Report!$B631)),\"\",INDEX(Data!L:L,Report!$B631))","v":""},null,{"$f":"IF(ISERROR(INDEX(Data!N:N,Report!$B631)),\"\",INDEX(Data!N:N,Report!$B631))","v":""},{"$f":"IF(ISERROR(INDEX(Data!P:P,Report!$B631)),\"\",INDEX(Data!P:P,Report!$B631))","v":""},{"$f":"IF(ISERROR(INDEX(Data!O:O,Report!$B631)),\"\",INDEX(Data!O:O,Report!$B631))","v":""},{"$f":"IF(ISERROR(INDEX(Data!Q:Q,Report!$B631)),\"\",INDEX(Data!Q:Q,Report!$B631))","v":""},{"$f":"IF(ISERROR(INDEX(Data!R:R,Report!$B631)),\"\",INDEX(Data!R:R,Report!$B631))","v":""},{"$f":"IF(ISERROR(INDEX(Data!S:S,Report!$B631)),\"\",INDEX(Data!S:S,Report!$B631))","v":""},{"$f":"IF(ISERROR(INDEX(Data!T:T,Report!$B631)),\"\",INDEX(Data!T:T,Report!$B631))","v":""},{"$f":"IF(ISERROR(INDEX(Data!U:U,Report!$B631)),\"\",INDEX(Data!U:U,Report!$B631))","v":""},{"$f":"IF(ISERROR(INDEX(Data!V:V,Report!$B631)),\"\",INDEX(Data!V:V,Report!$B631))","v":""},null,"",""]
[628,{"$f":"IF(ISERROR(MATCH(A632,Data!A:A,0)),\"\",MATCH(A632,Data!A:A,0))","v":""},{"$f":"IF(ISERROR(INDEX(Data!I:I,Report!$B632)),\"\",INDEX(Data!I:I,Report!$B632))","v":""},{"$f":"IF(ISERROR(INDEX(Data!J:J,Report!$B632)),\"\",INDEX(Data!J:J,Report!$B632))","v":""},{"$f":"IF(ISERROR(INDEX(Data!K:K,Report!$B632)),\"\",INDEX(Data!K:K,Report!$B632))","v":""},{"$f":"IF(ISERROR(INDEX(Data!L:L,Report!$B632)),\"\",INDEX(Data!L:L,Report!$B632))","v":""},null,{"$f":"IF(ISERROR(INDEX(Data!N:N,Report!$B632)),\"\",INDEX(Data!N:N,Report!$B632))","v":""},{"$f":"IF(ISERROR(INDEX(Data!P:P,Report!$B632)),\"\",INDEX(Data!P:P,Report!$B632))","v":""},{"$f":"IF(ISERROR(INDEX(Data!O:O,Report!$B632)),\"\",INDEX(Data!O:O,Report!$B632))","v":""},{"$f":"IF(ISERROR(INDEX(Data!Q:Q,Report!$B632)),\"\",INDEX(Data!Q:Q,Report!$B632))","v":""},{"$f":"IF(ISERROR(INDEX(Data!R:R,Report!$B632)),\"\",INDEX(Data!R:R,Report!$B632))","v":""},{"$f":"IF(ISERROR(INDEX(Data!S:S,Report!$B632)),\"\",INDEX(Data!S:S,Report!$B632))","v":""},{"$f":"IF(ISERROR(INDEX(Data!T:T,Report!$B632)),\"\",INDEX(Data!T:T,Report!$B632))","v":""},{"$f":"IF(ISERROR(INDEX(Data!U:U,Report!$B632)),\"\",INDEX(Data!U:U,Report!$B632))","v":""},{"$f":"IF(ISERROR(INDEX(Data!V:V,Report!$B632)),\"\",INDEX(Data!V:V,Report!$B632))","v":""},null,"",""]
[629,{"$f":"IF(ISERROR(MATCH(A633,Data!A:A,0)),\"\",MATCH(A633,Data!A:A,0))","v":""},{"$f":"IF(ISERROR(INDEX(Data!I:I,Report!$B633)),\"\",INDEX(Data!I:I,Report!$B633))","v":""},{"$f":"IF(ISERROR(INDEX(Data!J:J,Report!$B633)),\"\",INDEX(Data!J:J,Report!$B633))","v":""},{"$f":"IF(ISERROR(INDEX(Data!K:K,Report!$B633)),\"\",INDEX(Data!K:K,Report!$B633))","v":""},{"$f":"IF(ISERROR(INDEX(Data!L:L,Report!$B633)),\"\",INDEX(Data!L:L,Report!$B633))","v":""},null,{"$f":"IF(ISERROR(INDEX(Data!N:N,Report!$B633)),\"\",INDEX(Data!N:N,Report!$B633))","v":""},{"$f":"IF(ISERROR(INDEX(Data!P:P,Report!$B633)),\"\",INDEX(Data!P:P,Report!$B633))","v":""},{"$f":"IF(ISERROR(INDEX(Data!O:O,Report!$B633)),\"\",INDEX(Data!O:O,Report!$B633))","v":""},{"$f":"IF(ISERROR(INDEX(Data!Q:Q,Report!$B633)),\"\",INDEX(Data!Q:Q,Report!$B633))","v":""},{"$f":"IF(ISERROR(INDEX(Data!R:R,Report!$B633)),\"\",INDEX(Data!R:R,Report!$B633))","v":""},{"$f":"IF(ISERROR(INDEX(Data!S:S,Report!$B633)),\"\",INDEX(Data!S:S,Report!$B633))","v":""},{"$f":"IF(ISERROR(INDEX(Data!T:T,Report!$B633)),\"\",INDEX(Data!T:T,Report!$B633))","v":""},{"$f":"IF(ISERROR(INDEX(Data!U:U,Report!$B633)),\"\",INDEX(Data!U:U,Report!$B633))","v":""},{"$f":"IF(ISERROR(INDEX(Data!V:V,Report!$B633)),\"\",INDEX(Data!V:V,Report!$B633))","v":""},null,"",""]
[630,{"$f":"IF(ISERROR(MATCH(A634,Data!A:A,0)),\"\",MATCH(A634,Data!A:A,0))","v":301},{"$f":"IF(ISERROR(INDEX(Data!I:I,Report!$B634)),\"\",INDEX(Data!I:I,Report!$B634))","v":"00:47:36"},{"$f":"IF(ISERROR(INDEX(Data!J:J,Report!$B634)),\"\",INDEX(Data!J:J,Report!$B634))","v":"Game against Boomer at level 2.5  Single point data:"},{"$f":"IF(ISERROR(INDEX(Data!K:K,Report!$B634)),\"\",INDEX(Data!K:K,Report!$B634))","v":"Player's point"},{"$f":"IF(ISERROR(INDEX(Data!L:L,Report!$B634)),\"\",INDEX(Data!L:L,Report!$B634))","v":"New Point"},null,{"$f":"IF(ISERROR(INDEX(Data!N:N,Report!$B634)),\"\",INDEX(Data!N:N,Report!$B634))","v":1},{"$f":"IF(ISERROR(INDEX(Data!P:P,Report!$B634)),\"\",INDEX(Data!P:P,Report!$B634))","v":"Player Serve"},{"$f":"IF(ISERROR(INDEX(Data!O:O,Report!$B634)),\"\",INDEX(Data!O:O,Report!$B634))","v":4},{"$f":"IF(ISERROR(INDEX(Data!Q:Q,Report!$B634)),\"\",INDEX(Data!Q:Q,Report!$B634))","v":2.5},{"$f":"IF(ISERROR(INDEX(Data!R:R,Report!$B634)),\"\",INDEX(Data!R:R,Report!$B634))","v":10},{"$f":"IF(ISERROR(INDEX(Data!S:S,Report!$B634)),\"\",INDEX(Data!S:S,Report!$B634))","v":17},{"$f":"IF(ISERROR(INDEX(Data!T:T,Report!$B634)),\"\",INDEX(Data!T:T,Report!$B634))","v":3.4},{"$f":"IF(ISERROR(INDEX(Data!U:U,Report!$B634)),\"\",INDEX(Data!U:U,Report!$B634))","v":132},{"$f":"IF(ISERROR(INDEX(Data!V:V,Report!$B634)),\"\",INDEX(Data!V:V,Report!$B634))","v":5.2},null,"          |","||||||||"]
[631,{"$f":"IF(ISERROR(MATCH(A635,Data!A:A,0)),\"\",MATCH(A635,Data!A:A,0))","v":302},{"$f":"IF(ISERROR(INDEX(Data!I:I,Report!$B635)),\"\",INDEX(Data!I:I,Report!$B635))","v":" "},{"$f":"IF(ISERROR(INDEX(Data!J:J,Report!$B635)),\"\",INDEX(Data!J:J,Report!$B635))","v":"User Drill #188  3 line rated mini tennis"},{"$f":"IF(ISERROR(INDEX(Data!K:K,Report!$B635)),\"\",INDEX(Data!K:K,Report!$B635))","v":0},{"$f":"IF(ISERROR(INDEX(Data!L:L,Report!$B635)),\"\",INDEX(Data!L:L,Report!$B635))","v":0},null,{"$f":"IF(ISERROR(INDEX(Data!N:N,Report!$B635)),\"\",INDEX(Data!N:N,Report!$B635))","v":2},{"$f":"IF(ISERROR(INDEX(Data!P:P,Report!$B635)),\"\",INDEX(Data!P:P,Report!$B635))","v":0},{"$f":"IF(ISERROR(INDEX(Data!O:O,Report!$B635)),\"\",INDEX(Data!O:O,Report!$B635))","v":4},{"$f":"IF(ISERROR(INDEX(Data!Q:Q,Report!$B635)),\"\",INDEX(Data!Q:Q,Report!$B635))","v":3.5},{"$f":"IF(ISERROR(INDEX(Data!R:R,Report!$B635)),\"\",INDEX(Data!R:R,Report!$B635))","v":9},{"$f":"IF(ISERROR(INDEX(Data!S:S,Report!$B635)),\"\",INDEX(Data!S:S,Report!$B635))","v":5},{"$f":"IF(ISERROR(INDEX(Data!T:T,Report!$B635)),\"\",INDEX(Data!T:T,Report!$B635))","v":4.9000000000000004},{"$f":"IF(ISERROR(INDEX(Data!U:U,Report!$B635)),\"\",INDEX(Data!U:U,Report!$B635))","v":32},{"$f":"IF(ISERROR(INDEX(Data!V:V,Report!$B635)),\"\",INDEX(Data!V:V,Report!$B635))","v":4.5999999999999996},null,{"$f":"IF(H635=0,\"\",IF(ISERROR(REPT(\" \",L635) & \"|\"),\"\",REPT(\" \",L635) & \"|\"))","v":"         |"},"||"]
[632,{"$f":"IF(ISERROR(MATCH(A636,Data!A:A,0)),\"\",MATCH(A636,Data!A:A,0))","v":303},{"$f":"IF(ISERROR(INDEX(Data!I:I,Report!$B636)),\"\",INDEX(Data!I:I,Report!$B636))","v":" "},{"$f":"IF(ISERROR(INDEX(Data!J:J,Report!$B636)),\"\",INDEX(Data!J:J,Report!$B636))","v":"User Drill #188  3 line rated mini tennis"},{"$f":"IF(ISERROR(INDEX(Data!K:K,Report!$B636)),\"\",INDEX(Data!K:K,Report!$B636))","v":0},{"$f":"IF(ISERROR(INDEX(Data!L:L,Report!$B636)),\"\",INDEX(Data!L:L,Report!$B636))","v":0},null,{"$f":"IF(ISERROR(INDEX(Data!N:N,Report!$B636)),\"\",INDEX(Data!N:N,Report!$B636))","v":3},{"$f":"IF(ISERROR(INDEX(Data!P:P,Report!$B636)),\"\",INDEX(Data!P:P,Report!$B636))","v":0},{"$f":"IF(ISERROR(INDEX(Data!O:O,Report!$B636)),\"\",INDEX(Data!O:O,Report!$B636))","v":10},{"$f":"IF(ISERROR(INDEX(Data!Q:Q,Report!$B636)),\"\",INDEX(Data!Q:Q,Report!$B636))","v":3.5},{"$f":"IF(ISERROR(INDEX(Data!R:R,Report!$B636)),\"\",INDEX(Data!R:R,Report!$B636))","v":0},{"$f":"IF(ISERROR(INDEX(Data!S:S,Report!$B636)),\"\",INDEX(Data!S:S,Report!$B636))","v":0},{"$f":"IF(ISERROR(INDEX(Data!T:T,Report!$B636)),\"\",INDEX(Data!T:T,Report!$B636))","v":0},{"$f":"IF(ISERROR(INDEX(Data!U:U,Report!$B636)),\"\",INDEX(Data!U:U,Report!$B636))","v":0},{"$f":"IF(ISERROR(INDEX(Data!V:V,Report!$B636)),\"\",INDEX(Data!V:V,Report!$B636))","v":0},null,"|",""]
[633,{"$f":"IF(ISERROR(MATCH(A637,Data!A:A,0)),\"\",MATCH(A637,Data!A:A,0))","v":""},{"$f":"IF(ISERROR(INDEX(Data!I:I,Report!$B637)),\"\",INDEX(Data!I:I,Report!$B637))","v":""},{"$f":"IF(ISERROR(INDEX(Data!J:J,Report!$B637)),\"\",INDEX(Data!J:J,Report!$B637))","v":""},{"$f":"IF(ISERROR(INDEX(Data!K:K,Report!$B637)),\"\",INDEX(Data!K:K,Report!$B637))","v":""},{"$f":"IF(ISERROR(INDEX(Data!L:L,Report!$B637)),\"\",INDEX(Data!L:L,Report!$B637))","v":""},null,{"$f":"IF(ISERROR(INDEX(Data!N:N,Report!$B637)),\"\",INDEX(Data!N:N,Report!$B637))","v":""},{"$f":"IF(ISERROR(INDEX(Data!P:P,Report!$B637)),\"\",INDEX(Data!P:P,Report!$B637))","v":""},{"$f":"IF(ISERROR(INDEX(Data!O:O,Report!$B637)),\"\",INDEX(Data!O:O,Report!$B637))","v":""},{"$f":"IF(ISERROR(INDEX(Data!Q:Q,Report!$B637)),\"\",INDEX(Data!Q:Q,Report!$B637))","v":""},{"$f":"IF(ISERROR(INDEX(Data!R:R,Report!$B637)),\"\",INDEX(Data!R:R,Report!$B637))","v":""},{"$f":"IF(ISERROR(INDEX(Data!S:S,Report!$B637)),\"\",INDEX(Data!S:S,Report!$B637))","v":""},{"$f":"IF(ISERROR(INDEX(Data!T:T,Report!$B637)),\"\",INDEX(Data!T:T,Report!$B637))","v":""},{"$f":"IF(ISERROR(INDEX(Data!U:U,Report!$B637)),\"\",INDEX(Data!U:U,Report!$B637))","v":""},{"$f":"IF(ISERROR(INDEX(Data!V:V,Report!$B637)),\"\",INDEX(Data!V:V,Report!$B637))","v":""},null,"",""]
[634,{"$f":"IF(ISERROR(MATCH(A638,Data!A:A,0)),\"\",MATCH(A638,Data!A:A,0))","v":""},{"$f":"IF(ISERROR(INDEX(Data!I:I,Report!$B638)),\"\",INDEX(Data!I:I,Report!$B638))","v":""},{"$f":"IF(ISERROR(INDEX(Data!J:J,Report!$B638)),\"\",INDEX(Data!J:J,Report!$B638))","v":""},{"$f":"IF(ISERROR(INDEX(Data!K:K,Report!$B638)),\"\",INDEX(Data!K:K,Report!$B638))","v":""},{"$f":"IF(ISERROR(INDEX(Data!L:L,Report!$B638)),\"\",INDEX(Data!L:L,Report!$B638))","v":""},null,{"$f":"IF(ISERROR(INDEX(Data!N:N,Report!$B638)),\"\",INDEX(Data!N:N,Report!$B638))","v":""},{"$f":"IF(ISERROR(INDEX(Data!P:P,Report!$B638)),\"\",INDEX(Data!P:P,Report!$B638))","v":""},{"$f":"IF(ISERROR(INDEX(Data!O:O,Report!$B638)),\"\",INDEX(Data!O:O,Report!$B638))","v":""},{"$f":"IF(ISERROR(INDEX(Data!Q:Q,Report!$B638)),\"\",INDEX(Data!Q:Q,Report!$B638))","v":""},{"$f":"IF(ISERROR(INDEX(Data!R:R,Report!$B638)),\"\",INDEX(Data!R:R,Report!$B638))","v":""},{"$f":"IF(ISERROR(INDEX(Data!S:S,Report!$B638)),\"\",INDEX(Data!S:S,Report!$B638))","v":""},{"$f":"IF(ISERROR(INDEX(Data!T:T,Report!$B638)),\"\",INDEX(Data!T:T,Report!$B638))","v":""},{"$f":"IF(ISERROR(INDEX(Data!U:U,Report!$B638)),\"\",INDEX(Data!U:U,Report!$B638))","v":""},{"$f":"IF(ISERROR(INDEX(Data!V:V,Report!$B638)),\"\",INDEX(Data!V:V,Report!$B638))","v":""},null,"",""]
[635,{"$f":"IF(ISERROR(MATCH(A639,Data!A:A,0)),\"\",MATCH(A639,Data!A:A,0))","v":""},{"$f":"IF(ISERROR(INDEX(Data!I:I,Report!$B639)),\"\",INDEX(Data!I:I,Report!$B639))","v":""},{"$f":"IF(ISERROR(INDEX(Data!J:J,Report!$B639)),\"\",INDEX(Data!J:J,Report!$B639))","v":""},{"$f":"IF(ISERROR(INDEX(Data!K:K,Report!$B639)),\"\",INDEX(Data!K:K,Report!$B639))","v":""},{"$f":"IF(ISERROR(INDEX(Data!L:L,Report!$B639)),\"\",INDEX(Data!L:L,Report!$B639))","v":""},null,{"$f":"IF(ISERROR(INDEX(Data!N:N,Report!$B639)),\"\",INDEX(Data!N:N,Report!$B639))","v":""},{"$f":"IF(ISERROR(INDEX(Data!P:P,Report!$B639)),\"\",INDEX(Data!P:P,Report!$B639))","v":""},{"$f":"IF(ISERROR(INDEX(Data!O:O,Report!$B639)),\"\",INDEX(Data!O:O,Report!$B639))","v":""},{"$f":"IF(ISERROR(INDEX(Data!Q:Q,Report!$B639)),\"\",INDEX(Data!Q:Q,Report!$B639))","v":""},{"$f":"IF(ISERROR(INDEX(Data!R:R,Report!$B639)),\"\",INDEX(Data!R:R,Report!$B639))","v":""},{"$f":"IF(ISERROR(INDEX(Data!S:S,Report!$B639)),\"\",INDEX(Data!S:S,Report!$B639))","v":""},{"$f":"IF(ISERROR(INDEX(Data!T:T,Report!$B639)),\"\",INDEX(Data!T:T,Report!$B639))","v":""},{"$f":"IF(ISERROR(INDEX(Data!U:U,Report!$B639)),\"\",INDEX(Data!U:U,Report!$B639))","v":""},{"$f":"IF(ISERROR(INDEX(Data!V:V,Report!$B639)),\"\",INDEX(Data!V:V,Report!$B639))","v":""},null,"",""]
[636,{"$f":"IF(ISERROR(MATCH(A640,Data!A:A,0)),\"\",MATCH(A640,Data!A:A,0))","v":304},{"$f":"IF(ISERROR(INDEX(Data!I:I,Report!$B640)),\"\",INDEX(Data!I:I,Report!$B640))","v":" "},{"$f":"IF(ISERROR(INDEX(Data!J:J,Report!$B640)),\"\",INDEX(Data!J:J,Report!$B640))","v":"User Drill #188  3 line rated mini tennis"},{"$f":"IF(ISERROR(INDEX(Data!K:K,Report!$B640)),\"\",INDEX(Data!K:K,Report!$B640))","v":0},{"$f":"IF(ISERROR(INDEX(Data!L:L,Report!$B640)),\"\",INDEX(Data!L:L,Report!$B640))","v":"New Point"},null,{"$f":"IF(ISERROR(INDEX(Data!N:N,Report!$B640)),\"\",INDEX(Data!N:N,Report!$B640))","v":1},{"$f":"IF(ISERROR(INDEX(Data!P:P,Report!$B640)),\"\",INDEX(Data!P:P,Report!$B640))","v":0},{"$f":"IF(ISERROR(INDEX(Data!O:O,Report!$B640)),\"\",INDEX(Data!O:O,Report!$B640))","v":11},{"$f":"IF(ISERROR(INDEX(Data!Q:Q,Report!$B640)),\"\",INDEX(Data!Q:Q,Report!$B640))","v":3.5},{"$f":"IF(ISERROR(INDEX(Data!R:R,Report!$B640)),\"\",INDEX(Data!R:R,Report!$B640))","v":0},{"$f":"IF(ISERROR(INDEX(Data!S:S,Report!$B640)),\"\",INDEX(Data!S:S,Report!$B640))","v":0},{"$f":"IF(ISERROR(INDEX(Data!T:T,Report!$B640)),\"\",INDEX(Data!T:T,Report!$B640))","v":0},{"$f":"IF(ISERROR(INDEX(Data!U:U,Report!$B640)),\"\",INDEX(Data!U:U,Report!$B640))","v":0},{"$f":"IF(ISERROR(INDEX(Data!V:V,Report!$B640)),\"\",INDEX(Data!V:V,Report!$B640))","v":0},null,"|",""]
[637,{"$f":"IF(ISERROR(MATCH(A641,Data!A:A,0)),\"\",MATCH(A641,Data!A:A,0))","v":""},{"$f":"IF(ISERROR(INDEX(Data!I:I,Report!$B641)),\"\",INDEX(Data!I:I,Report!$B641))","v":""},{"$f":"IF(ISERROR(INDEX(Data!J:J,Report!$B641)),\"\",INDEX(Data!J:J,Report!$B641))","v":""},{"$f":"IF(ISERROR(INDEX(Data!K:K,Report!$B641)),\"\",INDEX(Data!K:K,Report!$B641))","v":""},{"$f":"IF(ISERROR(INDEX(Data!L:L,Report!$B641)),\"\",INDEX(Data!L:L,Report!$B641))","v":""},null,{"$f":"IF(ISERROR(INDEX(Data!N:N,Report!$B641)),\"\",INDEX(Data!N:N,Report!$B641))","v":""},{"$f":"IF(ISERROR(INDEX(Data!P:P,Report!$B641)),\"\",INDEX(Data!P:P,Report!$B641))","v":""},{"$f":"IF(ISERROR(INDEX(Data!O:O,Report!$B641)),\"\",INDEX(Data!O:O,Report!$B641))","v":""},{"$f":"IF(ISERROR(INDEX(Data!Q:Q,Report!$B641)),\"\",INDEX(Data!Q:Q,Report!$B641))","v":""},{"$f":"IF(ISERROR(INDEX(Data!R:R,Report!$B641)),\"\",INDEX(Data!R:R,Report!$B641))","v":""},{"$f":"IF(ISERROR(INDEX(Data!S:S,Report!$B641)),\"\",INDEX(Data!S:S,Report!$B641))","v":""},{"$f":"IF(ISERROR(INDEX(Data!T:T,Report!$B641)),\"\",INDEX(Data!T:T,Report!$B641))","v":""},{"$f":"IF(ISERROR(INDEX(Data!U:U,Report!$B641)),\"\",INDEX(Data!U:U,Report!$B641))","v":""},{"$f":"IF(ISERROR(INDEX(Data!V:V,Report!$B641)),\"\",INDEX(Data!V:V,Report!$B641))","v":""},null,"",""]
[638,{"$f":"IF(ISERROR(MATCH(A642,Data!A:A,0)),\"\",MATCH(A642,Data!A:A,0))","v":""},{"$f":"IF(ISERROR(INDEX(Data!I:I,Report!$B642)),\"\",INDEX(Data!I:I,Report!$B642))","v":""},{"$f":"IF(ISERROR(INDEX(Data!J:J,Report!$B642)),\"\",INDEX(Data!J:J,Report!$B642))","v":""},{"$f":"IF(ISERROR(INDEX(Data!K:K,Report!$B642)),\"\",INDEX(Data!K:K,Report!$B642))","v":""},{"$f":"IF(ISERROR(INDEX(Data!L:L,Report!$B642)),\"\",INDEX(Data!L:L,Report!$B642))","v":""},null,{"$f":"IF(ISERROR(INDEX(Data!N:N,Report!$B642)),\"\",INDEX(Data!N:N,Report!$B642))","v":""},{"$f":"IF(ISERROR(INDEX(Data!P:P,Report!$B642)),\"\",INDEX(Data!P:P,Report!$B642))","v":""},{"$f":"IF(ISERROR(INDEX(Data!O:O,Report!$B642)),\"\",INDEX(Data!O:O,Report!$B642))","v":""},{"$f":"IF(ISERROR(INDEX(Data!Q:Q,Report!$B642)),\"\",INDEX(Data!Q:Q,Report!$B642))","v":""},{"$f":"IF(ISERROR(INDEX(Data!R:R,Report!$B642)),\"\",INDEX(Data!R:R,Report!$B642))","v":""},{"$f":"IF(ISERROR(INDEX(Data!S:S,Report!$B642)),\"\",INDEX(Data!S:S,Report!$B642))","v":""},{"$f":"IF(ISERROR(INDEX(Data!T:T,Report!$B642)),\"\",INDEX(Data!T:T,Report!$B642))","v":""},{"$f":"IF(ISERROR(INDEX(Data!U:U,Report!$B642)),\"\",INDEX(Data!U:U,Report!$B642))","v":""},{"$f":"IF(ISERROR(INDEX(Data!V:V,Report!$B642)),\"\",INDEX(Data!V:V,Report!$B642))","v":""},null,"",""]
[639,{"$f":"IF(ISERROR(MATCH(A643,Data!A:A,0)),\"\",MATCH(A643,Data!A:A,0))","v":""},{"$f":"IF(ISERROR(INDEX(Data!I:I,Report!$B643)),\"\",INDEX(Data!I:I,Report!$B643))","v":""},{"$f":"IF(ISERROR(INDEX(Data!J:J,Report!$B643)),\"\",INDEX(Data!J:J,Report!$B643))","v":""},{"$f":"IF(ISERROR(INDEX(Data!K:K,Report!$B643)),\"\",INDEX(Data!K:K,Report!$B643))","v":""},{"$f":"IF(ISERROR(INDEX(Data!L:L,Report!$B643)),\"\",INDEX(Data!L:L,Report!$B643))","v":""},null,{"$f":"IF(ISERROR(INDEX(Data!N:N,Report!$B643)),\"\",INDEX(Data!N:N,Report!$B643))","v":""},{"$f":"IF(ISERROR(INDEX(Data!P:P,Report!$B643)),\"\",INDEX(Data!P:P,Report!$B643))","v":""},{"$f":"IF(ISERROR(INDEX(Data!O:O,Report!$B643)),\"\",INDEX(Data!O:O,Report!$B643))","v":""},{"$f":"IF(ISERROR(INDEX(Data!Q:Q,Report!$B643)),\"\",INDEX(Data!Q:Q,Report!$B643))","v":""},{"$f":"IF(ISERROR(INDEX(Data!R:R,Report!$B643)),\"\",INDEX(Data!R:R,Report!$B643))","v":""},{"$f":"IF(ISERROR(INDEX(Data!S:S,Report!$B643)),\"\",INDEX(Data!S:S,Report!$B643))","v":""},{"$f":"IF(ISERROR(INDEX(Data!T:T,Report!$B643)),\"\",INDEX(Data!T:T,Report!$B643))","v":""},{"$f":"IF(ISERROR(INDEX(Data!U:U,Report!$B643)),\"\",INDEX(Data!U:U,Report!$B643))","v":""},{"$f":"IF(ISERROR(INDEX(Data!V:V,Report!$B643)),\"\",INDEX(Data!V:V,Report!$B643))","v":""},null,"",""]
[640,{"$f":"IF(ISERROR(MATCH(A644,Data!A:A,0)),\"\",MATCH(A644,Data!A:A,0))","v":305},{"$f":"IF(ISERROR(INDEX(Data!I:I,Report!$B644)),\"\",INDEX(Data!I:I,Report!$B644))","v":"00:48:09"},{"$f":"IF(ISERROR(INDEX(Data!J:J,Report!$B644)),\"\",INDEX(Data!J:J,Report!$B644))","v":"Game against Boomer at level 2.5  Single point data:"},{"$f":"IF(ISERROR(INDEX(Data!K:K,Report!$B644)),\"\",INDEX(Data!K:K,Report!$B644))","v":"Player's point"},{"$f":"IF(ISERROR(INDEX(Data!L:L,Report!$B644)),\"\",INDEX(Data!L:L,Report!$B644))","v":"New Point"},null,{"$f":"IF(ISERROR(INDEX(Data!N:N,Report!$B644)),\"\",INDEX(Data!N:N,Report!$B644))","v":1},{"$f":"IF(ISERROR(INDEX(Data!P:P,Report!$B644)),\"\",INDEX(Data!P:P,Report!$B644))","v":"Serve"},{"$f":"IF(ISERROR(INDEX(Data!O:O,Report!$B644)),\"\",INDEX(Data!O:O,Report!$B644))","v":3},{"$f":"IF(ISERROR(INDEX(Data!Q:Q,Report!$B644)),\"\",INDEX(Data!Q:Q,Report!$B644))","v":2.5},{"$f":"IF(ISERROR(INDEX(Data!R:R,Report!$B644)),\"\",INDEX(Data!R:R,Report!$B644))","v":33},{"$f":"IF(ISERROR(INDEX(Data!S:S,Report!$B644)),\"\",INDEX(Data!S:S,Report!$B644))","v":8},{"$f":"IF(ISERROR(INDEX(Data!T:T,Report!$B644)),\"\",INDEX(Data!T:T,Report!$B644))","v":5.3},{"$f":"IF(ISERROR(INDEX(Data!U:U,Report!$B644)),\"\",INDEX(Data!U:U,Report!$B644))","v":42},{"$f":"IF(ISERROR(INDEX(Data!V:V,Report!$B644)),\"\",INDEX(Data!V:V,Report!$B644))","v":4.3},null,"                                 |","||||"]
[641,{"$f":"IF(ISERROR(MATCH(A645,Data!A:A,0)),\"\",MATCH(A645,Data!A:A,0))","v":306},{"$f":"IF(ISERROR(INDEX(Data!I:I,Report!$B645)),\"\",INDEX(Data!I:I,Report!$B645))","v":" "},{"$f":"IF(ISERROR(INDEX(Data!J:J,Report!$B645)),\"\",INDEX(Data!J:J,Report!$B645))","v":"User Drill #188  3 line rated mini tennis"},{"$f":"IF(ISERROR(INDEX(Data!K:K,Report!$B645)),\"\",INDEX(Data!K:K,Report!$B645))","v":0},{"$f":"IF(ISERROR(INDEX(Data!L:L,Report!$B645)),\"\",INDEX(Data!L:L,Report!$B645))","v":0},null,{"$f":"IF(ISERROR(INDEX(Data!N:N,Report!$B645)),\"\",INDEX(Data!N:N,Report!$B645))","v":2},{"$f":"IF(ISERROR(INDEX(Data!P:P,Report!$B645)),\"\",INDEX(Data!P:P,Report!$B645))","v":0},{"$f":"IF(ISERROR(INDEX(Data!O:O,Report!$B645)),\"\",INDEX(Data!O:O,Report!$B645))","v":4},{"$f":"IF(ISERROR(INDEX(Data!Q:Q,Report!$B645)),\"\",INDEX(Data!Q:Q,Report!$B645))","v":3.5},{"$f":"IF(ISERROR(INDEX(Data!R:R,Report!$B645)),\"\",INDEX(Data!R:R,Report!$B645))","v":0},{"$f":"IF(ISERROR(INDEX(Data!S:S,Report!$B645)),\"\",INDEX(Data!S:S,Report!$B645))","v":0},{"$f":"IF(ISERROR(INDEX(Data!T:T,Report!$B645)),\"\",INDEX(Data!T:T,Report!$B645))","v":0},{"$f":"IF(ISERROR(INDEX(Data!U:U,Report!$B645)),\"\",INDEX(Data!U:U,Report!$B645))","v":0},{"$f":"IF(ISERROR(INDEX(Data!V:V,Report!$B645)),\"\",INDEX(Data!V:V,Report!$B645))","v":0},null,"|",""]
[642,{"$f":"IF(ISERROR(MATCH(A646,Data!A:A,0)),\"\",MATCH(A646,Data!A:A,0))","v":307},{"$f":"IF(ISERROR(INDEX(Data!I:I,Report!$B646)),\"\",INDEX(Data!I:I,Report!$B646))","v":"00:48:09"},{"$f":"IF(ISERROR(INDEX(Data!J:J,Report!$B646)),\"\",INDEX(Data!J:J,Report!$B646))","v":"Game against Boomer at level 2.5  Single point data:"},{"$f":"IF(ISERROR(INDEX(Data!K:K,Report!$B646)),\"\",INDEX(Data!K:K,Report!$B646))","v":"Player's point"},{"$f":"IF(ISERROR(INDEX(Data!L:L,Report!$B646)),\"\",INDEX(Data!L:L,Report!$B646))","v":0},null,{"$f":"IF(ISERROR(INDEX(Data!N:N,Report!$B646)),\"\",INDEX(Data!N:N,Report!$B646))","v":2},{"$f":"IF(ISERROR(INDEX(Data!P:P,Report!$B646)),\"\",INDEX(Data!P:P,Report!$B646))","v":"Drop Shot"},{"$f":"IF(ISERROR(INDEX(Data!O:O,Report!$B646)),\"\",INDEX(Data!O:O,Report!$B646))","v":4},{"$f":"IF(ISERROR(INDEX(Data!Q:Q,Report!$B646)),\"\",INDEX(Data!Q:Q,Report!$B646))","v":2.5},{"$f":"IF(ISERROR(INDEX(Data!R:R,Report!$B646)),\"\",INDEX(Data!R:R,Report!$B646))","v":27},{"$f":"IF(ISERROR(INDEX(Data!S:S,Report!$B646)),\"\",INDEX(Data!S:S,Report!$B646))","v":20},{"$f":"IF(ISERROR(INDEX(Data!T:T,Report!$B646)),\"\",INDEX(Data!T:T,Report!$B646))","v":5},{"$f":"IF(ISERROR(INDEX(Data!U:U,Report!$B646)),\"\",INDEX(Data!U:U,Report!$B646))","v":39},{"$f":"IF(ISERROR(INDEX(Data!V:V,Report!$B646)),\"\",INDEX(Data!V:V,Report!$B646))","v":4},null,"                           |",{"$f":"IF(ISERROR(REPT(\"|\",M646/2)),\"\",REPT(\"|\",M646/2))","v":"||||||||||"}]
[{"$f":"A646+1","v":643},{"$f":"IF(ISERROR(MATCH(A647,Data!A:A,0)),\"\",MATCH(A647,Data!A:A,0))","v":308},{"$f":"IF(ISERROR(INDEX(Data!I:I,Report!$B647)),\"\",INDEX(Data!I:I,Report!$B647))","v":" "},{"$f":"IF(ISERROR(INDEX(Data!J:J,Report!$B647)),\"\",INDEX(Data!J:J,Report!$B647))","v":"User Drill #188  3 line rated mini tennis"},{"$f":"IF(ISERROR(INDEX(Data!K:K,Report!$B647)),\"\",INDEX(Data!K:K,Report!$B647))","v":0},{"$f":"IF(ISERROR(INDEX(Data!L:L,Report!$B647)),\"\",INDEX(Data!L:L,Report!$B647))","v":0},null,{"$f":"IF(ISERROR(INDEX(Data!N:N,Report!$B647)),\"\",INDEX(Data!N:N,Report!$B647))","v":3},{"$f":"IF(ISERROR(INDEX(Data!P:P,Report!$B647)),\"\",INDEX(Data!P:P,Report!$B647))","v":0},{"$f":"IF(ISERROR(INDEX(Data!O:O,Report!$B647)),\"\",INDEX(Data!O:O,Report!$B647))","v":10},{"$f":"IF(ISERROR(INDEX(Data!Q:Q,Report!$B647)),\"\",INDEX(Data!Q:Q,Report!$B647))","v":3.5},{"$f":"IF(ISERROR(INDEX(Data!R:R,Report!$B647)),\"\",INDEX(Data!R:R,Report!$B647))","v":0},{"$f":"IF(ISERROR(INDEX(Data!S:S,Report!$B647)),\"\",INDEX(Data!S:S,Report!$B647))","v":0},{"$f":"IF(ISERROR(INDEX(Data!T:T,Report!$B647)),\"\",INDEX(Data!T:T,Report!$B647))","v":0},{"$f":"IF(ISERROR(INDEX(Data!U:U,Report!$B647)),\"\",INDEX(Data!U:U,Report!$B647))","v":0},{"$f":"IF(ISERROR(INDEX(Data!V:V,Report!$B647)),\"\",INDEX(Data!V:V,Report!$B647))","v":0},null,"|",""]
[644,{"$f":"IF(ISERROR(MATCH(A648,Data!A:A,0)),\"\",MATCH(A648,Data!A:A,0))","v":309},{"$f":"IF(ISERROR(INDEX(Data!I:I,Report!$B648)),\"\",INDEX(Data!I:I,Report!$B648))","v":"00:48:09"},{"$f":"IF(ISERROR(INDEX(Data!J:J,Report!$B648)),\"\",INDEX(Data!J:J,Report!$B648))","v":"Game against Boomer at level 2.5  Single point data:"},{"$f":"IF(ISERROR(INDEX(Data!K:K,Report!$B648)),\"\",INDEX(Data!K:K,Report!$B648))","v":"Player's point"},{"$f":"IF(ISERROR(INDEX(Data!L:L,Report!$B648)),\"\",INDEX(Data!L:L,Report!$B648))","v":0},null,{"$f":"IF(ISERROR(INDEX(Data!N:N,Report!$B648)),\"\",INDEX(Data!N:N,Report!$B648))","v":3},{"$f":"IF(ISERROR(INDEX(Data!P:P,Report!$B648)),\"\",INDEX(Data!P:P,Report!$B648))","v":"Pass"},{"$f":"IF(ISERROR(INDEX(Data!O:O,Report!$B648)),\"\",INDEX(Data!O:O,Report!$B648))","v":5},{"$f":"IF(ISERROR(INDEX(Data!Q:Q,Report!$B648)),\"\",INDEX(Data!Q:Q,Report!$B648))","v":2.5},{"$f":"IF(ISERROR(INDEX(Data!R:R,Report!$B648)),\"\",INDEX(Data!R:R,Report!$B648))","v":27},{"$f":"IF(ISERROR(INDEX(Data!S:S,Report!$B648)),\"\",INDEX(Data!S:S,Report!$B648))","v":3},{"$f":"IF(ISERROR(INDEX(Data!T:T,Report!$B648)),\"\",INDEX(Data!T:T,Report!$B648))","v":5.7},{"$f":"IF(ISERROR(INDEX(Data!U:U,Report!$B648)),\"\",INDEX(Data!U:U,Report!$B648))","v":42},{"$f":"IF(ISERROR(INDEX(Data!V:V,Report!$B648)),\"\",INDEX(Data!V:V,Report!$B648))","v":4.5},null,"                           |","|"]
[645,{"$f":"IF(ISERROR(MATCH(A649,Data!A:A,0)),\"\",MATCH(A649,Data!A:A,0))","v":310},{"$f":"IF(ISERROR(INDEX(Data!I:I,Report!$B649)),\"\",INDEX(Data!I:I,Report!$B649))","v":"00:48:09"},{"$f":"IF(ISERROR(INDEX(Data!J:J,Report!$B649)),\"\",INDEX(Data!J:J,Report!$B649))","v":"Game against Boomer at level 2.5  Single point data:"},{"$f":"IF(ISERROR(INDEX(Data!K:K,Report!$B649)),\"\",INDEX(Data!K:K,Report!$B649))","v":"Player's point"},{"$f":"IF(ISERROR(INDEX(Data!L:L,Report!$B649)),\"\",INDEX(Data!L:L,Report!$B649))","v":0},null,{"$f":"IF(ISERROR(INDEX(Data!N:N,Report!$B649)),\"\",INDEX(Data!N:N,Report!$B649))","v":4},{"$f":"IF(ISERROR(INDEX(Data!P:P,Report!$B649)),\"\",INDEX(Data!P:P,Report!$B649))","v":"Pass"},{"$f":"IF(ISERROR(INDEX(Data!O:O,Report!$B649)),\"\",INDEX(Data!O:O,Report!$B649))","v":4},{"$f":"IF(ISERROR(INDEX(Data!Q:Q,Report!$B649)),\"\",INDEX(Data!Q:Q,Report!$B649))","v":2.5},{"$f":"IF(ISERROR(INDEX(Data!R:R,Report!$B649)),\"\",INDEX(Data!R:R,Report!$B649))","v":33},{"$f":"IF(ISERROR(INDEX(Data!S:S,Report!$B649)),\"\",INDEX(Data!S:S,Report!$B649))","v":25},{"$f":"IF(ISERROR(INDEX(Data!T:T,Report!$B649)),\"\",INDEX(Data!T:T,Report!$B649))","v":6.5},{"$f":"IF(ISERROR(INDEX(Data!U:U,Report!$B649)),\"\",INDEX(Data!U:U,Report!$B649))","v":45},{"$f":"IF(ISERROR(INDEX(Data!V:V,Report!$B649)),\"\",INDEX(Data!V:V,Report!$B649))","v":5},null,"                                 |","||||||||||||"]
[646,{"$f":"IF(ISERROR(MATCH(A650,Data!A:A,0)),\"\",MATCH(A650,Data!A:A,0))","v":311},{"$f":"IF(ISERROR(INDEX(Data!I:I,Report!$B650)),\"\",INDEX(Data!I:I,Report!$B650))","v":"00:48:09"},{"$f":"IF(ISERROR(INDEX(Data!J:J,Report!$B650)),\"\",INDEX(Data!J:J,Report!$B650))","v":"Game against Boomer at level 2.5  Single point data:"},{"$f":"IF(ISERROR(INDEX(Data!K:K,Report!$B650)),\"\",INDEX(Data!K:K,Report!$B650))","v":"Player's point"},{"$f":"IF(ISERROR(INDEX(Data!L:L,Report!$B650)),\"\",INDEX(Data!L:L,Report!$B650))","v":0},null,{"$f":"IF(ISERROR(INDEX(Data!N:N,Report!$B650)),\"\",INDEX(Data!N:N,Report!$B650))","v":5},{"$f":"IF(ISERROR(INDEX(Data!P:P,Report!$B650)),\"\",INDEX(Data!P:P,Report!$B650))","v":"Heavy Topspin"},{"$f":"IF(ISERROR(INDEX(Data!O:O,Report!$B650)),\"\",INDEX(Data!O:O,Report!$B650))","v":5},{"$f":"IF(ISERROR(INDEX(Data!Q:Q,Report!$B650)),\"\",INDEX(Data!Q:Q,Report!$B650))","v":2.5},{"$f":"IF(ISERROR(INDEX(Data!R:R,Report!$B650)),\"\",INDEX(Data!R:R,Report!$B650))","v":33},{"$f":"IF(ISERROR(INDEX(Data!S:S,Report!$B650)),\"\",INDEX(Data!S:S,Report!$B650))","v":5},{"$f":"IF(ISERROR(INDEX(Data!T:T,Report!$B650)),\"\",INDEX(Data!T:T,Report!$B650))","v":6.1},{"$f":"IF(ISERROR(INDEX(Data!U:U,Report!$B650)),\"\",INDEX(Data!U:U,Report!$B650))","v":52},{"$f":"IF(ISERROR(INDEX(Data!V:V,Report!$B650)),\"\",INDEX(Data!V:V,Report!$B650))","v":5.0999999999999996},null,"                                 |","||"]
[647,{"$f":"IF(ISERROR(MATCH(A651,Data!A:A,0)),\"\",MATCH(A651,Data!A:A,0))","v":""},{"$f":"IF(ISERROR(INDEX(Data!I:I,Report!$B651)),\"\",INDEX(Data!I:I,Report!$B651))","v":""},{"$f":"IF(ISERROR(INDEX(Data!J:J,Report!$B651)),\"\",INDEX(Data!J:J,Report!$B651))","v":""},{"$f":"IF(ISERROR(INDEX(Data!K:K,Report!$B651)),\"\",INDEX(Data!K:K,Report!$B651))","v":""},{"$f":"IF(ISERROR(INDEX(Data!L:L,Report!$B651)),\"\",INDEX(Data!L:L,Report!$B651))","v":""},null,{"$f":"IF(ISERROR(INDEX(Data!N:N,Report!$B651)),\"\",INDEX(Data!N:N,Report!$B651))","v":""},{"$f":"IF(ISERROR(INDEX(Data!P:P,Report!$B651)),\"\",INDEX(Data!P:P,Report!$B651))","v":""},{"$f":"IF(ISERROR(INDEX(Data!O:O,Report!$B651)),\"\",INDEX(Data!O:O,Report!$B651))","v":""},{"$f":"IF(ISERROR(INDEX(Data!Q:Q,Report!$B651)),\"\",INDEX(Data!Q:Q,Report!$B651))","v":""},{"$f":"IF(ISERROR(INDEX(Data!R:R,Report!$B651)),\"\",INDEX(Data!R:R,Report!$B651))","v":""},{"$f":"IF(ISERROR(INDEX(Data!S:S,Report!$B651)),\"\",INDEX(Data!S:S,Report!$B651))","v":""},{"$f":"IF(ISERROR(INDEX(Data!T:T,Report!$B651)),\"\",INDEX(Data!T:T,Report!$B651))","v":""},{"$f":"IF(ISERROR(INDEX(Data!U:U,Report!$B651)),\"\",INDEX(Data!U:U,Report!$B651))","v":""},{"$f":"IF(ISERROR(INDEX(Data!V:V,Report!$B651)),\"\",INDEX(Data!V:V,Report!$B651))","v":""},null,"",""]
[648,{"$f":"IF(ISERROR(MATCH(A652,Data!A:A,0)),\"\",MATCH(A652,Data!A:A,0))","v":""},{"$f":"IF(ISERROR(INDEX(Data!I:I,Report!$B652)),\"\",INDEX(Data!I:I,Report!$B652))","v":""},{"$f":"IF(ISERROR(INDEX(Data!J:J,Report!$B652)),\"\",INDEX(Data!J:J,Report!$B652))","v":""},{"$f":"IF(ISERROR(INDEX(Data!K:K,Report!$B652)),\"\",INDEX(Data!K:K,Report!$B652))","v":""},{"$f":"IF(ISERROR(INDEX(Data!L:L,Report!$B652)),\"\",INDEX(Data!L:L,Report!$B652))","v":""},null,{"$f":"IF(ISERROR(INDEX(Data!N:N,Report!$B652)),\"\",INDEX(Data!N:N,Report!$B652))","v":""},{"$f":"IF(ISERROR(INDEX(Data!P:P,Report!$B652)),\"\",INDEX(Data!P:P,Report!$B652))","v":""},{"$f":"IF(ISERROR(INDEX(Data!O:O,Report!$B652)),\"\",INDEX(Data!O:O,Report!$B652))","v":""},{"$f":"IF(ISERROR(INDEX(Data!Q:Q,Report!$B652)),\"\",INDEX(Data!Q:Q,Report!$B652))","v":""},{"$f":"IF(ISERROR(INDEX(Data!R:R,Report!$B652)),\"\",INDEX(Data!R:R,Report!$B652))","v":""},{"$f":"IF(ISERROR(INDEX(Data!S:S,Report!$B652)),\"\",INDEX(Data!S:S,Report!$B652))","v":""},{"$f":"IF(ISERROR(INDEX(Data!T:T,Report!$B652)),\"\",INDEX(Data!T:T,Report!$B652))","v":""},{"$f":"IF(ISERROR(INDEX(Data!U:U,Report!$B652)),\"\",INDEX(Data!U:U,Report!$B652))","v":""},{"$f":"IF(ISERROR(INDEX(Data!V:V,Report!$B652)),\"\",INDEX(Data!V:V,Report!$B652))","v":""},null,"",""]
[649,{"$f":"IF(ISERROR(MATCH(A653,Data!A:A,0)),\"\",MATCH(A653,Data!A:A,0))","v":""},{"$f":"IF(ISERROR(INDEX(Data!I:I,Report!$B653)),\"\",INDEX(Data!I:I,Report!$B653))","v":""},{"$f":"IF(ISERROR(INDEX(Data!J:J,Report!$B653)),\"\",INDEX(Data!J:J,Report!$B653))","v":""},{"$f":"IF(ISERROR(INDEX(Data!K:K,Report!$B653)),\"\",INDEX(Data!K:K,Report!$B653))","v":""},{"$f":"IF(ISERROR(INDEX(Data!L:L,Report!$B653)),\"\",INDEX(Data!L:L,Report!$B653))","v":""},null,{"$f":"IF(ISERROR(INDEX(Data!N:N,Report!$B653)),\"\",INDEX(Data!N:N,Report!$B653))","v":""},{"$f":"IF(ISERROR(INDEX(Data!P:P,Report!$B653)),\"\",INDEX(Data!P:P,Report!$B653))","v":""},{"$f":"IF(ISERROR(INDEX(Data!O:O,Report!$B653)),\"\",INDEX(Data!O:O,Report!$B653))","v":""},{"$f":"IF(ISERROR(INDEX(Data!Q:Q,Report!$B653)),\"\",INDEX(Data!Q:Q,Report!$B653))","v":""},{"$f":"IF(ISERROR(INDEX(Data!R:R,Report!$B653)),\"\",INDEX(Data!R:R,Report!$B653))","v":""},{"$f":"IF(ISERROR(INDEX(Data!S:S,Report!$B653)),\"\",INDEX(Data!S:S,Report!$B653))","v":""},{"$f":"IF(ISERROR(INDEX(Data!T:T,Report!$B653)),\"\",INDEX(Data!T:T,Report!$B653))","v":""},{"$f":"IF(ISERROR(INDEX(Data!U:U,Report!$B653)),\"\",INDEX(Data!U:U,Report!$B653))","v":""},{"$f":"IF(ISERROR(INDEX(Data!V:V,Report!$B653)),\"\",INDEX(Data!V:V,Report!$B653))","v":""},null,"",""]
[650,{"$f":"IF(ISERROR(MATCH(A654,Data!A:A,0)),\"\",MATCH(A654,Data!A:A,0))","v":312},{"$f":"IF(ISERROR(INDEX(Data!I:I,Report!$B654)),\"\",INDEX(Data!I:I,Report!$B654))","v":" "},{"$f":"IF(ISERROR(INDEX(Data!J:J,Report!$B654)),\"\",INDEX(Data!J:J,Report!$B654))","v":"User Drill #188  3 line rated mini tennis"},{"$f":"IF(ISERROR(INDEX(Data!K:K,Report!$B654)),\"\",INDEX(Data!K:K,Report!$B654))","v":0},{"$f":"IF(ISERROR(INDEX(Data!L:L,Report!$B654)),\"\",INDEX(Data!L:L,Report!$B654))","v":"New Point"},null,{"$f":"IF(ISERROR(INDEX(Data!N:N,Report!$B654)),\"\",INDEX(Data!N:N,Report!$B654))","v":1},{"$f":"IF(ISERROR(INDEX(Data!P:P,Report!$B654)),\"\",INDEX(Data!P:P,Report!$B654))","v":0},{"$f":"IF(ISERROR(INDEX(Data!O:O,Report!$B654)),\"\",INDEX(Data!O:O,Report!$B654))","v":11},{"$f":"IF(ISERROR(INDEX(Data!Q:Q,Report!$B654)),\"\",INDEX(Data!Q:Q,Report!$B654))","v":3.5},{"$f":"IF(ISERROR(INDEX(Data!R:R,Report!$B654)),\"\",INDEX(Data!R:R,Report!$B654))","v":0},{"$f":"IF(ISERROR(INDEX(Data!S:S,Report!$B654)),\"\",INDEX(Data!S:S,Report!$B654))","v":0},{"$f":"IF(ISERROR(INDEX(Data!T:T,Report!$B654)),\"\",INDEX(Data!T:T,Report!$B654))","v":0},{"$f":"IF(ISERROR(INDEX(Data!U:U,Report!$B654)),\"\",INDEX(Data!U:U,Report!$B654))","v":0},{"$f":"IF(ISERROR(INDEX(Data!V:V,Report!$B654)),\"\",INDEX(Data!V:V,Report!$B654))","v":0},null,"|",""]
[651,{"$f":"IF(ISERROR(MATCH(A655,Data!A:A,0)),\"\",MATCH(A655,Data!A:A,0))","v":""},{"$f":"IF(ISERROR(INDEX(Data!I:I,Report!$B655)),\"\",INDEX(Data!I:I,Report!$B655))","v":""},{"$f":"IF(ISERROR(INDEX(Data!J:J,Report!$B655)),\"\",INDEX(Data!J:J,Report!$B655))","v":""},{"$f":"IF(ISERROR(INDEX(Data!K:K,Report!$B655)),\"\",INDEX(Data!K:K,Report!$B655))","v":""},{"$f":"IF(ISERROR(INDEX(Data!L:L,Report!$B655)),\"\",INDEX(Data!L:L,Report!$B655))","v":""},null,{"$f":"IF(ISERROR(INDEX(Data!N:N,Report!$B655)),\"\",INDEX(Data!N:N,Report!$B655))","v":""},{"$f":"IF(ISERROR(INDEX(Data!P:P,Report!$B655)),\"\",INDEX(Data!P:P,Report!$B655))","v":""},{"$f":"IF(ISERROR(INDEX(Data!O:O,Report!$B655)),\"\",INDEX(Data!O:O,Report!$B655))","v":""},{"$f":"IF(ISERROR(INDEX(Data!Q:Q,Report!$B655)),\"\",INDEX(Data!Q:Q,Report!$B655))","v":""},{"$f":"IF(ISERROR(INDEX(Data!R:R,Report!$B655)),\"\",INDEX(Data!R:R,Report!$B655))","v":""},{"$f":"IF(ISERROR(INDEX(Data!S:S,Report!$B655)),\"\",INDEX(Data!S:S,Report!$B655))","v":""},{"$f":"IF(ISERROR(INDEX(Data!T:T,Report!$B655)),\"\",INDEX(Data!T:T,Report!$B655))","v":""},{"$f":"IF(ISERROR(INDEX(Data!U:U,Report!$B655)),\"\",INDEX(Data!U:U,Report!$B655))","v":""},{"$f":"IF(ISERROR(INDEX(Data!V:V,Report!$B655)),\"\",INDEX(Data!V:V,Report!$B655))","v":""},null,"",""]
[652,{"$f":"IF(ISERROR(MATCH(A656,Data!A:A,0)),\"\",MATCH(A656,Data!A:A,0))","v":""},{"$f":"IF(ISERROR(INDEX(Data!I:I,Report!$B656)),\"\",INDEX(Data!I:I,Report!$B656))","v":""},{"$f":"IF(ISERROR(INDEX(Data!J:J,Report!$B656)),\"\",INDEX(Data!J:J,Report!$B656))","v":""},{"$f":"IF(ISERROR(INDEX(Data!K:K,Report!$B656)),\"\",INDEX(Data!K:K,Report!$B656))","v":""},{"$f":"IF(ISERROR(INDEX(Data!L:L,Report!$B656)),\"\",INDEX(Data!L:L,Report!$B656))","v":""},null,{"$f":"IF(ISERROR(INDEX(Data!N:N,Report!$B656)),\"\",INDEX(Data!N:N,Report!$B656))","v":""},{"$f":"IF(ISERROR(INDEX(Data!P:P,Report!$B656)),\"\",INDEX(Data!P:P,Report!$B656))","v":""},{"$f":"IF(ISERROR(INDEX(Data!O:O,Report!$B656)),\"\",INDEX(Data!O:O,Report!$B656))","v":""},{"$f":"IF(ISERROR(INDEX(Data!Q:Q,Report!$B656)),\"\",INDEX(Data!Q:Q,Report!$B656))","v":""},{"$f":"IF(ISERROR(INDEX(Data!R:R,Report!$B656)),\"\",INDEX(Data!R:R,Report!$B656))","v":""},{"$f":"IF(ISERROR(INDEX(Data!S:S,Report!$B656)),\"\",INDEX(Data!S:S,Report!$B656))","v":""},{"$f":"IF(ISERROR(INDEX(Data!T:T,Report!$B656)),\"\",INDEX(Data!T:T,Report!$B656))","v":""},{"$f":"IF(ISERROR(INDEX(Data!U:U,Report!$B656)),\"\",INDEX(Data!U:U,Report!$B656))","v":""},{"$f":"IF(ISERROR(INDEX(Data!V:V,Report!$B656)),\"\",INDEX(Data!V:V,Report!$B656))","v":""},null,"",""]
[653,{"$f":"IF(ISERROR(MATCH(A657,Data!A:A,0)),\"\",MATCH(A657,Data!A:A,0))","v":""},{"$f":"IF(ISERROR(INDEX(Data!I:I,Report!$B657)),\"\",INDEX(Data!I:I,Report!$B657))","v":""},{"$f":"IF(ISERROR(INDEX(Data!J:J,Report!$B657)),\"\",INDEX(Data!J:J,Report!$B657))","v":""},{"$f":"IF(ISERROR(INDEX(Data!K:K,Report!$B657)),\"\",INDEX(Data!K:K,Report!$B657))","v":""},{"$f":"IF(ISERROR(INDEX(Data!L:L,Report!$B657)),\"\",INDEX(Data!L:L,Report!$B657))","v":""},null,{"$f":"IF(ISERROR(INDEX(Data!N:N,Report!$B657)),\"\",INDEX(Data!N:N,Report!$B657))","v":""},{"$f":"IF(ISERROR(INDEX(Data!P:P,Report!$B657)),\"\",INDEX(Data!P:P,Report!$B657))","v":""},{"$f":"IF(ISERROR(INDEX(Data!O:O,Report!$B657)),\"\",INDEX(Data!O:O,Report!$B657))","v":""},{"$f":"IF(ISERROR(INDEX(Data!Q:Q,Report!$B657)),\"\",INDEX(Data!Q:Q,Report!$B657))","v":""},{"$f":"IF(ISERROR(INDEX(Data!R:R,Report!$B657)),\"\",INDEX(Data!R:R,Report!$B657))","v":""},{"$f":"IF(ISERROR(INDEX(Data!S:S,Report!$B657)),\"\",INDEX(Data!S:S,Report!$B657))","v":""},{"$f":"IF(ISERROR(INDEX(Data!T:T,Report!$B657)),\"\",INDEX(Data!T:T,Report!$B657))","v":""},{"$f":"IF(ISERROR(INDEX(Data!U:U,Report!$B657)),\"\",INDEX(Data!U:U,Report!$B657))","v":""},{"$f":"IF(ISERROR(INDEX(Data!V:V,Report!$B657)),\"\",INDEX(Data!V:V,Report!$B657))","v":""},null,"",""]
[654,{"$f":"IF(ISERROR(MATCH(A658,Data!A:A,0)),\"\",MATCH(A658,Data!A:A,0))","v":313},{"$f":"IF(ISERROR(INDEX(Data!I:I,Report!$B658)),\"\",INDEX(Data!I:I,Report!$B658))","v":"00:48:38"},{"$f":"IF(ISERROR(INDEX(Data!J:J,Report!$B658)),\"\",INDEX(Data!J:J,Report!$B658))","v":"Game against Boomer at level 2.5  Single point data:"},{"$f":"IF(ISERROR(INDEX(Data!K:K,Report!$B658)),\"\",INDEX(Data!K:K,Report!$B658))","v":"Player's point"},{"$f":"IF(ISERROR(INDEX(Data!L:L,Report!$B658)),\"\",INDEX(Data!L:L,Report!$B658))","v":"New Point"},null,{"$f":"IF(ISERROR(INDEX(Data!N:N,Report!$B658)),\"\",INDEX(Data!N:N,Report!$B658))","v":1},{"$f":"IF(ISERROR(INDEX(Data!P:P,Report!$B658)),\"\",INDEX(Data!P:P,Report!$B658))","v":"Serve"},{"$f":"IF(ISERROR(INDEX(Data!O:O,Report!$B658)),\"\",INDEX(Data!O:O,Report!$B658))","v":5},{"$f":"IF(ISERROR(INDEX(Data!Q:Q,Report!$B658)),\"\",INDEX(Data!Q:Q,Report!$B658))","v":2.5},{"$f":"IF(ISERROR(INDEX(Data!R:R,Report!$B658)),\"\",INDEX(Data!R:R,Report!$B658))","v":25},{"$f":"IF(ISERROR(INDEX(Data!S:S,Report!$B658)),\"\",INDEX(Data!S:S,Report!$B658))","v":7},{"$f":"IF(ISERROR(INDEX(Data!T:T,Report!$B658)),\"\",INDEX(Data!T:T,Report!$B658))","v":4.7},{"$f":"IF(ISERROR(INDEX(Data!U:U,Report!$B658)),\"\",INDEX(Data!U:U,Report!$B658))","v":53},{"$f":"IF(ISERROR(INDEX(Data!V:V,Report!$B658)),\"\",INDEX(Data!V:V,Report!$B658))","v":4.4000000000000004},null,"                         |","|||"]
[655,{"$f":"IF(ISERROR(MATCH(A659,Data!A:A,0)),\"\",MATCH(A659,Data!A:A,0))","v":314},{"$f":"IF(ISERROR(INDEX(Data!I:I,Report!$B659)),\"\",INDEX(Data!I:I,Report!$B659))","v":" "},{"$f":"IF(ISERROR(INDEX(Data!J:J,Report!$B659)),\"\",INDEX(Data!J:J,Report!$B659))","v":"User Drill #188  3 line rated mini tennis"},{"$f":"IF(ISERROR(INDEX(Data!K:K,Report!$B659)),\"\",INDEX(Data!K:K,Report!$B659))","v":0},{"$f":"IF(ISERROR(INDEX(Data!L:L,Report!$B659)),\"\",INDEX(Data!L:L,Report!$B659))","v":0},null,{"$f":"IF(ISERROR(INDEX(Data!N:N,Report!$B659)),\"\",INDEX(Data!N:N,Report!$B659))","v":2},{"$f":"IF(ISERROR(INDEX(Data!P:P,Report!$B659)),\"\",INDEX(Data!P:P,Report!$B659))","v":0},{"$f":"IF(ISERROR(INDEX(Data!O:O,Report!$B659)),\"\",INDEX(Data!O:O,Report!$B659))","v":4},{"$f":"IF(ISERROR(INDEX(Data!Q:Q,Report!$B659)),\"\",INDEX(Data!Q:Q,Report!$B659))","v":3.5},{"$f":"IF(ISERROR(INDEX(Data!R:R,Report!$B659)),\"\",INDEX(Data!R:R,Report!$B659))","v":0},{"$f":"IF(ISERROR(INDEX(Data!S:S,Report!$B659)),\"\",INDEX(Data!S:S,Report!$B659))","v":0},{"$f":"IF(ISERROR(INDEX(Data!T:T,Report!$B659)),\"\",INDEX(Data!T:T,Report!$B659))","v":0},{"$f":"IF(ISERROR(INDEX(Data!U:U,Report!$B659)),\"\",INDEX(Data!U:U,Report!$B659))","v":0},{"$f":"IF(ISERROR(INDEX(Data!V:V,Report!$B659)),\"\",INDEX(Data!V:V,Report!$B659))","v":0},null,"|",""]
[656,{"$f":"IF(ISERROR(MATCH(A660,Data!A:A,0)),\"\",MATCH(A660,Data!A:A,0))","v":315},{"$f":"IF(ISERROR(INDEX(Data!I:I,Report!$B660)),\"\",INDEX(Data!I:I,Report!$B660))","v":"00:48:38"},{"$f":"IF(ISERROR(INDEX(Data!J:J,Report!$B660)),\"\",INDEX(Data!J:J,Report!$B660))","v":"Game against Boomer at level 2.5  Single point data:"},{"$f":"IF(ISERROR(INDEX(Data!K:K,Report!$B660)),\"\",INDEX(Data!K:K,Report!$B660))","v":"Player's point"},{"$f":"IF(ISERROR(INDEX(Data!L:L,Report!$B660)),\"\",INDEX(Data!L:L,Report!$B660))","v":0},null,{"$f":"IF(ISERROR(INDEX(Data!N:N,Report!$B660)),\"\",INDEX(Data!N:N,Report!$B660))","v":2},{"$f":"IF(ISERROR(INDEX(Data!P:P,Report!$B660)),\"\",INDEX(Data!P:P,Report!$B660))","v":"Topspin"},{"$f":"IF(ISERROR(INDEX(Data!O:O,Report!$B660)),\"\",INDEX(Data!O:O,Report!$B660))","v":3},{"$f":"IF(ISERROR(INDEX(Data!Q:Q,Report!$B660)),\"\",INDEX(Data!Q:Q,Report!$B660))","v":2.5},{"$f":"IF(ISERROR(INDEX(Data!R:R,Report!$B660)),\"\",INDEX(Data!R:R,Report!$B660))","v":26},{"$f":"IF(ISERROR(INDEX(Data!S:S,Report!$B660)),\"\",INDEX(Data!S:S,Report!$B660))","v":4},{"$f":"IF(ISERROR(INDEX(Data!T:T,Report!$B660)),\"\",INDEX(Data!T:T,Report!$B660))","v":5},{"$f":"IF(ISERROR(INDEX(Data!U:U,Report!$B660)),\"\",INDEX(Data!U:U,Report!$B660))","v":49},{"$f":"IF(ISERROR(INDEX(Data!V:V,Report!$B660)),\"\",INDEX(Data!V:V,Report!$B660))","v":4.4000000000000004},null,"                          |","||"]
[657,{"$f":"IF(ISERROR(MATCH(A661,Data!A:A,0)),\"\",MATCH(A661,Data!A:A,0))","v":316},{"$f":"IF(ISERROR(INDEX(Data!I:I,Report!$B661)),\"\",INDEX(Data!I:I,Report!$B661))","v":" "},{"$f":"IF(ISERROR(INDEX(Data!J:J,Report!$B661)),\"\",INDEX(Data!J:J,Report!$B661))","v":"User Drill #188  3 line rated mini tennis"},{"$f":"IF(ISERROR(INDEX(Data!K:K,Report!$B661)),\"\",INDEX(Data!K:K,Report!$B661))","v":0},{"$f":"IF(ISERROR(INDEX(Data!L:L,Report!$B661)),\"\",INDEX(Data!L:L,Report!$B661))","v":0},null,{"$f":"IF(ISERROR(INDEX(Data!N:N,Report!$B661)),\"\",INDEX(Data!N:N,Report!$B661))","v":3},{"$f":"IF(ISERROR(INDEX(Data!P:P,Report!$B661)),\"\",INDEX(Data!P:P,Report!$B661))","v":0},{"$f":"IF(ISERROR(INDEX(Data!O:O,Report!$B661)),\"\",INDEX(Data!O:O,Report!$B661))","v":10},{"$f":"IF(ISERROR(INDEX(Data!Q:Q,Report!$B661)),\"\",INDEX(Data!Q:Q,Report!$B661))","v":3.5},{"$f":"IF(ISERROR(INDEX(Data!R:R,Report!$B661)),\"\",INDEX(Data!R:R,Report!$B661))","v":12},{"$f":"IF(ISERROR(INDEX(Data!S:S,Report!$B661)),\"\",INDEX(Data!S:S,Report!$B661))","v":27},{"$f":"IF(ISERROR(INDEX(Data!T:T,Report!$B661)),\"\",INDEX(Data!T:T,Report!$B661))","v":7},{"$f":"IF(ISERROR(INDEX(Data!U:U,Report!$B661)),\"\",INDEX(Data!U:U,Report!$B661))","v":27},{"$f":"IF(ISERROR(INDEX(Data!V:V,Report!$B661)),\"\",INDEX(Data!V:V,Report!$B661))","v":5.3},null,"            |","|||||||||||||"]
[658,{"$f":"IF(ISERROR(MATCH(A662,Data!A:A,0)),\"\",MATCH(A662,Data!A:A,0))","v":317},{"$f":"IF(ISERROR(INDEX(Data!I:I,Report!$B662)),\"\",INDEX(Data!I:I,Report!$B662))","v":"00:48:38"},{"$f":"IF(ISERROR(INDEX(Data!J:J,Report!$B662)),\"\",INDEX(Data!J:J,Report!$B662))","v":"Game against Boomer at level 2.5  Single point data:"},{"$f":"IF(ISERROR(INDEX(Data!K:K,Report!$B662)),\"\",INDEX(Data!K:K,Report!$B662))","v":"Player's point"},{"$f":"IF(ISERROR(INDEX(Data!L:L,Report!$B662)),\"\",INDEX(Data!L:L,Report!$B662))","v":0},null,{"$f":"IF(ISERROR(INDEX(Data!N:N,Report!$B662)),\"\",INDEX(Data!N:N,Report!$B662))","v":3},{"$f":"IF(ISERROR(INDEX(Data!P:P,Report!$B662)),\"\",INDEX(Data!P:P,Report!$B662))","v":"Drop Shot"},{"$f":"IF(ISERROR(INDEX(Data!O:O,Report!$B662)),\"\",INDEX(Data!O:O,Report!$B662))","v":5},{"$f":"IF(ISERROR(INDEX(Data!Q:Q,Report!$B662)),\"\",INDEX(Data!Q:Q,Report!$B662))","v":2.5},{"$f":"IF(ISERROR(INDEX(Data!R:R,Report!$B662)),\"\",INDEX(Data!R:R,Report!$B662))","v":26},{"$f":"IF(ISERROR(INDEX(Data!S:S,Report!$B662)),\"\",INDEX(Data!S:S,Report!$B662))","v":6},{"$f":"IF(ISERROR(INDEX(Data!T:T,Report!$B662)),\"\",INDEX(Data!T:T,Report!$B662))","v":4.7},{"$f":"IF(ISERROR(INDEX(Data!U:U,Report!$B662)),\"\",INDEX(Data!U:U,Report!$B662))","v":52},{"$f":"IF(ISERROR(INDEX(Data!V:V,Report!$B662)),\"\",INDEX(Data!V:V,Report!$B662))","v":4.4000000000000004},null,"                          |","|||"]
[659,{"$f":"IF(ISERROR(MATCH(A663,Data!A:A,0)),\"\",MATCH(A663,Data!A:A,0))","v":318},{"$f":"IF(ISERROR(INDEX(Data!I:I,Report!$B663)),\"\",INDEX(Data!I:I,Report!$B663))","v":"00:48:38"},{"$f":"IF(ISERROR(INDEX(Data!J:J,Report!$B663)),\"\",INDEX(Data!J:J,Report!$B663))","v":"Game against Boomer at level 2.5  Single point data:"},{"$f":"IF(ISERROR(INDEX(Data!K:K,Report!$B663)),\"\",INDEX(Data!K:K,Report!$B663))","v":"Player's point"},{"$f":"IF(ISERROR(INDEX(Data!L:L,Report!$B663)),\"\",INDEX(Data!L:L,Report!$B663))","v":0},null,{"$f":"IF(ISERROR(INDEX(Data!N:N,Report!$B663)),\"\",INDEX(Data!N:N,Report!$B663))","v":4},{"$f":"IF(ISERROR(INDEX(Data!P:P,Report!$B663)),\"\",INDEX(Data!P:P,Report!$B663))","v":"Lob"},{"$f":"IF(ISERROR(INDEX(Data!O:O,Report!$B663)),\"\",INDEX(Data!O:O,Report!$B663))","v":3},{"$f":"IF(ISERROR(INDEX(Data!Q:Q,Report!$B663)),\"\",INDEX(Data!Q:Q,Report!$B663))","v":2.5},{"$f":"IF(ISERROR(INDEX(Data!R:R,Report!$B663)),\"\",INDEX(Data!R:R,Report!$B663))","v":33},{"$f":"IF(ISERROR(INDEX(Data!S:S,Report!$B663)),\"\",INDEX(Data!S:S,Report!$B663))","v":4},{"$f":"IF(ISERROR(INDEX(Data!T:T,Report!$B663)),\"\",INDEX(Data!T:T,Report!$B663))","v":5.9},{"$f":"IF(ISERROR(INDEX(Data!U:U,Report!$B663)),\"\",INDEX(Data!U:U,Report!$B663))","v":53},{"$f":"IF(ISERROR(INDEX(Data!V:V,Report!$B663)),\"\",INDEX(Data!V:V,Report!$B663))","v":6},null,"                                 |","||"]
[660,{"$f":"IF(ISERROR(MATCH(A664,Data!A:A,0)),\"\",MATCH(A664,Data!A:A,0))","v":""},{"$f":"IF(ISERROR(INDEX(Data!I:I,Report!$B664)),\"\",INDEX(Data!I:I,Report!$B664))","v":""},{"$f":"IF(ISERROR(INDEX(Data!J:J,Report!$B664)),\"\",INDEX(Data!J:J,Report!$B664))","v":""},{"$f":"IF(ISERROR(INDEX(Data!K:K,Report!$B664)),\"\",INDEX(Data!K:K,Report!$B664))","v":""},{"$f":"IF(ISERROR(INDEX(Data!L:L,Report!$B664)),\"\",INDEX(Data!L:L,Report!$B664))","v":""},null,{"$f":"IF(ISERROR(INDEX(Data!N:N,Report!$B664)),\"\",INDEX(Data!N:N,Report!$B664))","v":""},{"$f":"IF(ISERROR(INDEX(Data!P:P,Report!$B664)),\"\",INDEX(Data!P:P,Report!$B664))","v":""},{"$f":"IF(ISERROR(INDEX(Data!O:O,Report!$B664)),\"\",INDEX(Data!O:O,Report!$B664))","v":""},{"$f":"IF(ISERROR(INDEX(Data!Q:Q,Report!$B664)),\"\",INDEX(Data!Q:Q,Report!$B664))","v":""},{"$f":"IF(ISERROR(INDEX(Data!R:R,Report!$B664)),\"\",INDEX(Data!R:R,Report!$B664))","v":""},{"$f":"IF(ISERROR(INDEX(Data!S:S,Report!$B664)),\"\",INDEX(Data!S:S,Report!$B664))","v":""},{"$f":"IF(ISERROR(INDEX(Data!T:T,Report!$B664)),\"\",INDEX(Data!T:T,Report!$B664))","v":""},{"$f":"IF(ISERROR(INDEX(Data!U:U,Report!$B664)),\"\",INDEX(Data!U:U,Report!$B664))","v":""},{"$f":"IF(ISERROR(INDEX(Data!V:V,Report!$B664)),\"\",INDEX(Data!V:V,Report!$B664))","v":""},null,"",""]
[661,{"$f":"IF(ISERROR(MATCH(A665,Data!A:A,0)),\"\",MATCH(A665,Data!A:A,0))","v":""},{"$f":"IF(ISERROR(INDEX(Data!I:I,Report!$B665)),\"\",INDEX(Data!I:I,Report!$B665))","v":""},{"$f":"IF(ISERROR(INDEX(Data!J:J,Report!$B665)),\"\",INDEX(Data!J:J,Report!$B665))","v":""},{"$f":"IF(ISERROR(INDEX(Data!K:K,Report!$B665)),\"\",INDEX(Data!K:K,Report!$B665))","v":""},{"$f":"IF(ISERROR(INDEX(Data!L:L,Report!$B665)),\"\",INDEX(Data!L:L,Report!$B665))","v":""},null,{"$f":"IF(ISERROR(INDEX(Data!N:N,Report!$B665)),\"\",INDEX(Data!N:N,Report!$B665))","v":""},{"$f":"IF(ISERROR(INDEX(Data!P:P,Report!$B665)),\"\",INDEX(Data!P:P,Report!$B665))","v":""},{"$f":"IF(ISERROR(INDEX(Data!O:O,Report!$B665)),\"\",INDEX(Data!O:O,Report!$B665))","v":""},{"$f":"IF(ISERROR(INDEX(Data!Q:Q,Report!$B665)),\"\",INDEX(Data!Q:Q,Report!$B665))","v":""},{"$f":"IF(ISERROR(INDEX(Data!R:R,Report!$B665)),\"\",INDEX(Data!R:R,Report!$B665))","v":""},{"$f":"IF(ISERROR(INDEX(Data!S:S,Report!$B665)),\"\",INDEX(Data!S:S,Report!$B665))","v":""},{"$f":"IF(ISERROR(INDEX(Data!T:T,Report!$B665)),\"\",INDEX(Data!T:T,Report!$B665))","v":""},{"$f":"IF(ISERROR(INDEX(Data!U:U,Report!$B665)),\"\",INDEX(Data!U:U,Report!$B665))","v":""},{"$f":"IF(ISERROR(INDEX(Data!V:V,Report!$B665)),\"\",INDEX(Data!V:V,Report!$B665))","v":""},null,"",""]
[662,{"$f":"IF(ISERROR(MATCH(A666,Data!A:A,0)),\"\",MATCH(A666,Data!A:A,0))","v":""},{"$f":"IF(ISERROR(INDEX(Data!I:I,Report!$B666)),\"\",INDEX(Data!I:I,Report!$B666))","v":""},{"$f":"IF(ISERROR(INDEX(Data!J:J,Report!$B666)),\"\",INDEX(Data!J:J,Report!$B666))","v":""},{"$f":"IF(ISERROR(INDEX(Data!K:K,Report!$B666)),\"\",INDEX(Data!K:K,Report!$B666))","v":""},{"$f":"IF(ISERROR(INDEX(Data!L:L,Report!$B666)),\"\",INDEX(Data!L:L,Report!$B666))","v":""},null,{"$f":"IF(ISERROR(INDEX(Data!N:N,Report!$B666)),\"\",INDEX(Data!N:N,Report!$B666))","v":""},{"$f":"IF(ISERROR(INDEX(Data!P:P,Report!$B666)),\"\",INDEX(Data!P:P,Report!$B666))","v":""},{"$f":"IF(ISERROR(INDEX(Data!O:O,Report!$B666)),\"\",INDEX(Data!O:O,Report!$B666))","v":""},{"$f":"IF(ISERROR(INDEX(Data!Q:Q,Report!$B666)),\"\",INDEX(Data!Q:Q,Report!$B666))","v":""},{"$f":"IF(ISERROR(INDEX(Data!R:R,Report!$B666)),\"\",INDEX(Data!R:R,Report!$B666))","v":""},{"$f":"IF(ISERROR(INDEX(Data!S:S,Report!$B666)),\"\",INDEX(Data!S:S,Report!$B666))","v":""},{"$f":"IF(ISERROR(INDEX(Data!T:T,Report!$B666)),\"\",INDEX(Data!T:T,Report!$B666))","v":""},{"$f":"IF(ISERROR(INDEX(Data!U:U,Report!$B666)),\"\",INDEX(Data!U:U,Report!$B666))","v":""},{"$f":"IF(ISERROR(INDEX(Data!V:V,Report!$B666)),\"\",INDEX(Data!V:V,Report!$B666))","v":""},null,"",""]
[663,{"$f":"IF(ISERROR(MATCH(A667,Data!A:A,0)),\"\",MATCH(A667,Data!A:A,0))","v":319},{"$f":"IF(ISERROR(INDEX(Data!I:I,Report!$B667)),\"\",INDEX(Data!I:I,Report!$B667))","v":"00:49:00"},{"$f":"IF(ISERROR(INDEX(Data!J:J,Report!$B667)),\"\",INDEX(Data!J:J,Report!$B667))","v":"Game against Boomer at level 2.5  Single point data:"},{"$f":"IF(ISERROR(INDEX(Data!K:K,Report!$B667)),\"\",INDEX(Data!K:K,Report!$B667))","v":"Player's point"},{"$f":"IF(ISERROR(INDEX(Data!L:L,Report!$B667)),\"\",INDEX(Data!L:L,Report!$B667))","v":"New Point"},null,{"$f":"IF(ISERROR(INDEX(Data!N:N,Report!$B667)),\"\",INDEX(Data!N:N,Report!$B667))","v":1},{"$f":"IF(ISERROR(INDEX(Data!P:P,Report!$B667)),\"\",INDEX(Data!P:P,Report!$B667))","v":"Serve"},{"$f":"IF(ISERROR(INDEX(Data!O:O,Report!$B667)),\"\",INDEX(Data!O:O,Report!$B667))","v":0},{"$f":"IF(ISERROR(INDEX(Data!Q:Q,Report!$B667)),\"\",INDEX(Data!Q:Q,Report!$B667))","v":2.5},{"$f":"IF(ISERROR(INDEX(Data!R:R,Report!$B667)),\"\",INDEX(Data!R:R,Report!$B667))","v":8},{"$f":"IF(ISERROR(INDEX(Data!S:S,Report!$B667)),\"\",INDEX(Data!S:S,Report!$B667))","v":17},{"$f":"IF(ISERROR(INDEX(Data!T:T,Report!$B667)),\"\",INDEX(Data!T:T,Report!$B667))","v":1.9},{"$f":"IF(ISERROR(INDEX(Data!U:U,Report!$B667)),\"\",INDEX(Data!U:U,Report!$B667))","v":21},{"$f":"IF(ISERROR(INDEX(Data!V:V,Report!$B667)),\"\",INDEX(Data!V:V,Report!$B667))","v":1.7},null,"        |","||||||||"]
[664,{"$f":"IF(ISERROR(MATCH(A668,Data!A:A,0)),\"\",MATCH(A668,Data!A:A,0))","v":320},{"$f":"IF(ISERROR(INDEX(Data!I:I,Report!$B668)),\"\",INDEX(Data!I:I,Report!$B668))","v":"00:49:00"},{"$f":"IF(ISERROR(INDEX(Data!J:J,Report!$B668)),\"\",INDEX(Data!J:J,Report!$B668))","v":"Game against Boomer at level 2.5  Single point data:"},{"$f":"IF(ISERROR(INDEX(Data!K:K,Report!$B668)),\"\",INDEX(Data!K:K,Report!$B668))","v":"Player's point"},{"$f":"IF(ISERROR(INDEX(Data!L:L,Report!$B668)),\"\",INDEX(Data!L:L,Report!$B668))","v":0},null,{"$f":"IF(ISERROR(INDEX(Data!N:N,Report!$B668)),\"\",INDEX(Data!N:N,Report!$B668))","v":2},{"$f":"IF(ISERROR(INDEX(Data!P:P,Report!$B668)),\"\",INDEX(Data!P:P,Report!$B668))","v":"Topspin"},{"$f":"IF(ISERROR(INDEX(Data!O:O,Report!$B668)),\"\",INDEX(Data!O:O,Report!$B668))","v":4},{"$f":"IF(ISERROR(INDEX(Data!Q:Q,Report!$B668)),\"\",INDEX(Data!Q:Q,Report!$B668))","v":2.5},{"$f":"IF(ISERROR(INDEX(Data!R:R,Report!$B668)),\"\",INDEX(Data!R:R,Report!$B668))","v":35},{"$f":"IF(ISERROR(INDEX(Data!S:S,Report!$B668)),\"\",INDEX(Data!S:S,Report!$B668))","v":7},{"$f":"IF(ISERROR(INDEX(Data!T:T,Report!$B668)),\"\",INDEX(Data!T:T,Report!$B668))","v":6.2},{"$f":"IF(ISERROR(INDEX(Data!U:U,Report!$B668)),\"\",INDEX(Data!U:U,Report!$B668))","v":46},{"$f":"IF(ISERROR(INDEX(Data!V:V,Report!$B668)),\"\",INDEX(Data!V:V,Report!$B668))","v":5.7},null,"                                   |","|||"]
[665,{"$f":"IF(ISERROR(MATCH(A669,Data!A:A,0)),\"\",MATCH(A669,Data!A:A,0))","v":""},{"$f":"IF(ISERROR(INDEX(Data!I:I,Report!$B669)),\"\",INDEX(Data!I:I,Report!$B669))","v":""},{"$f":"IF(ISERROR(INDEX(Data!J:J,Report!$B669)),\"\",INDEX(Data!J:J,Report!$B669))","v":""},{"$f":"IF(ISERROR(INDEX(Data!K:K,Report!$B669)),\"\",INDEX(Data!K:K,Report!$B669))","v":""},{"$f":"IF(ISERROR(INDEX(Data!L:L,Report!$B669)),\"\",INDEX(Data!L:L,Report!$B669))","v":""},null,{"$f":"IF(ISERROR(INDEX(Data!N:N,Report!$B669)),\"\",INDEX(Data!N:N,Report!$B669))","v":""},{"$f":"IF(ISERROR(INDEX(Data!P:P,Report!$B669)),\"\",INDEX(Data!P:P,Report!$B669))","v":""},{"$f":"IF(ISERROR(INDEX(Data!O:O,Report!$B669)),\"\",INDEX(Data!O:O,Report!$B669))","v":""},{"$f":"IF(ISERROR(INDEX(Data!Q:Q,Report!$B669)),\"\",INDEX(Data!Q:Q,Report!$B669))","v":""},{"$f":"IF(ISERROR(INDEX(Data!R:R,Report!$B669)),\"\",INDEX(Data!R:R,Report!$B669))","v":""},{"$f":"IF(ISERROR(INDEX(Data!S:S,Report!$B669)),\"\",INDEX(Data!S:S,Report!$B669))","v":""},{"$f":"IF(ISERROR(INDEX(Data!T:T,Report!$B669)),\"\",INDEX(Data!T:T,Report!$B669))","v":""},{"$f":"IF(ISERROR(INDEX(Data!U:U,Report!$B669)),\"\",INDEX(Data!U:U,Report!$B669))","v":""},{"$f":"IF(ISERROR(INDEX(Data!V:V,Report!$B669)),\"\",INDEX(Data!V:V,Report!$B669))","v":""},null,"",""]
[666,{"$f":"IF(ISERROR(MATCH(A670,Data!A:A,0)),\"\",MATCH(A670,Data!A:A,0))","v":""},{"$f":"IF(ISERROR(INDEX(Data!I:I,Report!$B670)),\"\",INDEX(Data!I:I,Report!$B670))","v":""},{"$f":"IF(ISERROR(INDEX(Data!J:J,Report!$B670)),\"\",INDEX(Data!J:J,Report!$B670))","v":""},{"$f":"IF(ISERROR(INDEX(Data!K:K,Report!$B670)),\"\",INDEX(Data!K:K,Report!$B670))","v":""},{"$f":"IF(ISERROR(INDEX(Data!L:L,Report!$B670)),\"\",INDEX(Data!L:L,Report!$B670))","v":""},null,{"$f":"IF(ISERROR(INDEX(Data!N:N,Report!$B670)),\"\",INDEX(Data!N:N,Report!$B670))","v":""},{"$f":"IF(ISERROR(INDEX(Data!P:P,Report!$B670)),\"\",INDEX(Data!P:P,Report!$B670))","v":""},{"$f":"IF(ISERROR(INDEX(Data!O:O,Report!$B670)),\"\",INDEX(Data!O:O,Report!$B670))","v":""},{"$f":"IF(ISERROR(INDEX(Data!Q:Q,Report!$B670)),\"\",INDEX(Data!Q:Q,Report!$B670))","v":""},{"$f":"IF(ISERROR(INDEX(Data!R:R,Report!$B670)),\"\",INDEX(Data!R:R,Report!$B670))","v":""},{"$f":"IF(ISERROR(INDEX(Data!S:S,Report!$B670)),\"\",INDEX(Data!S:S,Report!$B670))","v":""},{"$f":"IF(ISERROR(INDEX(Data!T:T,Report!$B670)),\"\",INDEX(Data!T:T,Report!$B670))","v":""},{"$f":"IF(ISERROR(INDEX(Data!U:U,Report!$B670)),\"\",INDEX(Data!U:U,Report!$B670))","v":""},{"$f":"IF(ISERROR(INDEX(Data!V:V,Report!$B670)),\"\",INDEX(Data!V:V,Report!$B670))","v":""},null,"",""]
[667,{"$f":"IF(ISERROR(MATCH(A671,Data!A:A,0)),\"\",MATCH(A671,Data!A:A,0))","v":""},{"$f":"IF(ISERROR(INDEX(Data!I:I,Report!$B671)),\"\",INDEX(Data!I:I,Report!$B671))","v":""},{"$f":"IF(ISERROR(INDEX(Data!J:J,Report!$B671)),\"\",INDEX(Data!J:J,Report!$B671))","v":""},{"$f":"IF(ISERROR(INDEX(Data!K:K,Report!$B671)),\"\",INDEX(Data!K:K,Report!$B671))","v":""},{"$f":"IF(ISERROR(INDEX(Data!L:L,Report!$B671)),\"\",INDEX(Data!L:L,Report!$B671))","v":""},null,{"$f":"IF(ISERROR(INDEX(Data!N:N,Report!$B671)),\"\",INDEX(Data!N:N,Report!$B671))","v":""},{"$f":"IF(ISERROR(INDEX(Data!P:P,Report!$B671)),\"\",INDEX(Data!P:P,Report!$B671))","v":""},{"$f":"IF(ISERROR(INDEX(Data!O:O,Report!$B671)),\"\",INDEX(Data!O:O,Report!$B671))","v":""},{"$f":"IF(ISERROR(INDEX(Data!Q:Q,Report!$B671)),\"\",INDEX(Data!Q:Q,Report!$B671))","v":""},{"$f":"IF(ISERROR(INDEX(Data!R:R,Report!$B671)),\"\",INDEX(Data!R:R,Report!$B671))","v":""},{"$f":"IF(ISERROR(INDEX(Data!S:S,Report!$B671)),\"\",INDEX(Data!S:S,Report!$B671))","v":""},{"$f":"IF(ISERROR(INDEX(Data!T:T,Report!$B671)),\"\",INDEX(Data!T:T,Report!$B671))","v":""},{"$f":"IF(ISERROR(INDEX(Data!U:U,Report!$B671)),\"\",INDEX(Data!U:U,Report!$B671))","v":""},{"$f":"IF(ISERROR(INDEX(Data!V:V,Report!$B671)),\"\",INDEX(Data!V:V,Report!$B671))","v":""},null,"",""]
[668,{"$f":"IF(ISERROR(MATCH(A672,Data!A:A,0)),\"\",MATCH(A672,Data!A:A,0))","v":321},{"$f":"IF(ISERROR(INDEX(Data!I:I,Report!$B672)),\"\",INDEX(Data!I:I,Report!$B672))","v":"00:49:26"},{"$f":"IF(ISERROR(INDEX(Data!J:J,Report!$B672)),\"\",INDEX(Data!J:J,Report!$B672))","v":"Game against Boomer at level 2.5  Single point data:"},{"$f":"IF(ISERROR(INDEX(Data!K:K,Report!$B672)),\"\",INDEX(Data!K:K,Report!$B672))","v":"Player's point"},{"$f":"IF(ISERROR(INDEX(Data!L:L,Report!$B672)),\"\",INDEX(Data!L:L,Report!$B672))","v":"New Point"},null,{"$f":"IF(ISERROR(INDEX(Data!N:N,Report!$B672)),\"\",INDEX(Data!N:N,Report!$B672))","v":1},{"$f":"IF(ISERROR(INDEX(Data!P:P,Report!$B672)),\"\",INDEX(Data!P:P,Report!$B672))","v":"Serve"},{"$f":"IF(ISERROR(INDEX(Data!O:O,Report!$B672)),\"\",INDEX(Data!O:O,Report!$B672))","v":5},{"$f":"IF(ISERROR(INDEX(Data!Q:Q,Report!$B672)),\"\",INDEX(Data!Q:Q,Report!$B672))","v":2.5},{"$f":"IF(ISERROR(INDEX(Data!R:R,Report!$B672)),\"\",INDEX(Data!R:R,Report!$B672))","v":12},{"$f":"IF(ISERROR(INDEX(Data!S:S,Report!$B672)),\"\",INDEX(Data!S:S,Report!$B672))","v":12},{"$f":"IF(ISERROR(INDEX(Data!T:T,Report!$B672)),\"\",INDEX(Data!T:T,Report!$B672))","v":2.1},{"$f":"IF(ISERROR(INDEX(Data!U:U,Report!$B672)),\"\",INDEX(Data!U:U,Report!$B672))","v":28},{"$f":"IF(ISERROR(INDEX(Data!V:V,Report!$B672)),\"\",INDEX(Data!V:V,Report!$B672))","v":2.1},null,"            |","||||||"]
[669,{"$f":"IF(ISERROR(MATCH(A673,Data!A:A,0)),\"\",MATCH(A673,Data!A:A,0))","v":322},{"$f":"IF(ISERROR(INDEX(Data!I:I,Report!$B673)),\"\",INDEX(Data!I:I,Report!$B673))","v":"00:49:26"},{"$f":"IF(ISERROR(INDEX(Data!J:J,Report!$B673)),\"\",INDEX(Data!J:J,Report!$B673))","v":"Game against Boomer at level 2.5  Single point data:"},{"$f":"IF(ISERROR(INDEX(Data!K:K,Report!$B673)),\"\",INDEX(Data!K:K,Report!$B673))","v":"Player's point"},{"$f":"IF(ISERROR(INDEX(Data!L:L,Report!$B673)),\"\",INDEX(Data!L:L,Report!$B673))","v":0},null,{"$f":"IF(ISERROR(INDEX(Data!N:N,Report!$B673)),\"\",INDEX(Data!N:N,Report!$B673))","v":2},{"$f":"IF(ISERROR(INDEX(Data!P:P,Report!$B673)),\"\",INDEX(Data!P:P,Report!$B673))","v":"Topspin"},{"$f":"IF(ISERROR(INDEX(Data!O:O,Report!$B673)),\"\",INDEX(Data!O:O,Report!$B673))","v":3},{"$f":"IF(ISERROR(INDEX(Data!Q:Q,Report!$B673)),\"\",INDEX(Data!Q:Q,Report!$B673))","v":2.5},{"$f":"IF(ISERROR(INDEX(Data!R:R,Report!$B673)),\"\",INDEX(Data!R:R,Report!$B673))","v":36},{"$f":"IF(ISERROR(INDEX(Data!S:S,Report!$B673)),\"\",INDEX(Data!S:S,Report!$B673))","v":24},{"$f":"IF(ISERROR(INDEX(Data!T:T,Report!$B673)),\"\",INDEX(Data!T:T,Report!$B673))","v":6.2},{"$f":"IF(ISERROR(INDEX(Data!U:U,Report!$B673)),\"\",INDEX(Data!U:U,Report!$B673))","v":55},{"$f":"IF(ISERROR(INDEX(Data!V:V,Report!$B673)),\"\",INDEX(Data!V:V,Report!$B673))","v":6.3},null,"                                    |","||||||||||||"]
[670,{"$f":"IF(ISERROR(MATCH(A674,Data!A:A,0)),\"\",MATCH(A674,Data!A:A,0))","v":""},{"$f":"IF(ISERROR(INDEX(Data!I:I,Report!$B674)),\"\",INDEX(Data!I:I,Report!$B674))","v":""},{"$f":"IF(ISERROR(INDEX(Data!J:J,Report!$B674)),\"\",INDEX(Data!J:J,Report!$B674))","v":""},{"$f":"IF(ISERROR(INDEX(Data!K:K,Report!$B674)),\"\",INDEX(Data!K:K,Report!$B674))","v":""},{"$f":"IF(ISERROR(INDEX(Data!L:L,Report!$B674)),\"\",INDEX(Data!L:L,Report!$B674))","v":""},null,{"$f":"IF(ISERROR(INDEX(Data!N:N,Report!$B674)),\"\",INDEX(Data!N:N,Report!$B674))","v":""},{"$f":"IF(ISERROR(INDEX(Data!P:P,Report!$B674)),\"\",INDEX(Data!P:P,Report!$B674))","v":""},{"$f":"IF(ISERROR(INDEX(Data!O:O,Report!$B674)),\"\",INDEX(Data!O:O,Report!$B674))","v":""},{"$f":"IF(ISERROR(INDEX(Data!Q:Q,Report!$B674)),\"\",INDEX(Data!Q:Q,Report!$B674))","v":""},{"$f":"IF(ISERROR(INDEX(Data!R:R,Report!$B674)),\"\",INDEX(Data!R:R,Report!$B674))","v":""},{"$f":"IF(ISERROR(INDEX(Data!S:S,Report!$B674)),\"\",INDEX(Data!S:S,Report!$B674))","v":""},{"$f":"IF(ISERROR(INDEX(Data!T:T,Report!$B674)),\"\",INDEX(Data!T:T,Report!$B674))","v":""},{"$f":"IF(ISERROR(INDEX(Data!U:U,Report!$B674)),\"\",INDEX(Data!U:U,Report!$B674))","v":""},{"$f":"IF(ISERROR(INDEX(Data!V:V,Report!$B674)),\"\",INDEX(Data!V:V,Report!$B674))","v":""},null,"",""]
[671,{"$f":"IF(ISERROR(MATCH(A675,Data!A:A,0)),\"\",MATCH(A675,Data!A:A,0))","v":""},{"$f":"IF(ISERROR(INDEX(Data!I:I,Report!$B675)),\"\",INDEX(Data!I:I,Report!$B675))","v":""},{"$f":"IF(ISERROR(INDEX(Data!J:J,Report!$B675)),\"\",INDEX(Data!J:J,Report!$B675))","v":""},{"$f":"IF(ISERROR(INDEX(Data!K:K,Report!$B675)),\"\",INDEX(Data!K:K,Report!$B675))","v":""},{"$f":"IF(ISERROR(INDEX(Data!L:L,Report!$B675)),\"\",INDEX(Data!L:L,Report!$B675))","v":""},null,{"$f":"IF(ISERROR(INDEX(Data!N:N,Report!$B675)),\"\",INDEX(Data!N:N,Report!$B675))","v":""},{"$f":"IF(ISERROR(INDEX(Data!P:P,Report!$B675)),\"\",INDEX(Data!P:P,Report!$B675))","v":""},{"$f":"IF(ISERROR(INDEX(Data!O:O,Report!$B675)),\"\",INDEX(Data!O:O,Report!$B675))","v":""},{"$f":"IF(ISERROR(INDEX(Data!Q:Q,Report!$B675)),\"\",INDEX(Data!Q:Q,Report!$B675))","v":""},{"$f":"IF(ISERROR(INDEX(Data!R:R,Report!$B675)),\"\",INDEX(Data!R:R,Report!$B675))","v":""},{"$f":"IF(ISERROR(INDEX(Data!S:S,Report!$B675)),\"\",INDEX(Data!S:S,Report!$B675))","v":""},{"$f":"IF(ISERROR(INDEX(Data!T:T,Report!$B675)),\"\",INDEX(Data!T:T,Report!$B675))","v":""},{"$f":"IF(ISERROR(INDEX(Data!U:U,Report!$B675)),\"\",INDEX(Data!U:U,Report!$B675))","v":""},{"$f":"IF(ISERROR(INDEX(Data!V:V,Report!$B675)),\"\",INDEX(Data!V:V,Report!$B675))","v":""},null,"",""]
[672,{"$f":"IF(ISERROR(MATCH(A676,Data!A:A,0)),\"\",MATCH(A676,Data!A:A,0))","v":""},{"$f":"IF(ISERROR(INDEX(Data!I:I,Report!$B676)),\"\",INDEX(Data!I:I,Report!$B676))","v":""},{"$f":"IF(ISERROR(INDEX(Data!J:J,Report!$B676)),\"\",INDEX(Data!J:J,Report!$B676))","v":""},{"$f":"IF(ISERROR(INDEX(Data!K:K,Report!$B676)),\"\",INDEX(Data!K:K,Report!$B676))","v":""},{"$f":"IF(ISERROR(INDEX(Data!L:L,Report!$B676)),\"\",INDEX(Data!L:L,Report!$B676))","v":""},null,{"$f":"IF(ISERROR(INDEX(Data!N:N,Report!$B676)),\"\",INDEX(Data!N:N,Report!$B676))","v":""},{"$f":"IF(ISERROR(INDEX(Data!P:P,Report!$B676)),\"\",INDEX(Data!P:P,Report!$B676))","v":""},{"$f":"IF(ISERROR(INDEX(Data!O:O,Report!$B676)),\"\",INDEX(Data!O:O,Report!$B676))","v":""},{"$f":"IF(ISERROR(INDEX(Data!Q:Q,Report!$B676)),\"\",INDEX(Data!Q:Q,Report!$B676))","v":""},{"$f":"IF(ISERROR(INDEX(Data!R:R,Report!$B676)),\"\",INDEX(Data!R:R,Report!$B676))","v":""},{"$f":"IF(ISERROR(INDEX(Data!S:S,Report!$B676)),\"\",INDEX(Data!S:S,Report!$B676))","v":""},{"$f":"IF(ISERROR(INDEX(Data!T:T,Report!$B676)),\"\",INDEX(Data!T:T,Report!$B676))","v":""},{"$f":"IF(ISERROR(INDEX(Data!U:U,Report!$B676)),\"\",INDEX(Data!U:U,Report!$B676))","v":""},{"$f":"IF(ISERROR(INDEX(Data!V:V,Report!$B676)),\"\",INDEX(Data!V:V,Report!$B676))","v":""},null,"",""]
[673,{"$f":"IF(ISERROR(MATCH(A677,Data!A:A,0)),\"\",MATCH(A677,Data!A:A,0))","v":323},{"$f":"IF(ISERROR(INDEX(Data!I:I,Report!$B677)),\"\",INDEX(Data!I:I,Report!$B677))","v":"00:49:49"},{"$f":"IF(ISERROR(INDEX(Data!J:J,Report!$B677)),\"\",INDEX(Data!J:J,Report!$B677))","v":"Game against Boomer at level 2.5  Single point data:"},{"$f":"IF(ISERROR(INDEX(Data!K:K,Report!$B677)),\"\",INDEX(Data!K:K,Report!$B677))","v":"Boomer's point"},{"$f":"IF(ISERROR(INDEX(Data!L:L,Report!$B677)),\"\",INDEX(Data!L:L,Report!$B677))","v":"New Point"},null,{"$f":"IF(ISERROR(INDEX(Data!N:N,Report!$B677)),\"\",INDEX(Data!N:N,Report!$B677))","v":1},{"$f":"IF(ISERROR(INDEX(Data!P:P,Report!$B677)),\"\",INDEX(Data!P:P,Report!$B677))","v":"Player Serve"},{"$f":"IF(ISERROR(INDEX(Data!O:O,Report!$B677)),\"\",INDEX(Data!O:O,Report!$B677))","v":4},{"$f":"IF(ISERROR(INDEX(Data!Q:Q,Report!$B677)),\"\",INDEX(Data!Q:Q,Report!$B677))","v":2.5},{"$f":"IF(ISERROR(INDEX(Data!R:R,Report!$B677)),\"\",INDEX(Data!R:R,Report!$B677))","v":0},{"$f":"IF(ISERROR(INDEX(Data!S:S,Report!$B677)),\"\",INDEX(Data!S:S,Report!$B677))","v":0},{"$f":"IF(ISERROR(INDEX(Data!T:T,Report!$B677)),\"\",INDEX(Data!T:T,Report!$B677))","v":0},{"$f":"IF(ISERROR(INDEX(Data!U:U,Report!$B677)),\"\",INDEX(Data!U:U,Report!$B677))","v":0},{"$f":"IF(ISERROR(INDEX(Data!V:V,Report!$B677)),\"\",INDEX(Data!V:V,Report!$B677))","v":0},null,"|",""]
[674,{"$f":"IF(ISERROR(MATCH(A678,Data!A:A,0)),\"\",MATCH(A678,Data!A:A,0))","v":324},{"$f":"IF(ISERROR(INDEX(Data!I:I,Report!$B678)),\"\",INDEX(Data!I:I,Report!$B678))","v":"00:49:49"},{"$f":"IF(ISERROR(INDEX(Data!J:J,Report!$B678)),\"\",INDEX(Data!J:J,Report!$B678))","v":"Game against Boomer at level 2.5  Single point data:"},{"$f":"IF(ISERROR(INDEX(Data!K:K,Report!$B678)),\"\",INDEX(Data!K:K,Report!$B678))","v":"Boomer's point"},{"$f":"IF(ISERROR(INDEX(Data!L:L,Report!$B678)),\"\",INDEX(Data!L:L,Report!$B678))","v":0},null,{"$f":"IF(ISERROR(INDEX(Data!N:N,Report!$B678)),\"\",INDEX(Data!N:N,Report!$B678))","v":2},{"$f":"IF(ISERROR(INDEX(Data!P:P,Report!$B678)),\"\",INDEX(Data!P:P,Report!$B678))","v":"Player Serve"},{"$f":"IF(ISERROR(INDEX(Data!O:O,Report!$B678)),\"\",INDEX(Data!O:O,Report!$B678))","v":4},{"$f":"IF(ISERROR(INDEX(Data!Q:Q,Report!$B678)),\"\",INDEX(Data!Q:Q,Report!$B678))","v":2.5},{"$f":"IF(ISERROR(INDEX(Data!R:R,Report!$B678)),\"\",INDEX(Data!R:R,Report!$B678))","v":0},{"$f":"IF(ISERROR(INDEX(Data!S:S,Report!$B678)),\"\",INDEX(Data!S:S,Report!$B678))","v":0},{"$f":"IF(ISERROR(INDEX(Data!T:T,Report!$B678)),\"\",INDEX(Data!T:T,Report!$B678))","v":0},{"$f":"IF(ISERROR(INDEX(Data!U:U,Report!$B678)),\"\",INDEX(Data!U:U,Report!$B678))","v":0},{"$f":"IF(ISERROR(INDEX(Data!V:V,Report!$B678)),\"\",INDEX(Data!V:V,Report!$B678))","v":0},null,"|",""]
[675,{"$f":"IF(ISERROR(MATCH(A679,Data!A:A,0)),\"\",MATCH(A679,Data!A:A,0))","v":""},{"$f":"IF(ISERROR(INDEX(Data!I:I,Report!$B679)),\"\",INDEX(Data!I:I,Report!$B679))","v":""},{"$f":"IF(ISERROR(INDEX(Data!J:J,Report!$B679)),\"\",INDEX(Data!J:J,Report!$B679))","v":""},{"$f":"IF(ISERROR(INDEX(Data!K:K,Report!$B679)),\"\",INDEX(Data!K:K,Report!$B679))","v":""},{"$f":"IF(ISERROR(INDEX(Data!L:L,Report!$B679)),\"\",INDEX(Data!L:L,Report!$B679))","v":""},null,{"$f":"IF(ISERROR(INDEX(Data!N:N,Report!$B679)),\"\",INDEX(Data!N:N,Report!$B679))","v":""},{"$f":"IF(ISERROR(INDEX(Data!P:P,Report!$B679)),\"\",INDEX(Data!P:P,Report!$B679))","v":""},{"$f":"IF(ISERROR(INDEX(Data!O:O,Report!$B679)),\"\",INDEX(Data!O:O,Report!$B679))","v":""},{"$f":"IF(ISERROR(INDEX(Data!Q:Q,Report!$B679)),\"\",INDEX(Data!Q:Q,Report!$B679))","v":""},{"$f":"IF(ISERROR(INDEX(Data!R:R,Report!$B679)),\"\",INDEX(Data!R:R,Report!$B679))","v":""},{"$f":"IF(ISERROR(INDEX(Data!S:S,Report!$B679)),\"\",INDEX(Data!S:S,Report!$B679))","v":""},{"$f":"IF(ISERROR(INDEX(Data!T:T,Report!$B679)),\"\",INDEX(Data!T:T,Report!$B679))","v":""},{"$f":"IF(ISERROR(INDEX(Data!U:U,Report!$B679)),\"\",INDEX(Data!U:U,Report!$B679))","v":""},{"$f":"IF(ISERROR(INDEX(Data!V:V,Report!$B679)),\"\",INDEX(Data!V:V,Report!$B679))","v":""},null,"",""]
[676,{"$f":"IF(ISERROR(MATCH(A680,Data!A:A,0)),\"\",MATCH(A680,Data!A:A,0))","v":""},{"$f":"IF(ISERROR(INDEX(Data!I:I,Report!$B680)),\"\",INDEX(Data!I:I,Report!$B680))","v":""},{"$f":"IF(ISERROR(INDEX(Data!J:J,Report!$B680)),\"\",INDEX(Data!J:J,Report!$B680))","v":""},{"$f":"IF(ISERROR(INDEX(Data!K:K,Report!$B680)),\"\",INDEX(Data!K:K,Report!$B680))","v":""},{"$f":"IF(ISERROR(INDEX(Data!L:L,Report!$B680)),\"\",INDEX(Data!L:L,Report!$B680))","v":""},null,{"$f":"IF(ISERROR(INDEX(Data!N:N,Report!$B680)),\"\",INDEX(Data!N:N,Report!$B680))","v":""},{"$f":"IF(ISERROR(INDEX(Data!P:P,Report!$B680)),\"\",INDEX(Data!P:P,Report!$B680))","v":""},{"$f":"IF(ISERROR(INDEX(Data!O:O,Report!$B680)),\"\",INDEX(Data!O:O,Report!$B680))","v":""},{"$f":"IF(ISERROR(INDEX(Data!Q:Q,Report!$B680)),\"\",INDEX(Data!Q:Q,Report!$B680))","v":""},{"$f":"IF(ISERROR(INDEX(Data!R:R,Report!$B680)),\"\",INDEX(Data!R:R,Report!$B680))","v":""},{"$f":"IF(ISERROR(INDEX(Data!S:S,Report!$B680)),\"\",INDEX(Data!S:S,Report!$B680))","v":""},{"$f":"IF(ISERROR(INDEX(Data!T:T,Report!$B680)),\"\",INDEX(Data!T:T,Report!$B680))","v":""},{"$f":"IF(ISERROR(INDEX(Data!U:U,Report!$B680)),\"\",INDEX(Data!U:U,Report!$B680))","v":""},{"$f":"IF(ISERROR(INDEX(Data!V:V,Report!$B680)),\"\",INDEX(Data!V:V,Report!$B680))","v":""},null,"",""]
[677,{"$f":"IF(ISERROR(MATCH(A681,Data!A:A,0)),\"\",MATCH(A681,Data!A:A,0))","v":""},{"$f":"IF(ISERROR(INDEX(Data!I:I,Report!$B681)),\"\",INDEX(Data!I:I,Report!$B681))","v":""},{"$f":"IF(ISERROR(INDEX(Data!J:J,Report!$B681)),\"\",INDEX(Data!J:J,Report!$B681))","v":""},{"$f":"IF(ISERROR(INDEX(Data!K:K,Report!$B681)),\"\",INDEX(Data!K:K,Report!$B681))","v":""},{"$f":"IF(ISERROR(INDEX(Data!L:L,Report!$B681)),\"\",INDEX(Data!L:L,Report!$B681))","v":""},null,{"$f":"IF(ISERROR(INDEX(Data!N:N,Report!$B681)),\"\",INDEX(Data!N:N,Report!$B681))","v":""},{"$f":"IF(ISERROR(INDEX(Data!P:P,Report!$B681)),\"\",INDEX(Data!P:P,Report!$B681))","v":""},{"$f":"IF(ISERROR(INDEX(Data!O:O,Report!$B681)),\"\",INDEX(Data!O:O,Report!$B681))","v":""},{"$f":"IF(ISERROR(INDEX(Data!Q:Q,Report!$B681)),\"\",INDEX(Data!Q:Q,Report!$B681))","v":""},{"$f":"IF(ISERROR(INDEX(Data!R:R,Report!$B681)),\"\",INDEX(Data!R:R,Report!$B681))","v":""},{"$f":"IF(ISERROR(INDEX(Data!S:S,Report!$B681)),\"\",INDEX(Data!S:S,Report!$B681))","v":""},{"$f":"IF(ISERROR(INDEX(Data!T:T,Report!$B681)),\"\",INDEX(Data!T:T,Report!$B681))","v":""},{"$f":"IF(ISERROR(INDEX(Data!U:U,Report!$B681)),\"\",INDEX(Data!U:U,Report!$B681))","v":""},{"$f":"IF(ISERROR(INDEX(Data!V:V,Report!$B681)),\"\",INDEX(Data!V:V,Report!$B681))","v":""},null,"",""]
[678,{"$f":"IF(ISERROR(MATCH(A682,Data!A:A,0)),\"\",MATCH(A682,Data!A:A,0))","v":325},{"$f":"IF(ISERROR(INDEX(Data!I:I,Report!$B682)),\"\",INDEX(Data!I:I,Report!$B682))","v":"00:50:48"},{"$f":"IF(ISERROR(INDEX(Data!J:J,Report!$B682)),\"\",INDEX(Data!J:J,Report!$B682))","v":"Game against Boomer at level 2.5  Single point data:"},{"$f":"IF(ISERROR(INDEX(Data!K:K,Report!$B682)),\"\",INDEX(Data!K:K,Report!$B682))","v":"Player's point"},{"$f":"IF(ISERROR(INDEX(Data!L:L,Report!$B682)),\"\",INDEX(Data!L:L,Report!$B682))","v":"New Point"},null,{"$f":"IF(ISERROR(INDEX(Data!N:N,Report!$B682)),\"\",INDEX(Data!N:N,Report!$B682))","v":1},{"$f":"IF(ISERROR(INDEX(Data!P:P,Report!$B682)),\"\",INDEX(Data!P:P,Report!$B682))","v":"Player Serve"},{"$f":"IF(ISERROR(INDEX(Data!O:O,Report!$B682)),\"\",INDEX(Data!O:O,Report!$B682))","v":4},{"$f":"IF(ISERROR(INDEX(Data!Q:Q,Report!$B682)),\"\",INDEX(Data!Q:Q,Report!$B682))","v":2.5},{"$f":"IF(ISERROR(INDEX(Data!R:R,Report!$B682)),\"\",INDEX(Data!R:R,Report!$B682))","v":0},{"$f":"IF(ISERROR(INDEX(Data!S:S,Report!$B682)),\"\",INDEX(Data!S:S,Report!$B682))","v":0},{"$f":"IF(ISERROR(INDEX(Data!T:T,Report!$B682)),\"\",INDEX(Data!T:T,Report!$B682))","v":0},{"$f":"IF(ISERROR(INDEX(Data!U:U,Report!$B682)),\"\",INDEX(Data!U:U,Report!$B682))","v":0},{"$f":"IF(ISERROR(INDEX(Data!V:V,Report!$B682)),\"\",INDEX(Data!V:V,Report!$B682))","v":0},null,"|",""]
[679,{"$f":"IF(ISERROR(MATCH(A683,Data!A:A,0)),\"\",MATCH(A683,Data!A:A,0))","v":326},{"$f":"IF(ISERROR(INDEX(Data!I:I,Report!$B683)),\"\",INDEX(Data!I:I,Report!$B683))","v":"00:50:48"},{"$f":"IF(ISERROR(INDEX(Data!J:J,Report!$B683)),\"\",INDEX(Data!J:J,Report!$B683))","v":"Game against Boomer at level 2.5  Single point data:"},{"$f":"IF(ISERROR(INDEX(Data!K:K,Report!$B683)),\"\",INDEX(Data!K:K,Report!$B683))","v":"Player's point"},{"$f":"IF(ISERROR(INDEX(Data!L:L,Report!$B683)),\"\",INDEX(Data!L:L,Report!$B683))","v":0},null,{"$f":"IF(ISERROR(INDEX(Data!N:N,Report!$B683)),\"\",INDEX(Data!N:N,Report!$B683))","v":2},{"$f":"IF(ISERROR(INDEX(Data!P:P,Report!$B683)),\"\",INDEX(Data!P:P,Report!$B683))","v":"Player Serve"},{"$f":"IF(ISERROR(INDEX(Data!O:O,Report!$B683)),\"\",INDEX(Data!O:O,Report!$B683))","v":4},{"$f":"IF(ISERROR(INDEX(Data!Q:Q,Report!$B683)),\"\",INDEX(Data!Q:Q,Report!$B683))","v":2.5},{"$f":"IF(ISERROR(INDEX(Data!R:R,Report!$B683)),\"\",INDEX(Data!R:R,Report!$B683))","v":15},{"$f":"IF(ISERROR(INDEX(Data!S:S,Report!$B683)),\"\",INDEX(Data!S:S,Report!$B683))","v":7},{"$f":"IF(ISERROR(INDEX(Data!T:T,Report!$B683)),\"\",INDEX(Data!T:T,Report!$B683))","v":3.5},{"$f":"IF(ISERROR(INDEX(Data!U:U,Report!$B683)),\"\",INDEX(Data!U:U,Report!$B683))","v":58},{"$f":"IF(ISERROR(INDEX(Data!V:V,Report!$B683)),\"\",INDEX(Data!V:V,Report!$B683))","v":3.5},null,"               |","|||"]
[680,{"$f":"IF(ISERROR(MATCH(A684,Data!A:A,0)),\"\",MATCH(A684,Data!A:A,0))","v":327},{"$f":"IF(ISERROR(INDEX(Data!I:I,Report!$B684)),\"\",INDEX(Data!I:I,Report!$B684))","v":"00:50:48"},{"$f":"IF(ISERROR(INDEX(Data!J:J,Report!$B684)),\"\",INDEX(Data!J:J,Report!$B684))","v":"Game against Boomer at level 2.5  Single point data:"},{"$f":"IF(ISERROR(INDEX(Data!K:K,Report!$B684)),\"\",INDEX(Data!K:K,Report!$B684))","v":"Player's point"},{"$f":"IF(ISERROR(INDEX(Data!L:L,Report!$B684)),\"\",INDEX(Data!L:L,Report!$B684))","v":0},null,{"$f":"IF(ISERROR(INDEX(Data!N:N,Report!$B684)),\"\",INDEX(Data!N:N,Report!$B684))","v":3},{"$f":"IF(ISERROR(INDEX(Data!P:P,Report!$B684)),\"\",INDEX(Data!P:P,Report!$B684))","v":"Topspin"},{"$f":"IF(ISERROR(INDEX(Data!O:O,Report!$B684)),\"\",INDEX(Data!O:O,Report!$B684))","v":3},{"$f":"IF(ISERROR(INDEX(Data!Q:Q,Report!$B684)),\"\",INDEX(Data!Q:Q,Report!$B684))","v":2.5},{"$f":"IF(ISERROR(INDEX(Data!R:R,Report!$B684)),\"\",INDEX(Data!R:R,Report!$B684))","v":32},{"$f":"IF(ISERROR(INDEX(Data!S:S,Report!$B684)),\"\",INDEX(Data!S:S,Report!$B684))","v":20},{"$f":"IF(ISERROR(INDEX(Data!T:T,Report!$B684)),\"\",INDEX(Data!T:T,Report!$B684))","v":5.7},{"$f":"IF(ISERROR(INDEX(Data!U:U,Report!$B684)),\"\",INDEX(Data!U:U,Report!$B684))","v":50},{"$f":"IF(ISERROR(INDEX(Data!V:V,Report!$B684)),\"\",INDEX(Data!V:V,Report!$B684))","v":4.8},null,"                                |","||||||||||"]
[681,{"$f":"IF(ISERROR(MATCH(A685,Data!A:A,0)),\"\",MATCH(A685,Data!A:A,0))","v":328},{"$f":"IF(ISERROR(INDEX(Data!I:I,Report!$B685)),\"\",INDEX(Data!I:I,Report!$B685))","v":"00:50:48"},{"$f":"IF(ISERROR(INDEX(Data!J:J,Report!$B685)),\"\",INDEX(Data!J:J,Report!$B685))","v":"Game against Boomer at level 2.5  Single point data:"},{"$f":"IF(ISERROR(INDEX(Data!K:K,Report!$B685)),\"\",INDEX(Data!K:K,Report!$B685))","v":"Player's point"},{"$f":"IF(ISERROR(INDEX(Data!L:L,Report!$B685)),\"\",INDEX(Data!L:L,Report!$B685))","v":0},null,{"$f":"IF(ISERROR(INDEX(Data!N:N,Report!$B685)),\"\",INDEX(Data!N:N,Report!$B685))","v":4},{"$f":"IF(ISERROR(INDEX(Data!P:P,Report!$B685)),\"\",INDEX(Data!P:P,Report!$B685))","v":"Lob"},{"$f":"IF(ISERROR(INDEX(Data!O:O,Report!$B685)),\"\",INDEX(Data!O:O,Report!$B685))","v":4},{"$f":"IF(ISERROR(INDEX(Data!Q:Q,Report!$B685)),\"\",INDEX(Data!Q:Q,Report!$B685))","v":2.5},{"$f":"IF(ISERROR(INDEX(Data!R:R,Report!$B685)),\"\",INDEX(Data!R:R,Report!$B685))","v":24},{"$f":"IF(ISERROR(INDEX(Data!S:S,Report!$B685)),\"\",INDEX(Data!S:S,Report!$B685))","v":14},{"$f":"IF(ISERROR(INDEX(Data!T:T,Report!$B685)),\"\",INDEX(Data!T:T,Report!$B685))","v":3.7},{"$f":"IF(ISERROR(INDEX(Data!U:U,Report!$B685)),\"\",INDEX(Data!U:U,Report!$B685))","v":50},{"$f":"IF(ISERROR(INDEX(Data!V:V,Report!$B685)),\"\",INDEX(Data!V:V,Report!$B685))","v":3.8},null,"                        |","|||||||"]
[682,{"$f":"IF(ISERROR(MATCH(A686,Data!A:A,0)),\"\",MATCH(A686,Data!A:A,0))","v":329},{"$f":"IF(ISERROR(INDEX(Data!I:I,Report!$B686)),\"\",INDEX(Data!I:I,Report!$B686))","v":"00:50:48"},{"$f":"IF(ISERROR(INDEX(Data!J:J,Report!$B686)),\"\",INDEX(Data!J:J,Report!$B686))","v":"Game against Boomer at level 2.5  Single point data:"},{"$f":"IF(ISERROR(INDEX(Data!K:K,Report!$B686)),\"\",INDEX(Data!K:K,Report!$B686))","v":"Player's point"},{"$f":"IF(ISERROR(INDEX(Data!L:L,Report!$B686)),\"\",INDEX(Data!L:L,Report!$B686))","v":0},null,{"$f":"IF(ISERROR(INDEX(Data!N:N,Report!$B686)),\"\",INDEX(Data!N:N,Report!$B686))","v":5},{"$f":"IF(ISERROR(INDEX(Data!P:P,Report!$B686)),\"\",INDEX(Data!P:P,Report!$B686))","v":"Pass"},{"$f":"IF(ISERROR(INDEX(Data!O:O,Report!$B686)),\"\",INDEX(Data!O:O,Report!$B686))","v":4},{"$f":"IF(ISERROR(INDEX(Data!Q:Q,Report!$B686)),\"\",INDEX(Data!Q:Q,Report!$B686))","v":2.5},{"$f":"IF(ISERROR(INDEX(Data!R:R,Report!$B686)),\"\",INDEX(Data!R:R,Report!$B686))","v":29},{"$f":"IF(ISERROR(INDEX(Data!S:S,Report!$B686)),\"\",INDEX(Data!S:S,Report!$B686))","v":5},{"$f":"IF(ISERROR(INDEX(Data!T:T,Report!$B686)),\"\",INDEX(Data!T:T,Report!$B686))","v":5.7},{"$f":"IF(ISERROR(INDEX(Data!U:U,Report!$B686)),\"\",INDEX(Data!U:U,Report!$B686))","v":48},{"$f":"IF(ISERROR(INDEX(Data!V:V,Report!$B686)),\"\",INDEX(Data!V:V,Report!$B686))","v":4.7},null,"                             |","||"]
[683,{"$f":"IF(ISERROR(MATCH(A687,Data!A:A,0)),\"\",MATCH(A687,Data!A:A,0))","v":330},{"$f":"IF(ISERROR(INDEX(Data!I:I,Report!$B687)),\"\",INDEX(Data!I:I,Report!$B687))","v":"00:50:48"},{"$f":"IF(ISERROR(INDEX(Data!J:J,Report!$B687)),\"\",INDEX(Data!J:J,Report!$B687))","v":"Game against Boomer at level 2.5  Single point data:"},{"$f":"IF(ISERROR(INDEX(Data!K:K,Report!$B687)),\"\",INDEX(Data!K:K,Report!$B687))","v":"Player's point"},{"$f":"IF(ISERROR(INDEX(Data!L:L,Report!$B687)),\"\",INDEX(Data!L:L,Report!$B687))","v":0},null,{"$f":"IF(ISERROR(INDEX(Data!N:N,Report!$B687)),\"\",INDEX(Data!N:N,Report!$B687))","v":6},{"$f":"IF(ISERROR(INDEX(Data!P:P,Report!$B687)),\"\",INDEX(Data!P:P,Report!$B687))","v":"Pass"},{"$f":"IF(ISERROR(INDEX(Data!O:O,Report!$B687)),\"\",INDEX(Data!O:O,Report!$B687))","v":5},{"$f":"IF(ISERROR(INDEX(Data!Q:Q,Report!$B687)),\"\",INDEX(Data!Q:Q,Report!$B687))","v":2.5},{"$f":"IF(ISERROR(INDEX(Data!R:R,Report!$B687)),\"\",INDEX(Data!R:R,Report!$B687))","v":24},{"$f":"IF(ISERROR(INDEX(Data!S:S,Report!$B687)),\"\",INDEX(Data!S:S,Report!$B687))","v":14},{"$f":"IF(ISERROR(INDEX(Data!T:T,Report!$B687)),\"\",INDEX(Data!T:T,Report!$B687))","v":3.5},{"$f":"IF(ISERROR(INDEX(Data!U:U,Report!$B687)),\"\",INDEX(Data!U:U,Report!$B687))","v":50},{"$f":"IF(ISERROR(INDEX(Data!V:V,Report!$B687)),\"\",INDEX(Data!V:V,Report!$B687))","v":4.5999999999999996},null,"                        |","|||||||"]
[684,{"$f":"IF(ISERROR(MATCH(A688,Data!A:A,0)),\"\",MATCH(A688,Data!A:A,0))","v":""},{"$f":"IF(ISERROR(INDEX(Data!I:I,Report!$B688)),\"\",INDEX(Data!I:I,Report!$B688))","v":""},{"$f":"IF(ISERROR(INDEX(Data!J:J,Report!$B688)),\"\",INDEX(Data!J:J,Report!$B688))","v":""},{"$f":"IF(ISERROR(INDEX(Data!K:K,Report!$B688)),\"\",INDEX(Data!K:K,Report!$B688))","v":""},{"$f":"IF(ISERROR(INDEX(Data!L:L,Report!$B688)),\"\",INDEX(Data!L:L,Report!$B688))","v":""},null,{"$f":"IF(ISERROR(INDEX(Data!N:N,Report!$B688)),\"\",INDEX(Data!N:N,Report!$B688))","v":""},{"$f":"IF(ISERROR(INDEX(Data!P:P,Report!$B688)),\"\",INDEX(Data!P:P,Report!$B688))","v":""},{"$f":"IF(ISERROR(INDEX(Data!O:O,Report!$B688)),\"\",INDEX(Data!O:O,Report!$B688))","v":""},{"$f":"IF(ISERROR(INDEX(Data!Q:Q,Report!$B688)),\"\",INDEX(Data!Q:Q,Report!$B688))","v":""},{"$f":"IF(ISERROR(INDEX(Data!R:R,Report!$B688)),\"\",INDEX(Data!R:R,Report!$B688))","v":""},{"$f":"IF(ISERROR(INDEX(Data!S:S,Report!$B688)),\"\",INDEX(Data!S:S,Report!$B688))","v":""},{"$f":"IF(ISERROR(INDEX(Data!T:T,Report!$B688)),\"\",INDEX(Data!T:T,Report!$B688))","v":""},{"$f":"IF(ISERROR(INDEX(Data!U:U,Report!$B688)),\"\",INDEX(Data!U:U,Report!$B688))","v":""},{"$f":"IF(ISERROR(INDEX(Data!V:V,Report!$B688)),\"\",INDEX(Data!V:V,Report!$B688))","v":""},null,"",""]
[685,{"$f":"IF(ISERROR(MATCH(A689,Data!A:A,0)),\"\",MATCH(A689,Data!A:A,0))","v":""},{"$f":"IF(ISERROR(INDEX(Data!I:I,Report!$B689)),\"\",INDEX(Data!I:I,Report!$B689))","v":""},{"$f":"IF(ISERROR(INDEX(Data!J:J,Report!$B689)),\"\",INDEX(Data!J:J,Report!$B689))","v":""},{"$f":"IF(ISERROR(INDEX(Data!K:K,Report!$B689)),\"\",INDEX(Data!K:K,Report!$B689))","v":""},{"$f":"IF(ISERROR(INDEX(Data!L:L,Report!$B689)),\"\",INDEX(Data!L:L,Report!$B689))","v":""},null,{"$f":"IF(ISERROR(INDEX(Data!N:N,Report!$B689)),\"\",INDEX(Data!N:N,Report!$B689))","v":""},{"$f":"IF(ISERROR(INDEX(Data!P:P,Report!$B689)),\"\",INDEX(Data!P:P,Report!$B689))","v":""},{"$f":"IF(ISERROR(INDEX(Data!O:O,Report!$B689)),\"\",INDEX(Data!O:O,Report!$B689))","v":""},{"$f":"IF(ISERROR(INDEX(Data!Q:Q,Report!$B689)),\"\",INDEX(Data!Q:Q,Report!$B689))","v":""},{"$f":"IF(ISERROR(INDEX(Data!R:R,Report!$B689)),\"\",INDEX(Data!R:R,Report!$B689))","v":""},{"$f":"IF(ISERROR(INDEX(Data!S:S,Report!$B689)),\"\",INDEX(Data!S:S,Report!$B689))","v":""},{"$f":"IF(ISERROR(INDEX(Data!T:T,Report!$B689)),\"\",INDEX(Data!T:T,Report!$B689))","v":""},{"$f":"IF(ISERROR(INDEX(Data!U:U,Report!$B689)),\"\",INDEX(Data!U:U,Report!$B689))","v":""},{"$f":"IF(ISERROR(INDEX(Data!V:V,Report!$B689)),\"\",INDEX(Data!V:V,Report!$B689))","v":""},null,"",""]
[686,{"$f":"IF(ISERROR(MATCH(A690,Data!A:A,0)),\"\",MATCH(A690,Data!A:A,0))","v":""},{"$f":"IF(ISERROR(INDEX(Data!I:I,Report!$B690)),\"\",INDEX(Data!I:I,Report!$B690))","v":""},{"$f":"IF(ISERROR(INDEX(Data!J:J,Report!$B690)),\"\",INDEX(Data!J:J,Report!$B690))","v":""},{"$f":"IF(ISERROR(INDEX(Data!K:K,Report!$B690)),\"\",INDEX(Data!K:K,Report!$B690))","v":""},{"$f":"IF(ISERROR(INDEX(Data!L:L,Report!$B690)),\"\",INDEX(Data!L:L,Report!$B690))","v":""},null,{"$f":"IF(ISERROR(INDEX(Data!N:N,Report!$B690)),\"\",INDEX(Data!N:N,Report!$B690))","v":""},{"$f":"IF(ISERROR(INDEX(Data!P:P,Report!$B690)),\"\",INDEX(Data!P:P,Report!$B690))","v":""},{"$f":"IF(ISERROR(INDEX(Data!O:O,Report!$B690)),\"\",INDEX(Data!O:O,Report!$B690))","v":""},{"$f":"IF(ISERROR(INDEX(Data!Q:Q,Report!$B690)),\"\",INDEX(Data!Q:Q,Report!$B690))","v":""},{"$f":"IF(ISERROR(INDEX(Data!R:R,Report!$B690)),\"\",INDEX(Data!R:R,Report!$B690))","v":""},{"$f":"IF(ISERROR(INDEX(Data!S:S,Report!$B690)),\"\",INDEX(Data!S:S,Report!$B690))","v":""},{"$f":"IF(ISERROR(INDEX(Data!T:T,Report!$B690)),\"\",INDEX(Data!T:T,Report!$B690))","v":""},{"$f":"IF(ISERROR(INDEX(Data!U:U,Report!$B690)),\"\",INDEX(Data!U:U,Report!$B690))","v":""},{"$f":"IF(ISERROR(INDEX(Data!V:V,Report!$B690)),\"\",INDEX(Data!V:V,Report!$B690))","v":""},null,"",""]
[687,{"$f":"IF(ISERROR(MATCH(A691,Data!A:A,0)),\"\",MATCH(A691,Data!A:A,0))","v":331},{"$f":"IF(ISERROR(INDEX(Data!I:I,Report!$B691)),\"\",INDEX(Data!I:I,Report!$B691))","v":"00:51:07"},{"$f":"IF(ISERROR(INDEX(Data!J:J,Report!$B691)),\"\",INDEX(Data!J:J,Report!$B691))","v":"Game against Boomer at level 2.5  Single point data:"},{"$f":"IF(ISERROR(INDEX(Data!K:K,Report!$B691)),\"\",INDEX(Data!K:K,Report!$B691))","v":"Player's point"},{"$f":"IF(ISERROR(INDEX(Data!L:L,Report!$B691)),\"\",INDEX(Data!L:L,Report!$B691))","v":"New Point"},null,{"$f":"IF(ISERROR(INDEX(Data!N:N,Report!$B691)),\"\",INDEX(Data!N:N,Report!$B691))","v":1},{"$f":"IF(ISERROR(INDEX(Data!P:P,Report!$B691)),\"\",INDEX(Data!P:P,Report!$B691))","v":"Player Serve"},{"$f":"IF(ISERROR(INDEX(Data!O:O,Report!$B691)),\"\",INDEX(Data!O:O,Report!$B691))","v":4},{"$f":"IF(ISERROR(INDEX(Data!Q:Q,Report!$B691)),\"\",INDEX(Data!Q:Q,Report!$B691))","v":2.5},{"$f":"IF(ISERROR(INDEX(Data!R:R,Report!$B691)),\"\",INDEX(Data!R:R,Report!$B691))","v":19},{"$f":"IF(ISERROR(INDEX(Data!S:S,Report!$B691)),\"\",INDEX(Data!S:S,Report!$B691))","v":17},{"$f":"IF(ISERROR(INDEX(Data!T:T,Report!$B691)),\"\",INDEX(Data!T:T,Report!$B691))","v":5.4},{"$f":"IF(ISERROR(INDEX(Data!U:U,Report!$B691)),\"\",INDEX(Data!U:U,Report!$B691))","v":119},{"$f":"IF(ISERROR(INDEX(Data!V:V,Report!$B691)),\"\",INDEX(Data!V:V,Report!$B691))","v":6.2},null,"                   |","||||||||"]
[688,{"$f":"IF(ISERROR(MATCH(A692,Data!A:A,0)),\"\",MATCH(A692,Data!A:A,0))","v":""},{"$f":"IF(ISERROR(INDEX(Data!I:I,Report!$B692)),\"\",INDEX(Data!I:I,Report!$B692))","v":""},{"$f":"IF(ISERROR(INDEX(Data!J:J,Report!$B692)),\"\",INDEX(Data!J:J,Report!$B692))","v":""},{"$f":"IF(ISERROR(INDEX(Data!K:K,Report!$B692)),\"\",INDEX(Data!K:K,Report!$B692))","v":""},{"$f":"IF(ISERROR(INDEX(Data!L:L,Report!$B692)),\"\",INDEX(Data!L:L,Report!$B692))","v":""},null,{"$f":"IF(ISERROR(INDEX(Data!N:N,Report!$B692)),\"\",INDEX(Data!N:N,Report!$B692))","v":""},{"$f":"IF(ISERROR(INDEX(Data!P:P,Report!$B692)),\"\",INDEX(Data!P:P,Report!$B692))","v":""},{"$f":"IF(ISERROR(INDEX(Data!O:O,Report!$B692)),\"\",INDEX(Data!O:O,Report!$B692))","v":""},{"$f":"IF(ISERROR(INDEX(Data!Q:Q,Report!$B692)),\"\",INDEX(Data!Q:Q,Report!$B692))","v":""},{"$f":"IF(ISERROR(INDEX(Data!R:R,Report!$B692)),\"\",INDEX(Data!R:R,Report!$B692))","v":""},{"$f":"IF(ISERROR(INDEX(Data!S:S,Report!$B692)),\"\",INDEX(Data!S:S,Report!$B692))","v":""},{"$f":"IF(ISERROR(INDEX(Data!T:T,Report!$B692)),\"\",INDEX(Data!T:T,Report!$B692))","v":""},{"$f":"IF(ISERROR(INDEX(Data!U:U,Report!$B692)),\"\",INDEX(Data!U:U,Report!$B692))","v":""},{"$f":"IF(ISERROR(INDEX(Data!V:V,Report!$B692)),\"\",INDEX(Data!V:V,Report!$B692))","v":""},null,"",""]
[689,{"$f":"IF(ISERROR(MATCH(A693,Data!A:A,0)),\"\",MATCH(A693,Data!A:A,0))","v":""},{"$f":"IF(ISERROR(INDEX(Data!I:I,Report!$B693)),\"\",INDEX(Data!I:I,Report!$B693))","v":""},{"$f":"IF(ISERROR(INDEX(Data!J:J,Report!$B693)),\"\",INDEX(Data!J:J,Report!$B693))","v":""},{"$f":"IF(ISERROR(INDEX(Data!K:K,Report!$B693)),\"\",INDEX(Data!K:K,Report!$B693))","v":""},{"$f":"IF(ISERROR(INDEX(Data!L:L,Report!$B693)),\"\",INDEX(Data!L:L,Report!$B693))","v":""},null,{"$f":"IF(ISERROR(INDEX(Data!N:N,Report!$B693)),\"\",INDEX(Data!N:N,Report!$B693))","v":""},{"$f":"IF(ISERROR(INDEX(Data!P:P,Report!$B693)),\"\",INDEX(Data!P:P,Report!$B693))","v":""},{"$f":"IF(ISERROR(INDEX(Data!O:O,Report!$B693)),\"\",INDEX(Data!O:O,Report!$B693))","v":""},{"$f":"IF(ISERROR(INDEX(Data!Q:Q,Report!$B693)),\"\",INDEX(Data!Q:Q,Report!$B693))","v":""},{"$f":"IF(ISERROR(INDEX(Data!R:R,Report!$B693)),\"\",INDEX(Data!R:R,Report!$B693))","v":""},{"$f":"IF(ISERROR(INDEX(Data!S:S,Report!$B693)),\"\",INDEX(Data!S:S,Report!$B693))","v":""},{"$f":"IF(ISERROR(INDEX(Data!T:T,Report!$B693)),\"\",INDEX(Data!T:T,Report!$B693))","v":""},{"$f":"IF(ISERROR(INDEX(Data!U:U,Report!$B693)),\"\",INDEX(Data!U:U,Report!$B693))","v":""},{"$f":"IF(ISERROR(INDEX(Data!V:V,Report!$B693)),\"\",INDEX(Data!V:V,Report!$B693))","v":""},null,"",""]
[690,{"$f":"IF(ISERROR(MATCH(A694,Data!A:A,0)),\"\",MATCH(A694,Data!A:A,0))","v":""},{"$f":"IF(ISERROR(INDEX(Data!I:I,Report!$B694)),\"\",INDEX(Data!I:I,Report!$B694))","v":""},{"$f":"IF(ISERROR(INDEX(Data!J:J,Report!$B694)),\"\",INDEX(Data!J:J,Report!$B694))","v":""},{"$f":"IF(ISERROR(INDEX(Data!K:K,Report!$B694)),\"\",INDEX(Data!K:K,Report!$B694))","v":""},{"$f":"IF(ISERROR(INDEX(Data!L:L,Report!$B694)),\"\",INDEX(Data!L:L,Report!$B694))","v":""},null,{"$f":"IF(ISERROR(INDEX(Data!N:N,Report!$B694)),\"\",INDEX(Data!N:N,Report!$B694))","v":""},{"$f":"IF(ISERROR(INDEX(Data!P:P,Report!$B694)),\"\",INDEX(Data!P:P,Report!$B694))","v":""},{"$f":"IF(ISERROR(INDEX(Data!O:O,Report!$B694)),\"\",INDEX(Data!O:O,Report!$B694))","v":""},{"$f":"IF(ISERROR(INDEX(Data!Q:Q,Report!$B694)),\"\",INDEX(Data!Q:Q,Report!$B694))","v":""},{"$f":"IF(ISERROR(INDEX(Data!R:R,Report!$B694)),\"\",INDEX(Data!R:R,Report!$B694))","v":""},{"$f":"IF(ISERROR(INDEX(Data!S:S,Report!$B694)),\"\",INDEX(Data!S:S,Report!$B694))","v":""},{"$f":"IF(ISERROR(INDEX(Data!T:T,Report!$B694)),\"\",INDEX(Data!T:T,Report!$B694))","v":""},{"$f":"IF(ISERROR(INDEX(Data!U:U,Report!$B694)),\"\",INDEX(Data!U:U,Report!$B694))","v":""},{"$f":"IF(ISERROR(INDEX(Data!V:V,Report!$B694)),\"\",INDEX(Data!V:V,Report!$B694))","v":""},null,"",""]
[691,{"$f":"IF(ISERROR(MATCH(A695,Data!A:A,0)),\"\",MATCH(A695,Data!A:A,0))","v":332},{"$f":"IF(ISERROR(INDEX(Data!I:I,Report!$B695)),\"\",INDEX(Data!I:I,Report!$B695))","v":"00:51:30"},{"$f":"IF(ISERROR(INDEX(Data!J:J,Report!$B695)),\"\",INDEX(Data!J:J,Report!$B695))","v":"Game against Boomer at level 2.5  Single point data:"},{"$f":"IF(ISERROR(INDEX(Data!K:K,Report!$B695)),\"\",INDEX(Data!K:K,Report!$B695))","v":"Player's point"},{"$f":"IF(ISERROR(INDEX(Data!L:L,Report!$B695)),\"\",INDEX(Data!L:L,Report!$B695))","v":"New Point"},null,{"$f":"IF(ISERROR(INDEX(Data!N:N,Report!$B695)),\"\",INDEX(Data!N:N,Report!$B695))","v":1},{"$f":"IF(ISERROR(INDEX(Data!P:P,Report!$B695)),\"\",INDEX(Data!P:P,Report!$B695))","v":"Player Serve"},{"$f":"IF(ISERROR(INDEX(Data!O:O,Report!$B695)),\"\",INDEX(Data!O:O,Report!$B695))","v":4},{"$f":"IF(ISERROR(INDEX(Data!Q:Q,Report!$B695)),\"\",INDEX(Data!Q:Q,Report!$B695))","v":2.5},{"$f":"IF(ISERROR(INDEX(Data!R:R,Report!$B695)),\"\",INDEX(Data!R:R,Report!$B695))","v":18},{"$f":"IF(ISERROR(INDEX(Data!S:S,Report!$B695)),\"\",INDEX(Data!S:S,Report!$B695))","v":5},{"$f":"IF(ISERROR(INDEX(Data!T:T,Report!$B695)),\"\",INDEX(Data!T:T,Report!$B695))","v":4.5},{"$f":"IF(ISERROR(INDEX(Data!U:U,Report!$B695)),\"\",INDEX(Data!U:U,Report!$B695))","v":106},{"$f":"IF(ISERROR(INDEX(Data!V:V,Report!$B695)),\"\",INDEX(Data!V:V,Report!$B695))","v":5.6},null,"                  |","||"]
[692,{"$f":"IF(ISERROR(MATCH(A696,Data!A:A,0)),\"\",MATCH(A696,Data!A:A,0))","v":""},{"$f":"IF(ISERROR(INDEX(Data!I:I,Report!$B696)),\"\",INDEX(Data!I:I,Report!$B696))","v":""},{"$f":"IF(ISERROR(INDEX(Data!J:J,Report!$B696)),\"\",INDEX(Data!J:J,Report!$B696))","v":""},{"$f":"IF(ISERROR(INDEX(Data!K:K,Report!$B696)),\"\",INDEX(Data!K:K,Report!$B696))","v":""},{"$f":"IF(ISERROR(INDEX(Data!L:L,Report!$B696)),\"\",INDEX(Data!L:L,Report!$B696))","v":""},null,{"$f":"IF(ISERROR(INDEX(Data!N:N,Report!$B696)),\"\",INDEX(Data!N:N,Report!$B696))","v":""},{"$f":"IF(ISERROR(INDEX(Data!P:P,Report!$B696)),\"\",INDEX(Data!P:P,Report!$B696))","v":""},{"$f":"IF(ISERROR(INDEX(Data!O:O,Report!$B696)),\"\",INDEX(Data!O:O,Report!$B696))","v":""},{"$f":"IF(ISERROR(INDEX(Data!Q:Q,Report!$B696)),\"\",INDEX(Data!Q:Q,Report!$B696))","v":""},{"$f":"IF(ISERROR(INDEX(Data!R:R,Report!$B696)),\"\",INDEX(Data!R:R,Report!$B696))","v":""},{"$f":"IF(ISERROR(INDEX(Data!S:S,Report!$B696)),\"\",INDEX(Data!S:S,Report!$B696))","v":""},{"$f":"IF(ISERROR(INDEX(Data!T:T,Report!$B696)),\"\",INDEX(Data!T:T,Report!$B696))","v":""},{"$f":"IF(ISERROR(INDEX(Data!U:U,Report!$B696)),\"\",INDEX(Data!U:U,Report!$B696))","v":""},{"$f":"IF(ISERROR(INDEX(Data!V:V,Report!$B696)),\"\",INDEX(Data!V:V,Report!$B696))","v":""},null,"",""]
[693,{"$f":"IF(ISERROR(MATCH(A697,Data!A:A,0)),\"\",MATCH(A697,Data!A:A,0))","v":""},{"$f":"IF(ISERROR(INDEX(Data!I:I,Report!$B697)),\"\",INDEX(Data!I:I,Report!$B697))","v":""},{"$f":"IF(ISERROR(INDEX(Data!J:J,Report!$B697)),\"\",INDEX(Data!J:J,Report!$B697))","v":""},{"$f":"IF(ISERROR(INDEX(Data!K:K,Report!$B697)),\"\",INDEX(Data!K:K,Report!$B697))","v":""},{"$f":"IF(ISERROR(INDEX(Data!L:L,Report!$B697)),\"\",INDEX(Data!L:L,Report!$B697))","v":""},null,{"$f":"IF(ISERROR(INDEX(Data!N:N,Report!$B697)),\"\",INDEX(Data!N:N,Report!$B697))","v":""},{"$f":"IF(ISERROR(INDEX(Data!P:P,Report!$B697)),\"\",INDEX(Data!P:P,Report!$B697))","v":""},{"$f":"IF(ISERROR(INDEX(Data!O:O,Report!$B697)),\"\",INDEX(Data!O:O,Report!$B697))","v":""},{"$f":"IF(ISERROR(INDEX(Data!Q:Q,Report!$B697)),\"\",INDEX(Data!Q:Q,Report!$B697))","v":""},{"$f":"IF(ISERROR(INDEX(Data!R:R,Report!$B697)),\"\",INDEX(Data!R:R,Report!$B697))","v":""},{"$f":"IF(ISERROR(INDEX(Data!S:S,Report!$B697)),\"\",INDEX(Data!S:S,Report!$B697))","v":""},{"$f":"IF(ISERROR(INDEX(Data!T:T,Report!$B697)),\"\",INDEX(Data!T:T,Report!$B697))","v":""},{"$f":"IF(ISERROR(INDEX(Data!U:U,Report!$B697)),\"\",INDEX(Data!U:U,Report!$B697))","v":""},{"$f":"IF(ISERROR(INDEX(Data!V:V,Report!$B697)),\"\",INDEX(Data!V:V,Report!$B697))","v":""},null,"",""]
[694,{"$f":"IF(ISERROR(MATCH(A698,Data!A:A,0)),\"\",MATCH(A698,Data!A:A,0))","v":""},{"$f":"IF(ISERROR(INDEX(Data!I:I,Report!$B698)),\"\",INDEX(Data!I:I,Report!$B698))","v":""},{"$f":"IF(ISERROR(INDEX(Data!J:J,Report!$B698)),\"\",INDEX(Data!J:J,Report!$B698))","v":""},{"$f":"IF(ISERROR(INDEX(Data!K:K,Report!$B698)),\"\",INDEX(Data!K:K,Report!$B698))","v":""},{"$f":"IF(ISERROR(INDEX(Data!L:L,Report!$B698)),\"\",INDEX(Data!L:L,Report!$B698))","v":""},null,{"$f":"IF(ISERROR(INDEX(Data!N:N,Report!$B698)),\"\",INDEX(Data!N:N,Report!$B698))","v":""},{"$f":"IF(ISERROR(INDEX(Data!P:P,Report!$B698)),\"\",INDEX(Data!P:P,Report!$B698))","v":""},{"$f":"IF(ISERROR(INDEX(Data!O:O,Report!$B698)),\"\",INDEX(Data!O:O,Report!$B698))","v":""},{"$f":"IF(ISERROR(INDEX(Data!Q:Q,Report!$B698)),\"\",INDEX(Data!Q:Q,Report!$B698))","v":""},{"$f":"IF(ISERROR(INDEX(Data!R:R,Report!$B698)),\"\",INDEX(Data!R:R,Report!$B698))","v":""},{"$f":"IF(ISERROR(INDEX(Data!S:S,Report!$B698)),\"\",INDEX(Data!S:S,Report!$B698))","v":""},{"$f":"IF(ISERROR(INDEX(Data!T:T,Report!$B698)),\"\",INDEX(Data!T:T,Report!$B698))","v":""},{"$f":"IF(ISERROR(INDEX(Data!U:U,Report!$B698)),\"\",INDEX(Data!U:U,Report!$B698))","v":""},{"$f":"IF(ISERROR(INDEX(Data!V:V,Report!$B698)),\"\",INDEX(Data!V:V,Report!$B698))","v":""},null,"",""]
[695,{"$f":"IF(ISERROR(MATCH(A699,Data!A:A,0)),\"\",MATCH(A699,Data!A:A,0))","v":333},{"$f":"IF(ISERROR(INDEX(Data!I:I,Report!$B699)),\"\",INDEX(Data!I:I,Report!$B699))","v":"00:51:50"},{"$f":"IF(ISERROR(INDEX(Data!J:J,Report!$B699)),\"\",INDEX(Data!J:J,Report!$B699))","v":"Game against Boomer at level 2.5  Single point data:"},{"$f":"IF(ISERROR(INDEX(Data!K:K,Report!$B699)),\"\",INDEX(Data!K:K,Report!$B699))","v":"Player's point"},{"$f":"IF(ISERROR(INDEX(Data!L:L,Report!$B699)),\"\",INDEX(Data!L:L,Report!$B699))","v":"New Point"},null,{"$f":"IF(ISERROR(INDEX(Data!N:N,Report!$B699)),\"\",INDEX(Data!N:N,Report!$B699))","v":1},{"$f":"IF(ISERROR(INDEX(Data!P:P,Report!$B699)),\"\",INDEX(Data!P:P,Report!$B699))","v":"Player Serve"},{"$f":"IF(ISERROR(INDEX(Data!O:O,Report!$B699)),\"\",INDEX(Data!O:O,Report!$B699))","v":4},{"$f":"IF(ISERROR(INDEX(Data!Q:Q,Report!$B699)),\"\",INDEX(Data!Q:Q,Report!$B699))","v":2.5},{"$f":"IF(ISERROR(INDEX(Data!R:R,Report!$B699)),\"\",INDEX(Data!R:R,Report!$B699))","v":13},{"$f":"IF(ISERROR(INDEX(Data!S:S,Report!$B699)),\"\",INDEX(Data!S:S,Report!$B699))","v":19},{"$f":"IF(ISERROR(INDEX(Data!T:T,Report!$B699)),\"\",INDEX(Data!T:T,Report!$B699))","v":3.3},{"$f":"IF(ISERROR(INDEX(Data!U:U,Report!$B699)),\"\",INDEX(Data!U:U,Report!$B699))","v":111},{"$f":"IF(ISERROR(INDEX(Data!V:V,Report!$B699)),\"\",INDEX(Data!V:V,Report!$B699))","v":5.0999999999999996},null,{"$f":"IF(H699=0,\"\",IF(ISERROR(REPT(\" \",L699) & \"|\"),\"\",REPT(\" \",L699) & \"|\"))","v":"             |"},"|||||||||"]
[696,{"$f":"IF(ISERROR(MATCH(A700,Data!A:A,0)),\"\",MATCH(A700,Data!A:A,0))","v":""},{"$f":"IF(ISERROR(INDEX(Data!I:I,Report!$B700)),\"\",INDEX(Data!I:I,Report!$B700))","v":""},{"$f":"IF(ISERROR(INDEX(Data!J:J,Report!$B700)),\"\",INDEX(Data!J:J,Report!$B700))","v":""},{"$f":"IF(ISERROR(INDEX(Data!K:K,Report!$B700)),\"\",INDEX(Data!K:K,Report!$B700))","v":""},{"$f":"IF(ISERROR(INDEX(Data!L:L,Report!$B700)),\"\",INDEX(Data!L:L,Report!$B700))","v":""},null,{"$f":"IF(ISERROR(INDEX(Data!N:N,Report!$B700)),\"\",INDEX(Data!N:N,Report!$B700))","v":""},{"$f":"IF(ISERROR(INDEX(Data!P:P,Report!$B700)),\"\",INDEX(Data!P:P,Report!$B700))","v":""},{"$f":"IF(ISERROR(INDEX(Data!O:O,Report!$B700)),\"\",INDEX(Data!O:O,Report!$B700))","v":""},{"$f":"IF(ISERROR(INDEX(Data!Q:Q,Report!$B700)),\"\",INDEX(Data!Q:Q,Report!$B700))","v":""},{"$f":"IF(ISERROR(INDEX(Data!R:R,Report!$B700)),\"\",INDEX(Data!R:R,Report!$B700))","v":""},{"$f":"IF(ISERROR(INDEX(Data!S:S,Report!$B700)),\"\",INDEX(Data!S:S,Report!$B700))","v":""},{"$f":"IF(ISERROR(INDEX(Data!T:T,Report!$B700)),\"\",INDEX(Data!T:T,Report!$B700))","v":""},{"$f":"IF(ISERROR(INDEX(Data!U:U,Report!$B700)),\"\",INDEX(Data!U:U,Report!$B700))","v":""},{"$f":"IF(ISERROR(INDEX(Data!V:V,Report!$B700)),\"\",INDEX(Data!V:V,Report!$B700))","v":""},null,"",""]
[697,{"$f":"IF(ISERROR(MATCH(A701,Data!A:A,0)),\"\",MATCH(A701,Data!A:A,0))","v":""},{"$f":"IF(ISERROR(INDEX(Data!I:I,Report!$B701)),\"\",INDEX(Data!I:I,Report!$B701))","v":""},{"$f":"IF(ISERROR(INDEX(Data!J:J,Report!$B701)),\"\",INDEX(Data!J:J,Report!$B701))","v":""},{"$f":"IF(ISERROR(INDEX(Data!K:K,Report!$B701)),\"\",INDEX(Data!K:K,Report!$B701))","v":""},{"$f":"IF(ISERROR(INDEX(Data!L:L,Report!$B701)),\"\",INDEX(Data!L:L,Report!$B701))","v":""},null,{"$f":"IF(ISERROR(INDEX(Data!N:N,Report!$B701)),\"\",INDEX(Data!N:N,Report!$B701))","v":""},{"$f":"IF(ISERROR(INDEX(Data!P:P,Report!$B701)),\"\",INDEX(Data!P:P,Report!$B701))","v":""},{"$f":"IF(ISERROR(INDEX(Data!O:O,Report!$B701)),\"\",INDEX(Data!O:O,Report!$B701))","v":""},{"$f":"IF(ISERROR(INDEX(Data!Q:Q,Report!$B701)),\"\",INDEX(Data!Q:Q,Report!$B701))","v":""},{"$f":"IF(ISERROR(INDEX(Data!R:R,Report!$B701)),\"\",INDEX(Data!R:R,Report!$B701))","v":""},{"$f":"IF(ISERROR(INDEX(Data!S:S,Report!$B701)),\"\",INDEX(Data!S:S,Report!$B701))","v":""},{"$f":"IF(ISERROR(INDEX(Data!T:T,Report!$B701)),\"\",INDEX(Data!T:T,Report!$B701))","v":""},{"$f":"IF(ISERROR(INDEX(Data!U:U,Report!$B701)),\"\",INDEX(Data!U:U,Report!$B701))","v":""},{"$f":"IF(ISERROR(INDEX(Data!V:V,Report!$B701)),\"\",INDEX(Data!V:V,Report!$B701))","v":""},null,"",""]
[698,{"$f":"IF(ISERROR(MATCH(A702,Data!A:A,0)),\"\",MATCH(A702,Data!A:A,0))","v":""},{"$f":"IF(ISERROR(INDEX(Data!I:I,Report!$B702)),\"\",INDEX(Data!I:I,Report!$B702))","v":""},{"$f":"IF(ISERROR(INDEX(Data!J:J,Report!$B702)),\"\",INDEX(Data!J:J,Report!$B702))","v":""},{"$f":"IF(ISERROR(INDEX(Data!K:K,Report!$B702)),\"\",INDEX(Data!K:K,Report!$B702))","v":""},{"$f":"IF(ISERROR(INDEX(Data!L:L,Report!$B702)),\"\",INDEX(Data!L:L,Report!$B702))","v":""},null,{"$f":"IF(ISERROR(INDEX(Data!N:N,Report!$B702)),\"\",INDEX(Data!N:N,Report!$B702))","v":""},{"$f":"IF(ISERROR(INDEX(Data!P:P,Report!$B702)),\"\",INDEX(Data!P:P,Report!$B702))","v":""},{"$f":"IF(ISERROR(INDEX(Data!O:O,Report!$B702)),\"\",INDEX(Data!O:O,Report!$B702))","v":""},{"$f":"IF(ISERROR(INDEX(Data!Q:Q,Report!$B702)),\"\",INDEX(Data!Q:Q,Report!$B702))","v":""},{"$f":"IF(ISERROR(INDEX(Data!R:R,Report!$B702)),\"\",INDEX(Data!R:R,Report!$B702))","v":""},{"$f":"IF(ISERROR(INDEX(Data!S:S,Report!$B702)),\"\",INDEX(Data!S:S,Report!$B702))","v":""},{"$f":"IF(ISERROR(INDEX(Data!T:T,Report!$B702)),\"\",INDEX(Data!T:T,Report!$B702))","v":""},{"$f":"IF(ISERROR(INDEX(Data!U:U,Report!$B702)),\"\",INDEX(Data!U:U,Report!$B702))","v":""},{"$f":"IF(ISERROR(INDEX(Data!V:V,Report!$B702)),\"\",INDEX(Data!V:V,Report!$B702))","v":""},null,"",""]
[699,{"$f":"IF(ISERROR(MATCH(A703,Data!A:A,0)),\"\",MATCH(A703,Data!A:A,0))","v":334},{"$f":"IF(ISERROR(INDEX(Data!I:I,Report!$B703)),\"\",INDEX(Data!I:I,Report!$B703))","v":"00:52:10"},{"$f":"IF(ISERROR(INDEX(Data!J:J,Report!$B703)),\"\",INDEX(Data!J:J,Report!$B703))","v":"Game against Boomer at level 2.5  Single point data:"},{"$f":"IF(ISERROR(INDEX(Data!K:K,Report!$B703)),\"\",INDEX(Data!K:K,Report!$B703))","v":"Boomer's point"},{"$f":"IF(ISERROR(INDEX(Data!L:L,Report!$B703)),\"\",INDEX(Data!L:L,Report!$B703))","v":"New Point"},null,{"$f":"IF(ISERROR(INDEX(Data!N:N,Report!$B703)),\"\",INDEX(Data!N:N,Report!$B703))","v":1},{"$f":"IF(ISERROR(INDEX(Data!P:P,Report!$B703)),\"\",INDEX(Data!P:P,Report!$B703))","v":"Serve"},{"$f":"IF(ISERROR(INDEX(Data!O:O,Report!$B703)),\"\",INDEX(Data!O:O,Report!$B703))","v":3},{"$f":"IF(ISERROR(INDEX(Data!Q:Q,Report!$B703)),\"\",INDEX(Data!Q:Q,Report!$B703))","v":2.5},{"$f":"IF(ISERROR(INDEX(Data!R:R,Report!$B703)),\"\",INDEX(Data!R:R,Report!$B703))","v":25},{"$f":"IF(ISERROR(INDEX(Data!S:S,Report!$B703)),\"\",INDEX(Data!S:S,Report!$B703))","v":25},{"$f":"IF(ISERROR(INDEX(Data!T:T,Report!$B703)),\"\",INDEX(Data!T:T,Report!$B703))","v":5.7},{"$f":"IF(ISERROR(INDEX(Data!U:U,Report!$B703)),\"\",INDEX(Data!U:U,Report!$B703))","v":40},{"$f":"IF(ISERROR(INDEX(Data!V:V,Report!$B703)),\"\",INDEX(Data!V:V,Report!$B703))","v":4.4000000000000004},null,"                         |","||||||||||||"]
[700,{"$f":"IF(ISERROR(MATCH(A704,Data!A:A,0)),\"\",MATCH(A704,Data!A:A,0))","v":335},{"$f":"IF(ISERROR(INDEX(Data!I:I,Report!$B704)),\"\",INDEX(Data!I:I,Report!$B704))","v":"00:52:10"},{"$f":"IF(ISERROR(INDEX(Data!J:J,Report!$B704)),\"\",INDEX(Data!J:J,Report!$B704))","v":"Game against Boomer at level 2.5  Single point data:"},{"$f":"IF(ISERROR(INDEX(Data!K:K,Report!$B704)),\"\",INDEX(Data!K:K,Report!$B704))","v":"Boomer's point"},{"$f":"IF(ISERROR(INDEX(Data!L:L,Report!$B704)),\"\",INDEX(Data!L:L,Report!$B704))","v":0},null,{"$f":"IF(ISERROR(INDEX(Data!N:N,Report!$B704)),\"\",INDEX(Data!N:N,Report!$B704))","v":2},{"$f":"IF(ISERROR(INDEX(Data!P:P,Report!$B704)),\"\",INDEX(Data!P:P,Report!$B704))","v":"Drop Shot"},{"$f":"IF(ISERROR(INDEX(Data!O:O,Report!$B704)),\"\",INDEX(Data!O:O,Report!$B704))","v":5},{"$f":"IF(ISERROR(INDEX(Data!Q:Q,Report!$B704)),\"\",INDEX(Data!Q:Q,Report!$B704))","v":2.5},{"$f":"IF(ISERROR(INDEX(Data!R:R,Report!$B704)),\"\",INDEX(Data!R:R,Report!$B704))","v":0},{"$f":"IF(ISERROR(INDEX(Data!S:S,Report!$B704)),\"\",INDEX(Data!S:S,Report!$B704))","v":0},{"$f":"IF(ISERROR(INDEX(Data!T:T,Report!$B704)),\"\",INDEX(Data!T:T,Report!$B704))","v":0},{"$f":"IF(ISERROR(INDEX(Data!U:U,Report!$B704)),\"\",INDEX(Data!U:U,Report!$B704))","v":0},{"$f":"IF(ISERROR(INDEX(Data!V:V,Report!$B704)),\"\",INDEX(Data!V:V,Report!$B704))","v":0},null,"|",""]
[701,{"$f":"IF(ISERROR(MATCH(A705,Data!A:A,0)),\"\",MATCH(A705,Data!A:A,0))","v":""},{"$f":"IF(ISERROR(INDEX(Data!I:I,Report!$B705)),\"\",INDEX(Data!I:I,Report!$B705))","v":""},{"$f":"IF(ISERROR(INDEX(Data!J:J,Report!$B705)),\"\",INDEX(Data!J:J,Report!$B705))","v":""},{"$f":"IF(ISERROR(INDEX(Data!K:K,Report!$B705)),\"\",INDEX(Data!K:K,Report!$B705))","v":""},{"$f":"IF(ISERROR(INDEX(Data!L:L,Report!$B705)),\"\",INDEX(Data!L:L,Report!$B705))","v":""},null,{"$f":"IF(ISERROR(INDEX(Data!N:N,Report!$B705)),\"\",INDEX(Data!N:N,Report!$B705))","v":""},{"$f":"IF(ISERROR(INDEX(Data!P:P,Report!$B705)),\"\",INDEX(Data!P:P,Report!$B705))","v":""},{"$f":"IF(ISERROR(INDEX(Data!O:O,Report!$B705)),\"\",INDEX(Data!O:O,Report!$B705))","v":""},{"$f":"IF(ISERROR(INDEX(Data!Q:Q,Report!$B705)),\"\",INDEX(Data!Q:Q,Report!$B705))","v":""},{"$f":"IF(ISERROR(INDEX(Data!R:R,Report!$B705)),\"\",INDEX(Data!R:R,Report!$B705))","v":""},{"$f":"IF(ISERROR(INDEX(Data!S:S,Report!$B705)),\"\",INDEX(Data!S:S,Report!$B705))","v":""},{"$f":"IF(ISERROR(INDEX(Data!T:T,Report!$B705)),\"\",INDEX(Data!T:T,Report!$B705))","v":""},{"$f":"IF(ISERROR(INDEX(Data!U:U,Report!$B705)),\"\",INDEX(Data!U:U,Report!$B705))","v":""},{"$f":"IF(ISERROR(INDEX(Data!V:V,Report!$B705)),\"\",INDEX(Data!V:V,Report!$B705))","v":""},null,"",""]
[702,{"$f":"IF(ISERROR(MATCH(A706,Data!A:A,0)),\"\",MATCH(A706,Data!A:A,0))","v":""},{"$f":"IF(ISERROR(INDEX(Data!I:I,Report!$B706)),\"\",INDEX(Data!I:I,Report!$B706))","v":""},{"$f":"IF(ISERROR(INDEX(Data!J:J,Report!$B706)),\"\",INDEX(Data!J:J,Report!$B706))","v":""},{"$f":"IF(ISERROR(INDEX(Data!K:K,Report!$B706)),\"\",INDEX(Data!K:K,Report!$B706))","v":""},{"$f":"IF(ISERROR(INDEX(Data!L:L,Report!$B706)),\"\",INDEX(Data!L:L,Report!$B706))","v":""},null,{"$f":"IF(ISERROR(INDEX(Data!N:N,Report!$B706)),\"\",INDEX(Data!N:N,Report!$B706))","v":""},{"$f":"IF(ISERROR(INDEX(Data!P:P,Report!$B706)),\"\",INDEX(Data!P:P,Report!$B706))","v":""},{"$f":"IF(ISERROR(INDEX(Data!O:O,Report!$B706)),\"\",INDEX(Data!O:O,Report!$B706))","v":""},{"$f":"IF(ISERROR(INDEX(Data!Q:Q,Report!$B706)),\"\",INDEX(Data!Q:Q,Report!$B706))","v":""},{"$f":"IF(ISERROR(INDEX(Data!R:R,Report!$B706)),\"\",INDEX(Data!R:R,Report!$B706))","v":""},{"$f":"IF(ISERROR(INDEX(Data!S:S,Report!$B706)),\"\",INDEX(Data!S:S,Report!$B706))","v":""},{"$f":"IF(ISERROR(INDEX(Data!T:T,Report!$B706)),\"\",INDEX(Data!T:T,Report!$B706))","v":""},{"$f":"IF(ISERROR(INDEX(Data!U:U,Report!$B706)),\"\",INDEX(Data!U:U,Report!$B706))","v":""},{"$f":"IF(ISERROR(INDEX(Data!V:V,Report!$B706)),\"\",INDEX(Data!V:V,Report!$B706))","v":""},null,"",""]
[703,{"$f":"IF(ISERROR(MATCH(A707,Data!A:A,0)),\"\",MATCH(A707,Data!A:A,0))","v":""},{"$f":"IF(ISERROR(INDEX(Data!I:I,Report!$B707)),\"\",INDEX(Data!I:I,Report!$B707))","v":""},{"$f":"IF(ISERROR(INDEX(Data!J:J,Report!$B707)),\"\",INDEX(Data!J:J,Report!$B707))","v":""},{"$f":"IF(ISERROR(INDEX(Data!K:K,Report!$B707)),\"\",INDEX(Data!K:K,Report!$B707))","v":""},{"$f":"IF(ISERROR(INDEX(Data!L:L,Report!$B707)),\"\",INDEX(Data!L:L,Report!$B707))","v":""},null,{"$f":"IF(ISERROR(INDEX(Data!N:N,Report!$B707)),\"\",INDEX(Data!N:N,Report!$B707))","v":""},{"$f":"IF(ISERROR(INDEX(Data!P:P,Report!$B707)),\"\",INDEX(Data!P:P,Report!$B707))","v":""},{"$f":"IF(ISERROR(INDEX(Data!O:O,Report!$B707)),\"\",INDEX(Data!O:O,Report!$B707))","v":""},{"$f":"IF(ISERROR(INDEX(Data!Q:Q,Report!$B707)),\"\",INDEX(Data!Q:Q,Report!$B707))","v":""},{"$f":"IF(ISERROR(INDEX(Data!R:R,Report!$B707)),\"\",INDEX(Data!R:R,Report!$B707))","v":""},{"$f":"IF(ISERROR(INDEX(Data!S:S,Report!$B707)),\"\",INDEX(Data!S:S,Report!$B707))","v":""},{"$f":"IF(ISERROR(INDEX(Data!T:T,Report!$B707)),\"\",INDEX(Data!T:T,Report!$B707))","v":""},{"$f":"IF(ISERROR(INDEX(Data!U:U,Report!$B707)),\"\",INDEX(Data!U:U,Report!$B707))","v":""},{"$f":"IF(ISERROR(INDEX(Data!V:V,Report!$B707)),\"\",INDEX(Data!V:V,Report!$B707))","v":""},null,"",""]
[704,{"$f":"IF(ISERROR(MATCH(A708,Data!A:A,0)),\"\",MATCH(A708,Data!A:A,0))","v":336},{"$f":"IF(ISERROR(INDEX(Data!I:I,Report!$B708)),\"\",INDEX(Data!I:I,Report!$B708))","v":"00:52:32"},{"$f":"IF(ISERROR(INDEX(Data!J:J,Report!$B708)),\"\",INDEX(Data!J:J,Report!$B708))","v":"Game against Boomer at level 2.5  Single point data:"},{"$f":"IF(ISERROR(INDEX(Data!K:K,Report!$B708)),\"\",INDEX(Data!K:K,Report!$B708))","v":"Player's point"},{"$f":"IF(ISERROR(INDEX(Data!L:L,Report!$B708)),\"\",INDEX(Data!L:L,Report!$B708))","v":"New Point"},null,{"$f":"IF(ISERROR(INDEX(Data!N:N,Report!$B708)),\"\",INDEX(Data!N:N,Report!$B708))","v":1},{"$f":"IF(ISERROR(INDEX(Data!P:P,Report!$B708)),\"\",INDEX(Data!P:P,Report!$B708))","v":"Serve"},{"$f":"IF(ISERROR(INDEX(Data!O:O,Report!$B708)),\"\",INDEX(Data!O:O,Report!$B708))","v":8},{"$f":"IF(ISERROR(INDEX(Data!Q:Q,Report!$B708)),\"\",INDEX(Data!Q:Q,Report!$B708))","v":2.5},{"$f":"IF(ISERROR(INDEX(Data!R:R,Report!$B708)),\"\",INDEX(Data!R:R,Report!$B708))","v":32},{"$f":"IF(ISERROR(INDEX(Data!S:S,Report!$B708)),\"\",INDEX(Data!S:S,Report!$B708))","v":5},{"$f":"IF(ISERROR(INDEX(Data!T:T,Report!$B708)),\"\",INDEX(Data!T:T,Report!$B708))","v":5.9},{"$f":"IF(ISERROR(INDEX(Data!U:U,Report!$B708)),\"\",INDEX(Data!U:U,Report!$B708))","v":51},{"$f":"IF(ISERROR(INDEX(Data!V:V,Report!$B708)),\"\",INDEX(Data!V:V,Report!$B708))","v":4.9000000000000004},null,"                                |","||"]
[705,{"$f":"IF(ISERROR(MATCH(A709,Data!A:A,0)),\"\",MATCH(A709,Data!A:A,0))","v":337},{"$f":"IF(ISERROR(INDEX(Data!I:I,Report!$B709)),\"\",INDEX(Data!I:I,Report!$B709))","v":"00:52:32"},{"$f":"IF(ISERROR(INDEX(Data!J:J,Report!$B709)),\"\",INDEX(Data!J:J,Report!$B709))","v":"Game against Boomer at level 2.5  Single point data:"},{"$f":"IF(ISERROR(INDEX(Data!K:K,Report!$B709)),\"\",INDEX(Data!K:K,Report!$B709))","v":"Player's point"},{"$f":"IF(ISERROR(INDEX(Data!L:L,Report!$B709)),\"\",INDEX(Data!L:L,Report!$B709))","v":0},null,{"$f":"IF(ISERROR(INDEX(Data!N:N,Report!$B709)),\"\",INDEX(Data!N:N,Report!$B709))","v":2},{"$f":"IF(ISERROR(INDEX(Data!P:P,Report!$B709)),\"\",INDEX(Data!P:P,Report!$B709))","v":"Topspin"},{"$f":"IF(ISERROR(INDEX(Data!O:O,Report!$B709)),\"\",INDEX(Data!O:O,Report!$B709))","v":3},{"$f":"IF(ISERROR(INDEX(Data!Q:Q,Report!$B709)),\"\",INDEX(Data!Q:Q,Report!$B709))","v":2.5},{"$f":"IF(ISERROR(INDEX(Data!R:R,Report!$B709)),\"\",INDEX(Data!R:R,Report!$B709))","v":39},{"$f":"IF(ISERROR(INDEX(Data!S:S,Report!$B709)),\"\",INDEX(Data!S:S,Report!$B709))","v":2},{"$f":"IF(ISERROR(INDEX(Data!T:T,Report!$B709)),\"\",INDEX(Data!T:T,Report!$B709))","v":6.7},{"$f":"IF(ISERROR(INDEX(Data!U:U,Report!$B709)),\"\",INDEX(Data!U:U,Report!$B709))","v":62},{"$f":"IF(ISERROR(INDEX(Data!V:V,Report!$B709)),\"\",INDEX(Data!V:V,Report!$B709))","v":5.8},null,"                                       |","|"]
[706,{"$f":"IF(ISERROR(MATCH(A710,Data!A:A,0)),\"\",MATCH(A710,Data!A:A,0))","v":""},{"$f":"IF(ISERROR(INDEX(Data!I:I,Report!$B710)),\"\",INDEX(Data!I:I,Report!$B710))","v":""},{"$f":"IF(ISERROR(INDEX(Data!J:J,Report!$B710)),\"\",INDEX(Data!J:J,Report!$B710))","v":""},{"$f":"IF(ISERROR(INDEX(Data!K:K,Report!$B710)),\"\",INDEX(Data!K:K,Report!$B710))","v":""},{"$f":"IF(ISERROR(INDEX(Data!L:L,Report!$B710)),\"\",INDEX(Data!L:L,Report!$B710))","v":""},null,{"$f":"IF(ISERROR(INDEX(Data!N:N,Report!$B710)),\"\",INDEX(Data!N:N,Report!$B710))","v":""},{"$f":"IF(ISERROR(INDEX(Data!P:P,Report!$B710)),\"\",INDEX(Data!P:P,Report!$B710))","v":""},{"$f":"IF(ISERROR(INDEX(Data!O:O,Report!$B710)),\"\",INDEX(Data!O:O,Report!$B710))","v":""},{"$f":"IF(ISERROR(INDEX(Data!Q:Q,Report!$B710)),\"\",INDEX(Data!Q:Q,Report!$B710))","v":""},{"$f":"IF(ISERROR(INDEX(Data!R:R,Report!$B710)),\"\",INDEX(Data!R:R,Report!$B710))","v":""},{"$f":"IF(ISERROR(INDEX(Data!S:S,Report!$B710)),\"\",INDEX(Data!S:S,Report!$B710))","v":""},{"$f":"IF(ISERROR(INDEX(Data!T:T,Report!$B710)),\"\",INDEX(Data!T:T,Report!$B710))","v":""},{"$f":"IF(ISERROR(INDEX(Data!U:U,Report!$B710)),\"\",INDEX(Data!U:U,Report!$B710))","v":""},{"$f":"IF(ISERROR(INDEX(Data!V:V,Report!$B710)),\"\",INDEX(Data!V:V,Report!$B710))","v":""},null,"",{"$f":"IF(ISERROR(REPT(\"|\",M710/2)),\"\",REPT(\"|\",M710/2))","v":""}]
[{"$f":"A710+1","v":707},{"$f":"IF(ISERROR(MATCH(A711,Data!A:A,0)),\"\",MATCH(A711,Data!A:A,0))","v":""},{"$f":"IF(ISERROR(INDEX(Data!I:I,Report!$B711)),\"\",INDEX(Data!I:I,Report!$B711))","v":""},{"$f":"IF(ISERROR(INDEX(Data!J:J,Report!$B711)),\"\",INDEX(Data!J:J,Report!$B711))","v":""},{"$f":"IF(ISERROR(INDEX(Data!K:K,Report!$B711)),\"\",INDEX(Data!K:K,Report!$B711))","v":""},{"$f":"IF(ISERROR(INDEX(Data!L:L,Report!$B711)),\"\",INDEX(Data!L:L,Report!$B711))","v":""},null,{"$f":"IF(ISERROR(INDEX(Data!N:N,Report!$B711)),\"\",INDEX(Data!N:N,Report!$B711))","v":""},{"$f":"IF(ISERROR(INDEX(Data!P:P,Report!$B711)),\"\",INDEX(Data!P:P,Report!$B711))","v":""},{"$f":"IF(ISERROR(INDEX(Data!O:O,Report!$B711)),\"\",INDEX(Data!O:O,Report!$B711))","v":""},{"$f":"IF(ISERROR(INDEX(Data!Q:Q,Report!$B711)),\"\",INDEX(Data!Q:Q,Report!$B711))","v":""},{"$f":"IF(ISERROR(INDEX(Data!R:R,Report!$B711)),\"\",INDEX(Data!R:R,Report!$B711))","v":""},{"$f":"IF(ISERROR(INDEX(Data!S:S,Report!$B711)),\"\",INDEX(Data!S:S,Report!$B711))","v":""},{"$f":"IF(ISERROR(INDEX(Data!T:T,Report!$B711)),\"\",INDEX(Data!T:T,Report!$B711))","v":""},{"$f":"IF(ISERROR(INDEX(Data!U:U,Report!$B711)),\"\",INDEX(Data!U:U,Report!$B711))","v":""},{"$f":"IF(ISERROR(INDEX(Data!V:V,Report!$B711)),\"\",INDEX(Data!V:V,Report!$B711))","v":""},null,"",""]
[708,{"$f":"IF(ISERROR(MATCH(A712,Data!A:A,0)),\"\",MATCH(A712,Data!A:A,0))","v":""},{"$f":"IF(ISERROR(INDEX(Data!I:I,Report!$B712)),\"\",INDEX(Data!I:I,Report!$B712))","v":""},{"$f":"IF(ISERROR(INDEX(Data!J:J,Report!$B712)),\"\",INDEX(Data!J:J,Report!$B712))","v":""},{"$f":"IF(ISERROR(INDEX(Data!K:K,Report!$B712)),\"\",INDEX(Data!K:K,Report!$B712))","v":""},{"$f":"IF(ISERROR(INDEX(Data!L:L,Report!$B712)),\"\",INDEX(Data!L:L,Report!$B712))","v":""},null,{"$f":"IF(ISERROR(INDEX(Data!N:N,Report!$B712)),\"\",INDEX(Data!N:N,Report!$B712))","v":""},{"$f":"IF(ISERROR(INDEX(Data!P:P,Report!$B712)),\"\",INDEX(Data!P:P,Report!$B712))","v":""},{"$f":"IF(ISERROR(INDEX(Data!O:O,Report!$B712)),\"\",INDEX(Data!O:O,Report!$B712))","v":""},{"$f":"IF(ISERROR(INDEX(Data!Q:Q,Report!$B712)),\"\",INDEX(Data!Q:Q,Report!$B712))","v":""},{"$f":"IF(ISERROR(INDEX(Data!R:R,Report!$B712)),\"\",INDEX(Data!R:R,Report!$B712))","v":""},{"$f":"IF(ISERROR(INDEX(Data!S:S,Report!$B712)),\"\",INDEX(Data!S:S,Report!$B712))","v":""},{"$f":"IF(ISERROR(INDEX(Data!T:T,Report!$B712)),\"\",INDEX(Data!T:T,Report!$B712))","v":""},{"$f":"IF(ISERROR(INDEX(Data!U:U,Report!$B712)),\"\",INDEX(Data!U:U,Report!$B712))","v":""},{"$f":"IF(ISERROR(INDEX(Data!V:V,Report!$B712)),\"\",INDEX(Data!V:V,Report!$B712))","v":""},null,"",""]
[709,{"$f":"IF(ISERROR(MATCH(A713,Data!A:A,0)),\"\",MATCH(A713,Data!A:A,0))","v":338},{"$f":"IF(ISERROR(INDEX(Data!I:I,Report!$B713)),\"\",INDEX(Data!I:I,Report!$B713))","v":"00:53:05"},{"$f":"IF(ISERROR(INDEX(Data!J:J,Report!$B713)),\"\",INDEX(Data!J:J,Report!$B713))","v":"Game against Boomer at level 2.5  Single point data:"},{"$f":"IF(ISERROR(INDEX(Data!K:K,Report!$B713)),\"\",INDEX(Data!K:K,Report!$B713))","v":"Player's point"},{"$f":"IF(ISERROR(INDEX(Data!L:L,Report!$B713)),\"\",INDEX(Data!L:L,Report!$B713))","v":"New Point"},null,{"$f":"IF(ISERROR(INDEX(Data!N:N,Report!$B713)),\"\",INDEX(Data!N:N,Report!$B713))","v":1},{"$f":"IF(ISERROR(INDEX(Data!P:P,Report!$B713)),\"\",INDEX(Data!P:P,Report!$B713))","v":"Serve"},{"$f":"IF(ISERROR(INDEX(Data!O:O,Report!$B713)),\"\",INDEX(Data!O:O,Report!$B713))","v":0},{"$f":"IF(ISERROR(INDEX(Data!Q:Q,Report!$B713)),\"\",INDEX(Data!Q:Q,Report!$B713))","v":2.5},{"$f":"IF(ISERROR(INDEX(Data!R:R,Report!$B713)),\"\",INDEX(Data!R:R,Report!$B713))","v":7},{"$f":"IF(ISERROR(INDEX(Data!S:S,Report!$B713)),\"\",INDEX(Data!S:S,Report!$B713))","v":13},{"$f":"IF(ISERROR(INDEX(Data!T:T,Report!$B713)),\"\",INDEX(Data!T:T,Report!$B713))","v":1.7},{"$f":"IF(ISERROR(INDEX(Data!U:U,Report!$B713)),\"\",INDEX(Data!U:U,Report!$B713))","v":24},{"$f":"IF(ISERROR(INDEX(Data!V:V,Report!$B713)),\"\",INDEX(Data!V:V,Report!$B713))","v":1.8},null,"       |","||||||"]
[710,{"$f":"IF(ISERROR(MATCH(A714,Data!A:A,0)),\"\",MATCH(A714,Data!A:A,0))","v":339},{"$f":"IF(ISERROR(INDEX(Data!I:I,Report!$B714)),\"\",INDEX(Data!I:I,Report!$B714))","v":"00:53:05"},{"$f":"IF(ISERROR(INDEX(Data!J:J,Report!$B714)),\"\",INDEX(Data!J:J,Report!$B714))","v":"Game against Boomer at level 2.5  Single point data:"},{"$f":"IF(ISERROR(INDEX(Data!K:K,Report!$B714)),\"\",INDEX(Data!K:K,Report!$B714))","v":"Player's point"},{"$f":"IF(ISERROR(INDEX(Data!L:L,Report!$B714)),\"\",INDEX(Data!L:L,Report!$B714))","v":0},null,{"$f":"IF(ISERROR(INDEX(Data!N:N,Report!$B714)),\"\",INDEX(Data!N:N,Report!$B714))","v":2},{"$f":"IF(ISERROR(INDEX(Data!P:P,Report!$B714)),\"\",INDEX(Data!P:P,Report!$B714))","v":"Topspin"},{"$f":"IF(ISERROR(INDEX(Data!O:O,Report!$B714)),\"\",INDEX(Data!O:O,Report!$B714))","v":5},{"$f":"IF(ISERROR(INDEX(Data!Q:Q,Report!$B714)),\"\",INDEX(Data!Q:Q,Report!$B714))","v":2.5},{"$f":"IF(ISERROR(INDEX(Data!R:R,Report!$B714)),\"\",INDEX(Data!R:R,Report!$B714))","v":25},{"$f":"IF(ISERROR(INDEX(Data!S:S,Report!$B714)),\"\",INDEX(Data!S:S,Report!$B714))","v":4},{"$f":"IF(ISERROR(INDEX(Data!T:T,Report!$B714)),\"\",INDEX(Data!T:T,Report!$B714))","v":5.3},{"$f":"IF(ISERROR(INDEX(Data!U:U,Report!$B714)),\"\",INDEX(Data!U:U,Report!$B714))","v":49},{"$f":"IF(ISERROR(INDEX(Data!V:V,Report!$B714)),\"\",INDEX(Data!V:V,Report!$B714))","v":4.5999999999999996},null,"                         |","||"]
[711,{"$f":"IF(ISERROR(MATCH(A715,Data!A:A,0)),\"\",MATCH(A715,Data!A:A,0))","v":340},{"$f":"IF(ISERROR(INDEX(Data!I:I,Report!$B715)),\"\",INDEX(Data!I:I,Report!$B715))","v":"00:53:05"},{"$f":"IF(ISERROR(INDEX(Data!J:J,Report!$B715)),\"\",INDEX(Data!J:J,Report!$B715))","v":"Game against Boomer at level 2.5  Single point data:"},{"$f":"IF(ISERROR(INDEX(Data!K:K,Report!$B715)),\"\",INDEX(Data!K:K,Report!$B715))","v":"Player's point"},{"$f":"IF(ISERROR(INDEX(Data!L:L,Report!$B715)),\"\",INDEX(Data!L:L,Report!$B715))","v":0},null,{"$f":"IF(ISERROR(INDEX(Data!N:N,Report!$B715)),\"\",INDEX(Data!N:N,Report!$B715))","v":3},{"$f":"IF(ISERROR(INDEX(Data!P:P,Report!$B715)),\"\",INDEX(Data!P:P,Report!$B715))","v":"Topspin"},{"$f":"IF(ISERROR(INDEX(Data!O:O,Report!$B715)),\"\",INDEX(Data!O:O,Report!$B715))","v":3},{"$f":"IF(ISERROR(INDEX(Data!Q:Q,Report!$B715)),\"\",INDEX(Data!Q:Q,Report!$B715))","v":2.5},{"$f":"IF(ISERROR(INDEX(Data!R:R,Report!$B715)),\"\",INDEX(Data!R:R,Report!$B715))","v":24},{"$f":"IF(ISERROR(INDEX(Data!S:S,Report!$B715)),\"\",INDEX(Data!S:S,Report!$B715))","v":6},{"$f":"IF(ISERROR(INDEX(Data!T:T,Report!$B715)),\"\",INDEX(Data!T:T,Report!$B715))","v":4.5},{"$f":"IF(ISERROR(INDEX(Data!U:U,Report!$B715)),\"\",INDEX(Data!U:U,Report!$B715))","v":36},{"$f":"IF(ISERROR(INDEX(Data!V:V,Report!$B715)),\"\",INDEX(Data!V:V,Report!$B715))","v":3.6},null,"                        |","|||"]
[712,{"$f":"IF(ISERROR(MATCH(A716,Data!A:A,0)),\"\",MATCH(A716,Data!A:A,0))","v":341},{"$f":"IF(ISERROR(INDEX(Data!I:I,Report!$B716)),\"\",INDEX(Data!I:I,Report!$B716))","v":"00:53:05"},{"$f":"IF(ISERROR(INDEX(Data!J:J,Report!$B716)),\"\",INDEX(Data!J:J,Report!$B716))","v":"Game against Boomer at level 2.5  Single point data:"},{"$f":"IF(ISERROR(INDEX(Data!K:K,Report!$B716)),\"\",INDEX(Data!K:K,Report!$B716))","v":"Player's point"},{"$f":"IF(ISERROR(INDEX(Data!L:L,Report!$B716)),\"\",INDEX(Data!L:L,Report!$B716))","v":0},null,{"$f":"IF(ISERROR(INDEX(Data!N:N,Report!$B716)),\"\",INDEX(Data!N:N,Report!$B716))","v":4},{"$f":"IF(ISERROR(INDEX(Data!P:P,Report!$B716)),\"\",INDEX(Data!P:P,Report!$B716))","v":"Drop Shot"},{"$f":"IF(ISERROR(INDEX(Data!O:O,Report!$B716)),\"\",INDEX(Data!O:O,Report!$B716))","v":5},{"$f":"IF(ISERROR(INDEX(Data!Q:Q,Report!$B716)),\"\",INDEX(Data!Q:Q,Report!$B716))","v":2.5},{"$f":"IF(ISERROR(INDEX(Data!R:R,Report!$B716)),\"\",INDEX(Data!R:R,Report!$B716))","v":30},{"$f":"IF(ISERROR(INDEX(Data!S:S,Report!$B716)),\"\",INDEX(Data!S:S,Report!$B716))","v":5},{"$f":"IF(ISERROR(INDEX(Data!T:T,Report!$B716)),\"\",INDEX(Data!T:T,Report!$B716))","v":5.7},{"$f":"IF(ISERROR(INDEX(Data!U:U,Report!$B716)),\"\",INDEX(Data!U:U,Report!$B716))","v":39},{"$f":"IF(ISERROR(INDEX(Data!V:V,Report!$B716)),\"\",INDEX(Data!V:V,Report!$B716))","v":4.4000000000000004},null,"                              |","||"]
[713,{"$f":"IF(ISERROR(MATCH(A717,Data!A:A,0)),\"\",MATCH(A717,Data!A:A,0))","v":342},{"$f":"IF(ISERROR(INDEX(Data!I:I,Report!$B717)),\"\",INDEX(Data!I:I,Report!$B717))","v":"00:53:05"},{"$f":"IF(ISERROR(INDEX(Data!J:J,Report!$B717)),\"\",INDEX(Data!J:J,Report!$B717))","v":"Game against Boomer at level 2.5  Single point data:"},{"$f":"IF(ISERROR(INDEX(Data!K:K,Report!$B717)),\"\",INDEX(Data!K:K,Report!$B717))","v":"Player's point"},{"$f":"IF(ISERROR(INDEX(Data!L:L,Report!$B717)),\"\",INDEX(Data!L:L,Report!$B717))","v":0},null,{"$f":"IF(ISERROR(INDEX(Data!N:N,Report!$B717)),\"\",INDEX(Data!N:N,Report!$B717))","v":5},{"$f":"IF(ISERROR(INDEX(Data!P:P,Report!$B717)),\"\",INDEX(Data!P:P,Report!$B717))","v":"Lob"},{"$f":"IF(ISERROR(INDEX(Data!O:O,Report!$B717)),\"\",INDEX(Data!O:O,Report!$B717))","v":3},{"$f":"IF(ISERROR(INDEX(Data!Q:Q,Report!$B717)),\"\",INDEX(Data!Q:Q,Report!$B717))","v":2.5},{"$f":"IF(ISERROR(INDEX(Data!R:R,Report!$B717)),\"\",INDEX(Data!R:R,Report!$B717))","v":19},{"$f":"IF(ISERROR(INDEX(Data!S:S,Report!$B717)),\"\",INDEX(Data!S:S,Report!$B717))","v":20},{"$f":"IF(ISERROR(INDEX(Data!T:T,Report!$B717)),\"\",INDEX(Data!T:T,Report!$B717))","v":3.7},{"$f":"IF(ISERROR(INDEX(Data!U:U,Report!$B717)),\"\",INDEX(Data!U:U,Report!$B717))","v":41},{"$f":"IF(ISERROR(INDEX(Data!V:V,Report!$B717)),\"\",INDEX(Data!V:V,Report!$B717))","v":4.2},null,"                   |","||||||||||"]
[714,{"$f":"IF(ISERROR(MATCH(A718,Data!A:A,0)),\"\",MATCH(A718,Data!A:A,0))","v":343},{"$f":"IF(ISERROR(INDEX(Data!I:I,Report!$B718)),\"\",INDEX(Data!I:I,Report!$B718))","v":"00:53:05"},{"$f":"IF(ISERROR(INDEX(Data!J:J,Report!$B718)),\"\",INDEX(Data!J:J,Report!$B718))","v":"Game against Boomer at level 2.5  Single point data:"},{"$f":"IF(ISERROR(INDEX(Data!K:K,Report!$B718)),\"\",INDEX(Data!K:K,Report!$B718))","v":"Player's point"},{"$f":"IF(ISERROR(INDEX(Data!L:L,Report!$B718)),\"\",INDEX(Data!L:L,Report!$B718))","v":0},null,{"$f":"IF(ISERROR(INDEX(Data!N:N,Report!$B718)),\"\",INDEX(Data!N:N,Report!$B718))","v":6},{"$f":"IF(ISERROR(INDEX(Data!P:P,Report!$B718)),\"\",INDEX(Data!P:P,Report!$B718))","v":"Pass"},{"$f":"IF(ISERROR(INDEX(Data!O:O,Report!$B718)),\"\",INDEX(Data!O:O,Report!$B718))","v":5},{"$f":"IF(ISERROR(INDEX(Data!Q:Q,Report!$B718)),\"\",INDEX(Data!Q:Q,Report!$B718))","v":2.5},{"$f":"IF(ISERROR(INDEX(Data!R:R,Report!$B718)),\"\",INDEX(Data!R:R,Report!$B718))","v":28},{"$f":"IF(ISERROR(INDEX(Data!S:S,Report!$B718)),\"\",INDEX(Data!S:S,Report!$B718))","v":9},{"$f":"IF(ISERROR(INDEX(Data!T:T,Report!$B718)),\"\",INDEX(Data!T:T,Report!$B718))","v":4.5999999999999996},{"$f":"IF(ISERROR(INDEX(Data!U:U,Report!$B718)),\"\",INDEX(Data!U:U,Report!$B718))","v":40},{"$f":"IF(ISERROR(INDEX(Data!V:V,Report!$B718)),\"\",INDEX(Data!V:V,Report!$B718))","v":4.5999999999999996},null,"                            |","||||"]
[715,{"$f":"IF(ISERROR(MATCH(A719,Data!A:A,0)),\"\",MATCH(A719,Data!A:A,0))","v":""},{"$f":"IF(ISERROR(INDEX(Data!I:I,Report!$B719)),\"\",INDEX(Data!I:I,Report!$B719))","v":""},{"$f":"IF(ISERROR(INDEX(Data!J:J,Report!$B719)),\"\",INDEX(Data!J:J,Report!$B719))","v":""},{"$f":"IF(ISERROR(INDEX(Data!K:K,Report!$B719)),\"\",INDEX(Data!K:K,Report!$B719))","v":""},{"$f":"IF(ISERROR(INDEX(Data!L:L,Report!$B719)),\"\",INDEX(Data!L:L,Report!$B719))","v":""},null,{"$f":"IF(ISERROR(INDEX(Data!N:N,Report!$B719)),\"\",INDEX(Data!N:N,Report!$B719))","v":""},{"$f":"IF(ISERROR(INDEX(Data!P:P,Report!$B719)),\"\",INDEX(Data!P:P,Report!$B719))","v":""},{"$f":"IF(ISERROR(INDEX(Data!O:O,Report!$B719)),\"\",INDEX(Data!O:O,Report!$B719))","v":""},{"$f":"IF(ISERROR(INDEX(Data!Q:Q,Report!$B719)),\"\",INDEX(Data!Q:Q,Report!$B719))","v":""},{"$f":"IF(ISERROR(INDEX(Data!R:R,Report!$B719)),\"\",INDEX(Data!R:R,Report!$B719))","v":""},{"$f":"IF(ISERROR(INDEX(Data!S:S,Report!$B719)),\"\",INDEX(Data!S:S,Report!$B719))","v":""},{"$f":"IF(ISERROR(INDEX(Data!T:T,Report!$B719)),\"\",INDEX(Data!T:T,Report!$B719))","v":""},{"$f":"IF(ISERROR(INDEX(Data!U:U,Report!$B719)),\"\",INDEX(Data!U:U,Report!$B719))","v":""},{"$f":"IF(ISERROR(INDEX(Data!V:V,Report!$B719)),\"\",INDEX(Data!V:V,Report!$B719))","v":""},null,"",""]
[716,{"$f":"IF(ISERROR(MATCH(A720,Data!A:A,0)),\"\",MATCH(A720,Data!A:A,0))","v":""},{"$f":"IF(ISERROR(INDEX(Data!I:I,Report!$B720)),\"\",INDEX(Data!I:I,Report!$B720))","v":""},{"$f":"IF(ISERROR(INDEX(Data!J:J,Report!$B720)),\"\",INDEX(Data!J:J,Report!$B720))","v":""},{"$f":"IF(ISERROR(INDEX(Data!K:K,Report!$B720)),\"\",INDEX(Data!K:K,Report!$B720))","v":""},{"$f":"IF(ISERROR(INDEX(Data!L:L,Report!$B720)),\"\",INDEX(Data!L:L,Report!$B720))","v":""},null,{"$f":"IF(ISERROR(INDEX(Data!N:N,Report!$B720)),\"\",INDEX(Data!N:N,Report!$B720))","v":""},{"$f":"IF(ISERROR(INDEX(Data!P:P,Report!$B720)),\"\",INDEX(Data!P:P,Report!$B720))","v":""},{"$f":"IF(ISERROR(INDEX(Data!O:O,Report!$B720)),\"\",INDEX(Data!O:O,Report!$B720))","v":""},{"$f":"IF(ISERROR(INDEX(Data!Q:Q,Report!$B720)),\"\",INDEX(Data!Q:Q,Report!$B720))","v":""},{"$f":"IF(ISERROR(INDEX(Data!R:R,Report!$B720)),\"\",INDEX(Data!R:R,Report!$B720))","v":""},{"$f":"IF(ISERROR(INDEX(Data!S:S,Report!$B720)),\"\",INDEX(Data!S:S,Report!$B720))","v":""},{"$f":"IF(ISERROR(INDEX(Data!T:T,Report!$B720)),\"\",INDEX(Data!T:T,Report!$B720))","v":""},{"$f":"IF(ISERROR(INDEX(Data!U:U,Report!$B720)),\"\",INDEX(Data!U:U,Report!$B720))","v":""},{"$f":"IF(ISERROR(INDEX(Data!V:V,Report!$B720)),\"\",INDEX(Data!V:V,Report!$B720))","v":""},null,"",""]
[717,{"$f":"IF(ISERROR(MATCH(A721,Data!A:A,0)),\"\",MATCH(A721,Data!A:A,0))","v":""},{"$f":"IF(ISERROR(INDEX(Data!I:I,Report!$B721)),\"\",INDEX(Data!I:I,Report!$B721))","v":""},{"$f":"IF(ISERROR(INDEX(Data!J:J,Report!$B721)),\"\",INDEX(Data!J:J,Report!$B721))","v":""},{"$f":"IF(ISERROR(INDEX(Data!K:K,Report!$B721)),\"\",INDEX(Data!K:K,Report!$B721))","v":""},{"$f":"IF(ISERROR(INDEX(Data!L:L,Report!$B721)),\"\",INDEX(Data!L:L,Report!$B721))","v":""},null,{"$f":"IF(ISERROR(INDEX(Data!N:N,Report!$B721)),\"\",INDEX(Data!N:N,Report!$B721))","v":""},{"$f":"IF(ISERROR(INDEX(Data!P:P,Report!$B721)),\"\",INDEX(Data!P:P,Report!$B721))","v":""},{"$f":"IF(ISERROR(INDEX(Data!O:O,Report!$B721)),\"\",INDEX(Data!O:O,Report!$B721))","v":""},{"$f":"IF(ISERROR(INDEX(Data!Q:Q,Report!$B721)),\"\",INDEX(Data!Q:Q,Report!$B721))","v":""},{"$f":"IF(ISERROR(INDEX(Data!R:R,Report!$B721)),\"\",INDEX(Data!R:R,Report!$B721))","v":""},{"$f":"IF(ISERROR(INDEX(Data!S:S,Report!$B721)),\"\",INDEX(Data!S:S,Report!$B721))","v":""},{"$f":"IF(ISERROR(INDEX(Data!T:T,Report!$B721)),\"\",INDEX(Data!T:T,Report!$B721))","v":""},{"$f":"IF(ISERROR(INDEX(Data!U:U,Report!$B721)),\"\",INDEX(Data!U:U,Report!$B721))","v":""},{"$f":"IF(ISERROR(INDEX(Data!V:V,Report!$B721)),\"\",INDEX(Data!V:V,Report!$B721))","v":""},null,"",""]
[718,{"$f":"IF(ISERROR(MATCH(A722,Data!A:A,0)),\"\",MATCH(A722,Data!A:A,0))","v":344},{"$f":"IF(ISERROR(INDEX(Data!I:I,Report!$B722)),\"\",INDEX(Data!I:I,Report!$B722))","v":"00:53:27"},{"$f":"IF(ISERROR(INDEX(Data!J:J,Report!$B722)),\"\",INDEX(Data!J:J,Report!$B722))","v":"Game against Boomer at level 2.5  Single point data:"},{"$f":"IF(ISERROR(INDEX(Data!K:K,Report!$B722)),\"\",INDEX(Data!K:K,Report!$B722))","v":"Player's point"},{"$f":"IF(ISERROR(INDEX(Data!L:L,Report!$B722)),\"\",INDEX(Data!L:L,Report!$B722))","v":"New Point"},null,{"$f":"IF(ISERROR(INDEX(Data!N:N,Report!$B722)),\"\",INDEX(Data!N:N,Report!$B722))","v":1},{"$f":"IF(ISERROR(INDEX(Data!P:P,Report!$B722)),\"\",INDEX(Data!P:P,Report!$B722))","v":"Serve"},{"$f":"IF(ISERROR(INDEX(Data!O:O,Report!$B722)),\"\",INDEX(Data!O:O,Report!$B722))","v":8},{"$f":"IF(ISERROR(INDEX(Data!Q:Q,Report!$B722)),\"\",INDEX(Data!Q:Q,Report!$B722))","v":2.5},{"$f":"IF(ISERROR(INDEX(Data!R:R,Report!$B722)),\"\",INDEX(Data!R:R,Report!$B722))","v":9},{"$f":"IF(ISERROR(INDEX(Data!S:S,Report!$B722)),\"\",INDEX(Data!S:S,Report!$B722))","v":12},{"$f":"IF(ISERROR(INDEX(Data!T:T,Report!$B722)),\"\",INDEX(Data!T:T,Report!$B722))","v":1.9},{"$f":"IF(ISERROR(INDEX(Data!U:U,Report!$B722)),\"\",INDEX(Data!U:U,Report!$B722))","v":24},{"$f":"IF(ISERROR(INDEX(Data!V:V,Report!$B722)),\"\",INDEX(Data!V:V,Report!$B722))","v":1.9},null,"         |","||||||"]
[719,{"$f":"IF(ISERROR(MATCH(A723,Data!A:A,0)),\"\",MATCH(A723,Data!A:A,0))","v":345},{"$f":"IF(ISERROR(INDEX(Data!I:I,Report!$B723)),\"\",INDEX(Data!I:I,Report!$B723))","v":"00:53:27"},{"$f":"IF(ISERROR(INDEX(Data!J:J,Report!$B723)),\"\",INDEX(Data!J:J,Report!$B723))","v":"Game against Boomer at level 2.5  Single point data:"},{"$f":"IF(ISERROR(INDEX(Data!K:K,Report!$B723)),\"\",INDEX(Data!K:K,Report!$B723))","v":"Player's point"},{"$f":"IF(ISERROR(INDEX(Data!L:L,Report!$B723)),\"\",INDEX(Data!L:L,Report!$B723))","v":0},null,{"$f":"IF(ISERROR(INDEX(Data!N:N,Report!$B723)),\"\",INDEX(Data!N:N,Report!$B723))","v":2},{"$f":"IF(ISERROR(INDEX(Data!P:P,Report!$B723)),\"\",INDEX(Data!P:P,Report!$B723))","v":"Topspin"},{"$f":"IF(ISERROR(INDEX(Data!O:O,Report!$B723)),\"\",INDEX(Data!O:O,Report!$B723))","v":3},{"$f":"IF(ISERROR(INDEX(Data!Q:Q,Report!$B723)),\"\",INDEX(Data!Q:Q,Report!$B723))","v":2.5},{"$f":"IF(ISERROR(INDEX(Data!R:R,Report!$B723)),\"\",INDEX(Data!R:R,Report!$B723))","v":30},{"$f":"IF(ISERROR(INDEX(Data!S:S,Report!$B723)),\"\",INDEX(Data!S:S,Report!$B723))","v":2},{"$f":"IF(ISERROR(INDEX(Data!T:T,Report!$B723)),\"\",INDEX(Data!T:T,Report!$B723))","v":6.2},{"$f":"IF(ISERROR(INDEX(Data!U:U,Report!$B723)),\"\",INDEX(Data!U:U,Report!$B723))","v":48},{"$f":"IF(ISERROR(INDEX(Data!V:V,Report!$B723)),\"\",INDEX(Data!V:V,Report!$B723))","v":5.9},null,"                              |","|"]
[720,{"$f":"IF(ISERROR(MATCH(A724,Data!A:A,0)),\"\",MATCH(A724,Data!A:A,0))","v":""},{"$f":"IF(ISERROR(INDEX(Data!I:I,Report!$B724)),\"\",INDEX(Data!I:I,Report!$B724))","v":""},{"$f":"IF(ISERROR(INDEX(Data!J:J,Report!$B724)),\"\",INDEX(Data!J:J,Report!$B724))","v":""},{"$f":"IF(ISERROR(INDEX(Data!K:K,Report!$B724)),\"\",INDEX(Data!K:K,Report!$B724))","v":""},{"$f":"IF(ISERROR(INDEX(Data!L:L,Report!$B724)),\"\",INDEX(Data!L:L,Report!$B724))","v":""},null,{"$f":"IF(ISERROR(INDEX(Data!N:N,Report!$B724)),\"\",INDEX(Data!N:N,Report!$B724))","v":""},{"$f":"IF(ISERROR(INDEX(Data!P:P,Report!$B724)),\"\",INDEX(Data!P:P,Report!$B724))","v":""},{"$f":"IF(ISERROR(INDEX(Data!O:O,Report!$B724)),\"\",INDEX(Data!O:O,Report!$B724))","v":""},{"$f":"IF(ISERROR(INDEX(Data!Q:Q,Report!$B724)),\"\",INDEX(Data!Q:Q,Report!$B724))","v":""},{"$f":"IF(ISERROR(INDEX(Data!R:R,Report!$B724)),\"\",INDEX(Data!R:R,Report!$B724))","v":""},{"$f":"IF(ISERROR(INDEX(Data!S:S,Report!$B724)),\"\",INDEX(Data!S:S,Report!$B724))","v":""},{"$f":"IF(ISERROR(INDEX(Data!T:T,Report!$B724)),\"\",INDEX(Data!T:T,Report!$B724))","v":""},{"$f":"IF(ISERROR(INDEX(Data!U:U,Report!$B724)),\"\",INDEX(Data!U:U,Report!$B724))","v":""},{"$f":"IF(ISERROR(INDEX(Data!V:V,Report!$B724)),\"\",INDEX(Data!V:V,Report!$B724))","v":""},null,"",""]
[721,{"$f":"IF(ISERROR(MATCH(A725,Data!A:A,0)),\"\",MATCH(A725,Data!A:A,0))","v":""},{"$f":"IF(ISERROR(INDEX(Data!I:I,Report!$B725)),\"\",INDEX(Data!I:I,Report!$B725))","v":""},{"$f":"IF(ISERROR(INDEX(Data!J:J,Report!$B725)),\"\",INDEX(Data!J:J,Report!$B725))","v":""},{"$f":"IF(ISERROR(INDEX(Data!K:K,Report!$B725)),\"\",INDEX(Data!K:K,Report!$B725))","v":""},{"$f":"IF(ISERROR(INDEX(Data!L:L,Report!$B725)),\"\",INDEX(Data!L:L,Report!$B725))","v":""},null,{"$f":"IF(ISERROR(INDEX(Data!N:N,Report!$B725)),\"\",INDEX(Data!N:N,Report!$B725))","v":""},{"$f":"IF(ISERROR(INDEX(Data!P:P,Report!$B725)),\"\",INDEX(Data!P:P,Report!$B725))","v":""},{"$f":"IF(ISERROR(INDEX(Data!O:O,Report!$B725)),\"\",INDEX(Data!O:O,Report!$B725))","v":""},{"$f":"IF(ISERROR(INDEX(Data!Q:Q,Report!$B725)),\"\",INDEX(Data!Q:Q,Report!$B725))","v":""},{"$f":"IF(ISERROR(INDEX(Data!R:R,Report!$B725)),\"\",INDEX(Data!R:R,Report!$B725))","v":""},{"$f":"IF(ISERROR(INDEX(Data!S:S,Report!$B725)),\"\",INDEX(Data!S:S,Report!$B725))","v":""},{"$f":"IF(ISERROR(INDEX(Data!T:T,Report!$B725)),\"\",INDEX(Data!T:T,Report!$B725))","v":""},{"$f":"IF(ISERROR(INDEX(Data!U:U,Report!$B725)),\"\",INDEX(Data!U:U,Report!$B725))","v":""},{"$f":"IF(ISERROR(INDEX(Data!V:V,Report!$B725)),\"\",INDEX(Data!V:V,Report!$B725))","v":""},null,"",""]
[722,{"$f":"IF(ISERROR(MATCH(A726,Data!A:A,0)),\"\",MATCH(A726,Data!A:A,0))","v":""},{"$f":"IF(ISERROR(INDEX(Data!I:I,Report!$B726)),\"\",INDEX(Data!I:I,Report!$B726))","v":""},{"$f":"IF(ISERROR(INDEX(Data!J:J,Report!$B726)),\"\",INDEX(Data!J:J,Report!$B726))","v":""},{"$f":"IF(ISERROR(INDEX(Data!K:K,Report!$B726)),\"\",INDEX(Data!K:K,Report!$B726))","v":""},{"$f":"IF(ISERROR(INDEX(Data!L:L,Report!$B726)),\"\",INDEX(Data!L:L,Report!$B726))","v":""},null,{"$f":"IF(ISERROR(INDEX(Data!N:N,Report!$B726)),\"\",INDEX(Data!N:N,Report!$B726))","v":""},{"$f":"IF(ISERROR(INDEX(Data!P:P,Report!$B726)),\"\",INDEX(Data!P:P,Report!$B726))","v":""},{"$f":"IF(ISERROR(INDEX(Data!O:O,Report!$B726)),\"\",INDEX(Data!O:O,Report!$B726))","v":""},{"$f":"IF(ISERROR(INDEX(Data!Q:Q,Report!$B726)),\"\",INDEX(Data!Q:Q,Report!$B726))","v":""},{"$f":"IF(ISERROR(INDEX(Data!R:R,Report!$B726)),\"\",INDEX(Data!R:R,Report!$B726))","v":""},{"$f":"IF(ISERROR(INDEX(Data!S:S,Report!$B726)),\"\",INDEX(Data!S:S,Report!$B726))","v":""},{"$f":"IF(ISERROR(INDEX(Data!T:T,Report!$B726)),\"\",INDEX(Data!T:T,Report!$B726))","v":""},{"$f":"IF(ISERROR(INDEX(Data!U:U,Report!$B726)),\"\",INDEX(Data!U:U,Report!$B726))","v":""},{"$f":"IF(ISERROR(INDEX(Data!V:V,Report!$B726)),\"\",INDEX(Data!V:V,Report!$B726))","v":""},null,"",""]
[723,{"$f":"IF(ISERROR(MATCH(A727,Data!A:A,0)),\"\",MATCH(A727,Data!A:A,0))","v":346},{"$f":"IF(ISERROR(INDEX(Data!I:I,Report!$B727)),\"\",INDEX(Data!I:I,Report!$B727))","v":"00:54:03"},{"$f":"IF(ISERROR(INDEX(Data!J:J,Report!$B727)),\"\",INDEX(Data!J:J,Report!$B727))","v":"Game against Boomer at level 2.5  Single point data:"},{"$f":"IF(ISERROR(INDEX(Data!K:K,Report!$B727)),\"\",INDEX(Data!K:K,Report!$B727))","v":"Player's point"},{"$f":"IF(ISERROR(INDEX(Data!L:L,Report!$B727)),\"\",INDEX(Data!L:L,Report!$B727))","v":"New Point"},null,{"$f":"IF(ISERROR(INDEX(Data!N:N,Report!$B727)),\"\",INDEX(Data!N:N,Report!$B727))","v":1},{"$f":"IF(ISERROR(INDEX(Data!P:P,Report!$B727)),\"\",INDEX(Data!P:P,Report!$B727))","v":"Serve"},{"$f":"IF(ISERROR(INDEX(Data!O:O,Report!$B727)),\"\",INDEX(Data!O:O,Report!$B727))","v":3},{"$f":"IF(ISERROR(INDEX(Data!Q:Q,Report!$B727)),\"\",INDEX(Data!Q:Q,Report!$B727))","v":2.5},{"$f":"IF(ISERROR(INDEX(Data!R:R,Report!$B727)),\"\",INDEX(Data!R:R,Report!$B727))","v":29},{"$f":"IF(ISERROR(INDEX(Data!S:S,Report!$B727)),\"\",INDEX(Data!S:S,Report!$B727))","v":8},{"$f":"IF(ISERROR(INDEX(Data!T:T,Report!$B727)),\"\",INDEX(Data!T:T,Report!$B727))","v":5.3},{"$f":"IF(ISERROR(INDEX(Data!U:U,Report!$B727)),\"\",INDEX(Data!U:U,Report!$B727))","v":36},{"$f":"IF(ISERROR(INDEX(Data!V:V,Report!$B727)),\"\",INDEX(Data!V:V,Report!$B727))","v":4},null,"                             |","||||"]
[724,{"$f":"IF(ISERROR(MATCH(A728,Data!A:A,0)),\"\",MATCH(A728,Data!A:A,0))","v":347},{"$f":"IF(ISERROR(INDEX(Data!I:I,Report!$B728)),\"\",INDEX(Data!I:I,Report!$B728))","v":"00:54:03"},{"$f":"IF(ISERROR(INDEX(Data!J:J,Report!$B728)),\"\",INDEX(Data!J:J,Report!$B728))","v":"Game against Boomer at level 2.5  Single point data:"},{"$f":"IF(ISERROR(INDEX(Data!K:K,Report!$B728)),\"\",INDEX(Data!K:K,Report!$B728))","v":"Player's point"},{"$f":"IF(ISERROR(INDEX(Data!L:L,Report!$B728)),\"\",INDEX(Data!L:L,Report!$B728))","v":0},null,{"$f":"IF(ISERROR(INDEX(Data!N:N,Report!$B728)),\"\",INDEX(Data!N:N,Report!$B728))","v":2},{"$f":"IF(ISERROR(INDEX(Data!P:P,Report!$B728)),\"\",INDEX(Data!P:P,Report!$B728))","v":"Topspin"},{"$f":"IF(ISERROR(INDEX(Data!O:O,Report!$B728)),\"\",INDEX(Data!O:O,Report!$B728))","v":5},{"$f":"IF(ISERROR(INDEX(Data!Q:Q,Report!$B728)),\"\",INDEX(Data!Q:Q,Report!$B728))","v":2.5},{"$f":"IF(ISERROR(INDEX(Data!R:R,Report!$B728)),\"\",INDEX(Data!R:R,Report!$B728))","v":24},{"$f":"IF(ISERROR(INDEX(Data!S:S,Report!$B728)),\"\",INDEX(Data!S:S,Report!$B728))","v":2},{"$f":"IF(ISERROR(INDEX(Data!T:T,Report!$B728)),\"\",INDEX(Data!T:T,Report!$B728))","v":5},{"$f":"IF(ISERROR(INDEX(Data!U:U,Report!$B728)),\"\",INDEX(Data!U:U,Report!$B728))","v":42},{"$f":"IF(ISERROR(INDEX(Data!V:V,Report!$B728)),\"\",INDEX(Data!V:V,Report!$B728))","v":4.0999999999999996},null,"                        |","|"]
[725,{"$f":"IF(ISERROR(MATCH(A729,Data!A:A,0)),\"\",MATCH(A729,Data!A:A,0))","v":348},{"$f":"IF(ISERROR(INDEX(Data!I:I,Report!$B729)),\"\",INDEX(Data!I:I,Report!$B729))","v":"00:54:03"},{"$f":"IF(ISERROR(INDEX(Data!J:J,Report!$B729)),\"\",INDEX(Data!J:J,Report!$B729))","v":"Game against Boomer at level 2.5  Single point data:"},{"$f":"IF(ISERROR(INDEX(Data!K:K,Report!$B729)),\"\",INDEX(Data!K:K,Report!$B729))","v":"Player's point"},{"$f":"IF(ISERROR(INDEX(Data!L:L,Report!$B729)),\"\",INDEX(Data!L:L,Report!$B729))","v":0},null,{"$f":"IF(ISERROR(INDEX(Data!N:N,Report!$B729)),\"\",INDEX(Data!N:N,Report!$B729))","v":3},{"$f":"IF(ISERROR(INDEX(Data!P:P,Report!$B729)),\"\",INDEX(Data!P:P,Report!$B729))","v":"Topspin"},{"$f":"IF(ISERROR(INDEX(Data!O:O,Report!$B729)),\"\",INDEX(Data!O:O,Report!$B729))","v":3},{"$f":"IF(ISERROR(INDEX(Data!Q:Q,Report!$B729)),\"\",INDEX(Data!Q:Q,Report!$B729))","v":2.5},{"$f":"IF(ISERROR(INDEX(Data!R:R,Report!$B729)),\"\",INDEX(Data!R:R,Report!$B729))","v":18},{"$f":"IF(ISERROR(INDEX(Data!S:S,Report!$B729)),\"\",INDEX(Data!S:S,Report!$B729))","v":8},{"$f":"IF(ISERROR(INDEX(Data!T:T,Report!$B729)),\"\",INDEX(Data!T:T,Report!$B729))","v":3.2},{"$f":"IF(ISERROR(INDEX(Data!U:U,Report!$B729)),\"\",INDEX(Data!U:U,Report!$B729))","v":40},{"$f":"IF(ISERROR(INDEX(Data!V:V,Report!$B729)),\"\",INDEX(Data!V:V,Report!$B729))","v":3.9},null,"                  |","||||"]
[726,{"$f":"IF(ISERROR(MATCH(A730,Data!A:A,0)),\"\",MATCH(A730,Data!A:A,0))","v":349},{"$f":"IF(ISERROR(INDEX(Data!I:I,Report!$B730)),\"\",INDEX(Data!I:I,Report!$B730))","v":"00:54:03"},{"$f":"IF(ISERROR(INDEX(Data!J:J,Report!$B730)),\"\",INDEX(Data!J:J,Report!$B730))","v":"Game against Boomer at level 2.5  Single point data:"},{"$f":"IF(ISERROR(INDEX(Data!K:K,Report!$B730)),\"\",INDEX(Data!K:K,Report!$B730))","v":"Player's point"},{"$f":"IF(ISERROR(INDEX(Data!L:L,Report!$B730)),\"\",INDEX(Data!L:L,Report!$B730))","v":0},null,{"$f":"IF(ISERROR(INDEX(Data!N:N,Report!$B730)),\"\",INDEX(Data!N:N,Report!$B730))","v":4},{"$f":"IF(ISERROR(INDEX(Data!P:P,Report!$B730)),\"\",INDEX(Data!P:P,Report!$B730))","v":"Flat Drive"},{"$f":"IF(ISERROR(INDEX(Data!O:O,Report!$B730)),\"\",INDEX(Data!O:O,Report!$B730))","v":5},{"$f":"IF(ISERROR(INDEX(Data!Q:Q,Report!$B730)),\"\",INDEX(Data!Q:Q,Report!$B730))","v":2.5},{"$f":"IF(ISERROR(INDEX(Data!R:R,Report!$B730)),\"\",INDEX(Data!R:R,Report!$B730))","v":27},{"$f":"IF(ISERROR(INDEX(Data!S:S,Report!$B730)),\"\",INDEX(Data!S:S,Report!$B730))","v":4},{"$f":"IF(ISERROR(INDEX(Data!T:T,Report!$B730)),\"\",INDEX(Data!T:T,Report!$B730))","v":4.9000000000000004},{"$f":"IF(ISERROR(INDEX(Data!U:U,Report!$B730)),\"\",INDEX(Data!U:U,Report!$B730))","v":34},{"$f":"IF(ISERROR(INDEX(Data!V:V,Report!$B730)),\"\",INDEX(Data!V:V,Report!$B730))","v":4.4000000000000004},null,"                           |","||"]
[727,{"$f":"IF(ISERROR(MATCH(A731,Data!A:A,0)),\"\",MATCH(A731,Data!A:A,0))","v":350},{"$f":"IF(ISERROR(INDEX(Data!I:I,Report!$B731)),\"\",INDEX(Data!I:I,Report!$B731))","v":"00:54:03"},{"$f":"IF(ISERROR(INDEX(Data!J:J,Report!$B731)),\"\",INDEX(Data!J:J,Report!$B731))","v":"Game against Boomer at level 2.5  Single point data:"},{"$f":"IF(ISERROR(INDEX(Data!K:K,Report!$B731)),\"\",INDEX(Data!K:K,Report!$B731))","v":"Player's point"},{"$f":"IF(ISERROR(INDEX(Data!L:L,Report!$B731)),\"\",INDEX(Data!L:L,Report!$B731))","v":0},null,{"$f":"IF(ISERROR(INDEX(Data!N:N,Report!$B731)),\"\",INDEX(Data!N:N,Report!$B731))","v":5},{"$f":"IF(ISERROR(INDEX(Data!P:P,Report!$B731)),\"\",INDEX(Data!P:P,Report!$B731))","v":"Lob"},{"$f":"IF(ISERROR(INDEX(Data!O:O,Report!$B731)),\"\",INDEX(Data!O:O,Report!$B731))","v":3},{"$f":"IF(ISERROR(INDEX(Data!Q:Q,Report!$B731)),\"\",INDEX(Data!Q:Q,Report!$B731))","v":2.5},{"$f":"IF(ISERROR(INDEX(Data!R:R,Report!$B731)),\"\",INDEX(Data!R:R,Report!$B731))","v":29},{"$f":"IF(ISERROR(INDEX(Data!S:S,Report!$B731)),\"\",INDEX(Data!S:S,Report!$B731))","v":7},{"$f":"IF(ISERROR(INDEX(Data!T:T,Report!$B731)),\"\",INDEX(Data!T:T,Report!$B731))","v":5.2},{"$f":"IF(ISERROR(INDEX(Data!U:U,Report!$B731)),\"\",INDEX(Data!U:U,Report!$B731))","v":96},{"$f":"IF(ISERROR(INDEX(Data!V:V,Report!$B731)),\"\",INDEX(Data!V:V,Report!$B731))","v":7},null,"                             |","|||"]
[728,{"$f":"IF(ISERROR(MATCH(A732,Data!A:A,0)),\"\",MATCH(A732,Data!A:A,0))","v":""},{"$f":"IF(ISERROR(INDEX(Data!I:I,Report!$B732)),\"\",INDEX(Data!I:I,Report!$B732))","v":""},{"$f":"IF(ISERROR(INDEX(Data!J:J,Report!$B732)),\"\",INDEX(Data!J:J,Report!$B732))","v":""},{"$f":"IF(ISERROR(INDEX(Data!K:K,Report!$B732)),\"\",INDEX(Data!K:K,Report!$B732))","v":""},{"$f":"IF(ISERROR(INDEX(Data!L:L,Report!$B732)),\"\",INDEX(Data!L:L,Report!$B732))","v":""},null,{"$f":"IF(ISERROR(INDEX(Data!N:N,Report!$B732)),\"\",INDEX(Data!N:N,Report!$B732))","v":""},{"$f":"IF(ISERROR(INDEX(Data!P:P,Report!$B732)),\"\",INDEX(Data!P:P,Report!$B732))","v":""},{"$f":"IF(ISERROR(INDEX(Data!O:O,Report!$B732)),\"\",INDEX(Data!O:O,Report!$B732))","v":""},{"$f":"IF(ISERROR(INDEX(Data!Q:Q,Report!$B732)),\"\",INDEX(Data!Q:Q,Report!$B732))","v":""},{"$f":"IF(ISERROR(INDEX(Data!R:R,Report!$B732)),\"\",INDEX(Data!R:R,Report!$B732))","v":""},{"$f":"IF(ISERROR(INDEX(Data!S:S,Report!$B732)),\"\",INDEX(Data!S:S,Report!$B732))","v":""},{"$f":"IF(ISERROR(INDEX(Data!T:T,Report!$B732)),\"\",INDEX(Data!T:T,Report!$B732))","v":""},{"$f":"IF(ISERROR(INDEX(Data!U:U,Report!$B732)),\"\",INDEX(Data!U:U,Report!$B732))","v":""},{"$f":"IF(ISERROR(INDEX(Data!V:V,Report!$B732)),\"\",INDEX(Data!V:V,Report!$B732))","v":""},null,"",""]
[729,{"$f":"IF(ISERROR(MATCH(A733,Data!A:A,0)),\"\",MATCH(A733,Data!A:A,0))","v":""},{"$f":"IF(ISERROR(INDEX(Data!I:I,Report!$B733)),\"\",INDEX(Data!I:I,Report!$B733))","v":""},{"$f":"IF(ISERROR(INDEX(Data!J:J,Report!$B733)),\"\",INDEX(Data!J:J,Report!$B733))","v":""},{"$f":"IF(ISERROR(INDEX(Data!K:K,Report!$B733)),\"\",INDEX(Data!K:K,Report!$B733))","v":""},{"$f":"IF(ISERROR(INDEX(Data!L:L,Report!$B733)),\"\",INDEX(Data!L:L,Report!$B733))","v":""},null,{"$f":"IF(ISERROR(INDEX(Data!N:N,Report!$B733)),\"\",INDEX(Data!N:N,Report!$B733))","v":""},{"$f":"IF(ISERROR(INDEX(Data!P:P,Report!$B733)),\"\",INDEX(Data!P:P,Report!$B733))","v":""},{"$f":"IF(ISERROR(INDEX(Data!O:O,Report!$B733)),\"\",INDEX(Data!O:O,Report!$B733))","v":""},{"$f":"IF(ISERROR(INDEX(Data!Q:Q,Report!$B733)),\"\",INDEX(Data!Q:Q,Report!$B733))","v":""},{"$f":"IF(ISERROR(INDEX(Data!R:R,Report!$B733)),\"\",INDEX(Data!R:R,Report!$B733))","v":""},{"$f":"IF(ISERROR(INDEX(Data!S:S,Report!$B733)),\"\",INDEX(Data!S:S,Report!$B733))","v":""},{"$f":"IF(ISERROR(INDEX(Data!T:T,Report!$B733)),\"\",INDEX(Data!T:T,Report!$B733))","v":""},{"$f":"IF(ISERROR(INDEX(Data!U:U,Report!$B733)),\"\",INDEX(Data!U:U,Report!$B733))","v":""},{"$f":"IF(ISERROR(INDEX(Data!V:V,Report!$B733)),\"\",INDEX(Data!V:V,Report!$B733))","v":""},null,"",""]
[730,{"$f":"IF(ISERROR(MATCH(A734,Data!A:A,0)),\"\",MATCH(A734,Data!A:A,0))","v":""},{"$f":"IF(ISERROR(INDEX(Data!I:I,Report!$B734)),\"\",INDEX(Data!I:I,Report!$B734))","v":""},{"$f":"IF(ISERROR(INDEX(Data!J:J,Report!$B734)),\"\",INDEX(Data!J:J,Report!$B734))","v":""},{"$f":"IF(ISERROR(INDEX(Data!K:K,Report!$B734)),\"\",INDEX(Data!K:K,Report!$B734))","v":""},{"$f":"IF(ISERROR(INDEX(Data!L:L,Report!$B734)),\"\",INDEX(Data!L:L,Report!$B734))","v":""},null,{"$f":"IF(ISERROR(INDEX(Data!N:N,Report!$B734)),\"\",INDEX(Data!N:N,Report!$B734))","v":""},{"$f":"IF(ISERROR(INDEX(Data!P:P,Report!$B734)),\"\",INDEX(Data!P:P,Report!$B734))","v":""},{"$f":"IF(ISERROR(INDEX(Data!O:O,Report!$B734)),\"\",INDEX(Data!O:O,Report!$B734))","v":""},{"$f":"IF(ISERROR(INDEX(Data!Q:Q,Report!$B734)),\"\",INDEX(Data!Q:Q,Report!$B734))","v":""},{"$f":"IF(ISERROR(INDEX(Data!R:R,Report!$B734)),\"\",INDEX(Data!R:R,Report!$B734))","v":""},{"$f":"IF(ISERROR(INDEX(Data!S:S,Report!$B734)),\"\",INDEX(Data!S:S,Report!$B734))","v":""},{"$f":"IF(ISERROR(INDEX(Data!T:T,Report!$B734)),\"\",INDEX(Data!T:T,Report!$B734))","v":""},{"$f":"IF(ISERROR(INDEX(Data!U:U,Report!$B734)),\"\",INDEX(Data!U:U,Report!$B734))","v":""},{"$f":"IF(ISERROR(INDEX(Data!V:V,Report!$B734)),\"\",INDEX(Data!V:V,Report!$B734))","v":""},null,"",""]

{"sheet":"Placement","index":5,"n_rows":37,"n_cols":17,"rows_kept":37,"cut":false,"hidden":false,"merged":[]}
[null,null,5,6,7,null,null,null,null,null,null,null,"Beg Line","End Line","Count","MAxBlock"]
[null,null,null,null,null,null,null,null,null,2,null,{"$f":"INDEX(Data!M:M,M2)","v":"Player serving"},{"$f":"MATCH($K$4,Data!$AF:$AF,0)","v":2},{"$f":"IF(ISERROR(MATCH($K$4+1,Data!$AF:$AF,0)),MATCH(Q2,Data!$A:$A,0)+1,MATCH($K$4+1,Data!$AF:$AF,0))","v":15},{"$f":"N2-M2","v":13},{"$f":"MAX(Data!AF:AF)","v":77},{"$f":"MAX(Data!A:A)","v":864}]
[null,null,"Set","Game","Point"]
[{"$f":"Cover!C1","v":"Allen Gibson"},{"$f":"IF(L2=\"Player Serving\",\"*\",\"\")","v":"*"},{"$f":"IF(ISERROR(VLOOKUP(\"Player\"&$K$5,Points!$A:$L,C$1,0)),\"\",VLOOKUP(\"Player\"&$K$5,Points!$A:$L,C$1,0))","v":0},{"$f":"IF(ISERROR(VLOOKUP(\"Player\"&$K$5,Points!$A:$L,D$1,0)),\"\",VLOOKUP(\"Player\"&$K$5,Points!$A:$L,D$1,0))","v":0},{"$f":"IF(ISERROR(VLOOKUP(\"Player\"&$K$5,Points!$A:$L,E$1,0)),\"\",VLOOKUP(\"Player\"&$K$5,Points!$A:$L,E$1,0))","v":"1"},null,null,null,null,"Block",1]
["Boomer",{"$f":"IF(L2=\"Player Serving\",\"\",\"*\")","v":""},{"$f":"IF(ISERROR(VLOOKUP($A5&$K$5,Points!$A:$L,C$1,0)),\"\",VLOOKUP($A5&$K$5,Points!$A:$L,C$1,0))","v":0},{"$f":"IF(ISERROR(VLOOKUP($A5&$K$5,Points!$A:$L,D$1,0)),\"\",VLOOKUP($A5&$K$5,Points!$A:$L,D$1,0))","v":0},{"$f":"IF(ISERROR(VLOOKUP($A5&$K$5,Points!$A:$L,E$1,0)),\"\",VLOOKUP($A5&$K$5,Points!$A:$L,E$1,0))","v":"0"},null,null,null,null,"Point",{"$f":"INDEX(Data!Z:Z,M2)","v":1}]
[]
[null,null,null,null,null,null,null,null,null,"Ball","Label","Width","Depth","Speed"]
[null,null,null,null,null,null,null,null,null,1,{"$f":"IF(J8>$O$2,\"\",\"#\" & J8 &\" \" &N8 &\" mph\")","v":"#1 0 mph"},{"$f":"INDEX(Data!S:S,Placement!$M$2)","v":0},{"$f":"INDEX(Data!R:R,Placement!$M$2)","v":0},{"$f":"INDEX(Data!U:U,Placement!$M$2)","v":0}]
[null,null,null,null,null,null,null,null,null,{"$f":"IF(J8>=$O$2,\"\",J8+1)","v":2},"#2 0 mph",{"$f":"IF(J9> $O$2,\"\",INDEX(Data!S:S,Placement!$M$2+J8))","v":0},{"$f":"IF(J9>$O$2,\"\",INDEX(Data!R:R,Placement!$M$2+J8))","v":0},{"$f":"IF(J9>$O$2,\"\",INDEX(Data!U:U,Placement!$M$2+J8))","v":0}]
[null,null,null,null,null,null,null,null,null,{"$f":"IF(J9>=$O$2,\"\",J9+1)","v":3},"#3 0 mph",{"$f":"IF(J10> $O$2,\"\",INDEX(Data!S:S,Placement!$M$2+J9))","v":0},{"$f":"IF(J10>$O$2,\"\",INDEX(Data!R:R,Placement!$M$2+J9))","v":0},{"$f":"IF(J10>$O$2,\"\",INDEX(Data!U:U,Placement!$M$2+J9))","v":0}]
[null,null,null,null,null,null,null,null,null,4,"#4 54 mph",{"$f":"IF(J11> $O$2,\"\",INDEX(Data!S:S,Placement!$M$2+J10))","v":21},{"$f":"IF(J11>$O$2,\"\",INDEX(Data!R:R,Placement!$M$2+J10))","v":16},{"$f":"IF(J11>$O$2,\"\",INDEX(Data!U:U,Placement!$M$2+J10))","v":54}]
[null,null,null,null,null,null,null,null,null,5,"#5 0 mph",{"$f":"IF(J12> $O$2,\"\",INDEX(Data!S:S,Placement!$M$2+J11))","v":0},{"$f":"IF(J12>$O$2,\"\",INDEX(Data!R:R,Placement!$M$2+J11))","v":2},{"$f":"IF(J12>$O$2,\"\",INDEX(Data!U:U,Placement!$M$2+J11))","v":0}]
[null,null,null,null,null,null,null,null,null,6,"#6 0 mph",{"$f":"IF(J13> $O$2,\"\",INDEX(Data!S:S,Placement!$M$2+J12))","v":0},{"$f":"IF(J13>$O$2,\"\",INDEX(Data!R:R,Placement!$M$2+J12))","v":0},{"$f":"IF(J13>$O$2,\"\",INDEX(Data!U:U,Placement!$M$2+J12))","v":0}]
[null,null,null,null,null,null,null,null,null,7,"#7 38 mph",{"$f":"IF(J14> $O$2,\"\",INDEX(Data!S:S,Placement!$M$2+J13))","v":9},{"$f":"IF(J14>$O$2,\"\",INDEX(Data!R:R,Placement!$M$2+J13))","v":27},{"$f":"IF(J14>$O$2,\"\",INDEX(Data!U:U,Placement!$M$2+J13))","v":38}]
[null,null,null,null,null,null,null,null,null,8,"#8 0 mph",{"$f":"IF(J15> $O$2,\"\",INDEX(Data!S:S,Placement!$M$2+J14))","v":0},{"$f":"IF(J15>$O$2,\"\",INDEX(Data!R:R,Placement!$M$2+J14))","v":0},{"$f":"IF(J15>$O$2,\"\",INDEX(Data!U:U,Placement!$M$2+J14))","v":0}]
[null,null,null,null,null,null,null,null,null,9,"#9 45 mph",{"$f":"IF(J16> $O$2,\"\",INDEX(Data!S:S,Placement!$M$2+J15))","v":5},{"$f":"IF(J16>$O$2,\"\",INDEX(Data!R:R,Placement!$M$2+J15))","v":27},{"$f":"IF(J16>$O$2,\"\",INDEX(Data!U:U,Placement!$M$2+J15))","v":45}]
[null,null,null,null,null,null,null,null,null,10,"#10 42 mph",{"$f":"IF(J17> $O$2,\"\",INDEX(Data!S:S,Placement!$M$2+J16))","v":20},{"$f":"IF(J17>$O$2,\"\",INDEX(Data!R:R,Placement!$M$2+J16))","v":21},{"$f":"IF(J17>$O$2,\"\",INDEX(Data!U:U,Placement!$M$2+J16))","v":42}]
[null,null,null,null,null,null,null,null,null,11,"#11 48 mph",{"$f":"IF(J18> $O$2,\"\",INDEX(Data!S:S,Placement!$M$2+J17))","v":10},{"$f":"IF(J18>$O$2,\"\",INDEX(Data!R:R,Placement!$M$2+J17))","v":30},{"$f":"IF(J18>$O$2,\"\",INDEX(Data!U:U,Placement!$M$2+J17))","v":48}]
[null,null,null,null,null,null,null,null,null,12,"#12 32 mph",{"$f":"IF(J19> $O$2,\"\",INDEX(Data!S:S,Placement!$M$2+J18))","v":22},{"$f":"IF(J19>$O$2,\"\",INDEX(Data!R:R,Placement!$M$2+J18))","v":23},{"$f":"IF(J19>$O$2,\"\",INDEX(Data!U:U,Placement!$M$2+J18))","v":32}]
[null,null,null,null,null,null,null,null,null,13,"#13 44 mph",{"$f":"IF(J20> $O$2,\"\",INDEX(Data!S:S,Placement!$M$2+J19))","v":4},{"$f":"IF(J20>$O$2,\"\",INDEX(Data!R:R,Placement!$M$2+J19))","v":26},{"$f":"IF(J20>$O$2,\"\",INDEX(Data!U:U,Placement!$M$2+J19))","v":44}]
[null,null,null,null,null,null,null,null,null,"","",{"$f":"IF(J21> $O$2,\"\",INDEX(Data!S:S,Placement!$M$2+J20))","v":""},{"$f":"IF(J21>$O$2,\"\",INDEX(Data!R:R,Placement!$M$2+J20))","v":""},{"$f":"IF(J21>$O$2,\"\",INDEX(Data!U:U,Placement!$M$2+J20))","v":""}]
[null,null,null,null,null,null,null,null,null,"","",{"$f":"IF(J22> $O$2,\"\",INDEX(Data!S:S,Placement!$M$2+J21))","v":""},{"$f":"IF(J22>$O$2,\"\",INDEX(Data!R:R,Placement!$M$2+J21))","v":""},{"$f":"IF(J22>$O$2,\"\",INDEX(Data!U:U,Placement!$M$2+J21))","v":""}]
[null,null,null,null,null,null,null,null,null,"","",{"$f":"IF(J23> $O$2,\"\",INDEX(Data!S:S,Placement!$M$2+J22))","v":""},{"$f":"IF(J23>$O$2,\"\",INDEX(Data!R:R,Placement!$M$2+J22))","v":""},{"$f":"IF(J23>$O$2,\"\",INDEX(Data!U:U,Placement!$M$2+J22))","v":""}]
[null,null,null,null,null,null,null,null,null,"","",{"$f":"IF(J24> $O$2,\"\",INDEX(Data!S:S,Placement!$M$2+J23))","v":""},{"$f":"IF(J24>$O$2,\"\",INDEX(Data!R:R,Placement!$M$2+J23))","v":""},{"$f":"IF(J24>$O$2,\"\",INDEX(Data!U:U,Placement!$M$2+J23))","v":""}]
[null,null,null,null,null,null,null,null,null,"","",{"$f":"IF(J25> $O$2,\"\",INDEX(Data!S:S,Placement!$M$2+J24))","v":""},{"$f":"IF(J25>$O$2,\"\",INDEX(Data!R:R,Placement!$M$2+J24))","v":""},{"$f":"IF(J25>$O$2,\"\",INDEX(Data!U:U,Placement!$M$2+J24))","v":""}]
[null,null,null,null,null,null,null,null,null,"","",{"$f":"IF(J26> $O$2,\"\",INDEX(Data!S:S,Placement!$M$2+J25))","v":""},{"$f":"IF(J26>$O$2,\"\",INDEX(Data!R:R,Placement!$M$2+J25))","v":""},{"$f":"IF(J26>$O$2,\"\",INDEX(Data!U:U,Placement!$M$2+J25))","v":""}]
[null,null,null,null,null,null,null,null,null,"","",{"$f":"IF(J27> $O$2,\"\",INDEX(Data!S:S,Placement!$M$2+J26))","v":""},{"$f":"IF(J27>$O$2,\"\",INDEX(Data!R:R,Placement!$M$2+J26))","v":""},{"$f":"IF(J27>$O$2,\"\",INDEX(Data!U:U,Placement!$M$2+J26))","v":""}]
[null,null,null,null,null,null,null,null,null,"","",{"$f":"IF(J28> $O$2,\"\",INDEX(Data!S:S,Placement!$M$2+J27))","v":""},{"$f":"IF(J28>$O$2,\"\",INDEX(Data!R:R,Placement!$M$2+J27))","v":""},{"$f":"IF(J28>$O$2,\"\",INDEX(Data!U:U,Placement!$M$2+J27))","v":""}]
[null,null,null,null,null,null,null,null,null,"","",{"$f":"IF(J29> $O$2,\"\",INDEX(Data!S:S,Placement!$M$2+J28))","v":""},{"$f":"IF(J29>$O$2,\"\",INDEX(Data!R:R,Placement!$M$2+J28))","v":""},{"$f":"IF(J29>$O$2,\"\",INDEX(Data!U:U,Placement!$M$2+J28))","v":""}]
[null,null,null,null,null,null,null,null,null,"","",{"$f":"IF(J30> $O$2,\"\",INDEX(Data!S:S,Placement!$M$2+J29))","v":""},{"$f":"IF(J30>$O$2,\"\",INDEX(Data!R:R,Placement!$M$2+J29))","v":""},{"$f":"IF(J30>$O$2,\"\",INDEX(Data!U:U,Placement!$M$2+J29))","v":""}]
[null,null,null,null,null,null,null,null,null,"","",{"$f":"IF(J31> $O$2,\"\",INDEX(Data!S:S,Placement!$M$2+J30))","v":""},{"$f":"IF(J31>$O$2,\"\",INDEX(Data!R:R,Placement!$M$2+J30))","v":""},{"$f":"IF(J31>$O$2,\"\",INDEX(Data!U:U,Placement!$M$2+J30))","v":""}]
[null,null,null,null,null,null,null,null,null,"","",{"$f":"IF(J32> $O$2,\"\",INDEX(Data!S:S,Placement!$M$2+J31))","v":""},{"$f":"IF(J32>$O$2,\"\",INDEX(Data!R:R,Placement!$M$2+J31))","v":""},{"$f":"IF(J32>$O$2,\"\",INDEX(Data!U:U,Placement!$M$2+J31))","v":""}]
[null,null,null,null,null,null,null,null,null,"","",{"$f":"IF(J33> $O$2,\"\",INDEX(Data!S:S,Placement!$M$2+J32))","v":""},{"$f":"IF(J33>$O$2,\"\",INDEX(Data!R:R,Placement!$M$2+J32))","v":""},{"$f":"IF(J33>$O$2,\"\",INDEX(Data!U:U,Placement!$M$2+J32))","v":""}]
[null,null,null,null,null,null,null,null,null,"","",{"$f":"IF(J34> $O$2,\"\",INDEX(Data!S:S,Placement!$M$2+J33))","v":""},{"$f":"IF(J34>$O$2,\"\",INDEX(Data!R:R,Placement!$M$2+J33))","v":""},{"$f":"IF(J34>$O$2,\"\",INDEX(Data!U:U,Placement!$M$2+J33))","v":""}]
[null,null,null,null,null,null,null,null,null,"","",{"$f":"IF(J35> $O$2,\"\",INDEX(Data!S:S,Placement!$M$2+J34))","v":""},{"$f":"IF(J35>$O$2,\"\",INDEX(Data!R:R,Placement!$M$2+J34))","v":""},{"$f":"IF(J35>$O$2,\"\",INDEX(Data!U:U,Placement!$M$2+J34))","v":""}]
[null,null,null,null,null,null,null,null,null,"","",{"$f":"IF(J36> $O$2,\"\",INDEX(Data!S:S,Placement!$M$2+J35))","v":""},{"$f":"IF(J36>$O$2,\"\",INDEX(Data!R:R,Placement!$M$2+J35))","v":""},{"$f":"IF(J36>$O$2,\"\",INDEX(Data!U:U,Placement!$M$2+J35))","v":""}]
[null,null,null,null,null,null,null,null,null,"","",{"$f":"IF(J37> $O$2,\"\",INDEX(Data!S:S,Placement!$M$2+J36))","v":""},{"$f":"IF(J37>$O$2,\"\",INDEX(Data!R:R,Placement!$M$2+J36))","v":""},{"$f":"IF(J37>$O$2,\"\",INDEX(Data!U:U,Placement!$M$2+J36))","v":""}]

{"sheet":"Index Of Points","index":6,"n_rows":59,"n_cols":9,"rows_kept":59,"cut":false,"hidden":false,"merged":[]}
[]
[]
[]
[]
["Block #","Beginning Row","Rows","Ending Row","Game against Boomer at level 3.0  Single point data:","Point","Server","Point #",{"$f":"INDEX(Data!AF:AF,'Index Of Points'!$A6)","v":"fBlock"}]
[1,{"$f":"MATCH(A6,Data!AF:AF,0)","v":2},{"$f":"B7-B6","v":13},null,{"$f":"INDEX(Data!J:J,'Index Of Points'!$B6)","v":"Game against Boomer at level 2.0  Single point data:"},{"$f":"INDEX(Data!K:K,'Index Of Points'!$B6)","v":"Boomer's point"},{"$f":"INDEX(Data!M:M,'Index Of Points'!$B6)","v":"Player serving"},{"$f":"INDEX(Data!Z:Z,'Index Of Points'!$B6)","v":1},{"$f":"INDEX(Data!AF:AF,'Index Of Points'!$B6)","v":1}]
[{"$f":"IF(A6>MaxBlock-1,\"\",A6+1)","v":2},{"$f":"IF(ISERROR(MATCH(A7,Data!AF:AF,0)),\"\",MATCH(A7,Data!AF:AF,0))","v":15},{"$f":"IF(ISERROR(B8-B7),\"\",B8-B7)","v":8},null,{"$f":"IF(ISERROR(INDEX(Data!J:J,'Index Of Points'!$B7)),\"\",INDEX(Data!J:J,'Index Of Points'!$B7))","v":"User Drill #85  3 line rated mini Tennis"},{"$f":"IF(ISERROR(INDEX(Data!K:K,'Index Of Points'!$B7)),\"\",INDEX(Data!K:K,'Index Of Points'!$B7))","v":0},{"$f":"IF(ISERROR(INDEX(Data!M:M,'Index Of Points'!$B7)),\"\",INDEX(Data!M:M,'Index Of Points'!$B7))","v":" "},{"$f":"IF(ISERROR(INDEX(Data!Z:Z,'Index Of Points'!$B7)),\"\",INDEX(Data!Z:Z,'Index Of Points'!$B7))","v":0},{"$f":"IF(ISERROR(INDEX(Data!AF:AF,'Index Of Points'!$B7)),\"\",INDEX(Data!AF:AF,'Index Of Points'!$B7))","v":2}]
[3,{"$f":"IF(ISERROR(MATCH(A8,Data!AF:AF,0)),\"\",MATCH(A8,Data!AF:AF,0))","v":23},{"$f":"IF(ISERROR(B9-B8),\"\",B9-B8)","v":8},null,{"$f":"IF(ISERROR(INDEX(Data!J:J,'Index Of Points'!$B8)),\"\",INDEX(Data!J:J,'Index Of Points'!$B8))","v":"User Drill #85  3 line rated mini Tennis"},{"$f":"IF(ISERROR(INDEX(Data!K:K,'Index Of Points'!$B8)),\"\",INDEX(Data!K:K,'Index Of Points'!$B8))","v":0},{"$f":"IF(ISERROR(INDEX(Data!M:M,'Index Of Points'!$B8)),\"\",INDEX(Data!M:M,'Index Of Points'!$B8))","v":" "},{"$f":"IF(ISERROR(INDEX(Data!Z:Z,'Index Of Points'!$B8)),\"\",INDEX(Data!Z:Z,'Index Of Points'!$B8))","v":0},{"$f":"IF(ISERROR(INDEX(Data!AF:AF,'Index Of Points'!$B8)),\"\",INDEX(Data!AF:AF,'Index Of Points'!$B8))","v":3}]
[4,{"$f":"IF(ISERROR(MATCH(A9,Data!AF:AF,0)),\"\",MATCH(A9,Data!AF:AF,0))","v":31},9,null,{"$f":"IF(ISERROR(INDEX(Data!J:J,'Index Of Points'!$B9)),\"\",INDEX(Data!J:J,'Index Of Points'!$B9))","v":"Game against Boomer at level 2.0  Single point data:"},{"$f":"IF(ISERROR(INDEX(Data!K:K,'Index Of Points'!$B9)),\"\",INDEX(Data!K:K,'Index Of Points'!$B9))","v":"Player's point"},{"$f":"IF(ISERROR(INDEX(Data!M:M,'Index Of Points'!$B9)),\"\",INDEX(Data!M:M,'Index Of Points'!$B9))","v":"Player serving"},{"$f":"IF(ISERROR(INDEX(Data!Z:Z,'Index Of Points'!$B9)),\"\",INDEX(Data!Z:Z,'Index Of Points'!$B9))","v":4},{"$f":"IF(ISERROR(INDEX(Data!AF:AF,'Index Of Points'!$B9)),\"\",INDEX(Data!AF:AF,'Index Of Points'!$B9))","v":4}]
[5,{"$f":"IF(ISERROR(MATCH(A10,Data!AF:AF,0)),\"\",MATCH(A10,Data!AF:AF,0))","v":40},9,null,{"$f":"IF(ISERROR(INDEX(Data!J:J,'Index Of Points'!$B10)),\"\",INDEX(Data!J:J,'Index Of Points'!$B10))","v":"User Drill #85  3 line rated mini Tennis"},{"$f":"IF(ISERROR(INDEX(Data!K:K,'Index Of Points'!$B10)),\"\",INDEX(Data!K:K,'Index Of Points'!$B10))","v":0},{"$f":"IF(ISERROR(INDEX(Data!M:M,'Index Of Points'!$B10)),\"\",INDEX(Data!M:M,'Index Of Points'!$B10))","v":" "},{"$f":"IF(ISERROR(INDEX(Data!Z:Z,'Index Of Points'!$B10)),\"\",INDEX(Data!Z:Z,'Index Of Points'!$B10))","v":0},{"$f":"IF(ISERROR(INDEX(Data!AF:AF,'Index Of Points'!$B10)),\"\",INDEX(Data!AF:AF,'Index Of Points'!$B10))","v":5}]
[6,{"$f":"IF(ISERROR(MATCH(A11,Data!AF:AF,0)),\"\",MATCH(A11,Data!AF:AF,0))","v":49},8,null,{"$f":"IF(ISERROR(INDEX(Data!J:J,'Index Of Points'!$B11)),\"\",INDEX(Data!J:J,'Index Of Points'!$B11))","v":"Game against Boomer at level 2.0  Single point data:"},{"$f":"IF(ISERROR(INDEX(Data!K:K,'Index Of Points'!$B11)),\"\",INDEX(Data!K:K,'Index Of Points'!$B11))","v":"Player's point"},{"$f":"IF(ISERROR(INDEX(Data!M:M,'Index Of Points'!$B11)),\"\",INDEX(Data!M:M,'Index Of Points'!$B11))","v":"Boomer serving"},{"$f":"IF(ISERROR(INDEX(Data!Z:Z,'Index Of Points'!$B11)),\"\",INDEX(Data!Z:Z,'Index Of Points'!$B11))","v":6},{"$f":"IF(ISERROR(INDEX(Data!AF:AF,'Index Of Points'!$B11)),\"\",INDEX(Data!AF:AF,'Index Of Points'!$B11))","v":6}]
[7,{"$f":"IF(ISERROR(MATCH(A12,Data!AF:AF,0)),\"\",MATCH(A12,Data!AF:AF,0))","v":57},6,null,{"$f":"IF(ISERROR(INDEX(Data!J:J,'Index Of Points'!$B12)),\"\",INDEX(Data!J:J,'Index Of Points'!$B12))","v":"Game against Boomer at level 2.0  Single point data:"},{"$f":"IF(ISERROR(INDEX(Data!K:K,'Index Of Points'!$B12)),\"\",INDEX(Data!K:K,'Index Of Points'!$B12))","v":"Boomer's point"},{"$f":"IF(ISERROR(INDEX(Data!M:M,'Index Of Points'!$B12)),\"\",INDEX(Data!M:M,'Index Of Points'!$B12))","v":"Boomer serving"},{"$f":"IF(ISERROR(INDEX(Data!Z:Z,'Index Of Points'!$B12)),\"\",INDEX(Data!Z:Z,'Index Of Points'!$B12))","v":7},{"$f":"IF(ISERROR(INDEX(Data!AF:AF,'Index Of Points'!$B12)),\"\",INDEX(Data!AF:AF,'Index Of Points'!$B12))","v":7}]
[8,{"$f":"IF(ISERROR(MATCH(A13,Data!AF:AF,0)),\"\",MATCH(A13,Data!AF:AF,0))","v":63},9,null,{"$f":"IF(ISERROR(INDEX(Data!J:J,'Index Of Points'!$B13)),\"\",INDEX(Data!J:J,'Index Of Points'!$B13))","v":"Game against Boomer at level 3.5  Single point data:"},{"$f":"IF(ISERROR(INDEX(Data!K:K,'Index Of Points'!$B13)),\"\",INDEX(Data!K:K,'Index Of Points'!$B13))","v":"Player's point"},{"$f":"IF(ISERROR(INDEX(Data!M:M,'Index Of Points'!$B13)),\"\",INDEX(Data!M:M,'Index Of Points'!$B13))","v":"Player serving"},{"$f":"IF(ISERROR(INDEX(Data!Z:Z,'Index Of Points'!$B13)),\"\",INDEX(Data!Z:Z,'Index Of Points'!$B13))","v":9},{"$f":"IF(ISERROR(INDEX(Data!AF:AF,'Index Of Points'!$B13)),\"\",INDEX(Data!AF:AF,'Index Of Points'!$B13))","v":8}]
[9,{"$f":"IF(ISERROR(MATCH(A14,Data!AF:AF,0)),\"\",MATCH(A14,Data!AF:AF,0))","v":72},7,null,{"$f":"IF(ISERROR(INDEX(Data!J:J,'Index Of Points'!$B14)),\"\",INDEX(Data!J:J,'Index Of Points'!$B14))","v":"Game against Boomer at level 3.5  Single point data:"},{"$f":"IF(ISERROR(INDEX(Data!K:K,'Index Of Points'!$B14)),\"\",INDEX(Data!K:K,'Index Of Points'!$B14))","v":"Player's point"},{"$f":"IF(ISERROR(INDEX(Data!M:M,'Index Of Points'!$B14)),\"\",INDEX(Data!M:M,'Index Of Points'!$B14))","v":"Boomer serving"},{"$f":"IF(ISERROR(INDEX(Data!Z:Z,'Index Of Points'!$B14)),\"\",INDEX(Data!Z:Z,'Index Of Points'!$B14))","v":10},{"$f":"IF(ISERROR(INDEX(Data!AF:AF,'Index Of Points'!$B14)),\"\",INDEX(Data!AF:AF,'Index Of Points'!$B14))","v":9}]
[10,{"$f":"IF(ISERROR(MATCH(A15,Data!AF:AF,0)),\"\",MATCH(A15,Data!AF:AF,0))","v":79},9,null,{"$f":"IF(ISERROR(INDEX(Data!J:J,'Index Of Points'!$B15)),\"\",INDEX(Data!J:J,'Index Of Points'!$B15))","v":"User Drill #85  3 line rated mini Tennis"},{"$f":"IF(ISERROR(INDEX(Data!K:K,'Index Of Points'!$B15)),\"\",INDEX(Data!K:K,'Index Of Points'!$B15))","v":0},{"$f":"IF(ISERROR(INDEX(Data!M:M,'Index Of Points'!$B15)),\"\",INDEX(Data!M:M,'Index Of Points'!$B15))","v":" "},{"$f":"IF(ISERROR(INDEX(Data!Z:Z,'Index Of Points'!$B15)),\"\",INDEX(Data!Z:Z,'Index Of Points'!$B15))","v":0},{"$f":"IF(ISERROR(INDEX(Data!AF:AF,'Index Of Points'!$B15)),\"\",INDEX(Data!AF:AF,'Index Of Points'!$B15))","v":10}]
[11,{"$f":"IF(ISERROR(MATCH(A16,Data!AF:AF,0)),\"\",MATCH(A16,Data!AF:AF,0))","v":88},8,null,{"$f":"IF(ISERROR(INDEX(Data!J:J,'Index Of Points'!$B16)),\"\",INDEX(Data!J:J,'Index Of Points'!$B16))","v":"Game against Boomer at level 3.5  Single point data:"},{"$f":"IF(ISERROR(INDEX(Data!K:K,'Index Of Points'!$B16)),\"\",INDEX(Data!K:K,'Index Of Points'!$B16))","v":"Player's point"},{"$f":"IF(ISERROR(INDEX(Data!M:M,'Index Of Points'!$B16)),\"\",INDEX(Data!M:M,'Index Of Points'!$B16))","v":"Boomer serving"},{"$f":"IF(ISERROR(INDEX(Data!Z:Z,'Index Of Points'!$B16)),\"\",INDEX(Data!Z:Z,'Index Of Points'!$B16))","v":12},{"$f":"IF(ISERROR(INDEX(Data!AF:AF,'Index Of Points'!$B16)),\"\",INDEX(Data!AF:AF,'Index Of Points'!$B16))","v":11}]
[12,{"$f":"IF(ISERROR(MATCH(A17,Data!AF:AF,0)),\"\",MATCH(A17,Data!AF:AF,0))","v":96},8,null,{"$f":"IF(ISERROR(INDEX(Data!J:J,'Index Of Points'!$B17)),\"\",INDEX(Data!J:J,'Index Of Points'!$B17))","v":"Game against Boomer at level 3.5  Single point data:"},{"$f":"IF(ISERROR(INDEX(Data!K:K,'Index Of Points'!$B17)),\"\",INDEX(Data!K:K,'Index Of Points'!$B17))","v":"Player's point"},{"$f":"IF(ISERROR(INDEX(Data!M:M,'Index Of Points'!$B17)),\"\",INDEX(Data!M:M,'Index Of Points'!$B17))","v":"Player serving"},{"$f":"IF(ISERROR(INDEX(Data!Z:Z,'Index Of Points'!$B17)),\"\",INDEX(Data!Z:Z,'Index Of Points'!$B17))","v":13},{"$f":"IF(ISERROR(INDEX(Data!AF:AF,'Index Of Points'!$B17)),\"\",INDEX(Data!AF:AF,'Index Of Points'!$B17))","v":12}]
[13,{"$f":"IF(ISERROR(MATCH(A18,Data!AF:AF,0)),\"\",MATCH(A18,Data!AF:AF,0))","v":104},9,null,{"$f":"IF(ISERROR(INDEX(Data!J:J,'Index Of Points'!$B18)),\"\",INDEX(Data!J:J,'Index Of Points'!$B18))","v":"Game against Boomer at level 3.5  Single point data:"},{"$f":"IF(ISERROR(INDEX(Data!K:K,'Index Of Points'!$B18)),\"\",INDEX(Data!K:K,'Index Of Points'!$B18))","v":"Player's point"},{"$f":"IF(ISERROR(INDEX(Data!M:M,'Index Of Points'!$B18)),\"\",INDEX(Data!M:M,'Index Of Points'!$B18))","v":"Player serving"},{"$f":"IF(ISERROR(INDEX(Data!Z:Z,'Index Of Points'!$B18)),\"\",INDEX(Data!Z:Z,'Index Of Points'!$B18))","v":14},{"$f":"IF(ISERROR(INDEX(Data!AF:AF,'Index Of Points'!$B18)),\"\",INDEX(Data!AF:AF,'Index Of Points'!$B18))","v":13}]
[14,{"$f":"IF(ISERROR(MATCH(A19,Data!AF:AF,0)),\"\",MATCH(A19,Data!AF:AF,0))","v":113},8,null,{"$f":"IF(ISERROR(INDEX(Data!J:J,'Index Of Points'!$B19)),\"\",INDEX(Data!J:J,'Index Of Points'!$B19))","v":"Game against Boomer at level 2.0  Single point data:"},{"$f":"IF(ISERROR(INDEX(Data!K:K,'Index Of Points'!$B19)),\"\",INDEX(Data!K:K,'Index Of Points'!$B19))","v":"Player's point"},{"$f":"IF(ISERROR(INDEX(Data!M:M,'Index Of Points'!$B19)),\"\",INDEX(Data!M:M,'Index Of Points'!$B19))","v":"Boomer serving"},{"$f":"IF(ISERROR(INDEX(Data!Z:Z,'Index Of Points'!$B19)),\"\",INDEX(Data!Z:Z,'Index Of Points'!$B19))","v":14},{"$f":"IF(ISERROR(INDEX(Data!AF:AF,'Index Of Points'!$B19)),\"\",INDEX(Data!AF:AF,'Index Of Points'!$B19))","v":14}]
[15,{"$f":"IF(ISERROR(MATCH(A20,Data!AF:AF,0)),\"\",MATCH(A20,Data!AF:AF,0))","v":121},10,null,{"$f":"IF(ISERROR(INDEX(Data!J:J,'Index Of Points'!$B20)),\"\",INDEX(Data!J:J,'Index Of Points'!$B20))","v":"User Drill #85  3 line rated mini Tennis"},{"$f":"IF(ISERROR(INDEX(Data!K:K,'Index Of Points'!$B20)),\"\",INDEX(Data!K:K,'Index Of Points'!$B20))","v":0},{"$f":"IF(ISERROR(INDEX(Data!M:M,'Index Of Points'!$B20)),\"\",INDEX(Data!M:M,'Index Of Points'!$B20))","v":" "},{"$f":"IF(ISERROR(INDEX(Data!Z:Z,'Index Of Points'!$B20)),\"\",INDEX(Data!Z:Z,'Index Of Points'!$B20))","v":0},{"$f":"IF(ISERROR(INDEX(Data!AF:AF,'Index Of Points'!$B20)),\"\",INDEX(Data!AF:AF,'Index Of Points'!$B20))","v":15}]
[16,{"$f":"IF(ISERROR(MATCH(A21,Data!AF:AF,0)),\"\",MATCH(A21,Data!AF:AF,0))","v":131},11,null,{"$f":"IF(ISERROR(INDEX(Data!J:J,'Index Of Points'!$B21)),\"\",INDEX(Data!J:J,'Index Of Points'!$B21))","v":"User Drill #85  3 line rated mini Tennis"},{"$f":"IF(ISERROR(INDEX(Data!K:K,'Index Of Points'!$B21)),\"\",INDEX(Data!K:K,'Index Of Points'!$B21))","v":0},{"$f":"IF(ISERROR(INDEX(Data!M:M,'Index Of Points'!$B21)),\"\",INDEX(Data!M:M,'Index Of Points'!$B21))","v":" "},{"$f":"IF(ISERROR(INDEX(Data!Z:Z,'Index Of Points'!$B21)),\"\",INDEX(Data!Z:Z,'Index Of Points'!$B21))","v":0},{"$f":"IF(ISERROR(INDEX(Data!AF:AF,'Index Of Points'!$B21)),\"\",INDEX(Data!AF:AF,'Index Of Points'!$B21))","v":16}]
[17,{"$f":"IF(ISERROR(MATCH(A22,Data!AF:AF,0)),\"\",MATCH(A22,Data!AF:AF,0))","v":142},6,null,{"$f":"IF(ISERROR(INDEX(Data!J:J,'Index Of Points'!$B22)),\"\",INDEX(Data!J:J,'Index Of Points'!$B22))","v":"Game against Boomer at level 3.5  Single point data:"},{"$f":"IF(ISERROR(INDEX(Data!K:K,'Index Of Points'!$B22)),\"\",INDEX(Data!K:K,'Index Of Points'!$B22))","v":"Player's point"},{"$f":"IF(ISERROR(INDEX(Data!M:M,'Index Of Points'!$B22)),\"\",INDEX(Data!M:M,'Index Of Points'!$B22))","v":"Player serving"},{"$f":"IF(ISERROR(INDEX(Data!Z:Z,'Index Of Points'!$B22)),\"\",INDEX(Data!Z:Z,'Index Of Points'!$B22))","v":18},{"$f":"IF(ISERROR(INDEX(Data!AF:AF,'Index Of Points'!$B22)),\"\",INDEX(Data!AF:AF,'Index Of Points'!$B22))","v":17}]
[18,{"$f":"IF(ISERROR(MATCH(A23,Data!AF:AF,0)),\"\",MATCH(A23,Data!AF:AF,0))","v":148},11,null,{"$f":"IF(ISERROR(INDEX(Data!J:J,'Index Of Points'!$B23)),\"\",INDEX(Data!J:J,'Index Of Points'!$B23))","v":"Game against Boomer at level 3.5  Single point data:"},{"$f":"IF(ISERROR(INDEX(Data!K:K,'Index Of Points'!$B23)),\"\",INDEX(Data!K:K,'Index Of Points'!$B23))","v":"Player's point"},{"$f":"IF(ISERROR(INDEX(Data!M:M,'Index Of Points'!$B23)),\"\",INDEX(Data!M:M,'Index Of Points'!$B23))","v":"Boomer serving"},{"$f":"IF(ISERROR(INDEX(Data!Z:Z,'Index Of Points'!$B23)),\"\",INDEX(Data!Z:Z,'Index Of Points'!$B23))","v":19},{"$f":"IF(ISERROR(INDEX(Data!AF:AF,'Index Of Points'!$B23)),\"\",INDEX(Data!AF:AF,'Index Of Points'!$B23))","v":18}]
[19,{"$f":"IF(ISERROR(MATCH(A24,Data!AF:AF,0)),\"\",MATCH(A24,Data!AF:AF,0))","v":159},6,null,{"$f":"IF(ISERROR(INDEX(Data!J:J,'Index Of Points'!$B24)),\"\",INDEX(Data!J:J,'Index Of Points'!$B24))","v":"User Drill #188  3 line rated mini tennis"},{"$f":"IF(ISERROR(INDEX(Data!K:K,'Index Of Points'!$B24)),\"\",INDEX(Data!K:K,'Index Of Points'!$B24))","v":0},{"$f":"IF(ISERROR(INDEX(Data!M:M,'Index Of Points'!$B24)),\"\",INDEX(Data!M:M,'Index Of Points'!$B24))","v":" "},{"$f":"IF(ISERROR(INDEX(Data!Z:Z,'Index Of Points'!$B24)),\"\",INDEX(Data!Z:Z,'Index Of Points'!$B24))","v":0},{"$f":"IF(ISERROR(INDEX(Data!AF:AF,'Index Of Points'!$B24)),\"\",INDEX(Data!AF:AF,'Index Of Points'!$B24))","v":19}]
[20,{"$f":"IF(ISERROR(MATCH(A25,Data!AF:AF,0)),\"\",MATCH(A25,Data!AF:AF,0))","v":165},10,null,{"$f":"IF(ISERROR(INDEX(Data!J:J,'Index Of Points'!$B25)),\"\",INDEX(Data!J:J,'Index Of Points'!$B25))","v":"User Drill #188  3 line rated mini tennis"},{"$f":"IF(ISERROR(INDEX(Data!K:K,'Index Of Points'!$B25)),\"\",INDEX(Data!K:K,'Index Of Points'!$B25))","v":0},{"$f":"IF(ISERROR(INDEX(Data!M:M,'Index Of Points'!$B25)),\"\",INDEX(Data!M:M,'Index Of Points'!$B25))","v":" "},{"$f":"IF(ISERROR(INDEX(Data!Z:Z,'Index Of Points'!$B25)),\"\",INDEX(Data!Z:Z,'Index Of Points'!$B25))","v":0},{"$f":"IF(ISERROR(INDEX(Data!AF:AF,'Index Of Points'!$B25)),\"\",INDEX(Data!AF:AF,'Index Of Points'!$B25))","v":20}]
[21,{"$f":"IF(ISERROR(MATCH(A26,Data!AF:AF,0)),\"\",MATCH(A26,Data!AF:AF,0))","v":175},9,null,{"$f":"IF(ISERROR(INDEX(Data!J:J,'Index Of Points'!$B26)),\"\",INDEX(Data!J:J,'Index Of Points'!$B26))","v":"Game against Boomer at level 3.5  Single point data:"},{"$f":"IF(ISERROR(INDEX(Data!K:K,'Index Of Points'!$B26)),\"\",INDEX(Data!K:K,'Index Of Points'!$B26))","v":"Player's point"},{"$f":"IF(ISERROR(INDEX(Data!M:M,'Index Of Points'!$B26)),\"\",INDEX(Data!M:M,'Index Of Points'!$B26))","v":"Player serving"},{"$f":"IF(ISERROR(INDEX(Data!Z:Z,'Index Of Points'!$B26)),\"\",INDEX(Data!Z:Z,'Index Of Points'!$B26))","v":23},{"$f":"IF(ISERROR(INDEX(Data!AF:AF,'Index Of Points'!$B26)),\"\",INDEX(Data!AF:AF,'Index Of Points'!$B26))","v":21}]
[22,{"$f":"IF(ISERROR(MATCH(A27,Data!AF:AF,0)),\"\",MATCH(A27,Data!AF:AF,0))","v":184},7,null,{"$f":"IF(ISERROR(INDEX(Data!J:J,'Index Of Points'!$B27)),\"\",INDEX(Data!J:J,'Index Of Points'!$B27))","v":"Game against Boomer at level 3.5  Single point data:"},{"$f":"IF(ISERROR(INDEX(Data!K:K,'Index Of Points'!$B27)),\"\",INDEX(Data!K:K,'Index Of Points'!$B27))","v":"Boomer's point"},{"$f":"IF(ISERROR(INDEX(Data!M:M,'Index Of Points'!$B27)),\"\",INDEX(Data!M:M,'Index Of Points'!$B27))","v":"Player serving"},{"$f":"IF(ISERROR(INDEX(Data!Z:Z,'Index Of Points'!$B27)),\"\",INDEX(Data!Z:Z,'Index Of Points'!$B27))","v":24},{"$f":"IF(ISERROR(INDEX(Data!AF:AF,'Index Of Points'!$B27)),\"\",INDEX(Data!AF:AF,'Index Of Points'!$B27))","v":22}]
[23,{"$f":"IF(ISERROR(MATCH(A28,Data!AF:AF,0)),\"\",MATCH(A28,Data!AF:AF,0))","v":191},5,null,{"$f":"IF(ISERROR(INDEX(Data!J:J,'Index Of Points'!$B28)),\"\",INDEX(Data!J:J,'Index Of Points'!$B28))","v":"User Drill #188  3 line rated mini tennis"},{"$f":"IF(ISERROR(INDEX(Data!K:K,'Index Of Points'!$B28)),\"\",INDEX(Data!K:K,'Index Of Points'!$B28))","v":0},{"$f":"IF(ISERROR(INDEX(Data!M:M,'Index Of Points'!$B28)),\"\",INDEX(Data!M:M,'Index Of Points'!$B28))","v":" "},{"$f":"IF(ISERROR(INDEX(Data!Z:Z,'Index Of Points'!$B28)),\"\",INDEX(Data!Z:Z,'Index Of Points'!$B28))","v":0},{"$f":"IF(ISERROR(INDEX(Data!AF:AF,'Index Of Points'!$B28)),\"\",INDEX(Data!AF:AF,'Index Of Points'!$B28))","v":23}]
[24,{"$f":"IF(ISERROR(MATCH(A29,Data!AF:AF,0)),\"\",MATCH(A29,Data!AF:AF,0))","v":196},10,null,{"$f":"IF(ISERROR(INDEX(Data!J:J,'Index Of Points'!$B29)),\"\",INDEX(Data!J:J,'Index Of Points'!$B29))","v":"Game against Boomer at level 2.0  Single point data:"},{"$f":"IF(ISERROR(INDEX(Data!K:K,'Index Of Points'!$B29)),\"\",INDEX(Data!K:K,'Index Of Points'!$B29))","v":"Player's point"},{"$f":"IF(ISERROR(INDEX(Data!M:M,'Index Of Points'!$B29)),\"\",INDEX(Data!M:M,'Index Of Points'!$B29))","v":"Boomer serving"},{"$f":"IF(ISERROR(INDEX(Data!Z:Z,'Index Of Points'!$B29)),\"\",INDEX(Data!Z:Z,'Index Of Points'!$B29))","v":24},{"$f":"IF(ISERROR(INDEX(Data!AF:AF,'Index Of Points'!$B29)),\"\",INDEX(Data!AF:AF,'Index Of Points'!$B29))","v":24}]
[25,{"$f":"IF(ISERROR(MATCH(A30,Data!AF:AF,0)),\"\",MATCH(A30,Data!AF:AF,0))","v":206},6,null,{"$f":"IF(ISERROR(INDEX(Data!J:J,'Index Of Points'!$B30)),\"\",INDEX(Data!J:J,'Index Of Points'!$B30))","v":"User Drill #188  3 line rated mini tennis"},{"$f":"IF(ISERROR(INDEX(Data!K:K,'Index Of Points'!$B30)),\"\",INDEX(Data!K:K,'Index Of Points'!$B30))","v":0},{"$f":"IF(ISERROR(INDEX(Data!M:M,'Index Of Points'!$B30)),\"\",INDEX(Data!M:M,'Index Of Points'!$B30))","v":" "},{"$f":"IF(ISERROR(INDEX(Data!Z:Z,'Index Of Points'!$B30)),\"\",INDEX(Data!Z:Z,'Index Of Points'!$B30))","v":0},{"$f":"IF(ISERROR(INDEX(Data!AF:AF,'Index Of Points'!$B30)),\"\",INDEX(Data!AF:AF,'Index Of Points'!$B30))","v":25}]
[26,{"$f":"IF(ISERROR(MATCH(A31,Data!AF:AF,0)),\"\",MATCH(A31,Data!AF:AF,0))","v":212},11,null,{"$f":"IF(ISERROR(INDEX(Data!J:J,'Index Of Points'!$B31)),\"\",INDEX(Data!J:J,'Index Of Points'!$B31))","v":"Game against Boomer at level 3.5  Single point data:"},{"$f":"IF(ISERROR(INDEX(Data!K:K,'Index Of Points'!$B31)),\"\",INDEX(Data!K:K,'Index Of Points'!$B31))","v":"Player's point"},{"$f":"IF(ISERROR(INDEX(Data!M:M,'Index Of Points'!$B31)),\"\",INDEX(Data!M:M,'Index Of Points'!$B31))","v":"Player serving"},{"$f":"IF(ISERROR(INDEX(Data!Z:Z,'Index Of Points'!$B31)),\"\",INDEX(Data!Z:Z,'Index Of Points'!$B31))","v":28},{"$f":"IF(ISERROR(INDEX(Data!AF:AF,'Index Of Points'!$B31)),\"\",INDEX(Data!AF:AF,'Index Of Points'!$B31))","v":26}]
[27,{"$f":"IF(ISERROR(MATCH(A32,Data!AF:AF,0)),\"\",MATCH(A32,Data!AF:AF,0))","v":223},7,null,{"$f":"IF(ISERROR(INDEX(Data!J:J,'Index Of Points'!$B32)),\"\",INDEX(Data!J:J,'Index Of Points'!$B32))","v":"Game against Boomer at level 3.5  Single point data:"},{"$f":"IF(ISERROR(INDEX(Data!K:K,'Index Of Points'!$B32)),\"\",INDEX(Data!K:K,'Index Of Points'!$B32))","v":"Player's point"},{"$f":"IF(ISERROR(INDEX(Data!M:M,'Index Of Points'!$B32)),\"\",INDEX(Data!M:M,'Index Of Points'!$B32))","v":"Boomer serving"},{"$f":"IF(ISERROR(INDEX(Data!Z:Z,'Index Of Points'!$B32)),\"\",INDEX(Data!Z:Z,'Index Of Points'!$B32))","v":29},{"$f":"IF(ISERROR(INDEX(Data!AF:AF,'Index Of Points'!$B32)),\"\",INDEX(Data!AF:AF,'Index Of Points'!$B32))","v":27}]
[28,{"$f":"IF(ISERROR(MATCH(A33,Data!AF:AF,0)),\"\",MATCH(A33,Data!AF:AF,0))","v":230},7,null,{"$f":"IF(ISERROR(INDEX(Data!J:J,'Index Of Points'!$B33)),\"\",INDEX(Data!J:J,'Index Of Points'!$B33))","v":"Game against Boomer at level 2.0  Single point data:"},{"$f":"IF(ISERROR(INDEX(Data!K:K,'Index Of Points'!$B33)),\"\",INDEX(Data!K:K,'Index Of Points'!$B33))","v":"Player's point"},{"$f":"IF(ISERROR(INDEX(Data!M:M,'Index Of Points'!$B33)),\"\",INDEX(Data!M:M,'Index Of Points'!$B33))","v":"Boomer serving"},{"$f":"IF(ISERROR(INDEX(Data!Z:Z,'Index Of Points'!$B33)),\"\",INDEX(Data!Z:Z,'Index Of Points'!$B33))","v":28},{"$f":"IF(ISERROR(INDEX(Data!AF:AF,'Index Of Points'!$B33)),\"\",INDEX(Data!AF:AF,'Index Of Points'!$B33))","v":28}]
[29,{"$f":"IF(ISERROR(MATCH(A34,Data!AF:AF,0)),\"\",MATCH(A34,Data!AF:AF,0))","v":237},5,null,{"$f":"IF(ISERROR(INDEX(Data!J:J,'Index Of Points'!$B34)),\"\",INDEX(Data!J:J,'Index Of Points'!$B34))","v":"User Drill #188  3 line rated mini tennis"},{"$f":"IF(ISERROR(INDEX(Data!K:K,'Index Of Points'!$B34)),\"\",INDEX(Data!K:K,'Index Of Points'!$B34))","v":0},{"$f":"IF(ISERROR(INDEX(Data!M:M,'Index Of Points'!$B34)),\"\",INDEX(Data!M:M,'Index Of Points'!$B34))","v":" "},{"$f":"IF(ISERROR(INDEX(Data!Z:Z,'Index Of Points'!$B34)),\"\",INDEX(Data!Z:Z,'Index Of Points'!$B34))","v":0},{"$f":"IF(ISERROR(INDEX(Data!AF:AF,'Index Of Points'!$B34)),\"\",INDEX(Data!AF:AF,'Index Of Points'!$B34))","v":29}]
[30,{"$f":"IF(ISERROR(MATCH(A35,Data!AF:AF,0)),\"\",MATCH(A35,Data!AF:AF,0))","v":242},4,null,{"$f":"IF(ISERROR(INDEX(Data!J:J,'Index Of Points'!$B35)),\"\",INDEX(Data!J:J,'Index Of Points'!$B35))","v":"Game against Boomer at level 2.5  Single point data:"},{"$f":"IF(ISERROR(INDEX(Data!K:K,'Index Of Points'!$B35)),\"\",INDEX(Data!K:K,'Index Of Points'!$B35))","v":"Player's point"},{"$f":"IF(ISERROR(INDEX(Data!M:M,'Index Of Points'!$B35)),\"\",INDEX(Data!M:M,'Index Of Points'!$B35))","v":"Player serving"},{"$f":"IF(ISERROR(INDEX(Data!Z:Z,'Index Of Points'!$B35)),\"\",INDEX(Data!Z:Z,'Index Of Points'!$B35))","v":30},{"$f":"IF(ISERROR(INDEX(Data!AF:AF,'Index Of Points'!$B35)),\"\",INDEX(Data!AF:AF,'Index Of Points'!$B35))","v":30}]
[31,{"$f":"IF(ISERROR(MATCH(A36,Data!AF:AF,0)),\"\",MATCH(A36,Data!AF:AF,0))","v":246},4,null,{"$f":"IF(ISERROR(INDEX(Data!J:J,'Index Of Points'!$B36)),\"\",INDEX(Data!J:J,'Index Of Points'!$B36))","v":"User Drill #188  3 line rated mini tennis"},{"$f":"IF(ISERROR(INDEX(Data!K:K,'Index Of Points'!$B36)),\"\",INDEX(Data!K:K,'Index Of Points'!$B36))","v":0},{"$f":"IF(ISERROR(INDEX(Data!M:M,'Index Of Points'!$B36)),\"\",INDEX(Data!M:M,'Index Of Points'!$B36))","v":" "},{"$f":"IF(ISERROR(INDEX(Data!Z:Z,'Index Of Points'!$B36)),\"\",INDEX(Data!Z:Z,'Index Of Points'!$B36))","v":0},{"$f":"IF(ISERROR(INDEX(Data!AF:AF,'Index Of Points'!$B36)),\"\",INDEX(Data!AF:AF,'Index Of Points'!$B36))","v":31}]
[32,{"$f":"IF(ISERROR(MATCH(A37,Data!AF:AF,0)),\"\",MATCH(A37,Data!AF:AF,0))","v":250},5,null,{"$f":"IF(ISERROR(INDEX(Data!J:J,'Index Of Points'!$B37)),\"\",INDEX(Data!J:J,'Index Of Points'!$B37))","v":"Game against Boomer at level 2.5  Single point data:"},{"$f":"IF(ISERROR(INDEX(Data!K:K,'Index Of Points'!$B37)),\"\",INDEX(Data!K:K,'Index Of Points'!$B37))","v":"Player's point"},{"$f":"IF(ISERROR(INDEX(Data!M:M,'Index Of Points'!$B37)),\"\",INDEX(Data!M:M,'Index Of Points'!$B37))","v":"Player serving"},{"$f":"IF(ISERROR(INDEX(Data!Z:Z,'Index Of Points'!$B37)),\"\",INDEX(Data!Z:Z,'Index Of Points'!$B37))","v":32},{"$f":"IF(ISERROR(INDEX(Data!AF:AF,'Index Of Points'!$B37)),\"\",INDEX(Data!AF:AF,'Index Of Points'!$B37))","v":32}]
[33,{"$f":"IF(ISERROR(MATCH(A38,Data!AF:AF,0)),\"\",MATCH(A38,Data!AF:AF,0))","v":255},4,null,{"$f":"IF(ISERROR(INDEX(Data!J:J,'Index Of Points'!$B38)),\"\",INDEX(Data!J:J,'Index Of Points'!$B38))","v":"Game against Boomer at level 2.5  Single point data:"},{"$f":"IF(ISERROR(INDEX(Data!K:K,'Index Of Points'!$B38)),\"\",INDEX(Data!K:K,'Index Of Points'!$B38))","v":"Player's point"},{"$f":"IF(ISERROR(INDEX(Data!M:M,'Index Of Points'!$B38)),\"\",INDEX(Data!M:M,'Index Of Points'!$B38))","v":"Boomer serving"},{"$f":"IF(ISERROR(INDEX(Data!Z:Z,'Index Of Points'!$B38)),\"\",INDEX(Data!Z:Z,'Index Of Points'!$B38))","v":33},{"$f":"IF(ISERROR(INDEX(Data!AF:AF,'Index Of Points'!$B38)),\"\",INDEX(Data!AF:AF,'Index Of Points'!$B38))","v":33}]
[{"$f":"IF(A38>MaxBlock-1,\"\",A38+1)","v":34},{"$f":"IF(ISERROR(MATCH(A39,Data!AF:AF,0)),\"\",MATCH(A39,Data!AF:AF,0))","v":259},7,null,{"$f":"IF(ISERROR(INDEX(Data!J:J,'Index Of Points'!$B39)),\"\",INDEX(Data!J:J,'Index Of Points'!$B39))","v":"Game against Boomer at level 2.5  Single point data:"},{"$f":"IF(ISERROR(INDEX(Data!K:K,'Index Of Points'!$B39)),\"\",INDEX(Data!K:K,'Index Of Points'!$B39))","v":"Player's point"},{"$f":"IF(ISERROR(INDEX(Data!M:M,'Index Of Points'!$B39)),\"\",INDEX(Data!M:M,'Index Of Points'!$B39))","v":"Boomer serving"},{"$f":"IF(ISERROR(INDEX(Data!Z:Z,'Index Of Points'!$B39)),\"\",INDEX(Data!Z:Z,'Index Of Points'!$B39))","v":34},{"$f":"IF(ISERROR(INDEX(Data!AF:AF,'Index Of Points'!$B39)),\"\",INDEX(Data!AF:AF,'Index Of Points'!$B39))","v":34}]
[35,{"$f":"IF(ISERROR(MATCH(A40,Data!AF:AF,0)),\"\",MATCH(A40,Data!AF:AF,0))","v":266},5,null,{"$f":"IF(ISERROR(INDEX(Data!J:J,'Index Of Points'!$B40)),\"\",INDEX(Data!J:J,'Index Of Points'!$B40))","v":"User Drill #188  3 line rated mini tennis"},{"$f":"IF(ISERROR(INDEX(Data!K:K,'Index Of Points'!$B40)),\"\",INDEX(Data!K:K,'Index Of Points'!$B40))","v":0},{"$f":"IF(ISERROR(INDEX(Data!M:M,'Index Of Points'!$B40)),\"\",INDEX(Data!M:M,'Index Of Points'!$B40))","v":" "},{"$f":"IF(ISERROR(INDEX(Data!Z:Z,'Index Of Points'!$B40)),\"\",INDEX(Data!Z:Z,'Index Of Points'!$B40))","v":0},{"$f":"IF(ISERROR(INDEX(Data!AF:AF,'Index Of Points'!$B40)),\"\",INDEX(Data!AF:AF,'Index Of Points'!$B40))","v":35}]
[36,{"$f":"IF(ISERROR(MATCH(A41,Data!AF:AF,0)),\"\",MATCH(A41,Data!AF:AF,0))","v":271},5,null,{"$f":"IF(ISERROR(INDEX(Data!J:J,'Index Of Points'!$B41)),\"\",INDEX(Data!J:J,'Index Of Points'!$B41))","v":"User Drill #188  3 line rated mini tennis"},{"$f":"IF(ISERROR(INDEX(Data!K:K,'Index Of Points'!$B41)),\"\",INDEX(Data!K:K,'Index Of Points'!$B41))","v":0},{"$f":"IF(ISERROR(INDEX(Data!M:M,'Index Of Points'!$B41)),\"\",INDEX(Data!M:M,'Index Of Points'!$B41))","v":" "},{"$f":"IF(ISERROR(INDEX(Data!Z:Z,'Index Of Points'!$B41)),\"\",INDEX(Data!Z:Z,'Index Of Points'!$B41))","v":0},{"$f":"IF(ISERROR(INDEX(Data!AF:AF,'Index Of Points'!$B41)),\"\",INDEX(Data!AF:AF,'Index Of Points'!$B41))","v":36}]
[37,{"$f":"IF(ISERROR(MATCH(A42,Data!AF:AF,0)),\"\",MATCH(A42,Data!AF:AF,0))","v":276},5,null,{"$f":"IF(ISERROR(INDEX(Data!J:J,'Index Of Points'!$B42)),\"\",INDEX(Data!J:J,'Index Of Points'!$B42))","v":"User Drill #188  3 line rated mini tennis"},{"$f":"IF(ISERROR(INDEX(Data!K:K,'Index Of Points'!$B42)),\"\",INDEX(Data!K:K,'Index Of Points'!$B42))","v":0},{"$f":"IF(ISERROR(INDEX(Data!M:M,'Index Of Points'!$B42)),\"\",INDEX(Data!M:M,'Index Of Points'!$B42))","v":" "},{"$f":"IF(ISERROR(INDEX(Data!Z:Z,'Index Of Points'!$B42)),\"\",INDEX(Data!Z:Z,'Index Of Points'!$B42))","v":0},{"$f":"IF(ISERROR(INDEX(Data!AF:AF,'Index Of Points'!$B42)),\"\",INDEX(Data!AF:AF,'Index Of Points'!$B42))","v":37}]
[38,{"$f":"IF(ISERROR(MATCH(A43,Data!AF:AF,0)),\"\",MATCH(A43,Data!AF:AF,0))","v":281},4,null,{"$f":"IF(ISERROR(INDEX(Data!J:J,'Index Of Points'!$B43)),\"\",INDEX(Data!J:J,'Index Of Points'!$B43))","v":"Game against Boomer at level 2.5  Single point data:"},{"$f":"IF(ISERROR(INDEX(Data!K:K,'Index Of Points'!$B43)),\"\",INDEX(Data!K:K,'Index Of Points'!$B43))","v":"Player's point"},{"$f":"IF(ISERROR(INDEX(Data!M:M,'Index Of Points'!$B43)),\"\",INDEX(Data!M:M,'Index Of Points'!$B43))","v":"Player serving"},{"$f":"IF(ISERROR(INDEX(Data!Z:Z,'Index Of Points'!$B43)),\"\",INDEX(Data!Z:Z,'Index Of Points'!$B43))","v":38},{"$f":"IF(ISERROR(INDEX(Data!AF:AF,'Index Of Points'!$B43)),\"\",INDEX(Data!AF:AF,'Index Of Points'!$B43))","v":38}]
[39,{"$f":"IF(ISERROR(MATCH(A44,Data!AF:AF,0)),\"\",MATCH(A44,Data!AF:AF,0))","v":285},4,null,{"$f":"IF(ISERROR(INDEX(Data!J:J,'Index Of Points'!$B44)),\"\",INDEX(Data!J:J,'Index Of Points'!$B44))","v":"Game against Boomer at level 2.5  Single point data:"},{"$f":"IF(ISERROR(INDEX(Data!K:K,'Index Of Points'!$B44)),\"\",INDEX(Data!K:K,'Index Of Points'!$B44))","v":"Player's point"},{"$f":"IF(ISERROR(INDEX(Data!M:M,'Index Of Points'!$B44)),\"\",INDEX(Data!M:M,'Index Of Points'!$B44))","v":"Player serving"},{"$f":"IF(ISERROR(INDEX(Data!Z:Z,'Index Of Points'!$B44)),\"\",INDEX(Data!Z:Z,'Index Of Points'!$B44))","v":39},{"$f":"IF(ISERROR(INDEX(Data!AF:AF,'Index Of Points'!$B44)),\"\",INDEX(Data!AF:AF,'Index Of Points'!$B44))","v":39}]
[40,{"$f":"IF(ISERROR(MATCH(A45,Data!AF:AF,0)),\"\",MATCH(A45,Data!AF:AF,0))","v":289},7,null,{"$f":"IF(ISERROR(INDEX(Data!J:J,'Index Of Points'!$B45)),\"\",INDEX(Data!J:J,'Index Of Points'!$B45))","v":"Game against Boomer at level 2.5  Single point data:"},{"$f":"IF(ISERROR(INDEX(Data!K:K,'Index Of Points'!$B45)),\"\",INDEX(Data!K:K,'Index Of Points'!$B45))","v":"Boomer's point"},{"$f":"IF(ISERROR(INDEX(Data!M:M,'Index Of Points'!$B45)),\"\",INDEX(Data!M:M,'Index Of Points'!$B45))","v":"Player serving"},{"$f":"IF(ISERROR(INDEX(Data!Z:Z,'Index Of Points'!$B45)),\"\",INDEX(Data!Z:Z,'Index Of Points'!$B45))","v":40},{"$f":"IF(ISERROR(INDEX(Data!AF:AF,'Index Of Points'!$B45)),\"\",INDEX(Data!AF:AF,'Index Of Points'!$B45))","v":40}]
[41,{"$f":"IF(ISERROR(MATCH(A46,Data!AF:AF,0)),\"\",MATCH(A46,Data!AF:AF,0))","v":296},4,null,{"$f":"IF(ISERROR(INDEX(Data!J:J,'Index Of Points'!$B46)),\"\",INDEX(Data!J:J,'Index Of Points'!$B46))","v":"User Drill #188  3 line rated mini tennis"},{"$f":"IF(ISERROR(INDEX(Data!K:K,'Index Of Points'!$B46)),\"\",INDEX(Data!K:K,'Index Of Points'!$B46))","v":0},{"$f":"IF(ISERROR(INDEX(Data!M:M,'Index Of Points'!$B46)),\"\",INDEX(Data!M:M,'Index Of Points'!$B46))","v":" "},{"$f":"IF(ISERROR(INDEX(Data!Z:Z,'Index Of Points'!$B46)),\"\",INDEX(Data!Z:Z,'Index Of Points'!$B46))","v":0},{"$f":"IF(ISERROR(INDEX(Data!AF:AF,'Index Of Points'!$B46)),\"\",INDEX(Data!AF:AF,'Index Of Points'!$B46))","v":41}]
[42,{"$f":"IF(ISERROR(MATCH(A47,Data!AF:AF,0)),\"\",MATCH(A47,Data!AF:AF,0))","v":300},4,null,{"$f":"IF(ISERROR(INDEX(Data!J:J,'Index Of Points'!$B47)),\"\",INDEX(Data!J:J,'Index Of Points'!$B47))","v":"User Drill #188  3 line rated mini tennis"},{"$f":"IF(ISERROR(INDEX(Data!K:K,'Index Of Points'!$B47)),\"\",INDEX(Data!K:K,'Index Of Points'!$B47))","v":0},{"$f":"IF(ISERROR(INDEX(Data!M:M,'Index Of Points'!$B47)),\"\",INDEX(Data!M:M,'Index Of Points'!$B47))","v":" "},{"$f":"IF(ISERROR(INDEX(Data!Z:Z,'Index Of Points'!$B47)),\"\",INDEX(Data!Z:Z,'Index Of Points'!$B47))","v":0},{"$f":"IF(ISERROR(INDEX(Data!AF:AF,'Index Of Points'!$B47)),\"\",INDEX(Data!AF:AF,'Index Of Points'!$B47))","v":42}]
[43,{"$f":"IF(ISERROR(MATCH(A48,Data!AF:AF,0)),\"\",MATCH(A48,Data!AF:AF,0))","v":304},8,null,{"$f":"IF(ISERROR(INDEX(Data!J:J,'Index Of Points'!$B48)),\"\",INDEX(Data!J:J,'Index Of Points'!$B48))","v":"User Drill #188  3 line rated mini tennis"},{"$f":"IF(ISERROR(INDEX(Data!K:K,'Index Of Points'!$B48)),\"\",INDEX(Data!K:K,'Index Of Points'!$B48))","v":0},{"$f":"IF(ISERROR(INDEX(Data!M:M,'Index Of Points'!$B48)),\"\",INDEX(Data!M:M,'Index Of Points'!$B48))","v":" "},{"$f":"IF(ISERROR(INDEX(Data!Z:Z,'Index Of Points'!$B48)),\"\",INDEX(Data!Z:Z,'Index Of Points'!$B48))","v":0},{"$f":"IF(ISERROR(INDEX(Data!AF:AF,'Index Of Points'!$B48)),\"\",INDEX(Data!AF:AF,'Index Of Points'!$B48))","v":43}]
[44,{"$f":"IF(ISERROR(MATCH(A49,Data!AF:AF,0)),\"\",MATCH(A49,Data!AF:AF,0))","v":312},7,null,{"$f":"IF(ISERROR(INDEX(Data!J:J,'Index Of Points'!$B49)),\"\",INDEX(Data!J:J,'Index Of Points'!$B49))","v":"User Drill #188  3 line rated mini tennis"},{"$f":"IF(ISERROR(INDEX(Data!K:K,'Index Of Points'!$B49)),\"\",INDEX(Data!K:K,'Index Of Points'!$B49))","v":0},{"$f":"IF(ISERROR(INDEX(Data!M:M,'Index Of Points'!$B49)),\"\",INDEX(Data!M:M,'Index Of Points'!$B49))","v":" "},{"$f":"IF(ISERROR(INDEX(Data!Z:Z,'Index Of Points'!$B49)),\"\",INDEX(Data!Z:Z,'Index Of Points'!$B49))","v":0},{"$f":"IF(ISERROR(INDEX(Data!AF:AF,'Index Of Points'!$B49)),\"\",INDEX(Data!AF:AF,'Index Of Points'!$B49))","v":44}]
[45,{"$f":"IF(ISERROR(MATCH(A50,Data!AF:AF,0)),\"\",MATCH(A50,Data!AF:AF,0))","v":319},2,null,{"$f":"IF(ISERROR(INDEX(Data!J:J,'Index Of Points'!$B50)),\"\",INDEX(Data!J:J,'Index Of Points'!$B50))","v":"Game against Boomer at level 2.5  Single point data:"},{"$f":"IF(ISERROR(INDEX(Data!K:K,'Index Of Points'!$B50)),\"\",INDEX(Data!K:K,'Index Of Points'!$B50))","v":"Player's point"},{"$f":"IF(ISERROR(INDEX(Data!M:M,'Index Of Points'!$B50)),\"\",INDEX(Data!M:M,'Index Of Points'!$B50))","v":"Boomer serving"},{"$f":"IF(ISERROR(INDEX(Data!Z:Z,'Index Of Points'!$B50)),\"\",INDEX(Data!Z:Z,'Index Of Points'!$B50))","v":45},{"$f":"IF(ISERROR(INDEX(Data!AF:AF,'Index Of Points'!$B50)),\"\",INDEX(Data!AF:AF,'Index Of Points'!$B50))","v":45}]
[46,{"$f":"IF(ISERROR(MATCH(A51,Data!AF:AF,0)),\"\",MATCH(A51,Data!AF:AF,0))","v":321},2,null,{"$f":"IF(ISERROR(INDEX(Data!J:J,'Index Of Points'!$B51)),\"\",INDEX(Data!J:J,'Index Of Points'!$B51))","v":"Game against Boomer at level 2.5  Single point data:"},{"$f":"IF(ISERROR(INDEX(Data!K:K,'Index Of Points'!$B51)),\"\",INDEX(Data!K:K,'Index Of Points'!$B51))","v":"Player's point"},{"$f":"IF(ISERROR(INDEX(Data!M:M,'Index Of Points'!$B51)),\"\",INDEX(Data!M:M,'Index Of Points'!$B51))","v":"Player serving"},{"$f":"IF(ISERROR(INDEX(Data!Z:Z,'Index Of Points'!$B51)),\"\",INDEX(Data!Z:Z,'Index Of Points'!$B51))","v":46},{"$f":"IF(ISERROR(INDEX(Data!AF:AF,'Index Of Points'!$B51)),\"\",INDEX(Data!AF:AF,'Index Of Points'!$B51))","v":46}]
[47,{"$f":"IF(ISERROR(MATCH(A52,Data!AF:AF,0)),\"\",MATCH(A52,Data!AF:AF,0))","v":323},2,null,{"$f":"IF(ISERROR(INDEX(Data!J:J,'Index Of Points'!$B52)),\"\",INDEX(Data!J:J,'Index Of Points'!$B52))","v":"Game against Boomer at level 2.5  Single point data:"},{"$f":"IF(ISERROR(INDEX(Data!K:K,'Index Of Points'!$B52)),\"\",INDEX(Data!K:K,'Index Of Points'!$B52))","v":"Boomer's point"},{"$f":"IF(ISERROR(INDEX(Data!M:M,'Index Of Points'!$B52)),\"\",INDEX(Data!M:M,'Index Of Points'!$B52))","v":"Player serving"},{"$f":"IF(ISERROR(INDEX(Data!Z:Z,'Index Of Points'!$B52)),\"\",INDEX(Data!Z:Z,'Index Of Points'!$B52))","v":47},{"$f":"IF(ISERROR(INDEX(Data!AF:AF,'Index Of Points'!$B52)),\"\",INDEX(Data!AF:AF,'Index Of Points'!$B52))","v":47}]
[48,{"$f":"IF(ISERROR(MATCH(A53,Data!AF:AF,0)),\"\",MATCH(A53,Data!AF:AF,0))","v":325},6,null,{"$f":"IF(ISERROR(INDEX(Data!J:J,'Index Of Points'!$B53)),\"\",INDEX(Data!J:J,'Index Of Points'!$B53))","v":"Game against Boomer at level 2.5  Single point data:"},{"$f":"IF(ISERROR(INDEX(Data!K:K,'Index Of Points'!$B53)),\"\",INDEX(Data!K:K,'Index Of Points'!$B53))","v":"Player's point"},{"$f":"IF(ISERROR(INDEX(Data!M:M,'Index Of Points'!$B53)),\"\",INDEX(Data!M:M,'Index Of Points'!$B53))","v":"Player serving"},{"$f":"IF(ISERROR(INDEX(Data!Z:Z,'Index Of Points'!$B53)),\"\",INDEX(Data!Z:Z,'Index Of Points'!$B53))","v":48},{"$f":"IF(ISERROR(INDEX(Data!AF:AF,'Index Of Points'!$B53)),\"\",INDEX(Data!AF:AF,'Index Of Points'!$B53))","v":48}]
[49,{"$f":"IF(ISERROR(MATCH(A54,Data!AF:AF,0)),\"\",MATCH(A54,Data!AF:AF,0))","v":331},1,null,{"$f":"IF(ISERROR(INDEX(Data!J:J,'Index Of Points'!$B54)),\"\",INDEX(Data!J:J,'Index Of Points'!$B54))","v":"Game against Boomer at level 2.5  Single point data:"},{"$f":"IF(ISERROR(INDEX(Data!K:K,'Index Of Points'!$B54)),\"\",INDEX(Data!K:K,'Index Of Points'!$B54))","v":"Player's point"},{"$f":"IF(ISERROR(INDEX(Data!M:M,'Index Of Points'!$B54)),\"\",INDEX(Data!M:M,'Index Of Points'!$B54))","v":"Player serving"},{"$f":"IF(ISERROR(INDEX(Data!Z:Z,'Index Of Points'!$B54)),\"\",INDEX(Data!Z:Z,'Index Of Points'!$B54))","v":49},{"$f":"IF(ISERROR(INDEX(Data!AF:AF,'Index Of Points'!$B54)),\"\",INDEX(Data!AF:AF,'Index Of Points'!$B54))","v":49}]
[50,{"$f":"IF(ISERROR(MATCH(A55,Data!AF:AF,0)),\"\",MATCH(A55,Data!AF:AF,0))","v":332},1,null,{"$f":"IF(ISERROR(INDEX(Data!J:J,'Index Of Points'!$B55)),\"\",INDEX(Data!J:J,'Index Of Points'!$B55))","v":"Game against Boomer at level 2.5  Single point data:"},{"$f":"IF(ISERROR(INDEX(Data!K:K,'Index Of Points'!$B55)),\"\",INDEX(Data!K:K,'Index Of Points'!$B55))","v":"Player's point"},{"$f":"IF(ISERROR(INDEX(Data!M:M,'Index Of Points'!$B55)),\"\",INDEX(Data!M:M,'Index Of Points'!$B55))","v":"Player serving"},{"$f":"IF(ISERROR(INDEX(Data!Z:Z,'Index Of Points'!$B55)),\"\",INDEX(Data!Z:Z,'Index Of Points'!$B55))","v":50},{"$f":"IF(ISERROR(INDEX(Data!AF:AF,'Index Of Points'!$B55)),\"\",INDEX(Data!AF:AF,'Index Of Points'!$B55))","v":50}]
[51,{"$f":"IF(ISERROR(MATCH(A56,Data!AF:AF,0)),\"\",MATCH(A56,Data!AF:AF,0))","v":333},1,null,{"$f":"IF(ISERROR(INDEX(Data!J:J,'Index Of Points'!$B56)),\"\",INDEX(Data!J:J,'Index Of Points'!$B56))","v":"Game against Boomer at level 2.5  Single point data:"},{"$f":"IF(ISERROR(INDEX(Data!K:K,'Index Of Points'!$B56)),\"\",INDEX(Data!K:K,'Index Of Points'!$B56))","v":"Player's point"},{"$f":"IF(ISERROR(INDEX(Data!M:M,'Index Of Points'!$B56)),\"\",INDEX(Data!M:M,'Index Of Points'!$B56))","v":"Boomer serving"},{"$f":"IF(ISERROR(INDEX(Data!Z:Z,'Index Of Points'!$B56)),\"\",INDEX(Data!Z:Z,'Index Of Points'!$B56))","v":51},{"$f":"IF(ISERROR(INDEX(Data!AF:AF,'Index Of Points'!$B56)),\"\",INDEX(Data!AF:AF,'Index Of Points'!$B56))","v":51}]
[52,{"$f":"IF(ISERROR(MATCH(A57,Data!AF:AF,0)),\"\",MATCH(A57,Data!AF:AF,0))","v":334},2,null,{"$f":"IF(ISERROR(INDEX(Data!J:J,'Index Of Points'!$B57)),\"\",INDEX(Data!J:J,'Index Of Points'!$B57))","v":"Game against Boomer at level 2.5  Single point data:"},{"$f":"IF(ISERROR(INDEX(Data!K:K,'Index Of Points'!$B57)),\"\",INDEX(Data!K:K,'Index Of Points'!$B57))","v":"Boomer's point"},{"$f":"IF(ISERROR(INDEX(Data!M:M,'Index Of Points'!$B57)),\"\",INDEX(Data!M:M,'Index Of Points'!$B57))","v":"Boomer serving"},{"$f":"IF(ISERROR(INDEX(Data!Z:Z,'Index Of Points'!$B57)),\"\",INDEX(Data!Z:Z,'Index Of Points'!$B57))","v":52},{"$f":"IF(ISERROR(INDEX(Data!AF:AF,'Index Of Points'!$B57)),\"\",INDEX(Data!AF:AF,'Index Of Points'!$B57))","v":52}]
[53,{"$f":"IF(ISERROR(MATCH(A58,Data!AF:AF,0)),\"\",MATCH(A58,Data!AF:AF,0))","v":336},2,null,{"$f":"IF(ISERROR(INDEX(Data!J:J,'Index Of Points'!$B58)),\"\",INDEX(Data!J:J,'Index Of Points'!$B58))","v":"Game against Boomer at level 2.5  Single point data:"},{"$f":"IF(ISERROR(INDEX(Data!K:K,'Index Of Points'!$B58)),\"\",INDEX(Data!K:K,'Index Of Points'!$B58))","v":"Player's point"},{"$f":"IF(ISERROR(INDEX(Data!M:M,'Index Of Points'!$B58)),\"\",INDEX(Data!M:M,'Index Of Points'!$B58))","v":"Boomer serving"},{"$f":"IF(ISERROR(INDEX(Data!Z:Z,'Index Of Points'!$B58)),\"\",INDEX(Data!Z:Z,'Index Of Points'!$B58))","v":53},{"$f":"IF(ISERROR(INDEX(Data!AF:AF,'Index Of Points'!$B58)),\"\",INDEX(Data!AF:AF,'Index Of Points'!$B58))","v":53}]
[54,{"$f":"IF(ISERROR(MATCH(A59,Data!AF:AF,0)),\"\",MATCH(A59,Data!AF:AF,0))","v":338},-338,null,{"$f":"IF(ISERROR(INDEX(Data!J:J,'Index Of Points'!$B59)),\"\",INDEX(Data!J:J,'Index Of Points'!$B59))","v":"Game against Boomer at level 2.5  Single point data:"},{"$f":"IF(ISERROR(INDEX(Data!K:K,'Index Of Points'!$B59)),\"\",INDEX(Data!K:K,'Index Of Points'!$B59))","v":"Player's point"},{"$f":"IF(ISERROR(INDEX(Data!M:M,'Index Of Points'!$B59)),\"\",INDEX(Data!M:M,'Index Of Points'!$B59))","v":"Boomer serving"},{"$f":"IF(ISERROR(INDEX(Data!Z:Z,'Index Of Points'!$B59)),\"\",INDEX(Data!Z:Z,'Index Of Points'!$B59))","v":54},{"$f":"IF(ISERROR(INDEX(Data!AF:AF,'Index Of Points'!$B59)),\"\",INDEX(Data!AF:AF,'Index Of Points'!$B59))","v":54}]

{"sheet":"Data","index":7,"n_rows":424,"n_cols":32,"rows_kept":424,"cut":false,"hidden":false,"merged":[]}
["Count","AvgShotWidth","AvgShotDepth","INType","Key","InKey","fDate","fPlayer","fTime","fGame","fPoint","fNewPoint","fServe","fball#","fDirection","SwingType","NRTPLevel","fDepth","fWidth","fScore","fSpeed","fTotal","AvgShotWidth","fSession","ID","fPointNum","fCoach","fLevel","fLocation","fCourt","fLights","fBlock"]
[1,{"$f":"IF(T2=0,\"\",IF(S2<13.5,13.5-S2,S2-13.5))","v":""},{"$f":"IF(T2=0,\"\",R2)","v":""},{"$f":"IF(T2=0,\"\",P2)","v":""},"5/9/2012Game against Boomer at level 2.0  Single point data:2",null,"2012-05-09","Allen Gibson","00:31:35","Game against Boomer at level 2.0  Single point data:","Boomer's point","New Point","Player serving",1,4,"Player Serve",2,0,0,0,null,0,null,2,22242,1,"Robert Allen Gibson",5,"Lake Lynn","Hard","No",1]
[{"$f":"IF(N3=1,A2+4,A2+1)","v":5},"","","","1/4/2013User Drill #85  3 line rated mini Tennis3.5",null,"2013-01-04","Allen Gibson"," ","User Drill #85  3 line rated mini Tennis",null,"New Point"," ",1,11,null,3.5,0,0,0,null,0,null,3,22799,0,"Robert Allen Gibson",5,"EAC","Hard","No",1]
[9,"","","","3/15/2012Game against Boomer at level 3.5  Single point data:3.5",null,"2012-03-15","Allen Gibson","04:33:05","Game against Boomer at level 3.5  Single point data:","Player's point","New Point","Boomer serving",1,4,"Player Serve",3.5,0,0,0,null,0,null,1,22148,1,"Robert Allen Gibson",5,"Lake Lynn","Hard","No",1]
[{"$f":"IF(N5=1,A4+4,A4+1)","v":10},{"$f":"IF(T5=0,\"\",IF(S5<13.5,13.5-S5,S5-13.5))","v":7.5},{"$f":"IF(T5=0,\"\",R5)","v":16},{"$f":"IF(T5=0,\"\",P5)","v":"Player Serve"},"3/15/2012Game against Boomer at level 3.5  Single point data:3.5","3.5","2012-03-15","Allen Gibson","04:33:05","Game against Boomer at level 3.5  Single point data:","Player's point",null,"Boomer serving",2,4,"Player Serve",3.5,16,21,3.6,54,3.5,"8",1,22149,1,"Robert Allen Gibson",5,"Lake Lynn","Hard","No",1]
[11,13.5,2,0,"1/4/2013User Drill #85  3 line rated mini Tennis3.5","3.5","2013-01-04","Allen Gibson"," ","User Drill #85  3 line rated mini Tennis",null,null," ",2,4,null,3.5,2,0,7,null,4,"14",3,22800,0,"Robert Allen Gibson",5,"EAC","Hard","No",1]
[12,"","","","5/9/2012Game against Boomer at level 2.0  Single point data:2",null,"2012-05-09","Allen Gibson","00:31:35","Game against Boomer at level 2.0  Single point data:","Boomer's point",null,"Player serving",2,4,"Player Serve",2,0,0,0,null,0,null,2,22243,1,"Robert Allen Gibson",5,"Lake Lynn","Hard","No",1]
[13,4.5,27,"Slice","3/15/2012Game against Boomer at level 3.5  Single point data:3.5","3.5","2012-03-15","Allen Gibson","04:33:05","Game against Boomer at level 3.5  Single point data:","Player's point",null,"Boomer serving",3,3,"Slice",3.5,27,9,4.7,38,3.8,"4",1,22150,1,"Robert Allen Gibson",5,"Lake Lynn","Hard","No",1]
[14,"","","","1/4/2013User Drill #85  3 line rated mini Tennis3.5",null,"2013-01-04","Allen Gibson"," ","User Drill #85  3 line rated mini Tennis",null,null," ",3,10,null,3.5,0,0,0,null,0,null,3,22801,0,"Robert Allen Gibson",5,"EAC","Hard","No",1]
[15,8.5,27,"Topspin","3/15/2012Game against Boomer at level 3.5  Single point data:3.5","3.5","2012-03-15","Allen Gibson","04:33:05","Game against Boomer at level 3.5  Single point data:","Player's point",null,"Boomer serving",4,4,"Topspin",3.5,27,5,5.2,45,5.2,"8",1,22151,1,"Robert Allen Gibson",5,"Lake Lynn","Hard","No",1]
[16,6.5,21,"Flat Drive","3/15/2012Game against Boomer at level 3.5  Single point data:3.5","3.5","2012-03-15","Allen Gibson","04:33:05","Game against Boomer at level 3.5  Single point data:","Player's point",null,"Boomer serving",5,3,"Flat Drive",3.5,21,20,4.2,42,3.7,"6",1,22152,1,"Robert Allen Gibson",5,"Lake Lynn","Hard","No",1]
[17,3.5,30,"Lob","3/15/2012Game against Boomer at level 3.5  Single point data:3.5","3.5","2012-03-15","Allen Gibson","04:33:05","Game against Boomer at level 3.5  Single point data:","Player's point",null,"Boomer serving",6,4,"Lob",3.5,30,10,4.5999999999999996,48,5.0999999999999996,"4",1,22153,1,"Robert Allen Gibson",5,"Lake Lynn","Hard","No",1]
[18,8.5,23,"Pass","3/15/2012Game against Boomer at level 3.5  Single point data:3.5","3.5","2012-03-15","Allen Gibson","04:33:05","Game against Boomer at level 3.5  Single point data:","Player's point",null,"Boomer serving",7,3,"Pass",3.5,23,22,4.5,32,3.5,"8",1,22154,1,"Robert Allen Gibson",5,"Lake Lynn","Hard","No",1]
[19,9.5,26,"Flat Drive","3/15/2012Game against Boomer at level 3.5  Single point data:3.5","3.5","2012-03-15","Allen Gibson","04:33:05","Game against Boomer at level 3.5  Single point data:","Player's point",null,"Boomer serving",8,4,"Flat Drive",3.5,26,4,6.2,44,5.6,"10",1,22155,1,"Robert Allen Gibson",5,"Lake Lynn","Hard","No",1]
[23,"","","","1/4/2013User Drill #85  3 line rated mini Tennis3.5",null,"2013-01-04","Allen Gibson"," ","User Drill #85  3 line rated mini Tennis",null,"New Point"," ",1,11,null,3.5,0,0,0,null,0,null,3,22802,0,"Robert Allen Gibson",5,"EAC","Hard","No",2]
[27,8.5,24,"Serve","3/15/2012Game against Boomer at level 3.5  Single point data:3.5","3.5","2012-03-15","Allen Gibson","04:33:32","Game against Boomer at level 3.5  Single point data:","Boomer's point","New Point","Boomer serving",1,5,"Serve",3.5,24,5,4.7,55,4.5,"8",1,22156,2,"Robert Allen Gibson",5,"Lake Lynn","Hard","No",2]
[31,2.5,16,"Player Serve","5/9/2012Game against Boomer at level 2.0  Single point data:2","2","2012-05-09","Allen Gibson","00:32:24","Game against Boomer at level 2.0  Single point data:","Player's point","New Point","Player serving",1,4,"Player Serve",2,16,16,4.9000000000000004,111,5.9,"2",2,22244,2,"Robert Allen Gibson",5,"Lake Lynn","Hard","No",2]
[32,8.5,32,0,"1/4/2013User Drill #85  3 line rated mini Tennis3.5","3.5","2013-01-04","Allen Gibson"," ","User Drill #85  3 line rated mini Tennis",null,null," ",2,4,null,3.5,32,22,5.8,49,6.3,"8",3,22803,0,"Robert Allen Gibson",5,"EAC","Hard","No",2]
[33,10.5,17,"Drop Shot","3/15/2012Game against Boomer at level 3.5  Single point data:3.5","3.5","2012-03-15","Allen Gibson","04:33:32","Game against Boomer at level 3.5  Single point data:","Boomer's point",null,"Boomer serving",2,3,"Drop Shot",3.5,17,24,4.2,48,4,"10",1,22157,2,"Robert Allen Gibson",5,"Lake Lynn","Hard","No",2]
[34,2.5,29,"Pass","3/15/2012Game against Boomer at level 3.5  Single point data:3.5","3.5","2012-03-15","Allen Gibson","04:33:32","Game against Boomer at level 3.5  Single point data:","Boomer's point",null,"Boomer serving",3,5,"Pass",3.5,29,11,4.7,40,3.9,"2",1,22158,2,"Robert Allen Gibson",5,"Lake Lynn","Hard","No",2]
[35,"","","","1/4/2013User Drill #85  3 line rated mini Tennis3.5",null,"2013-01-04","Allen Gibson"," ","User Drill #85  3 line rated mini Tennis",null,null," ",3,10,null,3.5,0,0,0,null,0,null,3,22804,0,"Robert Allen Gibson",5,"EAC","Hard","No",2]
[36,"","","","3/15/2012Game against Boomer at level 3.5  Single point data:3.5",null,"2012-03-15","Allen Gibson","04:33:32","Game against Boomer at level 3.5  Single point data:","Boomer's point",null,"Boomer serving",4,4,"Pass",3.5,0,0,0,null,0,null,1,22159,2,"Robert Allen Gibson",5,"Lake Lynn","Hard","No",2]
[40,"","","","1/4/2013User Drill #85  3 line rated mini Tennis3.5",null,"2013-01-04","Allen Gibson"," ","User Drill #85  3 line rated mini Tennis",null,"New Point"," ",1,11,null,3.5,0,0,0,null,0,null,3,22805,0,"Robert Allen Gibson",5,"EAC","Hard","No",3]
[44,6.5,17,"Serve","3/15/2012Game against Boomer at level 3.5  Single point data:3.5","3.5","2012-03-15","Allen Gibson","04:33:58","Game against Boomer at level 3.5  Single point data:","Boomer's point","New Point","Player serving",1,3,"Serve",3.5,17,7,3.7,38,3.3,"6",1,22160,3,"Robert Allen Gibson",5,"Lake Lynn","Hard","No",3]
[48,8.5,16,"Player Serve","5/9/2012Game against Boomer at level 2.0  Single point data:2","2","2012-05-09","Allen Gibson","00:32:42","Game against Boomer at level 2.0  Single point data:","Player's point","New Point","Player serving",1,4,"Player Serve",2,16,5,4.0999999999999996,109,5.5,"8",2,22245,3,"Robert Allen Gibson",5,"Lake Lynn","Hard","No",3]
[49,7.5,35,"Topspin","3/15/2012Game against Boomer at level 3.5  Single point data:3.5","3.5","2012-03-15","Allen Gibson","04:33:58","Game against Boomer at level 3.5  Single point data:","Boomer's point",null,"Player serving",2,5,"Topspin",3.5,35,6,6.1,44,4.8,"8",1,22161,3,"Robert Allen Gibson",5,"Lake Lynn","Hard","No",3]
[50,"","","","1/4/2013User Drill #85  3 line rated mini Tennis3.5",null,"2013-01-04","Allen Gibson"," ","User Drill #85  3 line rated mini Tennis",null,null," ",2,4,null,3.5,0,0,0,null,0,null,3,22806,0,"Robert Allen Gibson",5,"EAC","Hard","No",3]
[51,9.5,29,"Topspin","3/15/2012Game against Boomer at level 3.5  Single point data:3.5","3.5","2012-03-15","Allen Gibson","04:33:58","Game against Boomer at level 3.5  Single point data:","Boomer's point",null,"Player serving",3,6,"Topspin",3.5,29,4,5.7,42,4.5,"10",1,22162,3,"Robert Allen Gibson",5,"Lake Lynn","Hard","No",3]
[52,"","","","1/4/2013User Drill #85  3 line rated mini Tennis3.5",null,"2013-01-04","Allen Gibson"," ","User Drill #85  3 line rated mini Tennis",null,null," ",3,10,null,3.5,0,0,0,null,0,null,3,22807,0,"Robert Allen Gibson",5,"EAC","Hard","No",3]
[53,"","","","3/15/2012Game against Boomer at level 3.5  Single point data:3.5",null,"2012-03-15","Allen Gibson","04:33:58","Game against Boomer at level 3.5  Single point data:","Boomer's point",null,"Player serving",4,4,"Topspin",3.5,0,0,0,null,0,null,1,22163,3,"Robert Allen Gibson",5,"Lake Lynn","Hard","No",3]
[57,6.5,18,"Player Serve","5/9/2012Game against Boomer at level 2.0  Single point data:2","2","2012-05-09","Allen Gibson","00:33:00","Game against Boomer at level 2.0  Single point data:","Player's point","New Point","Player serving",1,4,"Player Serve",2,18,20,3.9,108,5.3,"6",2,22246,4,"Robert Allen Gibson",5,"Lake Lynn","Hard","No",4]
[61,2.5,14,0,"1/4/2013User Drill #85  3 line rated mini Tennis3.5","3.5","2013-01-04","Allen Gibson"," ","User Drill #85  3 line rated mini Tennis",null,"New Point"," ",1,11,null,3.5,14,11,2.2999999999999998,93,4.5999999999999996,"2",3,22808,0,"Robert Allen Gibson",5,"EAC","Hard","No",4]
[65,6.5,15,"Player Serve","3/15/2012Game against Boomer at level 3.5  Single point data:3.5","3.5","2012-03-15","Allen Gibson","04:34:28","Game against Boomer at level 3.5  Single point data:","Boomer's point","New Point","Player serving",1,4,"Player Serve",3.5,15,7,3.3,101,4.8,"6",1,22164,4,"Robert Allen Gibson",5,"Lake Lynn","Hard","No",4]
[66,10.5,6,0,"1/4/2013User Drill #85  3 line rated mini Tennis3.5","3.5","2013-01-04","Allen Gibson"," ","User Drill #85  3 line rated mini Tennis",null,null," ",2,4,null,3.5,6,3,6.2,16,4.2,"10",3,22809,0,"Robert Allen Gibson",5,"EAC","Hard","No",4]
[67,4.5,8,"Topspin","3/15/2012Game against Boomer at level 3.5  Single point data:3.5","3.5","2012-03-15","Allen Gibson","04:34:28","Game against Boomer at level 3.5  Single point data:","Boomer's point",null,"Player serving",2,6,"Topspin",3.5,8,18,2.2999999999999998,20,1.9,"4",1,22165,4,"Robert Allen Gibson",5,"Lake Lynn","Hard","No",4]
[68,4.5,18,"Heavy Topspin","3/15/2012Game against Boomer at level 3.5  Single point data:3.5","3.5","2012-03-15","Allen Gibson","04:34:28","Game against Boomer at level 3.5  Single point data:","Boomer's point",null,"Player serving",3,4,"Heavy Topspin",3.5,18,18,3.2,11,2.2000000000000002,"4",1,22166,4,"Robert Allen Gibson",5,"Lake Lynn","Hard","No",4]
[69,"","","","1/4/2013User Drill #85  3 line rated mini Tennis3.5",null,"2013-01-04","Allen Gibson"," ","User Drill #85  3 line rated mini Tennis",null,null," ",3,10,null,3.5,0,0,0,null,0,null,3,22810,0,"Robert Allen Gibson",5,"EAC","Hard","No",4]
[70,4.5,24,"Pass","3/15/2012Game against Boomer at level 3.5  Single point data:3.5","3.5","2012-03-15","Allen Gibson","04:34:28","Game against Boomer at level 3.5  Single point data:","Boomer's point",null,"Player serving",4,4,"Pass",3.5,24,18,4,20,3.1,"4",1,22167,4,"Robert Allen Gibson",5,"Lake Lynn","Hard","No",4]
[71,"","","","3/15/2012Game against Boomer at level 3.5  Single point data:3.5",null,"2012-03-15","Allen Gibson","04:34:28","Game against Boomer at level 3.5  Single point data:","Boomer's point",null,"Player serving",5,4,"Lob",3.5,0,0,0,null,0,null,1,22168,4,"Robert Allen Gibson",5,"Lake Lynn","Hard","No",4]
[75,"","","","1/4/2013User Drill #85  3 line rated mini Tennis3.5",null,"2013-01-04","Allen Gibson"," ","User Drill #85  3 line rated mini Tennis",null,"New Point"," ",1,11,null,3.5,0,0,0,null,0,null,3,22811,0,"Robert Allen Gibson",5,"EAC","Hard","No",5]
[79,7.5,16,"Player Serve","5/9/2012Game against Boomer at level 2.0  Single point data:2","2","2012-05-09","Allen Gibson","00:33:20","Game against Boomer at level 2.0  Single point data:","Player's point","New Point","Boomer serving",1,4,"Player Serve",2,16,6,3.8,110,5.3,"8",2,22247,5,"Robert Allen Gibson",5,"Lake Lynn","Hard","No",5]
[83,4.5,15,"Player Serve","3/15/2012Game against Boomer at level 3.5  Single point data:3.5","3.5","2012-03-15","Allen Gibson","04:35:12","Game against Boomer at level 3.5  Single point data:","Player's point","New Point","Boomer serving",1,4,"Player Serve",3.5,15,18,3.8,93,4.8,"4",1,22169,6,"Robert Allen Gibson",5,"Lake Lynn","Hard","No",5]
[84,"","","","1/4/2013User Drill #85  3 line rated mini Tennis3.5",null,"2013-01-04","Allen Gibson"," ","User Drill #85  3 line rated mini Tennis",null,null," ",2,4,null,3.5,0,0,0,null,0,null,3,22812,0,"Robert Allen Gibson",5,"EAC","Hard","No",5]
[85,8.5,27,"Flat Drive","3/15/2012Game against Boomer at level 3.5  Single point data:3.5","3.5","2012-03-15","Allen Gibson","04:35:12","Game against Boomer at level 3.5  Single point data:","Player's point",null,"Boomer serving",2,5,"Flat Drive",3.5,27,5,5.3,36,4,"8",1,22170,6,"Robert Allen Gibson",5,"Lake Lynn","Hard","No",5]
[86,6.5,4,0,"1/4/2013User Drill #85  3 line rated mini Tennis3.5","3.5","2013-01-04","Allen Gibson"," ","User Drill #85  3 line rated mini Tennis",null,null," ",3,10,null,3.5,4,7,2.1,26,2.8,"6",3,22813,0,"Robert Allen Gibson",5,"EAC","Hard","No",5]
[87,2.5,33,"Lob","3/15/2012Game against Boomer at level 3.5  Single point data:3.5","3.5","2012-03-15","Allen Gibson","04:35:12","Game against Boomer at level 3.5  Single point data:","Player's point",null,"Boomer serving",3,4,"Lob",3.5,33,11,5,43,4.2,"2",1,22171,6,"Robert Allen Gibson",5,"Lake Lynn","Hard","No",5]
[88,10.5,22,"Pass","3/15/2012Game against Boomer at level 3.5  Single point data:3.5","3.5","2012-03-15","Allen Gibson","04:35:12","Game against Boomer at level 3.5  Single point data:","Player's point",null,"Boomer serving",4,5,"Pass",3.5,22,3,6.2,37,5.2,"10",1,22172,6,"Robert Allen Gibson",5,"Lake Lynn","Hard","No",5]
[89,9.5,23,"Topspin","3/15/2012Game against Boomer at level 3.5  Single point data:3.5","3.5","2012-03-15","Allen Gibson","04:35:12","Game against Boomer at level 3.5  Single point data:","Player's point",null,"Boomer serving",5,4,"Topspin",3.5,23,23,4.9000000000000004,48,5.2,"10",1,22173,6,"Robert Allen Gibson",5,"Lake Lynn","Hard","No",5]
[93,9.5,23,"Serve","5/9/2012Game against Boomer at level 2.0  Single point data:2","2","2012-05-09","Allen Gibson","00:33:47","Game against Boomer at level 2.0  Single point data:","Player's point","New Point","Boomer serving",1,0,"Serve",2,23,23,4.7,47,4.2,"10",2,22248,6,"Robert Allen Gibson",5,"Lake Lynn","Hard","No",6]
[97,8.5,23,"Serve","3/15/2012Game against Boomer at level 3.5  Single point data:3.5","3.5","2012-03-15","Allen Gibson","04:35:35","Game against Boomer at level 3.5  Single point data:","Player's point","New Point","Boomer serving",1,5,"Serve",3.5,23,5,4.7,36,3.7,"8",1,22174,7,"Robert Allen Gibson",5,"Lake Lynn","Hard","No",6]
[101,"","","","1/4/2013User Drill #85  3 line rated mini Tennis3.5",null,"2013-01-04","Allen Gibson"," ","User Drill #85  3 line rated mini Tennis",null,"New Point"," ",1,11,null,3.5,0,0,0,null,0,null,3,22814,0,"Robert Allen Gibson",5,"EAC","Hard","No",6]
[102,12.5,22,"Heavy Topspin","5/9/2012Game against Boomer at level 2.0  Single point data:2","2","2012-05-09","Allen Gibson","00:33:47","Game against Boomer at level 2.0  Single point data:","Player's point",null,"Boomer serving",2,3,"Heavy Topspin",2,22,1,5,40,4.0999999999999996,"12",2,22249,6,"Robert Allen Gibson",5,"Lake Lynn","Hard","No",6]
[103,"","","","1/4/2013User Drill #85  3 line rated mini Tennis3.5",null,"2013-01-04","Allen Gibson"," ","User Drill #85  3 line rated mini Tennis",null,null," ",2,4,null,3.5,0,0,0,null,0,null,3,22815,0,"Robert Allen Gibson",5,"EAC","Hard","No",6]
[104,9.5,27,"Topspin","3/15/2012Game against Boomer at level 3.5  Single point data:3.5","3.5","2012-03-15","Allen Gibson","04:35:35","Game against Boomer at level 3.5  Single point data:","Player's point",null,"Boomer serving",2,6,"Topspin",3.5,27,4,6.2,44,5.6,"10",1,22175,7,"Robert Allen Gibson",5,"Lake Lynn","Hard","No",6]
[105,11.5,37,"Topspin","5/9/2012Game against Boomer at level 2.0  Single point data:2","2","2012-05-09","Allen Gibson","00:33:47","Game against Boomer at level 2.0  Single point data:","Player's point",null,"Boomer serving",3,4,"Topspin",2,37,2,6.5,49,5.2,"12",2,22250,6,"Robert Allen Gibson",5,"Lake Lynn","Hard","No",6]
[106,"","","","1/4/2013User Drill #85  3 line rated mini Tennis3.5",null,"2013-01-04","Allen Gibson"," ","User Drill #85  3 line rated mini Tennis",null,null," ",3,10,null,3.5,0,0,0,null,0,null,3,22816,0,"Robert Allen Gibson",5,"EAC","Hard","No",6]
[110,5.5,22,"Serve","5/9/2012Game against Boomer at level 2.0  Single point data:2","2","2012-05-09","Allen Gibson","00:34:06","Game against Boomer at level 2.0  Single point data:","Boomer's point","New Point","Boomer serving",1,5,"Serve",2,22,8,3.9,46,3.7,"6",2,22251,7,"Robert Allen Gibson",5,"Lake Lynn","Hard","No",7]
[114,"","","","1/4/2013User Drill #85  3 line rated mini Tennis3.5",null,"2013-01-04","Allen Gibson"," ","User Drill #85  3 line rated mini Tennis",null,"New Point"," ",1,11,null,3.5,0,0,0,null,0,null,3,22817,0,"Robert Allen Gibson",5,"EAC","Hard","No",7]
[118,"","","","3/15/2012Game against Boomer at level 3.5  Single point data:3.5",null,"2012-03-15","Allen Gibson","04:35:48","Game against Boomer at level 3.5  Single point data:","Boomer's point","New Point","Player serving",1,0,"Serve",3.5,0,0,0,null,0,null,1,22176,8,"Robert Allen Gibson",5,"Lake Lynn","Hard","No",7]
[119,"","","","5/9/2012Game against Boomer at level 2.0  Single point data:2",null,"2012-05-09","Allen Gibson","00:34:06","Game against Boomer at level 2.0  Single point data:","Boomer's point",null,"Boomer serving",2,4,"Topspin",2,0,0,0,null,0,null,2,22252,7,"Robert Allen Gibson",5,"Lake Lynn","Hard","No",7]
[120,"","","","1/4/2013User Drill #85  3 line rated mini Tennis3.5",null,"2013-01-04","Allen Gibson"," ","User Drill #85  3 line rated mini Tennis",null,null," ",2,4,null,3.5,0,0,0,null,0,null,3,22818,0,"Robert Allen Gibson",5,"EAC","Hard","No",7]
[121,"","","","1/4/2013User Drill #85  3 line rated mini Tennis3.5",null,"2013-01-04","Allen Gibson"," ","User Drill #85  3 line rated mini Tennis",null,null," ",3,10,null,3.5,0,0,0,null,0,null,3,22819,0,"Robert Allen Gibson",5,"EAC","Hard","No",7]
[125,7.5,11,"Player Serve","3/15/2012Game against Boomer at level 3.5  Single point data:3.5","3.5","2012-03-15","Allen Gibson","04:36:22","Game against Boomer at level 3.5  Single point data:","Player's point","New Point","Player serving",1,4,"Player Serve",3.5,11,6,2.5,96,4.3,"8",1,22177,9,"Robert Allen Gibson",5,"Lake Lynn","Hard","No",8]
[129,"","","","1/4/2013User Drill #85  3 line rated mini Tennis3.5",null,"2013-01-04","Allen Gibson"," ","User Drill #85  3 line rated mini Tennis",null,"New Point"," ",1,11,null,3.5,0,0,0,null,0,null,3,22820,0,"Robert Allen Gibson",5,"EAC","Hard","No",8]
[133,11.5,25,"Serve","5/9/2012Game against Boomer at level 2.0  Single point data:2","2","2012-05-09","Allen Gibson","00:34:26","Game against Boomer at level 2.0  Single point data:","Player's point","New Point","Boomer serving",1,0,"Serve",2,25,25,5.3,45,4.4000000000000004,"12",2,22253,8,"Robert Allen Gibson",5,"Lake Lynn","Hard","No",8]
[134,"","","","1/4/2013User Drill #85  3 line rated mini Tennis3.5",null,"2013-01-04","Allen Gibson"," ","User Drill #85  3 line rated mini Tennis",null,null," ",2,4,null,3.5,0,0,0,null,0,null,3,22821,0,"Robert Allen Gibson",5,"EAC","Hard","No",8]
[135,7.5,29,"Heavy Topspin","5/9/2012Game against Boomer at level 2.0  Single point data:2","2","2012-05-09","Allen Gibson","00:34:26","Game against Boomer at level 2.0  Single point data:","Player's point",null,"Boomer serving",2,5,"Heavy Topspin",2,29,21,5.3,47,4.5,"8",2,22254,8,"Robert Allen Gibson",5,"Lake Lynn","Hard","No",8]
[136,9.5,28,"Topspin","3/15/2012Game against Boomer at level 3.5  Single point data:3.5","3.5","2012-03-15","Allen Gibson","04:36:22","Game against Boomer at level 3.5  Single point data:","Player's point",null,"Player serving",2,4,"Topspin",3.5,28,23,5.7,43,4.5,"10",1,22178,9,"Robert Allen Gibson",5,"Lake Lynn","Hard","No",8]
[{"$f":"IF(N69=1,A68+4,A68+1)","v":137},{"$f":"IF(T69=0,\"\",IF(S69<13.5,13.5-S69,S69-13.5))","v":6.5},{"$f":"IF(T69=0,\"\",R69)","v":31},{"$f":"IF(T69=0,\"\",P69)","v":"Drop Shot"},"3/15/2012Game against Boomer at level 3.5  Single point data:3.5","3.5","2012-03-15","Allen Gibson","04:36:22","Game against Boomer at level 3.5  Single point data:","Player's point",null,"Player serving",3,5,"Drop Shot",3.5,31,7,5.3,41,4.2,"6",1,22179,9,"Robert Allen Gibson",5,"Lake Lynn","Hard","No",8]
[138,"","","","1/4/2013User Drill #85  3 line rated mini Tennis3.5",null,"2013-01-04","Allen Gibson"," ","User Drill #85  3 line rated mini Tennis",null,null," ",3,10,null,3.5,0,0,0,null,0,null,3,22822,0,"Robert Allen Gibson",5,"EAC","Hard","No",8]
[139,3.5,19,"Lob","3/15/2012Game against Boomer at level 3.5  Single point data:3.5","3.5","2012-03-15","Allen Gibson","04:36:22","Game against Boomer at level 3.5  Single point data:","Player's point",null,"Player serving",4,3,"Lob",3.5,19,17,3.2,106,7,"4",1,22180,9,"Robert Allen Gibson",5,"Lake Lynn","Hard","No",8]
[143,6.5,16,"Player Serve","3/15/2012Game against Boomer at level 3.5  Single point data:3.5","3.5","2012-03-15","Allen Gibson","04:36:41","Game against Boomer at level 3.5  Single point data:","Player's point","New Point","Boomer serving",1,4,"Player Serve",3.5,16,20,3.5,111,5.2,"6",1,22181,10,"Robert Allen Gibson",5,"Lake Lynn","Hard","No",9]
[147,"","","","1/4/2013User Drill #85  3 line rated mini Tennis3.5",null,"2013-01-04","Allen Gibson"," ","User Drill #85  3 line rated mini Tennis",null,"New Point"," ",1,11,null,3.5,0,0,0,null,0,null,3,22823,0,"Robert Allen Gibson",5,"EAC","Hard","No",9]
[151,9.5,28,"Serve","5/9/2012Game against Boomer at level 2.0  Single point data:2","2","2012-05-09","Allen Gibson","00:34:50","Game against Boomer at level 2.0  Single point data:","Player's point","New Point","Boomer serving",1,8,"Serve",2,28,4,5.3,49,4.5999999999999996,"10",2,22255,9,"Robert Allen Gibson",5,"Lake Lynn","Hard","No",9]
[152,5.5,25,0,"1/4/2013User Drill #85  3 line rated mini Tennis3.5","3.5","2013-01-04","Allen Gibson"," ","User Drill #85  3 line rated mini Tennis",null,null," ",2,4,null,3.5,25,19,4.3,35,4.5999999999999996,"6",3,22824,0,"Robert Allen Gibson",5,"EAC","Hard","No",9]
[153,8.5,20,"Heavy Topspin","5/9/2012Game against Boomer at level 2.0  Single point data:2","2","2012-05-09","Allen Gibson","00:34:50","Game against Boomer at level 2.0  Single point data:","Player's point",null,"Boomer serving",2,5,"Heavy Topspin",2,20,5,4.2,46,3.9,"8",2,22256,9,"Robert Allen Gibson",5,"Lake Lynn","Hard","No",9]
[154,10.5,25,"Pass","5/9/2012Game against Boomer at level 2.0  Single point data:2","2","2012-05-09","Allen Gibson","00:34:50","Game against Boomer at level 2.0  Single point data:","Player's point",null,"Boomer serving",3,3,"Pass",2,25,3,5.3,50,4.5999999999999996,"10",2,22257,9,"Robert Allen Gibson",5,"Lake Lynn","Hard","No",9]
[155,"","","","1/4/2013User Drill #85  3 line rated mini Tennis3.5",null,"2013-01-04","Allen Gibson"," ","User Drill #85  3 line rated mini Tennis",null,null," ",3,10,null,3.5,0,0,0,null,0,null,3,22825,0,"Robert Allen Gibson",5,"EAC","Hard","No",9]
[159,"","","","1/4/2013User Drill #85  3 line rated mini Tennis3.5",null,"2013-01-04","Allen Gibson"," ","User Drill #85  3 line rated mini Tennis",null,"New Point"," ",1,11,null,3.5,0,0,0,null,0,null,3,22826,0,"Robert Allen Gibson",5,"EAC","Hard","No",10]
[163,3.5,28,"Serve","3/15/2012Game against Boomer at level 3.5  Single point data:3.5","3.5","2012-03-15","Allen Gibson","04:37:06","Game against Boomer at level 3.5  Single point data:","Boomer's point","New Point","Boomer serving",1,8,"Serve",3.5,28,10,4.5,35,3.6,"4",1,22182,11,"Robert Allen Gibson",5,"Lake Lynn","Hard","No",10]
[167,9.5,31,"Serve","5/9/2012Game against Boomer at level 2.0  Single point data:2","2","2012-05-09","Allen Gibson","00:35:20","Game against Boomer at level 2.0  Single point data:","Player's point","New Point","Player serving",1,3,"Serve",2,31,4,5.9,50,4.9000000000000004,"10",2,22258,10,"Robert Allen Gibson",5,"Lake Lynn","Hard","No",10]
[168,5.5,16,"Topspin","3/15/2012Game against Boomer at level 3.5  Single point data:3.5","3.5","2012-03-15","Allen Gibson","04:37:06","Game against Boomer at level 3.5  Single point data:","Boomer's point",null,"Boomer serving",2,4,"Topspin",3.5,16,19,2.9,41,3.8,"6",1,22183,11,"Robert Allen Gibson",5,"Lake Lynn","Hard","No",10]
[169,6.5,21,0,"1/4/2013User Drill #85  3 line rated mini Tennis3.5","3.5","2013-01-04","Allen Gibson"," ","User Drill #85  3 line rated mini Tennis",null,null," ",2,4,null,3.5,21,7,4,30,4.0999999999999996,"6",3,22827,0,"Robert Allen Gibson",5,"EAC","Hard","No",10]
[170,11.5,35,"Heavy Topspin","5/9/2012Game against Boomer at level 2.0  Single point data:2","2","2012-05-09","Allen Gibson","00:35:20","Game against Boomer at level 2.0  Single point data:","Player's point",null,"Player serving",2,3,"Heavy Topspin",2,35,2,6.5,54,5.4,"12",2,22259,10,"Robert Allen Gibson",5,"Lake Lynn","Hard","No",10]
[171,"","","","1/4/2013User Drill #85  3 line rated mini Tennis3.5",null,"2013-01-04","Allen Gibson"," ","User Drill #85  3 line rated mini Tennis",null,null," ",3,10,null,3.5,0,0,0,null,0,null,3,22828,0,"Robert Allen Gibson",5,"EAC","Hard","No",10]
[172,4.5,14,"Topspin","3/15/2012Game against Boomer at level 3.5  Single point data:3.5","3.5","2012-03-15","Allen Gibson","04:37:06","Game against Boomer at level 3.5  Single point data:","Boomer's point",null,"Boomer serving",3,5,"Topspin",3.5,14,9,2.6,44,3.8,"4",1,22184,11,"Robert Allen Gibson",5,"Lake Lynn","Hard","No",10]
[173,"","","","3/15/2012Game against Boomer at level 3.5  Single point data:3.5",null,"2012-03-15","Allen Gibson","04:37:06","Game against Boomer at level 3.5  Single point data:","Boomer's point",null,"Boomer serving",4,4,"Lob",3.5,0,0,0,null,0,null,1,22185,11,"Robert Allen Gibson",5,"Lake Lynn","Hard","No",10]
[177,4.5,27,"Serve","3/15/2012Game against Boomer at level 3.5  Single point data:3.5","3.5","2012-03-15","Allen Gibson","04:37:32","Game against Boomer at level 3.5  Single point data:","Player's point","New Point","Boomer serving",1,3,"Serve",3.5,27,9,4.7,35,3.7,"4",1,22186,12,"Robert Allen Gibson",5,"Lake Lynn","Hard","No",11]
[181,3.5,19,"Player Serve","5/9/2012Game against Boomer at level 2.0  Single point data:2","2","2012-05-09","Allen Gibson","00:35:41","Game against Boomer at level 2.0  Single point data:","Player's point","New Point","Player serving",1,4,"Player Serve",2,19,17,5.4,108,6.1,"4",2,22260,11,"Robert Allen Gibson",5,"Lake Lynn","Hard","No",11]
[185,"","","","1/4/2013User Drill #85  3 line rated mini Tennis3.5",null,"2013-01-04","Allen Gibson"," ","User Drill #85  3 line rated mini Tennis",null,"New Point"," ",1,11,null,3.5,0,0,0,null,0,null,3,22829,0,"Robert Allen Gibson",5,"EAC","Hard","No",11]
[186,5.5,24,"Topspin","3/15/2012Game against Boomer at level 3.5  Single point data:3.5","3.5","2012-03-15","Allen Gibson","04:37:32","Game against Boomer at level 3.5  Single point data:","Player's point",null,"Boomer serving",2,3,"Topspin",3.5,24,19,4,55,5.2,"6",1,22187,12,"Robert Allen Gibson",5,"Lake Lynn","Hard","No",11]
[187,"","","","1/4/2013User Drill #85  3 line rated mini Tennis3.5",null,"2013-01-04","Allen Gibson"," ","User Drill #85  3 line rated mini Tennis",null,null," ",2,4,null,3.5,0,0,0,null,0,null,3,22830,0,"Robert Allen Gibson",5,"EAC","Hard","No",11]
[188,8.5,21,"Flat Drive","3/15/2012Game against Boomer at level 3.5  Single point data:3.5","3.5","2012-03-15","Allen Gibson","04:37:32","Game against Boomer at level 3.5  Single point data:","Player's point",null,"Boomer serving",3,2,"Flat Drive",3.5,21,5,4.9000000000000004,37,4.5999999999999996,"8",1,22188,12,"Robert Allen Gibson",5,"Lake Lynn","Hard","No",11]
[189,"","","","1/4/2013User Drill #85  3 line rated mini Tennis3.5",null,"2013-01-04","Allen Gibson"," ","User Drill #85  3 line rated mini Tennis",null,null," ",3,10,null,3.5,0,0,0,null,0,null,3,22831,0,"Robert Allen Gibson",5,"EAC","Hard","No",11]
[190,3.5,33,"Lob","3/15/2012Game against Boomer at level 3.5  Single point data:3.5","3.5","2012-03-15","Allen Gibson","04:37:32","Game against Boomer at level 3.5  Single point data:","Player's point",null,"Boomer serving",4,4,"Lob",3.5,33,17,4.9000000000000004,93,7,"4",1,22189,12,"Robert Allen Gibson",5,"Lake Lynn","Hard","No",11]
[194,8.5,30,"Serve","3/15/2012Game against Boomer at level 3.5  Single point data:3.5","3.5","2012-03-15","Allen Gibson","04:38:00","Game against Boomer at level 3.5  Single point data:","Player's point","New Point","Player serving",1,0,"Serve",3.5,30,5,5.7,42,4.5,"8",1,22190,13,"Robert Allen Gibson",5,"Lake Lynn","Hard","No",12]
[198,"","","","1/4/2013User Drill #85  3 line rated mini Tennis3.5",null,"2013-01-04","Allen Gibson"," ","User Drill #85  3 line rated mini Tennis",null,"New Point"," ",1,11,null,3.5,0,0,0,null,0,null,3,22832,0,"Robert Allen Gibson",5,"EAC","Hard","No",12]
[202,10.5,19,"Player Serve","5/9/2012Game against Boomer at level 2.0  Single point data:2","2","2012-05-09","Allen Gibson","00:35:58","Game against Boomer at level 2.0  Single point data:","Player's point","New Point","Player serving",1,4,"Player Serve",2,19,3,5.2,111,6.1,"10",2,22261,12,"Robert Allen Gibson",5,"Lake Lynn","Hard","No",12]
[203,9.5,21,"Topspin","3/15/2012Game against Boomer at level 3.5  Single point data:3.5","3.5","2012-03-15","Allen Gibson","04:38:00","Game against Boomer at level 3.5  Single point data:","Player's point",null,"Player serving",2,4,"Topspin",3.5,21,4,4.7,52,4.4000000000000004,"10",1,22191,13,"Robert Allen Gibson",5,"Lake Lynn","Hard","No",12]
[204,"","","","1/4/2013User Drill #85  3 line rated mini Tennis3.5",null,"2013-01-04","Allen Gibson"," ","User Drill #85  3 line rated mini Tennis",null,null," ",2,4,null,3.5,0,0,0,null,0,null,3,22833,0,"Robert Allen Gibson",5,"EAC","Hard","No",12]
[205,5.5,17,"Topspin","3/15/2012Game against Boomer at level 3.5  Single point data:3.5","3.5","2012-03-15","Allen Gibson","04:38:00","Game against Boomer at level 3.5  Single point data:","Player's point",null,"Player serving",3,4,"Topspin",3.5,17,19,3.2,46,4.2,"6",1,22192,13,"Robert Allen Gibson",5,"Lake Lynn","Hard","No",12]
[206,"","","","1/4/2013User Drill #85  3 line rated mini Tennis3.5",null,"2013-01-04","Allen Gibson"," ","User Drill #85  3 line rated mini Tennis",null,null," ",3,10,null,3.5,0,0,0,null,0,null,3,22834,0,"Robert Allen Gibson",5,"EAC","Hard","No",12]
[207,4.5,14,"Pass","3/15/2012Game against Boomer at level 3.5  Single point data:3.5","3.5","2012-03-15","Allen Gibson","04:38:00","Game against Boomer at level 3.5  Single point data:","Player's point",null,"Player serving",4,4,"Pass",3.5,14,9,2.6,37,3.4,"4",1,22193,13,"Robert Allen Gibson",5,"Lake Lynn","Hard","No",12]
[211,6.5,15,"Player Serve","3/15/2012Game against Boomer at level 3.5  Single point data:3.5","3.5","2012-03-15","Allen Gibson","04:38:32","Game against Boomer at level 3.5  Single point data:","Player's point","New Point","Player serving",1,4,"Player Serve",3.5,15,7,3.3,113,5.0999999999999996,"6",1,22194,14,"Robert Allen Gibson",5,"Lake Lynn","Hard","No",13]
[215,"","","","5/9/2012Game against Boomer at level 2.0  Single point data:2",null,"2012-05-09","Allen Gibson","00:36:22","Game against Boomer at level 2.0  Single point data:","Player's point","New Point","Player serving",1,4,"Player Serve",2,0,0,0,null,0,null,2,22262,13,"Robert Allen Gibson",5,"Lake Lynn","Hard","No",13]
[219,"","","","1/4/2013User Drill #85  3 line rated mini Tennis3.5",null,"2013-01-04","Allen Gibson"," ","User Drill #85  3 line rated mini Tennis",null,"New Point"," ",1,11,null,3.5,0,0,0,null,0,null,3,22835,0,"Robert Allen Gibson",5,"EAC","Hard","No",13]
[220,5.5,19,"Player Serve","5/9/2012Game against Boomer at level 2.0  Single point data:2","2","2012-05-09","Allen Gibson","00:36:22","Game against Boomer at level 2.0  Single point data:","Player's point",null,"Player serving",2,4,"Player Serve",2,19,19,4.5999999999999996,104,5.6,"6",2,22263,13,"Robert Allen Gibson",5,"Lake Lynn","Hard","No",13]
[221,"","","","1/4/2013User Drill #85  3 line rated mini Tennis3.5",null,"2013-01-04","Allen Gibson"," ","User Drill #85  3 line rated mini Tennis",null,null," ",2,4,null,3.5,0,0,0,null,0,null,3,22836,0,"Robert Allen Gibson",5,"EAC","Hard","No",13]
[222,9.5,35,"Heavy Topspin","3/15/2012Game against Boomer at level 3.5  Single point data:3.5","3.5","2012-03-15","Allen Gibson","04:38:32","Game against Boomer at level 3.5  Single point data:","Player's point",null,"Player serving",2,3,"Heavy Topspin",3.5,35,23,6.1,41,4.5999999999999996,"10",1,22195,14,"Robert Allen Gibson",5,"Lake Lynn","Hard","No",13]
[223,"","","","1/4/2013User Drill #85  3 line rated mini Tennis3.5",null,"2013-01-04","Allen Gibson"," ","User Drill #85  3 line rated mini Tennis",null,null," ",3,10,null,3.5,0,0,0,null,0,null,3,22837,0,"Robert Allen Gibson",5,"EAC","Hard","No",13]
[224,6.5,23,"Topspin","3/15/2012Game against Boomer at level 3.5  Single point data:3.5","3.5","2012-03-15","Allen Gibson","04:38:32","Game against Boomer at level 3.5  Single point data:","Player's point",null,"Player serving",3,4,"Topspin",3.5,23,7,4.5,47,4.0999999999999996,"6",1,22196,14,"Robert Allen Gibson",5,"Lake Lynn","Hard","No",13]
[225,10.5,27,"Topspin","3/15/2012Game against Boomer at level 3.5  Single point data:3.5","3.5","2012-03-15","Allen Gibson","04:38:32","Game against Boomer at level 3.5  Single point data:","Player's point",null,"Player serving",4,4,"Topspin",3.5,27,24,6.2,42,5.5,"10",1,22197,14,"Robert Allen Gibson",5,"Lake Lynn","Hard","No",13]
[229,"","","","5/9/2012Game against Boomer at level 2.0  Single point data:2",null,"2012-05-09","Allen Gibson","00:36:50","Game against Boomer at level 2.0  Single point data:","Player's point","New Point","Boomer serving",1,4,"Player Serve",2,0,0,0,null,0,null,2,22264,14,"Robert Allen Gibson",5,"Lake Lynn","Hard","No",14]
[233,"","","","1/4/2013User Drill #85  3 line rated mini Tennis3.5",null,"2013-01-04","Allen Gibson"," ","User Drill #85  3 line rated mini Tennis",null,"New Point"," ",1,11,null,3.5,0,0,0,null,0,null,3,22838,0,"Robert Allen Gibson",5,"EAC","Hard","No",14]
[237,6.5,13,"Player Serve","3/15/2012Game against Boomer at level 3.5  Single point data:3.5","3.5","2012-03-15","Allen Gibson","04:38:53","Game against Boomer at level 3.5  Single point data:","Player's point","New Point","Boomer serving",1,4,"Player Serve",3.5,13,20,2.8,89,4.2,"6",1,22198,15,"Robert Allen Gibson",5,"Lake Lynn","Hard","No",14]
[238,"","","","1/4/2013User Drill #85  3 line rated mini Tennis3.5",null,"2013-01-04","Allen Gibson"," ","User Drill #85  3 line rated mini Tennis",null,null," ",2,4,null,3.5,0,0,0,null,0,null,3,22839,0,"Robert Allen Gibson",5,"EAC","Hard","No",14]
[239,7.5,17,"Player Serve","5/9/2012Game against Boomer at level 2.0  Single point data:2","2","2012-05-09","Allen Gibson","00:36:50","Game against Boomer at level 2.0  Single point data:","Player's point",null,"Boomer serving",2,4,"Player Serve",2,17,6,4.0999999999999996,41,3.3,"8",2,22265,14,"Robert Allen Gibson",5,"Lake Lynn","Hard","No",14]
[240,13.5,36,"Drop Shot","3/15/2012Game against Boomer at level 3.5  Single point data:3.5","3.5","2012-03-15","Allen Gibson","04:38:53","Game against Boomer at level 3.5  Single point data:","Player's point",null,"Boomer serving",2,4,"Drop Shot",3.5,36,0,7,51,6.4,"14",1,22199,15,"Robert Allen Gibson",5,"Lake Lynn","Hard","No",14]
[241,"","","","1/4/2013User Drill #85  3 line rated mini Tennis3.5",null,"2013-01-04","Allen Gibson"," ","User Drill #85  3 line rated mini Tennis",null,null," ",3,10,null,3.5,0,0,0,null,0,null,3,22840,0,"Robert Allen Gibson",5,"EAC","Hard","No",14]
[242,9.5,30,"Topspin","5/9/2012Game against Boomer at level 2.0  Single point data:2","2","2012-05-09","Allen Gibson","00:36:50","Game against Boomer at level 2.0  Single point data:","Player's point",null,"Boomer serving",3,3,"Topspin",2,30,4,5.7,51,4.8,"10",2,22266,14,"Robert Allen Gibson",5,"Lake Lynn","Hard","No",14]
[246,"","","","1/4/2013User Drill #85  3 line rated mini Tennis3.5",null,"2013-01-04","Allen Gibson"," ","User Drill #85  3 line rated mini Tennis",null,"New Point"," ",1,11,null,3.5,0,0,0,null,0,null,3,22841,0,"Robert Allen Gibson",5,"EAC","Hard","No",15]
[250,6.5,38,"Serve","3/15/2012Game against Boomer at level 3.5  Single point data:3.5","3.5","2012-03-15","Allen Gibson","04:39:20","Game against Boomer at level 3.5  Single point data:","Player's point","New Point","Boomer serving",1,8,"Serve",3.5,38,7,6.3,42,4.8,"6",1,22200,16,"Robert Allen Gibson",5,"Lake Lynn","Hard","No",15]
[254,11.5,29,"Serve","5/9/2012Game against Boomer at level 2.0  Single point data:2","2","2012-05-09","Allen Gibson","00:37:11","Game against Boomer at level 2.0  Single point data:","Boomer's point","New Point","Boomer serving",1,3,"Serve",2,29,25,5.7,45,4.5999999999999996,"12",2,22267,15,"Robert Allen Gibson",5,"Lake Lynn","Hard","No",15]
[255,8.5,9,"Topspin","5/9/2012Game against Boomer at level 2.0  Single point data:2","2","2012-05-09","Allen Gibson","00:37:11","Game against Boomer at level 2.0  Single point data:","Boomer's point",null,"Boomer serving",2,5,"Topspin",2,9,5,2.9,30,2.6,"8",2,22268,15,"Robert Allen Gibson",5,"Lake Lynn","Hard","No",15]
[256,4.5,22,"Pass","3/15/2012Game against Boomer at level 3.5  Single point data:3.5","3.5","2012-03-15","Allen Gibson","04:39:20","Game against Boomer at level 3.5  Single point data:","Player's point",null,"Boomer serving",2,3,"Pass",3.5,22,18,3.9,38,3.4,"4",1,22201,16,"Robert Allen Gibson",5,"Lake Lynn","Hard","No",15]
[257,"","","","1/4/2013User Drill #85  3 line rated mini Tennis3.5",null,"2013-01-04","Allen Gibson"," ","User Drill #85  3 line rated mini Tennis",null,null," ",2,4,null,3.5,0,0,0,null,0,null,3,22842,0,"Robert Allen Gibson",5,"EAC","Hard","No",15]
[258,"","","","1/4/2013User Drill #85  3 line rated mini Tennis3.5",null,"2013-01-04","Allen Gibson"," ","User Drill #85  3 line rated mini Tennis",null,null," ",3,10,null,3.5,0,0,0,null,0,null,3,22843,0,"Robert Allen Gibson",5,"EAC","Hard","No",15]
[259,"","","","5/9/2012Game against Boomer at level 2.0  Single point data:2",null,"2012-05-09","Allen Gibson","00:37:11","Game against Boomer at level 2.0  Single point data:","Boomer's point",null,"Boomer serving",3,4,"Pass",2,0,0,0,null,0,null,2,22269,15,"Robert Allen Gibson",5,"Lake Lynn","Hard","No",15]
[260,6.5,22,"Topspin","3/15/2012Game against Boomer at level 3.5  Single point data:3.5","3.5","2012-03-15","Allen Gibson","04:39:20","Game against Boomer at level 3.5  Single point data:","Player's point",null,"Boomer serving",3,5,"Topspin",3.5,22,7,4,49,4.8,"6",1,22202,16,"Robert Allen Gibson",5,"Lake Lynn","Hard","No",15]
[261,12.5,33,"Pass","3/15/2012Game against Boomer at level 3.5  Single point data:3.5","3.5","2012-03-15","Allen Gibson","04:39:20","Game against Boomer at level 3.5  Single point data:","Player's point",null,"Boomer serving",4,3,"Pass",3.5,33,26,7,40,5.8,"12",1,22203,16,"Robert Allen Gibson",5,"Lake Lynn","Hard","No",15]
[265,"","","","1/4/2013User Drill #85  3 line rated mini Tennis3.5",null,"2013-01-04","Allen Gibson"," ","User Drill #85  3 line rated mini Tennis",null,"New Point"," ",1,11,null,3.5,0,0,0,null,0,null,3,22844,0,"Robert Allen Gibson",5,"EAC","Hard","No",16]
[269,2.5,24,"Serve","3/15/2012Game against Boomer at level 3.5  Single point data:3.5","3.5","2012-03-15","Allen Gibson","04:39:49","Game against Boomer at level 3.5  Single point data:","Player's point","New Point","Player serving",1,3,"Serve",3.5,24,11,3.9,38,3.4,"2",1,22204,17,"Robert Allen Gibson",5,"Lake Lynn","Hard","No",16]
[{"$f":"IF(N133=1,A132+4,A132+1)","v":273},{"$f":"IF(T133=0,\"\",IF(S133<13.5,13.5-S133,S133-13.5))","v":8.5},{"$f":"IF(T133=0,\"\",R133)","v":24},{"$f":"IF(T133=0,\"\",P133)","v":"Serve"},"5/9/2012Game against Boomer at level 2.0  Single point data:2","2","2012-05-09","Allen Gibson","00:37:34","Game against Boomer at level 2.0  Single point data:","Boomer's point","New Point","Boomer serving",1,5,"Serve",2,24,22,4.7,42,4,"8",2,22270,16,"Robert Allen Gibson",5,"Lake Lynn","Hard","No",16]
[274,12.5,8,"Slice","5/9/2012Game against Boomer at level 2.0  Single point data:2","2","2012-05-09","Allen Gibson","00:37:34","Game against Boomer at level 2.0  Single point data:","Boomer's point",null,"Boomer serving",2,3,"Slice",2,8,26,3.1,28,2.6,"12",2,22271,16,"Robert Allen Gibson",5,"Lake Lynn","Hard","No",16]
[275,5.5,24,"Slice","3/15/2012Game against Boomer at level 3.5  Single point data:3.5","3.5","2012-03-15","Allen Gibson","04:39:49","Game against Boomer at level 3.5  Single point data:","Player's point",null,"Player serving",2,5,"Slice",3.5,24,8,4.2,38,3.6,"6",1,22205,17,"Robert Allen Gibson",5,"Lake Lynn","Hard","No",16]
[276,"","","","1/4/2013User Drill #85  3 line rated mini Tennis3.5",null,"2013-01-04","Allen Gibson"," ","User Drill #85  3 line rated mini Tennis",null,null," ",2,4,null,3.5,0,0,0,null,0,null,3,22845,0,"Robert Allen Gibson",5,"EAC","Hard","No",16]
[277,"","","","1/4/2013User Drill #85  3 line rated mini Tennis3.5",null,"2013-01-04","Allen Gibson"," ","User Drill #85  3 line rated mini Tennis",null,null," ",3,10,null,3.5,0,0,0,null,0,null,3,22846,0,"Robert Allen Gibson",5,"EAC","Hard","No",16]
[278,"","","","5/9/2012Game against Boomer at level 2.0  Single point data:2",null,"2012-05-09","Allen Gibson","00:37:34","Game against Boomer at level 2.0  Single point data:","Boomer's point",null,"Boomer serving",3,5,"Drop Shot",2,0,0,0,null,0,null,2,22272,16,"Robert Allen Gibson",5,"Lake Lynn","Hard","No",16]
[279,6.5,19,"Drop Shot","3/15/2012Game against Boomer at level 3.5  Single point data:3.5","3.5","2012-03-15","Allen Gibson","04:39:49","Game against Boomer at level 3.5  Single point data:","Player's point",null,"Player serving",3,2,"Drop Shot",3.5,19,20,3.7,29,3.5,"6",1,22206,17,"Robert Allen Gibson",5,"Lake Lynn","Hard","No",16]
[280,2.5,14,"Pass","3/15/2012Game against Boomer at level 3.5  Single point data:3.5","3.5","2012-03-15","Allen Gibson","04:39:49","Game against Boomer at level 3.5  Single point data:","Player's point",null,"Player serving",4,6,"Pass",3.5,14,16,2.2999999999999998,45,3.7,"2",1,22207,17,"Robert Allen Gibson",5,"Lake Lynn","Hard","No",16]
[281,9.5,34,"Pass","3/15/2012Game against Boomer at level 3.5  Single point data:3.5","3.5","2012-03-15","Allen Gibson","04:39:49","Game against Boomer at level 3.5  Single point data:","Player's point",null,"Player serving",5,4,"Pass",3.5,34,4,5.9,47,5.6,"10",1,22208,17,"Robert Allen Gibson",5,"Lake Lynn","Hard","No",16]
[285,6.5,19,"Player Serve","3/15/2012Game against Boomer at level 3.5  Single point data:3.5","3.5","2012-03-15","Allen Gibson","04:40:10","Game against Boomer at level 3.5  Single point data:","Player's point","New Point","Player serving",1,4,"Player Serve",3.5,19,7,4,110,5.4,"6",1,22209,18,"Robert Allen Gibson",5,"Lake Lynn","Hard","No",17]
[289,4.5,11,0,"1/4/2013User Drill #188  3 line rated mini tennis3.5","3.5","2013-01-04","Allen Gibson"," ","User Drill #188  3 line rated mini tennis",null,"New Point"," ",1,11,null,3.5,11,9,2.2999999999999998,27,3,"4",3,22847,0,"Robert Allen Gibson",5,"EAC","Hard","No",17]
[293,9.5,24,"Serve","5/9/2012Game against Boomer at level 2.0  Single point data:2","2","2012-05-09","Allen Gibson","00:37:58","Game against Boomer at level 2.0  Single point data:","Player's point","New Point","Boomer serving",1,3,"Serve",2,24,23,4.7,38,3.8,"10",2,22273,17,"Robert Allen Gibson",5,"Lake Lynn","Hard","No",17]
[294,8.5,4,0,"1/4/2013User Drill #188  3 line rated mini tennis3.5","3.5","2013-01-04","Allen Gibson"," ","User Drill #188  3 line rated mini tennis",null,null," ",2,4,null,3.5,4,5,4.9000000000000004,null,2.9,"8",3,22848,0,"Robert Allen Gibson",5,"EAC","Hard","No",17]
[295,9.5,38,"Topspin","5/9/2012Game against Boomer at level 2.0  Single point data:2","2","2012-05-09","Allen Gibson","00:37:58","Game against Boomer at level 2.0  Single point data:","Player's point",null,"Boomer serving",2,5,"Topspin",2,38,4,6.5,49,5.2,"10",2,22274,17,"Robert Allen Gibson",5,"Lake Lynn","Hard","No",17]
[296,12.5,5,0,"1/4/2013User Drill #188  3 line rated mini tennis3.5","3.5","2013-01-04","Allen Gibson"," ","User Drill #188  3 line rated mini tennis",null,null," ",3,10,null,3.5,5,1,7,13,4.4000000000000004,"12",3,22849,0,"Robert Allen Gibson",5,"EAC","Hard","No",17]
[300,7.5,13,"Player Serve","3/15/2012Game against Boomer at level 3.5  Single point data:3.5","3.5","2012-03-15","Allen Gibson","04:40:38","Game against Boomer at level 3.5  Single point data:","Player's point","New Point","Boomer serving",1,4,"Player Serve",3.5,13,21,3,110,4.9000000000000004,"8",1,22210,19,"Robert Allen Gibson",5,"Lake Lynn","Hard","No",18]
[304,3.5,16,"Serve","5/9/2012Game against Boomer at level 2.0  Single point data:2","2","2012-05-09","Allen Gibson","00:38:27","Game against Boomer at level 2.0  Single point data:","Player's point","New Point","Boomer serving",1,8,"Serve",2,16,17,2.9,39,3,"4",2,22275,18,"Robert Allen Gibson",5,"Lake Lynn","Hard","No",18]
[308,"","","","1/4/2013User Drill #188  3 line rated mini tennis3.5",null,"2013-01-04","Allen Gibson"," ","User Drill #188  3 line rated mini tennis",null,"New Point"," ",1,11,null,3.5,0,0,0,null,0,null,3,22850,0,"Robert Allen Gibson",5,"EAC","Hard","No",18]
[309,0.5,24,"Topspin","3/15/2012Game against Boomer at level 3.5  Single point data:3.5","3.5","2012-03-15","Allen Gibson","04:40:38","Game against Boomer at level 3.5  Single point data:","Player's point",null,"Boomer serving",2,4,"Topspin",3.5,24,14,3.7,50,3.8,"0",1,22211,19,"Robert Allen Gibson",5,"Lake Lynn","Hard","No",18]
[310,"","","","1/4/2013User Drill #188  3 line rated mini tennis3.5",null,"2013-01-04","Allen Gibson"," ","User Drill #188  3 line rated mini tennis",null,null," ",2,4,null,3.5,0,0,0,null,0,null,3,22851,0,"Robert Allen Gibson",5,"EAC","Hard","No",18]
[311,5.5,24,"Topspin","5/9/2012Game against Boomer at level 2.0  Single point data:2","2","2012-05-09","Allen Gibson","00:38:27","Game against Boomer at level 2.0  Single point data:","Player's point",null,"Boomer serving",2,3,"Topspin",2,24,19,4.2,51,4.0999999999999996,"6",2,22276,18,"Robert Allen Gibson",5,"Lake Lynn","Hard","No",18]
[312,9.5,27,"Drop Shot","3/15/2012Game against Boomer at level 3.5  Single point data:3.5","3.5","2012-03-15","Allen Gibson","04:40:38","Game against Boomer at level 3.5  Single point data:","Player's point",null,"Boomer serving",3,5,"Drop Shot",3.5,27,4,5.2,38,4.8,"10",1,22212,19,"Robert Allen Gibson",5,"Lake Lynn","Hard","No",18]
[313,7.5,9,0,"1/4/2013User Drill #188  3 line rated mini tennis3.5","3.5","2013-01-04","Allen Gibson"," ","User Drill #188  3 line rated mini tennis",null,null," ",3,10,null,3.5,9,6,2.2999999999999998,28,3.1,"8",3,22852,0,"Robert Allen Gibson",5,"EAC","Hard","No",18]
[314,6.5,26,"Topspin","5/9/2012Game against Boomer at level 2.0  Single point data:2","2","2012-05-09","Allen Gibson","00:38:27","Game against Boomer at level 2.0  Single point data:","Player's point",null,"Boomer serving",3,5,"Topspin",2,26,7,4.5999999999999996,38,4.5,"6",2,22277,18,"Robert Allen Gibson",5,"Lake Lynn","Hard","No",18]
[315,3.5,21,"Pass","3/15/2012Game against Boomer at level 3.5  Single point data:3.5","3.5","2012-03-15","Allen Gibson","04:40:38","Game against Boomer at level 3.5  Single point data:","Player's point",null,"Boomer serving",4,4,"Pass",3.5,21,10,3.7,52,4.8,"4",1,22213,19,"Robert Allen Gibson",5,"Lake Lynn","Hard","No",18]
[316,8.5,27,"Topspin","5/9/2012Game against Boomer at level 2.0  Single point data:2","2","2012-05-09","Allen Gibson","00:38:27","Game against Boomer at level 2.0  Single point data:","Player's point",null,"Boomer serving",4,3,"Topspin",2,27,22,5.2,39,4.8,"8",2,22278,18,"Robert Allen Gibson",5,"Lake Lynn","Hard","No",18]
[320,"","","","1/4/2013User Drill #188  3 line rated mini tennis3.5",null,"2013-01-04","Allen Gibson"," ","User Drill #188  3 line rated mini tennis",null,"New Point"," ",1,11,null,3.5,0,0,0,null,0,null,3,22853,0,"Robert Allen Gibson",5,"EAC","Hard","No",19]
[324,2.5,14,"Player Serve","3/15/2012Game against Boomer at level 3.5  Single point data:3.5","3.5","2012-03-15","Allen Gibson","04:41:10","Game against Boomer at level 3.5  Single point data:","Player's point","New Point","Boomer serving",1,4,"Player Serve",3.5,14,16,4.5,115,5.7,"2",1,22214,21,"Robert Allen Gibson",5,"Lake Lynn","Hard","No",19]
[328,4.5,34,"Serve","5/9/2012Game against Boomer at level 2.0  Single point data:2","2","2012-05-09","Allen Gibson","00:38:51","Game against Boomer at level 2.0  Single point data:","Player's point","New Point","Boomer serving",1,0,"Serve",2,34,18,5.7,46,4.5999999999999996,"4",2,22279,19,"Robert Allen Gibson",5,"Lake Lynn","Hard","No",19]
[329,12.5,37,"Slice","5/9/2012Game against Boomer at level 2.0  Single point data:2","2","2012-05-09","Allen Gibson","00:38:51","Game against Boomer at level 2.0  Single point data:","Player's point",null,"Boomer serving",2,5,"Slice",2,37,1,7,51,5.5,"12",2,22280,19,"Robert Allen Gibson",5,"Lake Lynn","Hard","No",19]
[330,5.5,25,0,"1/4/2013User Drill #188  3 line rated mini tennis3.5","3.5","2013-01-04","Allen Gibson"," ","User Drill #188  3 line rated mini tennis",null,null," ",2,4,null,3.5,25,19,4.3,38,4.8,"6",3,22854,0,"Robert Allen Gibson",5,"EAC","Hard","No",19]
[331,"","","","1/4/2013User Drill #188  3 line rated mini tennis3.5",null,"2013-01-04","Allen Gibson"," ","User Drill #188  3 line rated mini tennis",null,null," ",3,10,null,3.5,0,0,0,null,0,null,3,22855,0,"Robert Allen Gibson",5,"EAC","Hard","No",19]
[335,"","","","1/4/2013User Drill #188  3 line rated mini tennis3.5",null,"2013-01-04","Allen Gibson"," ","User Drill #188  3 line rated mini tennis",null,"New Point"," ",1,11,null,3.5,0,0,0,null,0,null,3,22856,0,"Robert Allen Gibson",5,"EAC","Hard","No",20]
[339,5.5,22,"Serve","3/15/2012Game against Boomer at level 3.5  Single point data:3.5","3.5","2012-03-15","Allen Gibson","04:41:40","Game against Boomer at level 3.5  Single point data:","Player's point","New Point","Boomer serving",1,5,"Serve",3.5,22,8,4.2,50,4.0999999999999996,"6",1,22215,22,"Robert Allen Gibson",5,"Lake Lynn","Hard","No",20]
[343,8.5,29,"Serve","5/9/2012Game against Boomer at level 2.0  Single point data:2","2","2012-05-09","Allen Gibson","00:39:18","Game against Boomer at level 2.0  Single point data:","Player's point","New Point","Player serving",1,8,"Serve",2,29,22,5.7,55,5,"8",2,22281,20,"Robert Allen Gibson",5,"Lake Lynn","Hard","No",20]
[344,5.5,22,"Drop Shot","3/15/2012Game against Boomer at level 3.5  Single point data:3.5","3.5","2012-03-15","Allen Gibson","04:41:40","Game against Boomer at level 3.5  Single point data:","Player's point",null,"Boomer serving",2,3,"Drop Shot",3.5,22,19,3.7,53,4.9000000000000004,"6",1,22216,22,"Robert Allen Gibson",5,"Lake Lynn","Hard","No",20]
[345,9.5,32,"Topspin","5/9/2012Game against Boomer at level 2.0  Single point data:2","2","2012-05-09","Allen Gibson","00:39:18","Game against Boomer at level 2.0  Single point data:","Player's point",null,"Player serving",2,3,"Topspin",2,32,4,5.8,57,6.2,"10",2,22282,20,"Robert Allen Gibson",5,"Lake Lynn","Hard","No",20]
[346,"","","","1/4/2013User Drill #188  3 line rated mini tennis3.5",null,"2013-01-04","Allen Gibson"," ","User Drill #188  3 line rated mini tennis",null,null," ",2,4,null,3.5,0,0,0,null,0,null,3,22857,0,"Robert Allen Gibson",5,"EAC","Hard","No",20]
[347,"","","","1/4/2013User Drill #188  3 line rated mini tennis3.5",null,"2013-01-04","Allen Gibson"," ","User Drill #188  3 line rated mini tennis",null,null," ",3,10,null,3.5,0,0,0,null,0,null,3,22858,0,"Robert Allen Gibson",5,"EAC","Hard","No",20]
[348,5.5,23,"Pass","3/15/2012Game against Boomer at level 3.5  Single point data:3.5","3.5","2012-03-15","Allen Gibson","04:41:40","Game against Boomer at level 3.5  Single point data:","Player's point",null,"Boomer serving",3,4,"Pass",3.5,23,8,4,38,4.2,"6",1,22217,22,"Robert Allen Gibson",5,"Lake Lynn","Hard","No",20]
[349,5.5,17,"Pass","3/15/2012Game against Boomer at level 3.5  Single point data:3.5","3.5","2012-03-15","Allen Gibson","04:41:40","Game against Boomer at level 3.5  Single point data:","Player's point",null,"Boomer serving",4,4,"Pass",3.5,17,19,3.2,54,4.7,"6",1,22218,22,"Robert Allen Gibson",5,"Lake Lynn","Hard","No",20]
[350,11.5,22,"Pass","3/15/2012Game against Boomer at level 3.5  Single point data:3.5","3.5","2012-03-15","Allen Gibson","04:41:40","Game against Boomer at level 3.5  Single point data:","Player's point",null,"Boomer serving",5,4,"Pass",3.5,22,2,6.2,45,5.7,"12",1,22219,22,"Robert Allen Gibson",5,"Lake Lynn","Hard","No",20]
[354,6.5,21,"Serve","3/15/2012Game against Boomer at level 3.5  Single point data:3.5","3.5","2012-03-15","Allen Gibson","04:42:07","Game against Boomer at level 3.5  Single point data:","Player's point","New Point","Player serving",1,0,"Serve",3.5,21,20,4.2,52,4.0999999999999996,"6",1,22220,23,"Robert Allen Gibson",5,"Lake Lynn","Hard","No",21]
[358,"","","","5/9/2012Game against Boomer at level 2.0  Single point data:2",null,"2012-05-09","Allen Gibson","00:39:45","Game against Boomer at level 2.0  Single point data:","Player's point","New Point","Player serving",1,4,"Player Serve",2,0,0,0,null,0,null,2,22283,21,"Robert Allen Gibson",5,"Lake Lynn","Hard","No",21]
[362,"","","","1/4/2013User Drill #188  3 line rated mini tennis3.5",null,"2013-01-04","Allen Gibson"," ","User Drill #188  3 line rated mini tennis",null,"New Point"," ",1,11,null,3.5,0,0,0,null,0,null,3,22859,0,"Robert Allen Gibson",5,"EAC","Hard","No",21]
[363,4.5,14,"Player Serve","5/9/2012Game against Boomer at level 2.0  Single point data:2","2","2012-05-09","Allen Gibson","00:39:45","Game against Boomer at level 2.0  Single point data:","Player's point",null,"Player serving",2,4,"Player Serve",2,14,18,3.8,112,5.4,"4",2,22284,21,"Robert Allen Gibson",5,"Lake Lynn","Hard","No",21]
[364,3.5,17,"Flat Drive","3/15/2012Game against Boomer at level 3.5  Single point data:3.5","3.5","2012-03-15","Allen Gibson","04:42:07","Game against Boomer at level 3.5  Single point data:","Player's point",null,"Player serving",2,4,"Flat Drive",3.5,17,10,2.9,30,3.2,"4",1,22221,23,"Robert Allen Gibson",5,"Lake Lynn","Hard","No",21]
[365,"","","","1/4/2013User Drill #188  3 line rated mini tennis3.5",null,"2013-01-04","Allen Gibson"," ","User Drill #188  3 line rated mini tennis",null,null," ",2,4,null,3.5,0,0,0,null,0,null,3,22860,0,"Robert Allen Gibson",5,"EAC","Hard","No",21]
[366,4.5,20,"Pass","3/15/2012Game against Boomer at level 3.5  Single point data:3.5","3.5","2012-03-15","Allen Gibson","04:42:07","Game against Boomer at level 3.5  Single point data:","Player's point",null,"Player serving",3,4,"Pass",3.5,20,18,3.5,46,4.4000000000000004,"4",1,22222,23,"Robert Allen Gibson",5,"Lake Lynn","Hard","No",21]
[367,"","","","1/4/2013User Drill #188  3 line rated mini tennis3.5",null,"2013-01-04","Allen Gibson"," ","User Drill #188  3 line rated mini tennis",null,null," ",3,10,null,3.5,0,0,0,null,0,null,3,22861,0,"Robert Allen Gibson",5,"EAC","Hard","No",21]
[368,0.5,16,"Lob","3/15/2012Game against Boomer at level 3.5  Single point data:3.5","3.5","2012-03-15","Allen Gibson","04:42:07","Game against Boomer at level 3.5  Single point data:","Player's point",null,"Player serving",4,4,"Lob",3.5,16,14,2.2999999999999998,82,5.9,"0",1,22223,23,"Robert Allen Gibson",5,"Lake Lynn","Hard","No",21]
[372,6.5,15,"Player Serve","3/15/2012Game against Boomer at level 3.5  Single point data:3.5","3.5","2012-03-15","Allen Gibson","04:42:30","Game against Boomer at level 3.5  Single point data:","Boomer's point","New Point","Player serving",1,4,"Player Serve",3.5,15,7,3.3,115,5.0999999999999996,"6",1,22224,24,"Robert Allen Gibson",5,"Lake Lynn","Hard","No",22]
[376,11.5,21,"Player Serve","5/9/2012Game against Boomer at level 2.0  Single point data:2","2","2012-05-09","Allen Gibson","00:40:13","Game against Boomer at level 2.0  Single point data:","Player's point","New Point","Player serving",1,4,"Player Serve",2,21,2,6.1,102,6.2,"12",2,22285,22,"Robert Allen Gibson",5,"Lake Lynn","Hard","No",22]
[380,"","","","1/4/2013User Drill #188  3 line rated mini tennis3.5",null,"2013-01-04","Allen Gibson"," ","User Drill #188  3 line rated mini tennis",null,"New Point"," ",1,11,null,3.5,0,0,0,null,0,null,3,22862,0,"Robert Allen Gibson",5,"EAC","Hard","No",22]
[381,9.5,25,"Heavy Topspin","3/15/2012Game against Boomer at level 3.5  Single point data:3.5","3.5","2012-03-15","Allen Gibson","04:42:30","Game against Boomer at level 3.5  Single point data:","Boomer's point",null,"Player serving",2,3,"Heavy Topspin",3.5,25,23,5.3,35,4,"10",1,22225,24,"Robert Allen Gibson",5,"Lake Lynn","Hard","No",22]
[382,12.5,4,0,"1/4/2013User Drill #188  3 line rated mini tennis3.5","3.5","2013-01-04","Allen Gibson"," ","User Drill #188  3 line rated mini tennis",null,null," ",2,4,null,3.5,4,1,7,12,4.3,"12",3,22863,0,"Robert Allen Gibson",5,"EAC","Hard","No",22]
[383,5.5,13,0,"1/4/2013User Drill #188  3 line rated mini tennis3.5","3.5","2013-01-04","Allen Gibson"," ","User Drill #188  3 line rated mini tennis",null,null," ",3,10,null,3.5,13,8,2.6,98,4.8,"6",3,22864,0,"Robert Allen Gibson",5,"EAC","Hard","No",22]
[384,"","","","3/15/2012Game against Boomer at level 3.5  Single point data:3.5",null,"2012-03-15","Allen Gibson","04:42:30","Game against Boomer at level 3.5  Single point data:","Boomer's point",null,"Player serving",3,5,"Drop Shot",3.5,0,0,0,null,0,null,1,22226,24,"Robert Allen Gibson",5,"Lake Lynn","Hard","No",22]
[388,"","","","1/4/2013User Drill #188  3 line rated mini tennis3.5",null,"2013-01-04","Allen Gibson"," ","User Drill #188  3 line rated mini tennis",null,"New Point"," ",1,11,null,3.5,0,0,0,null,0,null,3,22865,0,"Robert Allen Gibson",5,"EAC","Hard","No",23]
[392,5.5,15,"Player Serve","3/15/2012Game against Boomer at level 3.5  Single point data:3.5","3.5","2012-03-15","Allen Gibson","04:42:49","Game against Boomer at level 3.5  Single point data:","Player's point","New Point","Boomer serving",1,4,"Player Serve",3.5,15,19,3.7,114,5.3,"6",1,22227,25,"Robert Allen Gibson",5,"Lake Lynn","Hard","No",23]
[396,4.5,17,"Player Serve","5/9/2012Game against Boomer at level 2.0  Single point data:2","2","2012-05-09","Allen Gibson","00:40:31","Game against Boomer at level 2.0  Single point data:","Player's point","New Point","Player serving",1,4,"Player Serve",2,17,18,4.5,107,5.6,"4",2,22286,23,"Robert Allen Gibson",5,"Lake Lynn","Hard","No",23]
[397,"","","","1/4/2013User Drill #188  3 line rated mini tennis3.5",null,"2013-01-04","Allen Gibson"," ","User Drill #188  3 line rated mini tennis",null,null," ",2,4,null,3.5,0,0,0,null,0,null,3,22866,0,"Robert Allen Gibson",5,"EAC","Hard","No",23]
[398,"","","","1/4/2013User Drill #188  3 line rated mini tennis3.5",null,"2013-01-04","Allen Gibson"," ","User Drill #188  3 line rated mini tennis",null,null," ",3,10,null,3.5,0,0,0,null,0,null,3,22867,0,"Robert Allen Gibson",5,"EAC","Hard","No",23]
[402,6.5,18,"Player Serve","5/9/2012Game against Boomer at level 2.0  Single point data:2","2","2012-05-09","Allen Gibson","00:40:50","Game against Boomer at level 2.0  Single point data:","Player's point","New Point","Boomer serving",1,4,"Player Serve",2,18,7,3.9,104,5.2,"6",2,22287,24,"Robert Allen Gibson",5,"Lake Lynn","Hard","No",24]
[{"$f":"IF(N197=1,A196+4,A196+1)","v":406},{"$f":"IF(T197=0,\"\",IF(S197<13.5,13.5-S197,S197-13.5))","v":4.5},{"$f":"IF(T197=0,\"\",R197)","v":20},{"$f":"IF(T197=0,\"\",P197)","v":0},"1/4/2013User Drill #188  3 line rated mini tennis3.5","3.5","2013-01-04","Allen Gibson"," ","User Drill #188  3 line rated mini tennis",null,"New Point"," ",1,11,null,3.5,20,18,3.5,32,3.9,"4",3,22868,0,"Robert Allen Gibson",5,"EAC","Hard","No",24]
[410,10.5,34,"Serve","3/15/2012Game against Boomer at level 3.5  Single point data:3.5","3.5","2012-03-15","Allen Gibson","04:43:25","Game against Boomer at level 3.5  Single point data:","Player's point","New Point","Boomer serving",1,8,"Serve",3.5,34,3,6.3,49,5.0999999999999996,"10",1,22228,26,"Robert Allen Gibson",5,"Lake Lynn","Hard","No",24]
[411,1.5,25,0,"1/4/2013User Drill #188  3 line rated mini tennis3.5","3.5","2013-01-04","Allen Gibson"," ","User Drill #188  3 line rated mini tennis",null,null," ",2,4,null,3.5,25,15,3.7,63,5.3,"2",3,22869,0,"Robert Allen Gibson",5,"EAC","Hard","No",24]
[412,4.5,21,"Pass","3/15/2012Game against Boomer at level 3.5  Single point data:3.5","3.5","2012-03-15","Allen Gibson","04:43:25","Game against Boomer at level 3.5  Single point data:","Player's point",null,"Boomer serving",2,4,"Pass",3.5,21,9,3.9,33,3.2,"4",1,22229,26,"Robert Allen Gibson",5,"Lake Lynn","Hard","No",24]
[413,"","","","1/4/2013User Drill #188  3 line rated mini tennis3.5",null,"2013-01-04","Allen Gibson"," ","User Drill #188  3 line rated mini tennis",null,null," ",3,10,null,3.5,0,0,0,null,0,null,3,22870,0,"Robert Allen Gibson",5,"EAC","Hard","No",24]
[414,6.5,20,"Drop Shot","3/15/2012Game against Boomer at level 3.5  Single point data:3.5","3.5","2012-03-15","Allen Gibson","04:43:25","Game against Boomer at level 3.5  Single point data:","Player's point",null,"Boomer serving",3,5,"Drop Shot",3.5,20,20,3.7,50,4.7,"6",1,22230,26,"Robert Allen Gibson",5,"Lake Lynn","Hard","No",24]
[415,6.5,10,"Lob","3/15/2012Game against Boomer at level 3.5  Single point data:3.5","3.5","2012-03-15","Allen Gibson","04:43:25","Game against Boomer at level 3.5  Single point data:","Player's point",null,"Boomer serving",4,4,"Lob",3.5,10,20,2.9,39,3,"6",1,22231,26,"Robert Allen Gibson",5,"Lake Lynn","Hard","No",24]
[416,2.5,25,"Pass","3/15/2012Game against Boomer at level 3.5  Single point data:3.5","3.5","2012-03-15","Allen Gibson","04:43:25","Game against Boomer at level 3.5  Single point data:","Player's point",null,"Boomer serving",5,5,"Pass",3.5,25,11,4.2,41,3.7,"2",1,22232,26,"Robert Allen Gibson",5,"Lake Lynn","Hard","No",24]
[417,9.5,32,"Topspin","3/15/2012Game against Boomer at level 3.5  Single point data:3.5","3.5","2012-03-15","Allen Gibson","04:43:25","Game against Boomer at level 3.5  Single point data:","Player's point",null,"Boomer serving",6,3,"Topspin",3.5,32,23,6.2,56,6.3,"10",1,22233,26,"Robert Allen Gibson",5,"Lake Lynn","Hard","No",24]
[421,"","","","1/4/2013User Drill #188  3 line rated mini tennis3.5",null,"2013-01-04","Allen Gibson"," ","User Drill #188  3 line rated mini tennis",null,"New Point"," ",1,11,null,3.5,0,0,0,null,0,null,3,22871,0,"Robert Allen Gibson",5,"EAC","Hard","No",25]
[425,10.5,25,"Serve","3/15/2012Game against Boomer at level 3.5  Single point data:3.5","3.5","2012-03-15","Allen Gibson","04:43:43","Game against Boomer at level 3.5  Single point data:","Boomer's point","New Point","Player serving",1,0,"Serve",3.5,25,3,5.3,49,4.5999999999999996,"10",1,22234,27,"Robert Allen Gibson",5,"Lake Lynn","Hard","No",25]
[429,"","","","5/9/2012Game against Boomer at level 2.0  Single point data:2",null,"2012-05-09","Allen Gibson","00:41:05","Game against Boomer at level 2.0  Single point data:","Boomer's point","New Point","Boomer serving",1,3,"Serve",2,0,0,0,null,0,null,2,22288,25,"Robert Allen Gibson",5,"Lake Lynn","Hard","No",25]
[430,"","","","3/15/2012Game against Boomer at level 3.5  Single point data:3.5",null,"2012-03-15","Allen Gibson","04:43:43","Game against Boomer at level 3.5  Single point data:","Boomer's point",null,"Player serving",2,4,"Topspin",3.5,0,0,0,null,0,null,1,22235,27,"Robert Allen Gibson",5,"Lake Lynn","Hard","No",25]
[431,0.5,24,0,"1/4/2013User Drill #188  3 line rated mini tennis3.5","3.5","2013-01-04","Allen Gibson"," ","User Drill #188  3 line rated mini tennis",null,null," ",2,4,null,3.5,24,14,3.5,50,5.2,"0",3,22872,0,"Robert Allen Gibson",5,"EAC","Hard","No",25]
[432,7.5,10,0,"1/4/2013User Drill #188  3 line rated mini tennis3.5","3.5","2013-01-04","Allen Gibson"," ","User Drill #188  3 line rated mini tennis",null,null," ",3,10,null,3.5,10,6,4.9000000000000004,29,4.4000000000000004,"8",3,22873,0,"Robert Allen Gibson",5,"EAC","Hard","No",25]
[436,10.5,15,"Player Serve","3/15/2012Game against Boomer at level 3.5  Single point data:3.5","3.5","2012-03-15","Allen Gibson","04:44:13","Game against Boomer at level 3.5  Single point data:","Player's point","New Point","Player serving",1,4,"Player Serve",3.5,15,3,4.5999999999999996,86,5,"10",1,22236,28,"Robert Allen Gibson",5,"Lake Lynn","Hard","No",26]
[440,"","","","1/4/2013User Drill #188  3 line rated mini tennis3.5",null,"2013-01-04","Allen Gibson"," ","User Drill #188  3 line rated mini tennis",null,"New Point"," ",1,11,null,3.5,0,0,0,null,0,null,3,22874,0,"Robert Allen Gibson",5,"EAC","Hard","No",26]
[444,7.5,34,"Serve","5/9/2012Game against Boomer at level 2.0  Single point data:2","2","2012-05-09","Allen Gibson","00:41:29","Game against Boomer at level 2.0  Single point data:","Player's point","New Point","Boomer serving",1,5,"Serve",2,34,6,6.1,56,5.2,"8",2,22289,26,"Robert Allen Gibson",5,"Lake Lynn","Hard","No",26]
[445,7.5,27,"Heavy Topspin","3/15/2012Game against Boomer at level 3.5  Single point data:3.5","3.5","2012-03-15","Allen Gibson","04:44:13","Game against Boomer at level 3.5  Single point data:","Player's point",null,"Player serving",2,3,"Heavy Topspin",3.5,27,6,5,43,4.2,"8",1,22237,28,"Robert Allen Gibson",5,"Lake Lynn","Hard","No",26]
[446,7.5,26,"Drop Shot","5/9/2012Game against Boomer at level 2.0  Single point data:2","2","2012-05-09","Allen Gibson","00:41:29","Game against Boomer at level 2.0  Single point data:","Player's point",null,"Boomer serving",2,3,"Drop Shot",2,26,21,5,46,4.3,"8",2,22290,26,"Robert Allen Gibson",5,"Lake Lynn","Hard","No",26]
[447,9.5,7,0,"1/4/2013User Drill #188  3 line rated mini tennis3.5","3.5","2013-01-04","Allen Gibson"," ","User Drill #188  3 line rated mini tennis",null,null," ",2,4,null,3.5,7,23,4.9000000000000004,37,5,"10",3,22875,0,"Robert Allen Gibson",5,"EAC","Hard","No",26]
[448,12.5,7,0,"1/4/2013User Drill #188  3 line rated mini tennis3.5","3.5","2013-01-04","Allen Gibson"," ","User Drill #188  3 line rated mini tennis",null,null," ",3,10,null,3.5,7,26,7,12,4.3,"12",3,22876,0,"Robert Allen Gibson",5,"EAC","Hard","No",26]
[449,10.5,28,"Slice","3/15/2012Game against Boomer at level 3.5  Single point data:3.5","3.5","2012-03-15","Allen Gibson","04:44:13","Game against Boomer at level 3.5  Single point data:","Player's point",null,"Player serving",3,5,"Slice",3.5,28,24,5.7,38,4.3,"10",1,22238,28,"Robert Allen Gibson",5,"Lake Lynn","Hard","No",26]
[450,10.5,34,"Pass","5/9/2012Game against Boomer at level 2.0  Single point data:2","2","2012-05-09","Allen Gibson","00:41:29","Game against Boomer at level 2.0  Single point data:","Player's point",null,"Boomer serving",3,4,"Pass",2,34,3,6.3,54,5.3,"10",2,22291,26,"Robert Allen Gibson",5,"Lake Lynn","Hard","No",26]
[451,7.5,36,"Drop Shot","3/15/2012Game against Boomer at level 3.5  Single point data:3.5","3.5","2012-03-15","Allen Gibson","04:44:13","Game against Boomer at level 3.5  Single point data:","Player's point",null,"Player serving",4,4,"Drop Shot",3.5,36,6,6.2,38,5.3,"8",1,22239,28,"Robert Allen Gibson",5,"Lake Lynn","Hard","No",26]
[452,8.5,29,"Pass","3/15/2012Game against Boomer at level 3.5  Single point data:3.5","3.5","2012-03-15","Allen Gibson","04:44:13","Game against Boomer at level 3.5  Single point data:","Player's point",null,"Player serving",5,5,"Pass",3.5,29,22,5.2,46,5.2,"8",1,22240,28,"Robert Allen Gibson",5,"Lake Lynn","Hard","No",26]
[456,4.5,15,"Player Serve","3/15/2012Game against Boomer at level 3.5  Single point data:3.5","3.5","2012-03-15","Allen Gibson","04:44:35","Game against Boomer at level 3.5  Single point data:","Player's point","New Point","Boomer serving",1,4,"Player Serve",3.5,15,18,3.8,118,5.4,"4",1,22241,29,"Robert Allen Gibson",5,"Lake Lynn","Hard","No",27]
[460,"","","","1/4/2013User Drill #188  3 line rated mini tennis3.5",null,"2013-01-04","Allen Gibson"," ","User Drill #188  3 line rated mini tennis",null,"New Point"," ",1,11,null,3.5,0,0,0,null,0,null,3,22877,0,"Robert Allen Gibson",5,"EAC","Hard","No",27]
[464,11.5,31,"Serve","5/9/2012Game against Boomer at level 2.0  Single point data:2","2","2012-05-09","Allen Gibson","00:41:51","Game against Boomer at level 2.0  Single point data:","Player's point","New Point","Boomer serving",1,0,"Serve",2,31,2,6.2,51,6,"12",2,22292,27,"Robert Allen Gibson",5,"Lake Lynn","Hard","No",27]
[465,3.5,19,"Topspin","5/9/2012Game against Boomer at level 2.0  Single point data:2","2","2012-05-09","Allen Gibson","00:41:51","Game against Boomer at level 2.0  Single point data:","Player's point",null,"Boomer serving",2,5,"Topspin",2,19,10,3.2,34,3.5,"4",2,22293,27,"Robert Allen Gibson",5,"Lake Lynn","Hard","No",27]
[466,"","","","1/4/2013User Drill #188  3 line rated mini tennis3.5",null,"2013-01-04","Allen Gibson"," ","User Drill #188  3 line rated mini tennis",null,null," ",2,4,null,3.5,0,0,0,null,0,null,3,22878,0,"Robert Allen Gibson",5,"EAC","Hard","No",27]
[467,9.5,26,"Lob","5/9/2012Game against Boomer at level 2.0  Single point data:2","2","2012-05-09","Allen Gibson","00:41:51","Game against Boomer at level 2.0  Single point data:","Player's point",null,"Boomer serving",3,3,"Lob",2,26,23,4.9000000000000004,41,4.8,"10",2,22294,27,"Robert Allen Gibson",5,"Lake Lynn","Hard","No",27]
[468,"","","","1/4/2013User Drill #188  3 line rated mini tennis3.5",null,"2013-01-04","Allen Gibson"," ","User Drill #188  3 line rated mini tennis",null,null," ",3,10,null,3.5,0,0,0,null,0,null,3,22879,0,"Robert Allen Gibson",5,"EAC","Hard","No",27]
[472,5.5,19,"Serve","5/9/2012Game against Boomer at level 2.0  Single point data:2","2","2012-05-09","Allen Gibson","00:42:19","Game against Boomer at level 2.0  Single point data:","Player's point","New Point","Boomer serving",1,8,"Serve",2,19,19,3.7,32,3.1,"6",2,22295,28,"Robert Allen Gibson",5,"Lake Lynn","Hard","No",28]
[476,13.5,14,0,"1/4/2013User Drill #188  3 line rated mini tennis3.5","3.5","2013-01-04","Allen Gibson"," ","User Drill #188  3 line rated mini tennis",null,"New Point"," ",1,11,null,3.5,14,0,7,34,5.8,"14",3,22880,0,"Robert Allen Gibson",5,"EAC","Hard","No",28]
[477,7.5,20,"Flat Drive","5/9/2012Game against Boomer at level 2.0  Single point data:2","2","2012-05-09","Allen Gibson","00:42:19","Game against Boomer at level 2.0  Single point data:","Player's point",null,"Boomer serving",2,3,"Flat Drive",2,20,6,4.9000000000000004,37,4.5999999999999996,"8",2,22296,28,"Robert Allen Gibson",5,"Lake Lynn","Hard","No",28]
[478,"","","","1/4/2013User Drill #188  3 line rated mini tennis3.5",null,"2013-01-04","Allen Gibson"," ","User Drill #188  3 line rated mini tennis",null,null," ",2,4,null,3.5,0,0,0,null,0,null,3,22881,0,"Robert Allen Gibson",5,"EAC","Hard","No",28]
[479,6.5,22,"Drop Shot","5/9/2012Game against Boomer at level 2.0  Single point data:2","2","2012-05-09","Allen Gibson","00:42:19","Game against Boomer at level 2.0  Single point data:","Player's point",null,"Boomer serving",3,5,"Drop Shot",2,22,7,4,30,3.7,"6",2,22297,28,"Robert Allen Gibson",5,"Lake Lynn","Hard","No",28]
[480,6.5,7,0,"1/4/2013User Drill #188  3 line rated mini tennis3.5","3.5","2013-01-04","Allen Gibson"," ","User Drill #188  3 line rated mini tennis",null,null," ",3,10,null,3.5,7,20,2.1,29,3,"6",3,22882,0,"Robert Allen Gibson",5,"EAC","Hard","No",28]
[481,12.5,35,"Lob","5/9/2012Game against Boomer at level 2.0  Single point data:2","2","2012-05-09","Allen Gibson","00:42:19","Game against Boomer at level 2.0  Single point data:","Player's point",null,"Boomer serving",4,3,"Lob",2,35,26,7,49,6.3,"12",2,22298,28,"Robert Allen Gibson",5,"Lake Lynn","Hard","No",28]
[485,"","","","1/4/2013User Drill #188  3 line rated mini tennis3.5",null,"2013-01-04","Allen Gibson"," ","User Drill #188  3 line rated mini tennis",null,"New Point"," ",1,11,null,3.5,0,0,0,null,0,null,3,22883,0,"Robert Allen Gibson",5,"EAC","Hard","No",29]
[489,13.5,25,"Serve","5/9/2012Game against Boomer at level 2.0  Single point data:2","2","2012-05-09","Allen Gibson","00:42:42","Game against Boomer at level 2.0  Single point data:","Player's point","New Point","Player serving",1,0,"Serve",2,25,0,7,39,5.7,"14",2,22299,29,"Robert Allen Gibson",5,"Lake Lynn","Hard","No",29]
[490,"","","","1/4/2013User Drill #188  3 line rated mini tennis3.5",null,"2013-01-04","Allen Gibson"," ","User Drill #188  3 line rated mini tennis",null,null," ",2,4,null,3.5,0,0,0,null,0,null,3,22884,0,"Robert Allen Gibson",5,"EAC","Hard","No",29]
[491,0.5,24,"Topspin","5/9/2012Game against Boomer at level 2.0  Single point data:2","2","2012-05-09","Allen Gibson","00:42:42","Game against Boomer at level 2.0  Single point data:","Player's point",null,"Player serving",2,5,"Topspin",2,24,14,3.5,50,4.5999999999999996,"0",2,22300,29,"Robert Allen Gibson",5,"Lake Lynn","Hard","No",29]
[492,"","","","1/4/2013User Drill #188  3 line rated mini tennis3.5",null,"2013-01-04","Allen Gibson"," ","User Drill #188  3 line rated mini tennis",null,null," ",3,10,null,3.5,0,0,0,null,0,null,3,22885,0,"Robert Allen Gibson",5,"EAC","Hard","No",29]
[496,3.5,18,"Player Serve","5/9/2012Game against Boomer at level 2.5  Single point data:2.5","2.5","2012-05-09","Allen Gibson","00:43:09","Game against Boomer at level 2.5  Single point data:","Player's point","New Point","Player serving",1,4,"Player Serve",2.5,18,17,5,110,5.9,"4",2,22301,30,"Robert Allen Gibson",5,"Lake Lynn","Hard","No",30]
[500,"","","","1/4/2013User Drill #188  3 line rated mini tennis3.5",null,"2013-01-04","Allen Gibson"," ","User Drill #188  3 line rated mini tennis",null,"New Point"," ",1,11,null,3.5,0,0,0,null,0,null,3,22886,0,"Robert Allen Gibson",5,"EAC","Hard","No",30]
[501,"","","","1/4/2013User Drill #188  3 line rated mini tennis3.5",null,"2013-01-04","Allen Gibson"," ","User Drill #188  3 line rated mini tennis",null,null," ",2,4,null,3.5,0,0,0,null,0,null,3,22887,0,"Robert Allen Gibson",5,"EAC","Hard","No",30]
[502,"","","","1/4/2013User Drill #188  3 line rated mini tennis3.5",null,"2013-01-04","Allen Gibson"," ","User Drill #188  3 line rated mini tennis",null,null," ",3,10,null,3.5,0,0,0,null,0,null,3,22888,0,"Robert Allen Gibson",5,"EAC","Hard","No",30]
[506,4.5,38,0,"1/4/2013User Drill #188  3 line rated mini tennis3.5","3.5","2013-01-04","Allen Gibson"," ","User Drill #188  3 line rated mini tennis",null,"New Point"," ",1,11,null,3.5,38,9,7,59,7,"4",3,22889,0,"Robert Allen Gibson",5,"EAC","Hard","No",31]
[510,8.5,17,"Player Serve","5/9/2012Game against Boomer at level 2.5  Single point data:2.5","2.5","2012-05-09","Allen Gibson","00:43:26","Game against Boomer at level 2.5  Single point data:","Player's point","New Point","Player serving",1,4,"Player Serve",2.5,17,5,4.0999999999999996,109,5.5,"8",2,22302,31,"Robert Allen Gibson",5,"Lake Lynn","Hard","No",31]
[511,"","","","1/4/2013User Drill #188  3 line rated mini tennis3.5",null,"2013-01-04","Allen Gibson"," ","User Drill #188  3 line rated mini tennis",null,null," ",2,4,null,3.5,0,0,0,null,0,null,3,22890,0,"Robert Allen Gibson",5,"EAC","Hard","No",31]
[512,"","","","1/4/2013User Drill #188  3 line rated mini tennis3.5",null,"2013-01-04","Allen Gibson"," ","User Drill #188  3 line rated mini tennis",null,null," ",3,10,null,3.5,0,0,0,null,0,null,3,22891,0,"Robert Allen Gibson",5,"EAC","Hard","No",31]
[516,"","","","5/9/2012Game against Boomer at level 2.5  Single point data:2.5",null,"2012-05-09","Allen Gibson","00:43:49","Game against Boomer at level 2.5  Single point data:","Player's point","New Point","Player serving",1,4,"Player Serve",2.5,0,0,0,null,0,null,2,22303,32,"Robert Allen Gibson",5,"Lake Lynn","Hard","No",32]
[520,"","","","1/4/2013User Drill #188  3 line rated mini tennis3.5",null,"2013-01-04","Allen Gibson"," ","User Drill #188  3 line rated mini tennis",null,"New Point"," ",1,11,null,3.5,0,0,0,null,0,null,3,22892,0,"Robert Allen Gibson",5,"EAC","Hard","No",32]
[521,"","","","1/4/2013User Drill #188  3 line rated mini tennis3.5",null,"2013-01-04","Allen Gibson"," ","User Drill #188  3 line rated mini tennis",null,null," ",2,4,null,3.5,0,0,0,null,0,null,3,22893,0,"Robert Allen Gibson",5,"EAC","Hard","No",32]
[522,3.5,12,"Player Serve","5/9/2012Game against Boomer at level 2.5  Single point data:2.5","2.5","2012-05-09","Allen Gibson","00:43:49","Game against Boomer at level 2.5  Single point data:","Player's point",null,"Player serving",2,4,"Player Serve",2.5,12,17,3.6,123,5.3,"4",2,22304,32,"Robert Allen Gibson",5,"Lake Lynn","Hard","No",32]
[523,"","","","1/4/2013User Drill #188  3 line rated mini tennis3.5",null,"2013-01-04","Allen Gibson"," ","User Drill #188  3 line rated mini tennis",null,null," ",3,10,null,3.5,0,0,0,null,0,null,3,22894,0,"Robert Allen Gibson",5,"EAC","Hard","No",32]
[527,4.5,19,"Player Serve","5/9/2012Game against Boomer at level 2.5  Single point data:2.5","2.5","2012-05-09","Allen Gibson","00:44:15","Game against Boomer at level 2.5  Single point data:","Player's point","New Point","Boomer serving",1,4,"Player Serve",2.5,19,9,4.9000000000000004,118,5.9,"4",2,22305,33,"Robert Allen Gibson",5,"Lake Lynn","Hard","No",33]
[531,"","","","1/4/2013User Drill #188  3 line rated mini tennis3.5",null,"2013-01-04","Allen Gibson"," ","User Drill #188  3 line rated mini tennis",null,"New Point"," ",1,11,null,3.5,0,0,0,null,0,null,3,22895,0,"Robert Allen Gibson",5,"EAC","Hard","No",33]
[532,"","","","1/4/2013User Drill #188  3 line rated mini tennis3.5",null,"2013-01-04","Allen Gibson"," ","User Drill #188  3 line rated mini tennis",null,null," ",2,4,null,3.5,0,0,0,null,0,null,3,22896,0,"Robert Allen Gibson",5,"EAC","Hard","No",33]
[533,2.5,11,0,"1/4/2013User Drill #188  3 line rated mini tennis3.5","3.5","2013-01-04","Allen Gibson"," ","User Drill #188  3 line rated mini tennis",null,null," ",3,10,null,3.5,11,16,2.1,29,3,"2",3,22897,0,"Robert Allen Gibson",5,"EAC","Hard","No",33]
[537,10.5,36,"Serve","5/9/2012Game against Boomer at level 2.5  Single point data:2.5","2.5","2012-05-09","Allen Gibson","00:44:44","Game against Boomer at level 2.5  Single point data:","Player's point","New Point","Boomer serving",1,3,"Serve",2.5,36,24,6.5,53,5.3,"10",2,22306,34,"Robert Allen Gibson",5,"Lake Lynn","Hard","No",34]
[541,"","","","1/4/2013User Drill #188  3 line rated mini tennis3.5",null,"2013-01-04","Allen Gibson"," ","User Drill #188  3 line rated mini tennis",null,"New Point"," ",1,11,null,3.5,0,0,0,null,0,null,3,22898,0,"Robert Allen Gibson",5,"EAC","Hard","No",34]
[{"$f":"IF(N261=1,A260+4,A260+1)","v":542},{"$f":"IF(T261=0,\"\",IF(S261<13.5,13.5-S261,S261-13.5))","v":7.5},{"$f":"IF(T261=0,\"\",R261)","v":21},{"$f":"IF(T261=0,\"\",P261)","v":"Heavy Topspin"},"5/9/2012Game against Boomer at level 2.5  Single point data:2.5","2.5","2012-05-09","Allen Gibson","00:44:44","Game against Boomer at level 2.5  Single point data:","Player's point",null,"Boomer serving",2,5,"Heavy Topspin",2.5,21,21,4.2,41,3.7,"8",2,22307,34,"Robert Allen Gibson",5,"Lake Lynn","Hard","No",34]
[543,"","","","1/4/2013User Drill #188  3 line rated mini tennis3.5",null,"2013-01-04","Allen Gibson"," ","User Drill #188  3 line rated mini tennis",null,null," ",2,4,null,3.5,0,0,0,null,0,null,3,22899,0,"Robert Allen Gibson",5,"EAC","Hard","No",34]
[544,8.5,37,"Topspin","5/9/2012Game against Boomer at level 2.5  Single point data:2.5","2.5","2012-05-09","Allen Gibson","00:44:44","Game against Boomer at level 2.5  Single point data:","Player's point",null,"Boomer serving",3,5,"Topspin",2.5,37,22,6.3,51,5.0999999999999996,"8",2,22308,34,"Robert Allen Gibson",5,"Lake Lynn","Hard","No",34]
[545,"","","","1/4/2013User Drill #188  3 line rated mini tennis3.5",null,"2013-01-04","Allen Gibson"," ","User Drill #188  3 line rated mini tennis",null,null," ",3,10,null,3.5,0,0,0,null,0,null,3,22900,0,"Robert Allen Gibson",5,"EAC","Hard","No",34]
[546,11.5,24,"Heavy Topspin","5/9/2012Game against Boomer at level 2.5  Single point data:2.5","2.5","2012-05-09","Allen Gibson","00:44:44","Game against Boomer at level 2.5  Single point data:","Player's point",null,"Boomer serving",4,3,"Heavy Topspin",2.5,24,25,6.2,48,5.9,"12",2,22309,34,"Robert Allen Gibson",5,"Lake Lynn","Hard","No",34]
[550,"","","","1/4/2013User Drill #188  3 line rated mini tennis3.5",null,"2013-01-04","Allen Gibson"," ","User Drill #188  3 line rated mini tennis",null,"New Point"," ",1,11,null,3.5,0,0,0,null,0,null,3,22901,0,"Robert Allen Gibson",5,"EAC","Hard","No",35]
[554,5.5,23,"Serve","5/9/2012Game against Boomer at level 2.5  Single point data:2.5","2.5","2012-05-09","Allen Gibson","00:45:05","Game against Boomer at level 2.5  Single point data:","Player's point","New Point","Boomer serving",1,5,"Serve",2.5,23,8,4.5,49,4.2,"6",2,22310,35,"Robert Allen Gibson",5,"Lake Lynn","Hard","No",35]
[555,8.5,29,"Slice","5/9/2012Game against Boomer at level 2.5  Single point data:2.5","2.5","2012-05-09","Allen Gibson","00:45:05","Game against Boomer at level 2.5  Single point data:","Player's point",null,"Boomer serving",2,3,"Slice",2.5,29,22,5.6,55,6,"8",2,22311,35,"Robert Allen Gibson",5,"Lake Lynn","Hard","No",35]
[556,"","","","1/4/2013User Drill #188  3 line rated mini tennis3.5",null,"2013-01-04","Allen Gibson"," ","User Drill #188  3 line rated mini tennis",null,null," ",2,4,null,3.5,0,0,0,null,0,null,3,22902,0,"Robert Allen Gibson",5,"EAC","Hard","No",35]
[557,"","","","1/4/2013User Drill #188  3 line rated mini tennis3.5",null,"2013-01-04","Allen Gibson"," ","User Drill #188  3 line rated mini tennis",null,null," ",3,10,null,3.5,0,0,0,null,0,null,3,22903,0,"Robert Allen Gibson",5,"EAC","Hard","No",35]
[561,"","","","1/4/2013User Drill #188  3 line rated mini tennis3.5",null,"2013-01-04","Allen Gibson"," ","User Drill #188  3 line rated mini tennis",null,"New Point"," ",1,11,null,3.5,0,0,0,null,0,null,3,22904,0,"Robert Allen Gibson",5,"EAC","Hard","No",36]
[565,8.5,28,"Serve","5/9/2012Game against Boomer at level 2.5  Single point data:2.5","2.5","2012-05-09","Allen Gibson","00:45:27","Game against Boomer at level 2.5  Single point data:","Player's point","New Point","Boomer serving",1,3,"Serve",2.5,28,5,5.3,44,4.4000000000000004,"8",2,22312,36,"Robert Allen Gibson",5,"Lake Lynn","Hard","No",36]
[566,11.5,26,"Topspin","5/9/2012Game against Boomer at level 2.5  Single point data:2.5","2.5","2012-05-09","Allen Gibson","00:45:27","Game against Boomer at level 2.5  Single point data:","Player's point",null,"Boomer serving",2,4,"Topspin",2.5,26,25,6.2,49,5.9,"12",2,22313,36,"Robert Allen Gibson",5,"Lake Lynn","Hard","No",36]
[567,2.5,28,0,"1/4/2013User Drill #188  3 line rated mini tennis3.5","3.5","2013-01-04","Allen Gibson"," ","User Drill #188  3 line rated mini tennis",null,null," ",2,4,null,3.5,28,16,4.3,27,4,"2",3,22905,0,"Robert Allen Gibson",5,"EAC","Hard","No",36]
[568,"","","","1/4/2013User Drill #188  3 line rated mini tennis3.5",null,"2013-01-04","Allen Gibson"," ","User Drill #188  3 line rated mini tennis",null,null," ",3,10,null,3.5,0,0,0,null,0,null,3,22906,0,"Robert Allen Gibson",5,"EAC","Hard","No",36]
[572,"","","","1/4/2013User Drill #188  3 line rated mini tennis3.5",null,"2013-01-04","Allen Gibson"," ","User Drill #188  3 line rated mini tennis",null,"New Point"," ",1,11,null,3.5,0,0,0,null,0,null,3,22907,0,"Robert Allen Gibson",5,"EAC","Hard","No",37]
[576,11.5,34,"Serve","5/9/2012Game against Boomer at level 2.5  Single point data:2.5","2.5","2012-05-09","Allen Gibson","00:45:55","Game against Boomer at level 2.5  Single point data:","Player's point","New Point","Player serving",1,8,"Serve",2.5,34,2,6.5,44,5,"12",2,22314,37,"Robert Allen Gibson",5,"Lake Lynn","Hard","No",37]
[577,8.5,30,"Heavy Topspin","5/9/2012Game against Boomer at level 2.5  Single point data:2.5","2.5","2012-05-09","Allen Gibson","00:45:55","Game against Boomer at level 2.5  Single point data:","Player's point",null,"Player serving",2,4,"Heavy Topspin",2.5,30,22,5.6,43,5.3,"8",2,22315,37,"Robert Allen Gibson",5,"Lake Lynn","Hard","No",37]
[578,8.5,23,0,"1/4/2013User Drill #188  3 line rated mini tennis3.5","3.5","2013-01-04","Allen Gibson"," ","User Drill #188  3 line rated mini tennis",null,null," ",2,4,null,3.5,23,22,4.9000000000000004,34,4.8,"8",3,22908,0,"Robert Allen Gibson",5,"EAC","Hard","No",37]
[579,"","","","1/4/2013User Drill #188  3 line rated mini tennis3.5",null,"2013-01-04","Allen Gibson"," ","User Drill #188  3 line rated mini tennis",null,null," ",3,10,null,3.5,0,0,0,null,0,null,3,22909,0,"Robert Allen Gibson",5,"EAC","Hard","No",37]
[583,1.5,11,"Player Serve","5/9/2012Game against Boomer at level 2.5  Single point data:2.5","2.5","2012-05-09","Allen Gibson","00:46:15","Game against Boomer at level 2.5  Single point data:","Player's point","New Point","Player serving",1,4,"Player Serve",2.5,11,15,4.4000000000000004,122,5.7,"2",2,22316,38,"Robert Allen Gibson",5,"Lake Lynn","Hard","No",38]
[587,"","","","1/4/2013User Drill #188  3 line rated mini tennis3.5",null,"2013-01-04","Allen Gibson"," ","User Drill #188  3 line rated mini tennis",null,"New Point"," ",1,11,null,3.5,0,0,0,null,0,null,3,22910,0,"Robert Allen Gibson",5,"EAC","Hard","No",38]
[588,"","","","1/4/2013User Drill #188  3 line rated mini tennis3.5",null,"2013-01-04","Allen Gibson"," ","User Drill #188  3 line rated mini tennis",null,null," ",2,4,null,3.5,0,0,0,null,0,null,3,22911,0,"Robert Allen Gibson",5,"EAC","Hard","No",38]
[589,8.5,38,0,"1/4/2013User Drill #188  3 line rated mini tennis3.5","3.5","2013-01-04","Allen Gibson"," ","User Drill #188  3 line rated mini tennis",null,null," ",3,10,null,3.5,38,22,7,53,7,"8",3,22912,0,"Robert Allen Gibson",5,"EAC","Hard","No",38]
[593,4.5,16,"Player Serve","5/9/2012Game against Boomer at level 2.5  Single point data:2.5","2.5","2012-05-09","Allen Gibson","00:46:31","Game against Boomer at level 2.5  Single point data:","Player's point","New Point","Player serving",1,4,"Player Serve",2.5,16,9,4.4000000000000004,116,5.7,"4",2,22317,39,"Robert Allen Gibson",5,"Lake Lynn","Hard","No",39]
[597,"","","","1/4/2013User Drill #188  3 line rated mini tennis3.5",null,"2013-01-04","Allen Gibson"," ","User Drill #188  3 line rated mini tennis",null,"New Point"," ",1,11,null,3.5,0,0,0,null,0,null,3,22913,0,"Robert Allen Gibson",5,"EAC","Hard","No",39]
[598,"","","","1/4/2013User Drill #188  3 line rated mini tennis3.5",null,"2013-01-04","Allen Gibson"," ","User Drill #188  3 line rated mini tennis",null,null," ",2,4,null,3.5,0,0,0,null,0,null,3,22914,0,"Robert Allen Gibson",5,"EAC","Hard","No",39]
[599,9.5,13,0,"1/4/2013User Drill #188  3 line rated mini tennis3.5","3.5","2013-01-04","Allen Gibson"," ","User Drill #188  3 line rated mini tennis",null,null," ",3,10,null,3.5,13,23,4.9000000000000004,37,5,"10",3,22915,0,"Robert Allen Gibson",5,"EAC","Hard","No",39]
[603,4.5,9,"Player Serve","5/9/2012Game against Boomer at level 2.5  Single point data:2.5","2.5","2012-05-09","Allen Gibson","00:46:59","Game against Boomer at level 2.5  Single point data:","Boomer's point","New Point","Player serving",1,4,"Player Serve",2.5,9,18,2.7,114,4.8,"4",2,22318,40,"Robert Allen Gibson",5,"Lake Lynn","Hard","No",40]
[607,"","","","1/4/2013User Drill #188  3 line rated mini tennis3.5",null,"2013-01-04","Allen Gibson"," ","User Drill #188  3 line rated mini tennis",null,"New Point"," ",1,11,null,3.5,0,0,0,null,0,null,3,22916,0,"Robert Allen Gibson",5,"EAC","Hard","No",40]
[608,0.5,10,"Topspin","5/9/2012Game against Boomer at level 2.5  Single point data:2.5","2.5","2012-05-09","Allen Gibson","00:46:59","Game against Boomer at level 2.5  Single point data:","Boomer's point",null,"Player serving",2,5,"Topspin",2.5,10,13,1.9,36,2.2999999999999998,"0",2,22319,40,"Robert Allen Gibson",5,"Lake Lynn","Hard","No",40]
[609,"","","","1/4/2013User Drill #188  3 line rated mini tennis3.5",null,"2013-01-04","Allen Gibson"," ","User Drill #188  3 line rated mini tennis",null,null," ",2,4,null,3.5,0,0,0,null,0,null,3,22917,0,"Robert Allen Gibson",5,"EAC","Hard","No",40]
[610,9.5,35,"Drop Shot","5/9/2012Game against Boomer at level 2.5  Single point data:2.5","2.5","2012-05-09","Allen Gibson","00:46:59","Game against Boomer at level 2.5  Single point data:","Boomer's point",null,"Player serving",3,3,"Drop Shot",2.5,35,4,6.3,50,5.0999999999999996,"10",2,22320,40,"Robert Allen Gibson",5,"Lake Lynn","Hard","No",40]
[611,11.5,25,0,"1/4/2013User Drill #188  3 line rated mini tennis3.5","3.5","2013-01-04","Allen Gibson"," ","User Drill #188  3 line rated mini tennis",null,null," ",3,10,null,3.5,25,2,7,37,6,"12",3,22918,0,"Robert Allen Gibson",5,"EAC","Hard","No",40]
[612,"","","","5/9/2012Game against Boomer at level 2.5  Single point data:2.5",null,"2012-05-09","Allen Gibson","00:46:59","Game against Boomer at level 2.5  Single point data:","Boomer's point",null,"Player serving",4,5,"Pass",2.5,0,0,0,null,0,null,2,22321,40,"Robert Allen Gibson",5,"Lake Lynn","Hard","No",40]
[616,"","","","1/4/2013User Drill #188  3 line rated mini tennis3.5",null,"2013-01-04","Allen Gibson"," ","User Drill #188  3 line rated mini tennis",null,"New Point"," ",1,11,null,3.5,0,0,0,null,0,null,3,22919,0,"Robert Allen Gibson",5,"EAC","Hard","No",41]
[620,4.5,14,"Player Serve","5/9/2012Game against Boomer at level 2.5  Single point data:2.5","2.5","2012-05-09","Allen Gibson","00:47:15","Game against Boomer at level 2.5  Single point data:","Player's point","New Point","Player serving",1,4,"Player Serve",2.5,14,9,3.7,132,5.3,"4",2,22322,41,"Robert Allen Gibson",5,"Lake Lynn","Hard","No",41]
[621,"","","","1/4/2013User Drill #188  3 line rated mini tennis3.5",null,"2013-01-04","Allen Gibson"," ","User Drill #188  3 line rated mini tennis",null,null," ",2,4,null,3.5,0,0,0,null,0,null,3,22920,0,"Robert Allen Gibson",5,"EAC","Hard","No",41]
[622,0.5,24,0,"1/4/2013User Drill #188  3 line rated mini tennis3.5","3.5","2013-01-04","Allen Gibson"," ","User Drill #188  3 line rated mini tennis",null,null," ",3,10,null,3.5,24,14,3.5,50,5.2,"0",3,22921,0,"Robert Allen Gibson",5,"EAC","Hard","No",41]
[626,"","","","1/4/2013User Drill #188  3 line rated mini tennis3.5",null,"2013-01-04","Allen Gibson"," ","User Drill #188  3 line rated mini tennis",null,"New Point"," ",1,11,null,3.5,0,0,0,null,0,null,3,22922,0,"Robert Allen Gibson",5,"EAC","Hard","No",42]
[630,3.5,10,"Player Serve","5/9/2012Game against Boomer at level 2.5  Single point data:2.5","2.5","2012-05-09","Allen Gibson","00:47:36","Game against Boomer at level 2.5  Single point data:","Player's point","New Point","Boomer serving",1,4,"Player Serve",2.5,10,17,3.4,132,5.2,"4",2,22323,42,"Robert Allen Gibson",5,"Lake Lynn","Hard","No",42]
[631,8.5,9,0,"1/4/2013User Drill #188  3 line rated mini tennis3.5","3.5","2013-01-04","Allen Gibson"," ","User Drill #188  3 line rated mini tennis",null,null," ",2,4,null,3.5,9,5,4.9000000000000004,32,4.5999999999999996,"8",3,22923,0,"Robert Allen Gibson",5,"EAC","Hard","No",42]
[632,"","","","1/4/2013User Drill #188  3 line rated mini tennis3.5",null,"2013-01-04","Allen Gibson"," ","User Drill #188  3 line rated mini tennis",null,null," ",3,10,null,3.5,0,0,0,null,0,null,3,22924,0,"Robert Allen Gibson",5,"EAC","Hard","No",42]
[636,"","","","1/4/2013User Drill #188  3 line rated mini tennis3.5",null,"2013-01-04","Allen Gibson"," ","User Drill #188  3 line rated mini tennis",null,"New Point"," ",1,11,null,3.5,0,0,0,null,0,null,3,22925,0,"Robert Allen Gibson",5,"EAC","Hard","No",43]
[640,5.5,33,"Serve","5/9/2012Game against Boomer at level 2.5  Single point data:2.5","2.5","2012-05-09","Allen Gibson","00:48:09","Game against Boomer at level 2.5  Single point data:","Player's point","New Point","Boomer serving",1,3,"Serve",2.5,33,8,5.3,42,4.3,"6",2,22324,43,"Robert Allen Gibson",5,"Lake Lynn","Hard","No",43]
[641,"","","","1/4/2013User Drill #188  3 line rated mini tennis3.5",null,"2013-01-04","Allen Gibson"," ","User Drill #188  3 line rated mini tennis",null,null," ",2,4,null,3.5,0,0,0,null,0,null,3,22926,0,"Robert Allen Gibson",5,"EAC","Hard","No",43]
[642,6.5,27,"Drop Shot","5/9/2012Game against Boomer at level 2.5  Single point data:2.5","2.5","2012-05-09","Allen Gibson","00:48:09","Game against Boomer at level 2.5  Single point data:","Player's point",null,"Boomer serving",2,4,"Drop Shot",2.5,27,20,5,39,4,"6",2,22325,43,"Robert Allen Gibson",5,"Lake Lynn","Hard","No",43]
[643,"","","","1/4/2013User Drill #188  3 line rated mini tennis3.5",null,"2013-01-04","Allen Gibson"," ","User Drill #188  3 line rated mini tennis",null,null," ",3,10,null,3.5,0,0,0,null,0,null,3,22927,0,"Robert Allen Gibson",5,"EAC","Hard","No",43]
[644,10.5,27,"Pass","5/9/2012Game against Boomer at level 2.5  Single point data:2.5","2.5","2012-05-09","Allen Gibson","00:48:09","Game against Boomer at level 2.5  Single point data:","Player's point",null,"Boomer serving",3,5,"Pass",2.5,27,3,5.7,42,4.5,"10",2,22326,43,"Robert Allen Gibson",5,"Lake Lynn","Hard","No",43]
[645,11.5,33,"Pass","5/9/2012Game against Boomer at level 2.5  Single point data:2.5","2.5","2012-05-09","Allen Gibson","00:48:09","Game against Boomer at level 2.5  Single point data:","Player's point",null,"Boomer serving",4,4,"Pass",2.5,33,25,6.5,45,5,"12",2,22327,43,"Robert Allen Gibson",5,"Lake Lynn","Hard","No",43]
[646,8.5,33,"Heavy Topspin","5/9/2012Game against Boomer at level 2.5  Single point data:2.5","2.5","2012-05-09","Allen Gibson","00:48:09","Game against Boomer at level 2.5  Single point data:","Player's point",null,"Boomer serving",5,5,"Heavy Topspin",2.5,33,5,6.1,52,5.0999999999999996,"8",2,22328,43,"Robert Allen Gibson",5,"Lake Lynn","Hard","No",43]
[650,"","","","1/4/2013User Drill #188  3 line rated mini tennis3.5",null,"2013-01-04","Allen Gibson"," ","User Drill #188  3 line rated mini tennis",null,"New Point"," ",1,11,null,3.5,0,0,0,null,0,null,3,22928,0,"Robert Allen Gibson",5,"EAC","Hard","No",44]
[654,6.5,25,"Serve","5/9/2012Game against Boomer at level 2.5  Single point data:2.5","2.5","2012-05-09","Allen Gibson","00:48:38","Game against Boomer at level 2.5  Single point data:","Player's point","New Point","Boomer serving",1,5,"Serve",2.5,25,7,4.7,53,4.4000000000000004,"6",2,22329,44,"Robert Allen Gibson",5,"Lake Lynn","Hard","No",44]
[655,"","","","1/4/2013User Drill #188  3 line rated mini tennis3.5",null,"2013-01-04","Allen Gibson"," ","User Drill #188  3 line rated mini tennis",null,null," ",2,4,null,3.5,0,0,0,null,0,null,3,22929,0,"Robert Allen Gibson",5,"EAC","Hard","No",44]
[656,9.5,26,"Topspin","5/9/2012Game against Boomer at level 2.5  Single point data:2.5","2.5","2012-05-09","Allen Gibson","00:48:38","Game against Boomer at level 2.5  Single point data:","Player's point",null,"Boomer serving",2,3,"Topspin",2.5,26,4,5,49,4.4000000000000004,"10",2,22330,44,"Robert Allen Gibson",5,"Lake Lynn","Hard","No",44]
[657,13.5,12,0,"1/4/2013User Drill #188  3 line rated mini tennis3.5","3.5","2013-01-04","Allen Gibson"," ","User Drill #188  3 line rated mini tennis",null,null," ",3,10,null,3.5,12,27,7,27,5.3,"14",3,22930,0,"Robert Allen Gibson",5,"EAC","Hard","No",44]
[658,7.5,26,"Drop Shot","5/9/2012Game against Boomer at level 2.5  Single point data:2.5","2.5","2012-05-09","Allen Gibson","00:48:38","Game against Boomer at level 2.5  Single point data:","Player's point",null,"Boomer serving",3,5,"Drop Shot",2.5,26,6,4.7,52,4.4000000000000004,"8",2,22331,44,"Robert Allen Gibson",5,"Lake Lynn","Hard","No",44]
[659,9.5,33,"Lob","5/9/2012Game against Boomer at level 2.5  Single point data:2.5","2.5","2012-05-09","Allen Gibson","00:48:38","Game against Boomer at level 2.5  Single point data:","Player's point",null,"Boomer serving",4,3,"Lob",2.5,33,4,5.9,53,6,"10",2,22332,44,"Robert Allen Gibson",5,"Lake Lynn","Hard","No",44]
[663,3.5,8,"Serve","5/9/2012Game against Boomer at level 2.5  Single point data:2.5","2.5","2012-05-09","Allen Gibson","00:49:00","Game against Boomer at level 2.5  Single point data:","Player's point","New Point","Boomer serving",1,0,"Serve",2.5,8,17,1.9,21,1.7,"4",2,22333,45,"Robert Allen Gibson",5,"Lake Lynn","Hard","No",45]
[664,6.5,35,"Topspin","5/9/2012Game against Boomer at level 2.5  Single point data:2.5","2.5","2012-05-09","Allen Gibson","00:49:00","Game against Boomer at level 2.5  Single point data:","Player's point",null,"Boomer serving",2,4,"Topspin",2.5,35,7,6.2,46,5.7,"6",2,22334,45,"Robert Allen Gibson",5,"Lake Lynn","Hard","No",45]
[668,1.5,12,"Serve","5/9/2012Game against Boomer at level 2.5  Single point data:2.5","2.5","2012-05-09","Allen Gibson","00:49:26","Game against Boomer at level 2.5  Single point data:","Player's point","New Point","Player serving",1,5,"Serve",2.5,12,12,2.1,28,2.1,"2",2,22335,46,"Robert Allen Gibson",5,"Lake Lynn","Hard","No",46]
[669,10.5,36,"Topspin","5/9/2012Game against Boomer at level 2.5  Single point data:2.5","2.5","2012-05-09","Allen Gibson","00:49:26","Game against Boomer at level 2.5  Single point data:","Player's point",null,"Player serving",2,3,"Topspin",2.5,36,24,6.2,55,6.3,"10",2,22336,46,"Robert Allen Gibson",5,"Lake Lynn","Hard","No",46]
[673,"","","","5/9/2012Game against Boomer at level 2.5  Single point data:2.5",null,"2012-05-09","Allen Gibson","00:49:49","Game against Boomer at level 2.5  Single point data:","Boomer's point","New Point","Player serving",1,4,"Player Serve",2.5,0,0,0,null,0,null,2,22337,47,"Robert Allen Gibson",5,"Lake Lynn","Hard","No",47]
[674,"","","","5/9/2012Game against Boomer at level 2.5  Single point data:2.5",null,"2012-05-09","Allen Gibson","00:49:49","Game against Boomer at level 2.5  Single point data:","Boomer's point",null,"Player serving",2,4,"Player Serve",2.5,0,0,0,null,0,null,2,22338,47,"Robert Allen Gibson",5,"Lake Lynn","Hard","No",47]
[{"$f":"IF(N325=1,A324+4,A324+1)","v":678},{"$f":"IF(T325=0,\"\",IF(S325<13.5,13.5-S325,S325-13.5))","v":""},{"$f":"IF(T325=0,\"\",R325)","v":""},{"$f":"IF(T325=0,\"\",P325)","v":""},"5/9/2012Game against Boomer at level 2.5  Single point data:2.5",null,"2012-05-09","Allen Gibson","00:50:48","Game against Boomer at level 2.5  Single point data:","Player's point","New Point","Player serving",1,4,"Player Serve",2.5,0,0,0,null,0,null,2,22339,48,"Robert Allen Gibson",5,"Lake Lynn","Hard","No",48]
[679,6.5,15,"Player Serve","5/9/2012Game against Boomer at level 2.5  Single point data:2.5","2.5","2012-05-09","Allen Gibson","00:50:48","Game against Boomer at level 2.5  Single point data:","Player's point",null,"Player serving",2,4,"Player Serve",2.5,15,7,3.5,58,3.5,"6",2,22340,48,"Robert Allen Gibson",5,"Lake Lynn","Hard","No",48]
[680,6.5,32,"Topspin","5/9/2012Game against Boomer at level 2.5  Single point data:2.5","2.5","2012-05-09","Allen Gibson","00:50:48","Game against Boomer at level 2.5  Single point data:","Player's point",null,"Player serving",3,3,"Topspin",2.5,32,20,5.7,50,4.8,"6",2,22341,48,"Robert Allen Gibson",5,"Lake Lynn","Hard","No",48]
[681,0.5,24,"Lob","5/9/2012Game against Boomer at level 2.5  Single point data:2.5","2.5","2012-05-09","Allen Gibson","00:50:48","Game against Boomer at level 2.5  Single point data:","Player's point",null,"Player serving",4,4,"Lob",2.5,24,14,3.7,50,3.8,"0",2,22342,48,"Robert Allen Gibson",5,"Lake Lynn","Hard","No",48]
[682,8.5,29,"Pass","5/9/2012Game against Boomer at level 2.5  Single point data:2.5","2.5","2012-05-09","Allen Gibson","00:50:48","Game against Boomer at level 2.5  Single point data:","Player's point",null,"Player serving",5,4,"Pass",2.5,29,5,5.7,48,4.7,"8",2,22343,48,"Robert Allen Gibson",5,"Lake Lynn","Hard","No",48]
[683,0.5,24,"Pass","5/9/2012Game against Boomer at level 2.5  Single point data:2.5","2.5","2012-05-09","Allen Gibson","00:50:48","Game against Boomer at level 2.5  Single point data:","Player's point",null,"Player serving",6,5,"Pass",2.5,24,14,3.5,50,4.5999999999999996,"0",2,22344,48,"Robert Allen Gibson",5,"Lake Lynn","Hard","No",48]
[687,3.5,19,"Player Serve","5/9/2012Game against Boomer at level 2.5  Single point data:2.5","2.5","2012-05-09","Allen Gibson","00:51:07","Game against Boomer at level 2.5  Single point data:","Player's point","New Point","Player serving",1,4,"Player Serve",2.5,19,17,5.4,119,6.2,"4",2,22345,49,"Robert Allen Gibson",5,"Lake Lynn","Hard","No",49]
[691,8.5,18,"Player Serve","5/9/2012Game against Boomer at level 2.5  Single point data:2.5","2.5","2012-05-09","Allen Gibson","00:51:30","Game against Boomer at level 2.5  Single point data:","Player's point","New Point","Player serving",1,4,"Player Serve",2.5,18,5,4.5,106,5.6,"8",2,22346,50,"Robert Allen Gibson",5,"Lake Lynn","Hard","No",50]
[695,5.5,13,"Player Serve","5/9/2012Game against Boomer at level 2.5  Single point data:2.5","2.5","2012-05-09","Allen Gibson","00:51:50","Game against Boomer at level 2.5  Single point data:","Player's point","New Point","Boomer serving",1,4,"Player Serve",2.5,13,19,3.3,111,5.0999999999999996,"6",2,22347,51,"Robert Allen Gibson",5,"Lake Lynn","Hard","No",51]
[699,11.5,25,"Serve","5/9/2012Game against Boomer at level 2.5  Single point data:2.5","2.5","2012-05-09","Allen Gibson","00:52:10","Game against Boomer at level 2.5  Single point data:","Boomer's point","New Point","Boomer serving",1,3,"Serve",2.5,25,25,5.7,40,4.4000000000000004,"12",2,22348,52,"Robert Allen Gibson",5,"Lake Lynn","Hard","No",52]
[700,"","","","5/9/2012Game against Boomer at level 2.5  Single point data:2.5",null,"2012-05-09","Allen Gibson","00:52:10","Game against Boomer at level 2.5  Single point data:","Boomer's point",null,"Boomer serving",2,5,"Drop Shot",2.5,0,0,0,null,0,null,2,22349,52,"Robert Allen Gibson",5,"Lake Lynn","Hard","No",52]
[704,8.5,32,"Serve","5/9/2012Game against Boomer at level 2.5  Single point data:2.5","2.5","2012-05-09","Allen Gibson","00:52:32","Game against Boomer at level 2.5  Single point data:","Player's point","New Point","Boomer serving",1,8,"Serve",2.5,32,5,5.9,51,4.9000000000000004,"8",2,22350,53,"Robert Allen Gibson",5,"Lake Lynn","Hard","No",53]
[705,11.5,39,"Topspin","5/9/2012Game against Boomer at level 2.5  Single point data:2.5","2.5","2012-05-09","Allen Gibson","00:52:32","Game against Boomer at level 2.5  Single point data:","Player's point",null,"Boomer serving",2,3,"Topspin",2.5,39,2,6.7,62,5.8,"12",2,22351,53,"Robert Allen Gibson",5,"Lake Lynn","Hard","No",53]
[709,0.5,7,"Serve","5/9/2012Game against Boomer at level 2.5  Single point data:2.5","2.5","2012-05-09","Allen Gibson","00:53:05","Game against Boomer at level 2.5  Single point data:","Player's point","New Point","Boomer serving",1,0,"Serve",2.5,7,13,1.7,24,1.8,"0",2,22352,54,"Robert Allen Gibson",5,"Lake Lynn","Hard","No",54]
[710,9.5,25,"Topspin","5/9/2012Game against Boomer at level 2.5  Single point data:2.5","2.5","2012-05-09","Allen Gibson","00:53:05","Game against Boomer at level 2.5  Single point data:","Player's point",null,"Boomer serving",2,5,"Topspin",2.5,25,4,5.3,49,4.5999999999999996,"10",2,22353,54,"Robert Allen Gibson",5,"Lake Lynn","Hard","No",54]
[711,7.5,24,"Topspin","5/9/2012Game against Boomer at level 2.5  Single point data:2.5","2.5","2012-05-09","Allen Gibson","00:53:05","Game against Boomer at level 2.5  Single point data:","Player's point",null,"Boomer serving",3,3,"Topspin",2.5,24,6,4.5,36,3.6,"8",2,22354,54,"Robert Allen Gibson",5,"Lake Lynn","Hard","No",54]
[712,8.5,30,"Drop Shot","5/9/2012Game against Boomer at level 2.5  Single point data:2.5","2.5","2012-05-09","Allen Gibson","00:53:05","Game against Boomer at level 2.5  Single point data:","Player's point",null,"Boomer serving",4,5,"Drop Shot",2.5,30,5,5.7,39,4.4000000000000004,"8",2,22355,54,"Robert Allen Gibson",5,"Lake Lynn","Hard","No",54]
[713,6.5,19,"Lob","5/9/2012Game against Boomer at level 2.5  Single point data:2.5","2.5","2012-05-09","Allen Gibson","00:53:05","Game against Boomer at level 2.5  Single point data:","Player's point",null,"Boomer serving",5,3,"Lob",2.5,19,20,3.7,41,4.2,"6",2,22356,54,"Robert Allen Gibson",5,"Lake Lynn","Hard","No",54]
[714,4.5,28,"Pass","5/9/2012Game against Boomer at level 2.5  Single point data:2.5","2.5","2012-05-09","Allen Gibson","00:53:05","Game against Boomer at level 2.5  Single point data:","Player's point",null,"Boomer serving",6,5,"Pass",2.5,28,9,4.5999999999999996,40,4.5999999999999996,"4",2,22357,54,"Robert Allen Gibson",5,"Lake Lynn","Hard","No",54]
[718,1.5,9,"Serve","5/9/2012Game against Boomer at level 2.5  Single point data:2.5","2.5","2012-05-09","Allen Gibson","00:53:27","Game against Boomer at level 2.5  Single point data:","Player's point","New Point","Boomer serving",1,8,"Serve",2.5,9,12,1.9,24,1.9,"2",2,22358,55,"Robert Allen Gibson",5,"Lake Lynn","Hard","No",55]
[719,11.5,30,"Topspin","5/9/2012Game against Boomer at level 2.5  Single point data:2.5","2.5","2012-05-09","Allen Gibson","00:53:27","Game against Boomer at level 2.5  Single point data:","Player's point",null,"Boomer serving",2,3,"Topspin",2.5,30,2,6.2,48,5.9,"12",2,22359,55,"Robert Allen Gibson",5,"Lake Lynn","Hard","No",55]
[723,5.5,29,"Serve","5/9/2012Game against Boomer at level 2.5  Single point data:2.5","2.5","2012-05-09","Allen Gibson","00:54:03","Game against Boomer at level 2.5  Single point data:","Player's point","New Point","Player serving",1,3,"Serve",2.5,29,8,5.3,36,4,"6",2,22360,56,"Robert Allen Gibson",5,"Lake Lynn","Hard","No",56]
[724,11.5,24,"Topspin","5/9/2012Game against Boomer at level 2.5  Single point data:2.5","2.5","2012-05-09","Allen Gibson","00:54:03","Game against Boomer at level 2.5  Single point data:","Player's point",null,"Player serving",2,5,"Topspin",2.5,24,2,5,42,4.0999999999999996,"12",2,22361,56,"Robert Allen Gibson",5,"Lake Lynn","Hard","No",56]
[725,5.5,18,"Topspin","5/9/2012Game against Boomer at level 2.5  Single point data:2.5","2.5","2012-05-09","Allen Gibson","00:54:03","Game against Boomer at level 2.5  Single point data:","Player's point",null,"Player serving",3,3,"Topspin",2.5,18,8,3.2,40,3.9,"6",2,22362,56,"Robert Allen Gibson",5,"Lake Lynn","Hard","No",56]
[726,9.5,27,"Flat Drive","5/9/2012Game against Boomer at level 2.5  Single point data:2.5","2.5","2012-05-09","Allen Gibson","00:54:03","Game against Boomer at level 2.5  Single point data:","Player's point",null,"Player serving",4,5,"Flat Drive",2.5,27,4,4.9000000000000004,34,4.4000000000000004,"10",2,22363,56,"Robert Allen Gibson",5,"Lake Lynn","Hard","No",56]
[727,6.5,29,"Lob","5/9/2012Game against Boomer at level 2.5  Single point data:2.5","2.5","2012-05-09","Allen Gibson","00:54:03","Game against Boomer at level 2.5  Single point data:","Player's point",null,"Player serving",5,3,"Lob",2.5,29,7,5.2,96,7,"6",2,22364,56,"Robert Allen Gibson",5,"Lake Lynn","Hard","No",56]
[731,5.5,26,"Serve","5/9/2012Game against Boomer at level 3.0  Single point data:3","3","2012-05-09","Allen Gibson","00:54:40","Game against Boomer at level 3.0  Single point data:","Boomer's point","New Point","Boomer serving",1,0,"Serve",3,26,19,4.5,62,4.7,"6",2,22365,58,"Robert Allen Gibson",5,"Lake Lynn","Hard","No",57]
[732,6.5,20,"Topspin","5/9/2012Game against Boomer at level 3.0  Single point data:3","3","2012-05-09","Allen Gibson","00:54:40","Game against Boomer at level 3.0  Single point data:","Boomer's point",null,"Boomer serving",2,5,"Topspin",3,20,7,3.9,51,3.9,"6",2,22366,58,"Robert Allen Gibson",5,"Lake Lynn","Hard","No",57]
[733,6.5,30,"Drop Shot","5/9/2012Game against Boomer at level 3.0  Single point data:3","3","2012-05-09","Allen Gibson","00:54:40","Game against Boomer at level 3.0  Single point data:","Boomer's point",null,"Boomer serving",3,4,"Drop Shot",3,30,7,5.3,60,5,"6",2,22367,58,"Robert Allen Gibson",5,"Lake Lynn","Hard","No",57]
[734,5.5,31,"Lob","5/9/2012Game against Boomer at level 3.0  Single point data:3","3","2012-05-09","Allen Gibson","00:54:40","Game against Boomer at level 3.0  Single point data:","Boomer's point",null,"Boomer serving",4,5,"Lob",3,31,19,4.9000000000000004,42,4.9000000000000004,"6",2,22368,58,"Robert Allen Gibson",5,"Lake Lynn","Hard","No",57]
[735,3.5,26,"Pass","5/9/2012Game against Boomer at level 3.0  Single point data:3","3","2012-05-09","Allen Gibson","00:54:40","Game against Boomer at level 3.0  Single point data:","Boomer's point",null,"Boomer serving",5,3,"Pass",3,26,10,4.2,59,4.4000000000000004,"4",2,22369,58,"Robert Allen Gibson",5,"Lake Lynn","Hard","No",57]
[736,"","","","5/9/2012Game against Boomer at level 3.0  Single point data:3",null,"2012-05-09","Allen Gibson","00:54:40","Game against Boomer at level 3.0  Single point data:","Boomer's point",null,"Boomer serving",6,5,"Topspin",3,0,0,0,null,0,null,2,22370,58,"Robert Allen Gibson",5,"Lake Lynn","Hard","No",57]
[740,2.5,24,"Serve","5/9/2012Game against Boomer at level 3.0  Single point data:3","3","2012-05-09","Allen Gibson","00:55:15","Game against Boomer at level 3.0  Single point data:","Player's point","New Point","Boomer serving",1,8,"Serve",3,24,11,3.9,43,3.6,"2",2,22371,59,"Robert Allen Gibson",5,"Lake Lynn","Hard","No",58]
[741,1.5,23,"Heavy Topspin","5/9/2012Game against Boomer at level 3.0  Single point data:3","3","2012-05-09","Allen Gibson","00:55:15","Game against Boomer at level 3.0  Single point data:","Player's point",null,"Boomer serving",2,4,"Heavy Topspin",3,23,12,3.4,44,3.4,"2",2,22372,59,"Robert Allen Gibson",5,"Lake Lynn","Hard","No",58]
[742,6.5,26,"Flat Drive","5/9/2012Game against Boomer at level 3.0  Single point data:3","3","2012-05-09","Allen Gibson","00:55:15","Game against Boomer at level 3.0  Single point data:","Player's point",null,"Boomer serving",3,3,"Flat Drive",3,26,7,4.7,47,4.2,"6",2,22373,59,"Robert Allen Gibson",5,"Lake Lynn","Hard","No",58]
[743,8.5,17,"Heavy Topspin","5/9/2012Game against Boomer at level 3.0  Single point data:3","3","2012-05-09","Allen Gibson","00:55:15","Game against Boomer at level 3.0  Single point data:","Player's point",null,"Boomer serving",4,5,"Heavy Topspin",3,17,5,3.9,31,3.1,"8",2,22374,59,"Robert Allen Gibson",5,"Lake Lynn","Hard","No",58]
[744,11.5,38,"Topspin","5/9/2012Game against Boomer at level 3.0  Single point data:3","3","2012-05-09","Allen Gibson","00:55:15","Game against Boomer at level 3.0  Single point data:","Player's point",null,"Boomer serving",5,3,"Topspin",3,38,2,7,19,4.5999999999999996,"12",2,22375,59,"Robert Allen Gibson",5,"Lake Lynn","Hard","No",58]
[745,7.5,15,"Heavy Topspin","5/9/2012Game against Boomer at level 3.0  Single point data:3","3","2012-05-09","Allen Gibson","00:55:15","Game against Boomer at level 3.0  Single point data:","Player's point",null,"Boomer serving",6,5,"Heavy Topspin",3,15,6,3.2,49,4.4000000000000004,"8",2,22376,59,"Robert Allen Gibson",5,"Lake Lynn","Hard","No",58]
[746,0.5,24,"Pass","5/9/2012Game against Boomer at level 3.0  Single point data:3","3","2012-05-09","Allen Gibson","00:55:15","Game against Boomer at level 3.0  Single point data:","Player's point",null,"Boomer serving",7,3,"Pass",3,24,14,3.5,50,4.5999999999999996,"0",2,22377,59,"Robert Allen Gibson",5,"Lake Lynn","Hard","No",58]
[747,12.5,35,"Pass","5/9/2012Game against Boomer at level 3.0  Single point data:3","3","2012-05-09","Allen Gibson","00:55:15","Game against Boomer at level 3.0  Single point data:","Player's point",null,"Boomer serving",8,5,"Pass",3,35,1,7,51,6.4,"12",2,22378,59,"Robert Allen Gibson",5,"Lake Lynn","Hard","No",58]
[751,"","","","5/9/2012Game against Boomer at level 3.0  Single point data:3",null,"2012-05-09","Allen Gibson","00:55:28","Game against Boomer at level 3.0  Single point data:","Boomer's point","New Point","Boomer serving",1,0,"Serve",3,0,0,0,null,0,null,2,22379,60,"Robert Allen Gibson",5,"Lake Lynn","Hard","No",59]
[755,1.5,11,"Serve","5/9/2012Game against Boomer at level 3.0  Single point data:3","3","2012-05-09","Allen Gibson","00:55:47","Game against Boomer at level 3.0  Single point data:","Boomer's point","New Point","Boomer serving",1,8,"Serve",3,11,15,2.1,34,2.4,"2",2,22380,61,"Robert Allen Gibson",5,"Lake Lynn","Hard","No",60]
[756,"","","","5/9/2012Game against Boomer at level 3.0  Single point data:3",null,"2012-05-09","Allen Gibson","00:55:47","Game against Boomer at level 3.0  Single point data:","Boomer's point",null,"Boomer serving",2,3,"Pass",3,0,0,0,null,0,null,2,22381,61,"Robert Allen Gibson",5,"Lake Lynn","Hard","No",60]
[760,0.5,24,"Serve","5/9/2012Game against Boomer at level 3.0  Single point data:3","3","2012-05-09","Allen Gibson","00:56:23","Game against Boomer at level 3.0  Single point data:","Player's point","New Point","Boomer serving",1,3,"Serve",3,24,14,3.7,50,3.8,"0",2,22382,62,"Robert Allen Gibson",5,"Lake Lynn","Hard","No",61]
[761,3.5,21,"Slice","5/9/2012Game against Boomer at level 3.0  Single point data:3","3","2012-05-09","Allen Gibson","00:56:23","Game against Boomer at level 3.0  Single point data:","Player's point",null,"Boomer serving",2,4,"Slice",3,21,10,3.7,46,3.6,"4",2,22383,62,"Robert Allen Gibson",5,"Lake Lynn","Hard","No",61]
[762,0.5,24,"Drop Shot","5/9/2012Game against Boomer at level 3.0  Single point data:3","3","2012-05-09","Allen Gibson","00:56:23","Game against Boomer at level 3.0  Single point data:","Player's point",null,"Boomer serving",3,4,"Drop Shot",3,24,14,3.7,50,3.8,"0",2,22384,62,"Robert Allen Gibson",5,"Lake Lynn","Hard","No",61]
[763,6.5,15,"Pass","5/9/2012Game against Boomer at level 3.0  Single point data:3","3","2012-05-09","Allen Gibson","00:56:23","Game against Boomer at level 3.0  Single point data:","Player's point",null,"Boomer serving",4,4,"Pass",3,15,20,3.4,39,3.2,"6",2,22385,62,"Robert Allen Gibson",5,"Lake Lynn","Hard","No",61]
[764,4.5,23,"Pass","5/9/2012Game against Boomer at level 3.0  Single point data:3","3","2012-05-09","Allen Gibson","00:56:23","Game against Boomer at level 3.0  Single point data:","Player's point",null,"Boomer serving",5,4,"Pass",3,23,9,4.2,41,3.7,"4",2,22386,62,"Robert Allen Gibson",5,"Lake Lynn","Hard","No",61]
[765,6.5,30,"Pass","5/9/2012Game against Boomer at level 3.0  Single point data:3","3","2012-05-09","Allen Gibson","00:56:23","Game against Boomer at level 3.0  Single point data:","Player's point",null,"Boomer serving",6,3,"Pass",3,30,7,5.3,46,4.4000000000000004,"6",2,22387,62,"Robert Allen Gibson",5,"Lake Lynn","Hard","No",61]
[769,3.5,33,"Serve","5/9/2012Game against Boomer at level 3.0  Single point data:3","3","2012-05-09","Allen Gibson","00:57:00","Game against Boomer at level 3.0  Single point data:","Player's point","New Point","Boomer serving",1,8,"Serve",3,33,10,5,45,4.3,"4",2,22388,63,"Robert Allen Gibson",5,"Lake Lynn","Hard","No",62]
[770,3.5,23,"Flat Drive","5/9/2012Game against Boomer at level 3.0  Single point data:3","3","2012-05-09","Allen Gibson","00:57:00","Game against Boomer at level 3.0  Single point data:","Player's point",null,"Boomer serving",2,4,"Flat Drive",3,23,10,4.2,37,3.5,"4",2,22389,63,"Robert Allen Gibson",5,"Lake Lynn","Hard","No",62]
[771,5.5,29,"Flat Drive","5/9/2012Game against Boomer at level 3.0  Single point data:3","3","2012-05-09","Allen Gibson","00:57:00","Game against Boomer at level 3.0  Single point data:","Player's point",null,"Boomer serving",3,4,"Flat Drive",3,29,8,5,47,4.3,"6",2,22390,63,"Robert Allen Gibson",5,"Lake Lynn","Hard","No",62]
[772,8.5,26,"Heavy Topspin","5/9/2012Game against Boomer at level 3.0  Single point data:3","3","2012-05-09","Allen Gibson","00:57:00","Game against Boomer at level 3.0  Single point data:","Player's point",null,"Boomer serving",4,5,"Heavy Topspin",3,26,22,5,49,4.4000000000000004,"8",2,22391,63,"Robert Allen Gibson",5,"Lake Lynn","Hard","No",62]
[773,9.5,25,"Drop Shot","5/9/2012Game against Boomer at level 3.0  Single point data:3","3","2012-05-09","Allen Gibson","00:57:00","Game against Boomer at level 3.0  Single point data:","Player's point",null,"Boomer serving",5,3,"Drop Shot",3,25,4,4.7,47,4.2,"10",2,22392,63,"Robert Allen Gibson",5,"Lake Lynn","Hard","No",62]
[774,3.5,24,"Lob","5/9/2012Game against Boomer at level 3.0  Single point data:3","3","2012-05-09","Allen Gibson","00:57:00","Game against Boomer at level 3.0  Single point data:","Player's point",null,"Boomer serving",6,5,"Lob",3,24,10,3.9,52,4,"4",2,22393,63,"Robert Allen Gibson",5,"Lake Lynn","Hard","No",62]
[775,0.5,24,"Pass","5/9/2012Game against Boomer at level 3.0  Single point data:3","3","2012-05-09","Allen Gibson","00:57:00","Game against Boomer at level 3.0  Single point data:","Player's point",null,"Boomer serving",7,4,"Pass",3,24,14,3.7,50,3.8,"0",2,22394,63,"Robert Allen Gibson",5,"Lake Lynn","Hard","No",62]
[779,7.5,35,"Serve","5/9/2012Game against Boomer at level 3.0  Single point data:3","3","2012-05-09","Allen Gibson","00:57:35","Game against Boomer at level 3.0  Single point data:","Player's point","New Point","Boomer serving",1,3,"Serve",3,35,6,5.9,45,4.7,"8",2,22395,64,"Robert Allen Gibson",5,"Lake Lynn","Hard","No",63]
[780,3.5,16,"Flat Drive","5/9/2012Game against Boomer at level 3.0  Single point data:3","3","2012-05-09","Allen Gibson","00:57:35","Game against Boomer at level 3.0  Single point data:","Player's point",null,"Boomer serving",2,4,"Flat Drive",3,16,17,2.9,34,2.8,"4",2,22396,64,"Robert Allen Gibson",5,"Lake Lynn","Hard","No",63]
[781,4.5,29,"Flat Drive","5/9/2012Game against Boomer at level 3.0  Single point data:3","3","2012-05-09","Allen Gibson","00:57:35","Game against Boomer at level 3.0  Single point data:","Player's point",null,"Boomer serving",3,3,"Flat Drive",3,29,9,5,58,4.8,"4",2,22397,64,"Robert Allen Gibson",5,"Lake Lynn","Hard","No",63]
[782,5.5,29,"Flat Drive","5/9/2012Game against Boomer at level 3.0  Single point data:3","3","2012-05-09","Allen Gibson","00:57:35","Game against Boomer at level 3.0  Single point data:","Player's point",null,"Boomer serving",4,5,"Flat Drive",3,29,19,5.3,44,4.4000000000000004,"6",2,22398,64,"Robert Allen Gibson",5,"Lake Lynn","Hard","No",63]
[783,1.5,26,"Flat Drive","5/9/2012Game against Boomer at level 3.0  Single point data:3","3","2012-05-09","Allen Gibson","00:57:35","Game against Boomer at level 3.0  Single point data:","Player's point",null,"Boomer serving",5,3,"Flat Drive",3,26,12,3.9,47,3.8,"2",2,22399,64,"Robert Allen Gibson",5,"Lake Lynn","Hard","No",63]
[784,2.5,12,"Flat Drive","5/9/2012Game against Boomer at level 3.0  Single point data:3","3","2012-05-09","Allen Gibson","00:57:35","Game against Boomer at level 3.0  Single point data:","Player's point",null,"Boomer serving",6,5,"Flat Drive",3,12,11,2.2999999999999998,40,2.7,"2",2,22400,64,"Robert Allen Gibson",5,"Lake Lynn","Hard","No",63]
[785,10.5,34,"Flat Drive","5/9/2012Game against Boomer at level 3.0  Single point data:3","3","2012-05-09","Allen Gibson","00:57:35","Game against Boomer at level 3.0  Single point data:","Player's point",null,"Boomer serving",7,3,"Flat Drive",3,34,3,6.3,53,5.2,"10",2,22401,64,"Robert Allen Gibson",5,"Lake Lynn","Hard","No",63]
[789,5.5,34,"Serve","5/9/2012Game against Boomer at level 3.0  Single point data:3","3","2012-05-09","Allen Gibson","00:57:52","Game against Boomer at level 3.0  Single point data:","Boomer's point","New Point","Boomer serving",1,8,"Serve",3,34,8,5.7,52,4.9000000000000004,"6",2,22402,65,"Robert Allen Gibson",5,"Lake Lynn","Hard","No",64]
[{"$f":"IF(N389=1,A388+4,A388+1)","v":790},{"$f":"IF(T389=0,\"\",IF(S389<13.5,13.5-S389,S389-13.5))","v":""},{"$f":"IF(T389=0,\"\",R389)","v":""},{"$f":"IF(T389=0,\"\",P389)","v":""},"5/9/2012Game against Boomer at level 3.0  Single point data:3",null,"2012-05-09","Allen Gibson","00:57:52","Game against Boomer at level 3.0  Single point data:","Boomer's point",null,"Boomer serving",2,4,"Slice",3,0,0,0,null,0,null,2,22403,65,"Robert Allen Gibson",5,"Lake Lynn","Hard","No",64]
[794,1.5,15,"Serve","5/9/2012Game against Boomer at level 3.0  Single point data:3","3","2012-05-09","Allen Gibson","00:58:14","Game against Boomer at level 3.0  Single point data:","Boomer's point","New Point","Boomer serving",1,0,"Serve",3,15,15,2.6,47,3.1,"2",2,22404,66,"Robert Allen Gibson",5,"Lake Lynn","Hard","No",65]
[795,2.5,18,"Drop Shot","5/9/2012Game against Boomer at level 3.0  Single point data:3","3","2012-05-09","Allen Gibson","00:58:14","Game against Boomer at level 3.0  Single point data:","Boomer's point",null,"Boomer serving",2,4,"Drop Shot",3,18,11,3.1,41,3.1,"2",2,22405,66,"Robert Allen Gibson",5,"Lake Lynn","Hard","No",65]
[796,"","","","5/9/2012Game against Boomer at level 3.0  Single point data:3",null,"2012-05-09","Allen Gibson","00:58:14","Game against Boomer at level 3.0  Single point data:","Boomer's point",null,"Boomer serving",3,3,"Pass",3,0,0,0,null,0,null,2,22406,66,"Robert Allen Gibson",5,"Lake Lynn","Hard","No",65]
[800,8.5,30,"Serve","5/9/2012Game against Boomer at level 3.0  Single point data:3","3","2012-05-09","Allen Gibson","00:58:52","Game against Boomer at level 3.0  Single point data:","Player's point","New Point","Boomer serving",1,5,"Serve",3,30,5,5.7,45,4.5999999999999996,"8",2,22407,67,"Robert Allen Gibson",5,"Lake Lynn","Hard","No",66]
[801,9.5,21,"Topspin","5/9/2012Game against Boomer at level 3.0  Single point data:3","3","2012-05-09","Allen Gibson","00:58:52","Game against Boomer at level 3.0  Single point data:","Player's point",null,"Boomer serving",2,4,"Topspin",3,21,4,4.7,49,4.3,"10",2,22408,67,"Robert Allen Gibson",5,"Lake Lynn","Hard","No",66]
[802,8.5,34,"Topspin","5/9/2012Game against Boomer at level 3.0  Single point data:3","3","2012-05-09","Allen Gibson","00:58:52","Game against Boomer at level 3.0  Single point data:","Player's point",null,"Boomer serving",3,5,"Topspin",3,34,5,6.1,50,5,"8",2,22409,67,"Robert Allen Gibson",5,"Lake Lynn","Hard","No",66]
[803,6.5,29,"Pass","5/9/2012Game against Boomer at level 3.0  Single point data:3","3","2012-05-09","Allen Gibson","00:58:52","Game against Boomer at level 3.0  Single point data:","Player's point",null,"Boomer serving",4,3,"Pass",3,29,7,5.3,52,4.7,"6",2,22410,67,"Robert Allen Gibson",5,"Lake Lynn","Hard","No",66]
[804,6.5,25,"Topspin","5/9/2012Game against Boomer at level 3.0  Single point data:3","3","2012-05-09","Allen Gibson","00:58:52","Game against Boomer at level 3.0  Single point data:","Player's point",null,"Boomer serving",5,5,"Topspin",3,25,7,4.7,44,4.0999999999999996,"6",2,22411,67,"Robert Allen Gibson",5,"Lake Lynn","Hard","No",66]
[805,10.5,38,"Topspin","5/9/2012Game against Boomer at level 3.0  Single point data:3","3","2012-05-09","Allen Gibson","00:58:52","Game against Boomer at level 3.0  Single point data:","Player's point",null,"Boomer serving",6,4,"Topspin",3,38,3,6.7,56,5.5,"10",2,22412,67,"Robert Allen Gibson",5,"Lake Lynn","Hard","No",66]
[809,9.5,33,"Serve","5/9/2012Game against Boomer at level 3.0  Single point data:3","3","2012-05-09","Allen Gibson","00:59:16","Game against Boomer at level 3.0  Single point data:","Player's point","New Point","Boomer serving",1,0,"Serve",3,33,4,6.1,51,5,"10",2,22413,68,"Robert Allen Gibson",5,"Lake Lynn","Hard","No",67]
[810,9.5,29,"Heavy Topspin","5/9/2012Game against Boomer at level 3.0  Single point data:3","3","2012-05-09","Allen Gibson","00:59:16","Game against Boomer at level 3.0  Single point data:","Player's point",null,"Boomer serving",2,4,"Heavy Topspin",3,29,4,5.9,42,4.5999999999999996,"10",2,22414,68,"Robert Allen Gibson",5,"Lake Lynn","Hard","No",67]
[811,9.5,24,"Topspin","5/9/2012Game against Boomer at level 3.0  Single point data:3","3","2012-05-09","Allen Gibson","00:59:16","Game against Boomer at level 3.0  Single point data:","Player's point",null,"Boomer serving",3,4,"Topspin",3,24,4,5,45,4.3,"10",2,22415,68,"Robert Allen Gibson",5,"Lake Lynn","Hard","No",67]
[815,9.5,31,"Serve","5/9/2012Game against Boomer at level 3.0  Single point data:3","3","2012-05-09","Allen Gibson","00:59:51","Game against Boomer at level 3.0  Single point data:","Player's point","New Point","Player serving",1,5,"Serve",3,31,4,5.9,58,5.2,"10",2,22416,69,"Robert Allen Gibson",5,"Lake Lynn","Hard","No",68]
[816,5.5,15,"Topspin","5/9/2012Game against Boomer at level 3.0  Single point data:3","3","2012-05-09","Allen Gibson","00:59:51","Game against Boomer at level 3.0  Single point data:","Player's point",null,"Player serving",2,3,"Topspin",3,15,8,3.1,57,3.8,"6",2,22417,69,"Robert Allen Gibson",5,"Lake Lynn","Hard","No",68]
[817,1.5,20,"Heavy Topspin","5/9/2012Game against Boomer at level 3.0  Single point data:3","3","2012-05-09","Allen Gibson","00:59:51","Game against Boomer at level 3.0  Single point data:","Player's point",null,"Player serving",3,4,"Heavy Topspin",3,20,12,3.1,45,3.3,"2",2,22418,69,"Robert Allen Gibson",5,"Lake Lynn","Hard","No",68]
[818,9.5,34,"Heavy Topspin","5/9/2012Game against Boomer at level 3.0  Single point data:3","3","2012-05-09","Allen Gibson","00:59:51","Game against Boomer at level 3.0  Single point data:","Player's point",null,"Player serving",4,4,"Heavy Topspin",3,34,4,6.1,54,5.2,"10",2,22419,69,"Robert Allen Gibson",5,"Lake Lynn","Hard","No",68]
[819,7.5,30,"Heavy Topspin","5/9/2012Game against Boomer at level 3.0  Single point data:3","3","2012-05-09","Allen Gibson","00:59:51","Game against Boomer at level 3.0  Single point data:","Player's point",null,"Player serving",5,3,"Heavy Topspin",3,30,6,5.3,57,4.9000000000000004,"8",2,22420,69,"Robert Allen Gibson",5,"Lake Lynn","Hard","No",68]
[823,5.5,15,"Player Serve","5/9/2012Game against Boomer at level 3.0  Single point data:3","3","2012-05-09","Allen Gibson","01:00:11","Game against Boomer at level 3.0  Single point data:","Player's point","New Point","Player serving",1,4,"Player Serve",3,15,19,3.6,112,5.3,"6",2,22421,70,"Robert Allen Gibson",5,"Lake Lynn","Hard","No",69]
[827,"","","","5/9/2012Game against Boomer at level 3.0  Single point data:3",null,"2012-05-09","Allen Gibson","01:00:33","Game against Boomer at level 3.0  Single point data:","Player's point","New Point","Player serving",1,4,"Player Serve",3,0,0,0,null,0,null,2,22422,71,"Robert Allen Gibson",5,"Lake Lynn","Hard","No",70]
[828,4.5,15,"Player Serve","5/9/2012Game against Boomer at level 3.0  Single point data:3","3","2012-05-09","Allen Gibson","01:00:33","Game against Boomer at level 3.0  Single point data:","Player's point",null,"Player serving",2,4,"Player Serve",3,15,9,4.0999999999999996,109,5.5,"4",2,22423,71,"Robert Allen Gibson",5,"Lake Lynn","Hard","No",70]
[832,6.5,13,"Player Serve","5/9/2012Game against Boomer at level 3.0  Single point data:3","3","2012-05-09","Allen Gibson","01:00:51","Game against Boomer at level 3.0  Single point data:","Boomer's point","New Point","Player serving",1,4,"Player Serve",3,13,20,3.1,99,4.5999999999999996,"6",2,22424,72,"Robert Allen Gibson",5,"Lake Lynn","Hard","No",71]
[833,"","","","5/9/2012Game against Boomer at level 3.0  Single point data:3",null,"2012-05-09","Allen Gibson","01:00:51","Game against Boomer at level 3.0  Single point data:","Boomer's point",null,"Player serving",2,3,"Flat Drive",3,0,0,0,null,0,null,2,22425,72,"Robert Allen Gibson",5,"Lake Lynn","Hard","No",71]
[837,"","","","5/9/2012Game against Boomer at level 3.0  Single point data:3",null,"2012-05-09","Allen Gibson","01:01:13","Game against Boomer at level 3.0  Single point data:","Boomer's point","New Point","Player serving",1,4,"Player Serve",3,0,0,0,null,0,null,2,22426,73,"Robert Allen Gibson",5,"Lake Lynn","Hard","No",72]
[838,"","","","5/9/2012Game against Boomer at level 3.0  Single point data:3",null,"2012-05-09","Allen Gibson","01:01:13","Game against Boomer at level 3.0  Single point data:","Boomer's point",null,"Player serving",2,4,"Player Serve",3,0,0,0,null,0,null,2,22427,73,"Robert Allen Gibson",5,"Lake Lynn","Hard","No",72]
[842,"","","","5/9/2012Game against Boomer at level 3.0  Single point data:3",null,"2012-05-09","Allen Gibson","01:02:12","Game against Boomer at level 3.0  Single point data:","Boomer's point","New Point","Player serving",1,4,"Player Serve",3,0,0,0,null,0,null,2,22428,74,"Robert Allen Gibson",5,"Lake Lynn","Hard","No",73]
[843,"","","","5/9/2012Game against Boomer at level 3.0  Single point data:3",null,"2012-05-09","Allen Gibson","01:02:12","Game against Boomer at level 3.0  Single point data:","Boomer's point",null,"Player serving",2,4,"Player Serve",3,0,0,0,null,0,null,2,22429,74,"Robert Allen Gibson",5,"Lake Lynn","Hard","No",73]
[847,4.5,14,"Player Serve","5/9/2012Game against Boomer at level 3.0  Single point data:3","3","2012-05-09","Allen Gibson","01:02:32","Game against Boomer at level 3.0  Single point data:","Player's point","New Point","Player serving",1,4,"Player Serve",3,14,9,3.7,112,5.3,"4",2,22430,75,"Robert Allen Gibson",5,"Lake Lynn","Hard","No",74]
[851,4.5,14,"Player Serve","5/9/2012Game against Boomer at level 3.0  Single point data:3","3","2012-05-09","Allen Gibson","01:02:49","Game against Boomer at level 3.0  Single point data:","Player's point","New Point","Player serving",1,4,"Player Serve",3,14,18,3.8,109,5.3,"4",2,22431,76,"Robert Allen Gibson",5,"Lake Lynn","Hard","No",75]
[855,9.5,14,"Player Serve","5/9/2012Game against Boomer at level 3.0  Single point data:3","3","2012-05-09","Allen Gibson","01:03:10","Game against Boomer at level 3.0  Single point data:","Player's point","New Point","Boomer serving",1,4,"Player Serve",3,14,4,4,117,5.5,"10",2,22432,77,"Robert Allen Gibson",5,"Lake Lynn","Hard","No",76]
[859,5.5,29,"Serve","5/9/2012Game against Boomer at level 3.0  Single point data:3","3","2012-05-09","Allen Gibson","01:03:46","Game against Boomer at level 3.0  Single point data:","Player's point","New Point","Boomer serving",1,3,"Serve",3,29,8,5,41,4.0999999999999996,"6",2,22433,78,"Robert Allen Gibson",5,"Lake Lynn","Hard","No",77]
[860,7.5,17,"Slice","5/9/2012Game against Boomer at level 3.0  Single point data:3","3","2012-05-09","Allen Gibson","01:03:46","Game against Boomer at level 3.0  Single point data:","Player's point",null,"Boomer serving",2,5,"Slice",3,17,6,3.9,34,3.3,"8",2,22434,78,"Robert Allen Gibson",5,"Lake Lynn","Hard","No",77]
[861,8.5,27,"Slice","5/9/2012Game against Boomer at level 3.0  Single point data:3","3","2012-05-09","Allen Gibson","01:03:46","Game against Boomer at level 3.0  Single point data:","Player's point",null,"Boomer serving",3,3,"Slice",3,27,5,5,47,4.3,"8",2,22435,78,"Robert Allen Gibson",5,"Lake Lynn","Hard","No",77]
[862,7.5,38,"Slice","5/9/2012Game against Boomer at level 3.0  Single point data:3","3","2012-05-09","Allen Gibson","01:03:46","Game against Boomer at level 3.0  Single point data:","Player's point",null,"Boomer serving",4,5,"Slice",3,38,6,6.3,52,5.2,"8",2,22436,78,"Robert Allen Gibson",5,"Lake Lynn","Hard","No",77]
[863,6.5,31,"Slice","5/9/2012Game against Boomer at level 3.0  Single point data:3","3","2012-05-09","Allen Gibson","01:03:46","Game against Boomer at level 3.0  Single point data:","Player's point",null,"Boomer serving",5,4,"Slice",3,31,7,5.7,45,4.5999999999999996,"6",2,22437,78,"Robert Allen Gibson",5,"Lake Lynn","Hard","No",77]
[864,8.5,39,"Slice","5/9/2012Game against Boomer at level 3.0  Single point data:3","3","2012-05-09","Allen Gibson","01:03:46","Game against Boomer at level 3.0  Single point data:","Player's point",null,"Boomer serving",6,4,"Slice",3,39,5,6.5,52,5.3,"8",2,22438,78,"Robert Allen Gibson",5,"Lake Lynn","Hard","No",77]

{"sheet":"Pivots","index":8,"n_rows":225,"n_cols":40,"rows_kept":225,"cut":false,"hidden":false,"merged":[]}
[{"$f":"MATCH(\"Grand Total\",Pivots!4:4,0)","v":12}]
[]
["Average of fSpeed","SwingType"]
["NRTPLevel","Player Serve","Topspin","Heavy Topspin","Serve","Drop Shot","Lob","Pass","Flat Drive","Slice","(blank)","Grand Total"]
[2,102.25,44.8,46.75,45.333333333333336,38,45,52,37,39.5,null,58.56]
[2.5,113.07692307692308,47.153846153846153,46,39.153846153846153,45,60,45,34,55,null,60.517241379310342]
[3,109.66666666666667,46.375,46.375,47.75,49.5,47,48.5,45.222222222222221,46,null,52.952380952380949]
[3.5,101.78571428571429,45.176470588235297,32.5,43.416666666666664,43.5,68.5,40.647058823529413,37.799999999999997,38,37.866666666666667,49.422413793103445]
["Grand Total",106.22222222222223,45.833333333333336,43.6,43.903846153846153,44.555555555555557,59.642857142857146,44,41.6875,43.666666666666664,37.866666666666667,54.031358885017418]
[]
[]
[]
[]
[]
[]
[]
[]
[]
[]
[]
[]
[]
[]
[]
[]
[]
[]
[]
[]
[]
[]
[{"$f":"MATCH(\"Grand Total\",35:35,0)","v":12}]
[]
["Max of fSpeed","SwingType"]
["NRTPLevel","Player Serve","Topspin","Heavy Topspin","Serve","Drop Shot","Lob","Pass","Flat Drive","Slice","(blank)","Grand Total"]
[2,112,57,54,56,46,49,54,37,51,null,112]
[2.5,132,62,52,53,52,96,50,34,55,null,132]
[3,117,57,57,62,60,52,59,58,52,null,117]
[3.5,118,56,43,55,53,106,54,44,38,98,118]
["Grand Total",132,62,57,62,60,106,59,58,55,98,132]
[]
[]
[]
[]
[]
[]
[]
[]
[]
[]
[]
[]
[]
[]
[]
[]
[]
[]
[]
[]
[]
[]
[]
[]
[]
[]
[]
[]
[]
[{"$f":"MATCH(\"Grand Total\",73:73,0)","v":12}]
[]
["Average of AvgShotDepth","SwingType"]
["NRTPLevel","Player Serve","Topspin","Heavy Topspin","Serve","Drop Shot","Lob","Pass","Flat Drive","Slice","(blank)","Grand Total"]
[3.5,14.785714285714286,23.352941176470587,26.25,26.083333333333332,26,23.5,23.117647058823529,22.4,26.333333333333332,15.9375,20.889830508474578]
[3,14.166666666666666,26.875,24.25,27.083333333333332,24.25,27.5,25.75,24.888888888888889,28.833333333333332,null,24.984126984126984]
[2.5,14.692307692307692,27.846153846153847,27,23.153846153846153,29.5,26.25,28.2,27,29,null,23.827586206896552]
[2,17.5,26.6,26.5,26.266666666666666,24,30.5,29.5,20,22.5,null,24.18]
["Grand Total",15.4,25.833333333333332,25.65,25.634615384615383,26.166666666666668,25.857142857142858,24.96875,23.9375,27.166666666666668,15.9375,22.941176470588236]
[]
[]
[]
[]
[]
[]
[]
[]
[]
[]
[]
[]
[]
[]
[]
[]
[]
[]
[]
[]
[{"$f":"MATCH(\"Grand Total\",102:102,0)","v":12}]
[]
["Average of AvgShotWidth","SwingType"]
["NRTPLevel","Player Serve","Topspin","Heavy Topspin","Serve","Drop Shot","Lob","Pass","Flat Drive","Slice","(blank)","Grand Total"]
[3.5,6.3571428571428568,7.2058823529411766,7.75,6.833333333333333,8.25,3.3333333333333335,6.2058823529411766,7.3,6.833333333333333,7.375,6.8559322033898304]
[3,5.833333333333333,8.5,6.75,5.083333333333333,4.75,4.5,5.125,4.833333333333333,7,null,5.912698412698413]
[2.5,4.8076923076923075,8.5,9,6.1923076923076925,8,5.75,7.1,9.5,8.5,null,6.8620689655172411]
[2,6.583333333333333,7.3,10,8.6333333333333329,7,11,10.5,7.5,12.5,null,8.2200000000000006]
["Grand Total",5.9,7.791666666666667,8.0500000000000007,6.7884615384615383,7.2777777777777777,5.2857142857142856,6.34375,6.0625,8,7.375,6.8875432525951554]
[]
[]
[]
[]
[]
[]
[]
[]
[]
[]
[]
[]
[]
[]
[]
[]
[]
[]
[]
[]
[]
[]
[]
[]
[]
[]
[]
[]
[]
[]
[{"$f":"MATCH(\"Grand Total\",141:141,0)","v":40}]
[]
["Count of fScore","fDepth"]
["SwingType",0,2,4,5,6,7,8,9,10,11,12,13,14,15,16,17,18,19,20,21,22,23,24,25,26,27,28,29,30,31,32,33,34,35,36,37,38,39,"Grand Total"]
["Player Serve",15,null,null,null,null,null,null,1,1,2,1,4,6,10,6,3,4,6,null,1,null,null,null,null,null,null,null,null,null,null,null,null,null,null,null,null,null,null,60]
["Topspin",4,null,null,null,null,null,1,1,1,null,null,null,1,1,1,1,1,1,1,2,1,2,7,2,3,4,1,1,2,null,3,null,1,2,1,2,3,1,52]
["Heavy Topspin",null,null,null,null,null,null,null,null,null,null,null,null,null,1,null,1,1,null,2,1,1,1,1,1,1,1,null,2,2,null,null,1,1,2,null,null,null,null,20]
["Serve",3,null,null,null,null,1,1,1,null,1,1,null,null,1,1,1,null,1,null,1,2,3,6,5,1,1,3,4,2,3,1,3,5,1,1,null,1,null,55]
["Drop Shot",3,null,null,null,null,null,null,null,null,null,null,null,null,null,null,1,1,1,1,null,2,null,1,1,2,2,null,null,2,1,null,null,null,1,2,null,null,null,21]
["Lob",2,null,null,null,null,null,null,null,1,null,null,null,null,null,1,null,null,2,null,null,null,null,2,null,1,null,null,1,1,1,null,3,null,1,null,null,null,null,16]
["Pass",5,null,null,null,null,null,null,null,null,null,null,null,2,1,null,1,null,null,1,2,3,3,4,2,1,1,1,4,1,null,null,2,2,1,null,null,null,null,37]
["Flat Drive",1,null,null,null,null,null,null,null,null,null,1,null,null,null,1,1,null,null,1,2,null,1,null,null,3,2,null,3,null,null,null,null,1,null,null,null,null,null,17]
["Slice",1,null,null,null,null,null,1,null,null,null,null,null,null,null,null,1,null,null,null,1,null,null,1,null,null,2,1,1,null,1,null,null,null,null,null,1,1,1,13]
["(blank)",100,1,3,1,1,3,null,2,1,2,1,2,2,null,null,null,null,null,1,1,null,1,2,4,null,null,1,null,null,null,1,null,null,null,null,null,2,null,132]
["Grand Total",134,1,3,1,1,4,3,5,4,5,4,6,11,14,10,10,7,11,7,11,9,11,24,15,12,13,7,16,10,6,5,9,10,8,4,3,7,2,423]
[]
[]
[]
[]
[]
[]
[]
[]
[]
[]
[]
[]
[]
[]
[]
[]
[]
[]
[]
[]
[]
[]
["Grand Total","Serve","Player Serve"]
[{"$f":"MATCH(A175,181:181,0)","v":4},{"$f":"MATCH(B175,181:181,0)","v":2},3]
[]
[]
[]
["Average of fSpeed","SwingType"]
["fball#","Serve","Player Serve","Grand Total"]
[1,43.903846153846153,109.97368421052632,71.8]
[2,null,85.857142857142861,85.857142857142861]
["Grand Total",43.903846153846153,106.22222222222223,72.814432989690715]
[]
[]
[]
[]
[]
[]
[]
[]
[]
[]
[]
[]
[]
[]
[]
[]
[]
[]
[]
[]
[]
[]
[]
[]
[]
[]
[]
[]
[]
[]
[]
["Grand Total","Serve","Player Serve"]
[{"$f":"MATCH(A216,222:222,0)","v":4},{"$f":"MATCH(B216,222:222,0)","v":2},{"$f":"MATCH(C216,222:222,0)","v":3}]
[]
[]
[]
["Max of fSpeed","SwingType"]
["fball#","Serve","Player Serve","Grand Total"]
[1,62,132,132]
[2,null,123,123]
["Grand Total",62,132,132]

{"sheet":"REFERENCE","index":9,"n_rows":19,"n_cols":6,"rows_kept":19,"cut":false,"hidden":true,"merged":[]}
["Filename","fDatFile","fImportDate"]
[null,"ALLENGIB.DAT",{"$f":"TODAY()","v":"2013-10-11"}]
[]
[]
[]
[]
[]
[]
[]
[]
[]
[]
[]
[]
["Game Type"]
[null,null,null,10]
["User Drill",{"$f":"[1]!Textafter(E17,\"#\",3)","v":"91 "},"first 3 digits after #",{"$f":"LEFT(E17,$D$16)","v":"User Drill"},"User Drill #91  Forhad volley drill","TextAfter(E3,\"#\",3)"]
[" Random",{"$f":"TRIM([1]!textBefore(E18,\"at\"))","v":"Random Net Drill"},"everything left of 'at'",{"$f":"LEFT(E18,$D$16)","v":" Random Ne"}," Random Net Drill at level 3.5"]
["Game against",{"$f":"LEFT(E19,19)","v":"Game against Boomer"},"Game against Boomer",{"$f":"LEFT(E19,$D$16)","v":"Game again"},"Game against Boomer at level 3.5  Single point data:"]

{"sheet":"lvlDirection2","index":10,"n_rows":30,"n_cols":15,"rows_kept":30,"cut":false,"hidden":true,"merged":[]}
["Width","avgWidth","StrokeWidth","lvltwo","lvltwofive","lvlthree","lvlthreefive","lvlfour","lvlfourfive","lvlfive","lvlfivefive","lvlsix","lvlsixfive","lvlseven","lvlseven"]
[0,13.5,"f","F5","F5","F5","F5","F5","F5","F5","F5","F5","F5","F5","F5"]
[1,12.5,"f","F4","F4","F4","F4","F4","F4","F4","F4","F4","F4","F4","F4"]
[2,11.5,"f","F4","F4","F4","F4","F4","F4","F4","F4","F4","F4","F4","F4"]
[3,10.5,"f","F3","F3","F3","F3","F3","F3","F3","F3","F3","F3","F3","F3"]
[4,9.5,"f","F3","F3","F3","F3","F3","F3","F3","F3","F3","F3","F3","F3"]
[5,8.5,"f","F3","F3","F3","F3","F3","F3","F3","F3","F3","F3","F3","F3"]
[6,7.5,"f","F2","F2","F2","F2","F2","F2","F2","F2","F2","F2","F2","F2"]
[7,6.5,"f","F2","F2","F2","F2","F2","F2","F2","F2","F2","F2","F2","F2"]
[8,5.5,"f","F2","F2","F2","F2","F2","F2","F2","F2","F2","F2","F2","F2"]
[9,4.5,"f","F1","F1","F1","F1","F1","F1","F1","F1","F1","F1","F1","F1"]
[10,3.5,"f","F1","F1","F1","F1","F1","F1","F1","F1","F1","F1","F1","F1"]
[11,2.5,"f","F1","F1","F1","F1","F1","F1","F1","F1","F1","F1","F1","F1"]
[12,1.5,"f","C","C","C","C","C","C","C","C","C","C","C","C"]
[13,0.5,"f","C","C","C","C","C","C","C","C","C","C","C","C"]
[14,0.5,"b","C","C","C","C","C","C","C","C","C","C","C","C"]
[15,1.5,"b","C","C","C","C","C","C","C","C","C","C","C","C"]
[16,2.5,"b","B1","B1","B1","B1","B1","B1","B1","B1","B1","B1","B1","B1"]
[17,3.5,"b","B1","B1","B1","B1","B1","B1","B1","B1","B1","B1","B1","B1"]
[18,4.5,"b","B1","B1","B1","B1","B1","B1","B1","B1","B1","B1","B1","B1"]
[19,5.5,"b","B2","B2","B2","B2","B2","B2","B2","B2","B2","B2","B2","B2"]
[20,6.5,"b","B2","B2","B2","B2","B2","B2","B2","B2","B2","B2","B2","B2"]
[21,7.5,"b","B2","B2","B2","B2","B2","B2","B2","B2","B2","B2","B2","B2"]
[22,8.5,"b","B3","B3","B3","B3","B3","B3","B3","B3","B3","B3","B3","B3"]
[23,9.5,"b","B3","B3","B3","B3","B3","B3","B3","B3","B3","B3","B3","B3"]
[24,10.5,"b","B3","B3","B3","B3","B3","B3","B3","B3","B3","B3","B3","B3"]
[25,11.5,"b","B4","B4","B4","B4","B4","B4","B4","B4","B4","B4","B4","B4"]
[26,12.5,"b","B4","B4","B4","B4","B4","B4","B4","B4","B4","B4","B4","B4"]
[27,13.5,"b","B5","B5","B5","B5","B5","B5","B5","B5","B5","B5","B5","B5"]
[null,null,null,"18'","20'","22'","24'","26'","28'","30'","32'","34'","36'","38'","39'"]

{"sheet":"ServesSetUp","index":11,"n_rows":28,"n_cols":23,"rows_kept":28,"cut":false,"hidden":false,"merged":[]}
[null,null,null,null,null,null,null,null,null,null,null,null,null,null,null,"Player Serve",null,">22",">18",">14",">10",">4",">-1"]
[null,null,null,null,null,null,null,null,null,null,null,null,null,null,null,null,null,"<28","<23","<19","<15","<11","<5"]
[]
[null,"Total","1st","2nd","1st","2nd"]
["Serves",{"$f":"SUM(C5:D5)","v":60},{"$f":"COUNTIFS(ServeData!$P:$P,ServesSetUp!$P$1,ServeData!N:N,1)","v":49},{"$f":"COUNTIFS(ServeData!$P:$P,ServesSetUp!$P$1,ServeData!N:N,\">1\")","v":11},{"$f":"C5/$B$5","v":0.81666666666666665},{"$f":"D5/$B$5","v":0.18333333333333332}]
["Aces",{"$f":"SUM(C6:D6)","v":0},{"$f":"COUNTIF(ServeData!B:B,\"player Serve1\")","v":0}]
["Faults",15,{"$f":"D5","v":11},{"$f":"COUNTIFS(ServeData!$P:$P,ServesSetUp!$P$1,ServeData!$N:$N,2,ServeData!$R:$R,0)","v":4},{"$f":"IF(ISERROR(C7/$C$8),\"\",C7/$C$8)","v":""}]
["Double Faults",{"$f":"SUM(C8:D8)","v":4},null,{"$f":"COUNTIFS(ServeData!$P:$P,ServesSetUp!$P$1,ServeData!$N:$N,2,ServeData!$R:$R,0)","v":4},null,null,null,null,null,null,null,null,null,null,null,null,"1st",{"$f":"COUNTIFS(Data!$P:$P,ServesSetUp!$P$1,Data!$S:$S,R1,Data!$S:$S,R2,Data!N:N,1)","v":0},{"$f":"COUNTIFS(Data!$P:$P,ServesSetUp!$P$1,Data!$S:$S,S1,Data!$S:$S,S2,Data!N:N,1)","v":8},{"$f":"COUNTIFS(Data!$P:$P,ServesSetUp!$P$1,Data!$S:$S,T1,Data!$S:$S,T2,Data!N:N,1)","v":12},{"$f":"COUNTIFS(Data!$P:$P,ServesSetUp!$P$1,Data!$S:$S,U1,Data!$S:$S,U2,Data!N:N,1)","v":0},{"$f":"COUNTIFS(Data!$P:$P,ServesSetUp!$P$1,Data!$S:$S,V1,Data!$S:$S,V2,Data!N:N,1)","v":14},{"$f":"COUNTIFS(Data!$P:$P,ServesSetUp!$P$1,Data!$S:$S,W1,Data!$S:$S,W2,Data!N:N,1)","v":15}]
["Serves In",{"$f":"SUM(C9:D9)","v":45},{"$f":"COUNTIFS(ServeData!$P:$P,ServesSetUp!$P$1,ServeData!$N:$N,1,ServeData!$R:$R,\">0\")","v":38},{"$f":"COUNTIFS(ServeData!$P:$P,ServesSetUp!$P$1,ServeData!N:N,\">1\",ServeData!S:S,\">0\")","v":7},{"$f":"IF(ISERROR(C9/$C$8),\"\",C9/$C$8)","v":""}]
["Points Won",{"$f":"SUM(C10:D10)","v":41},{"$f":"COUNTIFS(ServeData!$P:$P,ServesSetUp!$P$1,ServeData!$N:$N,1,ServeData!$K:$K,\"Player's point\",ServeData!$R:$R,\">0\")","v":34},{"$f":"COUNTIFS(ServeData!$P:$P,ServesSetUp!$P$1,ServeData!$N:$N,2,ServeData!$K:$K,\"Player's point\")","v":7},{"$f":"IF(ISERROR(C10/$C$8),\"\",C10/$C$8)","v":""},null,null,null,null,null,null,null,null,null,null,null,"2nd",{"$f":"COUNTIFS(Data!$P:$P,ServesSetUp!$P$1,Data!$S:$S,R1,Data!$S:$S,R2,Data!N:N,2)","v":0},{"$f":"COUNTIFS(Data!$P:$P,ServesSetUp!$P$1,Data!$S:$S,S1,Data!$S:$S,S2,Data!N:N,2)","v":2},{"$f":"COUNTIFS(Data!$P:$P,ServesSetUp!$P$1,Data!$S:$S,T1,Data!$S:$S,T2,Data!N:N,2)","v":2},{"$f":"COUNTIFS(Data!$P:$P,ServesSetUp!$P$1,Data!$S:$S,U1,Data!$S:$S,U2,Data!N:N,2)","v":0},{"$f":"COUNTIFS(Data!$P:$P,ServesSetUp!$P$1,Data!$S:$S,V1,Data!$S:$S,V2,Data!N:N,2)","v":3},{"$f":"COUNTIFS(Data!$P:$P,ServesSetUp!$P$1,Data!$S:$S,W1,Data!$S:$S,W2,Data!N:N,2)","v":4}]
["Fastest Serve",null,{"$f":"VLOOKUP(1,MaxServe,2,0)","v":62},{"$f":"VLOOKUP(2,MaxServe,2,0)","v":0}]
["Average Speed",null,{"$f":"VLOOKUP(1,AvgServe,2,0)","v":43.903846153846153},{"$f":"VLOOKUP(2,AvgServe,2,0)","v":0}]
[null,null,null,null,null,null,null,null,null,null,null,null,null,null,null,null,"Total",{"$f":"SUM(R8:R11)","v":0},10,14,0,17,19]
[]
[]
[null,null,null,null,null,null,null,null,null,null,null,null,null,null,null,"Player Serve",null,">22",">18",">14",">10",">4",">-1"]
[null,null,null,null,null,null,null,null,null,null,null,null,null,null,null,null,null,"<28","<23","<19","<15","<11","<5"]
[]
[]
[]
[]
[]
[null,null,null,null,null,null,null,null,null,null,null,null,null,null,null,null,"1st",{"$f":"IFERROR(AVERAGEIFS(Data!$U:$U,Data!$P:$P,ServesSetUp!$P$1,Data!$S:$S,R16,Data!$S:$S,R17,Data!$N:$N,1),\"\")","v":""},{"$f":"IFERROR(AVERAGEIFS(Data!$U:$U,Data!$P:$P,ServesSetUp!$P$1,Data!$S:$S,S16,Data!$S:$S,S17,Data!$N:$N,1),\"\")","v":106.75},{"$f":"IFERROR(AVERAGEIFS(Data!$U:$U,Data!$P:$P,ServesSetUp!$P$1,Data!$S:$S,T16,Data!$S:$S,T17,Data!$N:$N,1),\"\")","v":113.16666666666667},{"$f":"IFERROR(AVERAGEIFS(Data!$U:$U,Data!$P:$P,ServesSetUp!$P$1,Data!$S:$S,U16,Data!$S:$S,U17,Data!$N:$N,1),\"\")","v":""},{"$f":"IFERROR(AVERAGEIFS(Data!$U:$U,Data!$P:$P,ServesSetUp!$P$1,Data!$S:$S,V16,Data!$S:$S,V17,Data!$N:$N,1),\"\")","v":110.78571428571429},{"$f":"IFERROR(AVERAGEIFS(Data!$U:$U,Data!$P:$P,ServesSetUp!$P$1,Data!$S:$S,W16,Data!$S:$S,W17,Data!$N:$N,1),\"\")","v":104}]
[]
[null,null,null,null,null,null,null,null,null,null,null,null,null,null,null,null,"2nd",{"$f":"IFERROR(AVERAGEIFS(Data!$U:$U,Data!$P:$P,ServesSetUp!$P$1,Data!$S:$S,R16,Data!$S:$S,R17,Data!$N:$N,\">1\"),\"\")","v":""},{"$f":"IFERROR(AVERAGEIFS(Data!$U:$U,Data!$P:$P,ServesSetUp!$P$1,Data!$S:$S,S16,Data!$S:$S,S17,Data!$N:$N,\">1\"),\"\")","v":79},{"$f":"IFERROR(AVERAGEIFS(Data!$U:$U,Data!$P:$P,ServesSetUp!$P$1,Data!$S:$S,T16,Data!$S:$S,T17,Data!$N:$N,\">1\"),\"\")","v":117.5},{"$f":"IFERROR(AVERAGEIFS(Data!$U:$U,Data!$P:$P,ServesSetUp!$P$1,Data!$S:$S,U16,Data!$S:$S,U17,Data!$N:$N,\">1\"),\"\")","v":""},{"$f":"IFERROR(AVERAGEIFS(Data!$U:$U,Data!$P:$P,ServesSetUp!$P$1,Data!$S:$S,V16,Data!$S:$S,V17,Data!$N:$N,\">1\"),\"\")","v":69.333333333333329},{"$f":"IFERROR(AVERAGEIFS(Data!$U:$U,Data!$P:$P,ServesSetUp!$P$1,Data!$S:$S,W16,Data!$S:$S,W17,Data!$N:$N,\">1\"),\"\")","v":""}]
[]
[]
[null,null,null,null,null,null,null,null,null,null,null,null,null,null,null,null,"Total",{"$f":"IFERROR(AVERAGEIFS(Data!$U:$U,Data!$P:$P,ServesSetUp!$P$1,Data!$S:$S,R16,Data!$S:$S,R17),\"\")","v":""},{"$f":"IFERROR(AVERAGEIFS(Data!$U:$U,Data!$P:$P,ServesSetUp!$P$1,Data!$S:$S,S16,Data!$S:$S,S17),\"\")","v":101.2},{"$f":"IFERROR(AVERAGEIFS(Data!$U:$U,Data!$P:$P,ServesSetUp!$P$1,Data!$S:$S,T16,Data!$S:$S,T17),\"\")","v":113.78571428571429},{"$f":"IFERROR(AVERAGEIFS(Data!$U:$U,Data!$P:$P,ServesSetUp!$P$1,Data!$S:$S,U16,Data!$S:$S,U17),\"\")","v":""},{"$f":"IFERROR(AVERAGEIFS(Data!$U:$U,Data!$P:$P,ServesSetUp!$P$1,Data!$S:$S,V16,Data!$S:$S,V17),\"\")","v":103.47058823529412},{"$f":"IFERROR(AVERAGEIFS(Data!$U:$U,Data!$P:$P,ServesSetUp!$P$1,Data!$S:$S,W16,Data!$S:$S,W17),\"\")","v":104}]

{"sheet":"Blocks","index":12,"n_rows":44,"n_cols":3,"rows_kept":44,"cut":false,"hidden":true,"merged":[]}
[]
[]
[]
["Block","Start","# Shots"]
[1,{"$f":"IF(ISERROR(MATCH(A5,Data!AK:AK,0)),\"\",MATCH(A5,Data!AK:AK,0))","v":""},{"$f":"IF(ISERROR(B6-B5),\"\",B6-B5)","v":""}]
[2,{"$f":"IF(ISERROR(MATCH(A6,Data!AK:AK,0)),\"\",MATCH(A6,Data!AK:AK,0))","v":""},{"$f":"IF(ISERROR(B7-B6),\"\",B7-B6)","v":""}]
[3,{"$f":"IF(ISERROR(MATCH(A7,Data!AK:AK,0)),\"\",MATCH(A7,Data!AK:AK,0))","v":""},""]
[4,{"$f":"IF(ISERROR(MATCH(A8,Data!AK:AK,0)),\"\",MATCH(A8,Data!AK:AK,0))","v":""},""]
[5,{"$f":"IF(ISERROR(MATCH(A9,Data!AK:AK,0)),\"\",MATCH(A9,Data!AK:AK,0))","v":""},""]
[{"$f":"A9+1","v":6},{"$f":"IF(ISERROR(MATCH(A10,Data!AK:AK,0)),\"\",MATCH(A10,Data!AK:AK,0))","v":""},""]
[{"$f":"A10+1","v":7},{"$f":"IF(ISERROR(MATCH(A11,Data!AK:AK,0)),\"\",MATCH(A11,Data!AK:AK,0))","v":""},""]
[8,{"$f":"IF(ISERROR(MATCH(A12,Data!AK:AK,0)),\"\",MATCH(A12,Data!AK:AK,0))","v":""},""]
[9,{"$f":"IF(ISERROR(MATCH(A13,Data!AK:AK,0)),\"\",MATCH(A13,Data!AK:AK,0))","v":""},""]
[10,{"$f":"IF(ISERROR(MATCH(A14,Data!AK:AK,0)),\"\",MATCH(A14,Data!AK:AK,0))","v":""},""]
[11,{"$f":"IF(ISERROR(MATCH(A15,Data!AK:AK,0)),\"\",MATCH(A15,Data!AK:AK,0))","v":""},""]
[12,{"$f":"IF(ISERROR(MATCH(A16,Data!AK:AK,0)),\"\",MATCH(A16,Data!AK:AK,0))","v":""},""]
[13,{"$f":"IF(ISERROR(MATCH(A17,Data!AK:AK,0)),\"\",MATCH(A17,Data!AK:AK,0))","v":""},""]
[14,{"$f":"IF(ISERROR(MATCH(A18,Data!AK:AK,0)),\"\",MATCH(A18,Data!AK:AK,0))","v":""},""]
[15,{"$f":"IF(ISERROR(MATCH(A19,Data!AK:AK,0)),\"\",MATCH(A19,Data!AK:AK,0))","v":""},""]
[16,{"$f":"IF(ISERROR(MATCH(A20,Data!AK:AK,0)),\"\",MATCH(A20,Data!AK:AK,0))","v":""},""]
[17,{"$f":"IF(ISERROR(MATCH(A21,Data!AK:AK,0)),\"\",MATCH(A21,Data!AK:AK,0))","v":""},""]
[18,{"$f":"IF(ISERROR(MATCH(A22,Data!AK:AK,0)),\"\",MATCH(A22,Data!AK:AK,0))","v":""},""]
[19,{"$f":"IF(ISERROR(MATCH(A23,Data!AK:AK,0)),\"\",MATCH(A23,Data!AK:AK,0))","v":""},""]
[20,{"$f":"IF(ISERROR(MATCH(A24,Data!AK:AK,0)),\"\",MATCH(A24,Data!AK:AK,0))","v":""},""]
[21,{"$f":"IF(ISERROR(MATCH(A25,Data!AK:AK,0)),\"\",MATCH(A25,Data!AK:AK,0))","v":""},""]
[22,{"$f":"IF(ISERROR(MATCH(A26,Data!AK:AK,0)),\"\",MATCH(A26,Data!AK:AK,0))","v":""},""]
[23,{"$f":"IF(ISERROR(MATCH(A27,Data!AK:AK,0)),\"\",MATCH(A27,Data!AK:AK,0))","v":""},""]
[24,{"$f":"IF(ISERROR(MATCH(A28,Data!AK:AK,0)),\"\",MATCH(A28,Data!AK:AK,0))","v":""},""]
[25,{"$f":"IF(ISERROR(MATCH(A29,Data!AK:AK,0)),\"\",MATCH(A29,Data!AK:AK,0))","v":""},""]
[26,{"$f":"IF(ISERROR(MATCH(A30,Data!AK:AK,0)),\"\",MATCH(A30,Data!AK:AK,0))","v":""},""]
[27,{"$f":"IF(ISERROR(MATCH(A31,Data!AK:AK,0)),\"\",MATCH(A31,Data!AK:AK,0))","v":""},""]
[28,{"$f":"IF(ISERROR(MATCH(A32,Data!AK:AK,0)),\"\",MATCH(A32,Data!AK:AK,0))","v":""},""]
[29,{"$f":"IF(ISERROR(MATCH(A33,Data!AK:AK,0)),\"\",MATCH(A33,Data!AK:AK,0))","v":""},""]
[{"$f":"A33+1","v":30},{"$f":"IF(ISERROR(MATCH(A34,Data!AK:AK,0)),\"\",MATCH(A34,Data!AK:AK,0))","v":""},""]
[{"$f":"A34+1","v":31},{"$f":"IF(ISERROR(MATCH(A35,Data!AK:AK,0)),\"\",MATCH(A35,Data!AK:AK,0))","v":""},""]
[32,{"$f":"IF(ISERROR(MATCH(A36,Data!AK:AK,0)),\"\",MATCH(A36,Data!AK:AK,0))","v":""},""]
[33,{"$f":"IF(ISERROR(MATCH(A37,Data!AK:AK,0)),\"\",MATCH(A37,Data!AK:AK,0))","v":""},""]
[34,{"$f":"IF(ISERROR(MATCH(A38,Data!AK:AK,0)),\"\",MATCH(A38,Data!AK:AK,0))","v":""},""]
[35,{"$f":"IF(ISERROR(MATCH(A39,Data!AK:AK,0)),\"\",MATCH(A39,Data!AK:AK,0))","v":""},""]
[36,{"$f":"IF(ISERROR(MATCH(A40,Data!AK:AK,0)),\"\",MATCH(A40,Data!AK:AK,0))","v":""},""]
[37,{"$f":"IF(ISERROR(MATCH(A41,Data!AK:AK,0)),\"\",MATCH(A41,Data!AK:AK,0))","v":""},""]
[{"$f":"A41+1","v":38},{"$f":"IF(ISERROR(MATCH(A42,Data!AK:AK,0)),\"\",MATCH(A42,Data!AK:AK,0))","v":""},""]
[{"$f":"A42+1","v":39},{"$f":"IF(ISERROR(MATCH(A43,Data!AK:AK,0)),\"\",MATCH(A43,Data!AK:AK,0))","v":""},""]
[40,{"$f":"IF(ISERROR(MATCH(A44,Data!AK:AK,0)),\"\",MATCH(A44,Data!AK:AK,0))","v":""},""]

{"sheet":"Points","index":13,"n_rows":579,"n_cols":12,"rows_kept":579,"cut":false,"hidden":false,"merged":[]}
[null,"fSession","ROW","Player","Sets","Games","Points","TotalPoints","PerCentWon","GameType","fPointNum","GameType"]
[{"$f":"D2&K2","v":"Player1"},1,2020,"Player",null,null,"1","0","0","Tiebreak",1,"Game"]
[{"$f":"D3&K3","v":"Boomer1"},1,2021,"Boomer",null,null,"0","0","0","Tiebreak",1,"Game"]
["Player2",1,2047,"Player",null,null,"1","0","0","Tiebreak",2,"Game"]
["Boomer2",1,2048,"Boomer",null,null,"1","0","0","Tiebreak",2]
["Player3",1,2072,"Player",null,null,"2","0","0","Tiebreak",3]
["Boomer3",1,2073,"Boomer",null,null,"1","0","0","Tiebreak",3]
["Player4",1,2096,"Player",null,null,"2","0","0","Tiebreak",4]
["Boomer4",1,2097,"Boomer",null,null,"2","0","0","Tiebreak",4]
["Player5",1,2111,"Player",null,null,"2","0","0","Tiebreak",5]
["Boomer5",1,2112,"Boomer",null,null,"2","0","0","Tiebreak",5]
["Player6",1,2131,"Player",null,null,"1","0","0","Tiebreak",6]
["Boomer6",1,2132,"Boomer",null,null,"0","0","0","Tiebreak",6]
["Player7",1,2159,"Player",null,null,"1","0","0","Tiebreak",7]
["Boomer7",1,2160,"Boomer",null,null,"1","0","0","Tiebreak",7]
["Player8",1,2189,"Player",null,null,"2","0","0","Tiebreak",8]
["Boomer8",1,2190,"Boomer",null,null,"1","0","0","Tiebreak",8]
["Player9",1,2221,"Player",null,null,"3","0","0","Tiebreak",9]
["Boomer9",1,2222,"Boomer",null,null,"1","0","0","Tiebreak",9]
["Player10",1,2240,"Player",null,null,"3","0","0","Tiebreak",10]
["Boomer10",1,2241,"Boomer",null,null,"1","0","0","Tiebreak",10]
["Player11",1,2260,"Player",null,null,"0","0","0","Tiebreak",11]
["Boomer11",1,2261,"Boomer",null,null,"1","0","0","Tiebreak",11]
["Player12",1,2289,"Player",null,null,"1","0","0","Tiebreak",12]
["Boomer12",1,2290,"Boomer",null,null,"1","0","0","Tiebreak",12]
["Player13",1,2318,"Player",null,null,"2","0","0","Tiebreak",13]
["Boomer13",1,2319,"Boomer",null,null,"1","0","0","Tiebreak",13]
["Player14",1,2349,"Player",null,null,"3","0","0","Tiebreak",14]
["Boomer14",1,2350,"Boomer",null,null,"1","0","0","Tiebreak",14]
["Player15",1,2379,"Player",null,null,"3","0","0","Tiebreak",15]
["Boomer15",1,2380,"Boomer",null,null,"2","0","0","Tiebreak",15]
["Player16",1,2405,"Player",null,null,"3","0","0","Tiebreak",16]
["Boomer16",1,2406,"Boomer",null,null,"3","0","0","Tiebreak",16]
["Player17",1,2430,"Player",null,null,"3","0","0","Tiebreak",17]
["Boomer17",1,2431,"Boomer",null,null,"4","0","0","Tiebreak",17]
["Player18",1,2456,"Player",null,null,"3","0","0","Tiebreak",18]
["Boomer18",1,2457,"Boomer",null,null,"5","0","0","Tiebreak",18]
["Player19",1,2473,"Player",null,null,"3","0","0","Tiebreak",19]
["Boomer19",1,2474,"Boomer",null,null,"5","0","0","Tiebreak",19]
["Player20",1,2793,"Player",null,null,"0","0","0","Tiebreak",20]
["Boomer20",1,2794,"Boomer",null,null,"1","0","0","Tiebreak",20]
["Player21",1,2819,"Player",null,null,"0","0","0","Tiebreak",21]
["Boomer21",1,2820,"Boomer",null,null,"2","0","0","Tiebreak",21]
["Player22",1,2846,"Player",null,null,"0","0","0","Tiebreak",22]
["Boomer22",1,2847,"Boomer",null,null,"3","0","0","Tiebreak",22]
["Player23",1,2876,"Player",null,null,"1","0","0","Tiebreak",23]
["Boomer23",1,2877,"Boomer",null,null,"3","0","0","Tiebreak",23]
["Player24",1,2908,"Player",null,null,"2","0","0","Tiebreak",24]
["Boomer24",1,2909,"Boomer",null,null,"3","0","0","Tiebreak",24]
["Player25",1,2938,"Player",null,null,"2","0","0","Tiebreak",25]
["Boomer25",1,2939,"Boomer",null,null,"4","0","0","Tiebreak",25]
["Player26",1,2968,"Player",null,null,"3","0","0","Tiebreak",26]
["Boomer26",1,2969,"Boomer",null,null,"4","0","0","Tiebreak",26]
["Player27",1,3000,"Player",null,null,"4","0","0","Tiebreak",27]
["Boomer27",1,3001,"Boomer",null,null,"4","0","0","Tiebreak",27]
["Player28",1,3032,"Player",null,null,"5","0","0","Tiebreak",28]
["Boomer28",1,3033,"Boomer",null,null,"4","0","0","Tiebreak",28]
["Player29",1,3064,"Player",null,null,"6","0","0","Tiebreak",29]
["Boomer29",1,3065,"Boomer",null,null,"4","0","0","Tiebreak",29]
["Player30",1,3092,"Player",null,null,"4","0","0","Tiebreak",30]
["Boomer30",1,3093,"Boomer",null,null,"4","0","0","Tiebreak",30]
["Player31",1,3119,"Player",null,null,"5","0","0","Tiebreak",31]
["Boomer31",1,3120,"Boomer",null,null,"4","0","0","Tiebreak",31]
["Player32",1,3148,"Player",null,null,"5","0","0","Tiebreak",32]
["Boomer32",1,3149,"Boomer",null,null,"5","0","0","Tiebreak",32]
["Player33",1,3176,"Player",null,null,"5","0","0","Tiebreak",33]
[{"$f":"D67&K67","v":"Boomer33"},1,3177,"Boomer",null,null,"6","0","0","Tiebreak",33]
["Player34",1,3193,"Player",null,null,"5","0","0","Tiebreak",34]
["Boomer34",1,3194,"Boomer",null,null,"6","0","0","Tiebreak",34]
["Player35",1,4569,"Player",null,null,"0","0","0","Tiebreak",35]
["Boomer35",1,4570,"Boomer",null,null,"1","0","0","Tiebreak",35]
["Player36",1,4596,"Player",null,null,"1","0","0","Tiebreak",36]
["Boomer36",1,4597,"Boomer",null,null,"1","0","0","Tiebreak",36]
["Player37",1,4625,"Player",null,null,"1","0","0","Tiebreak",37]
["Boomer37",1,4626,"Boomer",null,null,"2","0","0","Tiebreak",37]
["Player38",1,4656,"Player",null,null,"1","0","0","Tiebreak",38]
["Boomer38",1,4657,"Boomer",null,null,"3","0","0","Tiebreak",38]
["Player39",1,4676,"Player",null,null,"1","0","0","Tiebreak",39]
["Boomer39",1,4677,"Boomer",null,null,"3","0","0","Tiebreak",39]
["Player40",1,5396,"Player",null,null,"0","0","0","Tiebreak",40]
["Boomer40",1,5397,"Boomer",null,null,"1","0","0","Tiebreak",40]
["Player41",1,5424,"Player",null,null,"0","0","0","Tiebreak",41]
["Boomer41",1,5425,"Boomer",null,null,"2","0","0","Tiebreak",41]
["Player42",1,5454,"Player",null,null,"0","0","0","Tiebreak",42]
["Boomer42",1,5455,"Boomer",null,null,"3","0","0","Tiebreak",42]
["Player43",1,5483,"Player",null,null,"0","0","0","Tiebreak",43]
["Boomer43",1,5484,"Boomer",null,null,"4","0","0","Tiebreak",43]
["Player44",1,5508,"Player",null,null,"0","0","0","Tiebreak",44]
["Boomer44",1,5509,"Boomer",null,null,"5","0","0","Tiebreak",44]
["Player45",1,5540,"Player",null,null,"0","0","0","Tiebreak",45]
["Boomer45",1,5541,"Boomer",null,null,"6","0","0","Tiebreak",45]
["Player46",1,5578,"Player",null,null,"0","0","0","Tiebreak",46]
["Boomer46",1,5579,"Boomer",null,null,"0","0","0","Tiebreak",46]
["Player47",1,5599,"Player",null,null,"0","0","0","Tiebreak",47]
["Boomer47",1,5600,"Boomer",null,null,"0","0","0","Tiebreak",47]
["Player48",1,5617,"Player",null,null,"0","0","0","Tiebreak",48]
["Boomer48",1,5618,"Boomer",null,null,"1","0","0","Tiebreak",48]
["Player49",1,5642,"Player",null,null,"0","0","0","Tiebreak",49]
["Boomer49",1,5643,"Boomer",null,null,"2","0","0","Tiebreak",49]
["Player50",1,5668,"Player",null,null,"0","0","0","Tiebreak",50]
["Boomer50",1,5669,"Boomer",null,null,"3","0","0","Tiebreak",50]
["Player51",1,5693,"Player",null,null,"0","0","0","Tiebreak",51]
["Boomer51",1,5694,"Boomer",null,null,"4","0","0","Tiebreak",51]
["Player52",1,5718,"Player",null,null,"0","0","0","Tiebreak",52]
["Boomer52",1,5719,"Boomer",null,null,"5","0","0","Tiebreak",52]
["Player53",1,5744,"Player",null,null,"0","0","0","Tiebreak",53]
["Boomer53",1,5745,"Boomer",null,null,"6","0","0","Tiebreak",53]
["Player54",1,5771,"Player",null,null,"0","0","0","Tiebreak",54]
["Boomer54",1,5772,"Boomer",null,null,"0","0","0","Tiebreak",54]
["Player55",1,5797,"Player",null,null,"0","0","0","Tiebreak",55]
["Boomer55",1,5798,"Boomer",null,null,"1","0","0","Tiebreak",55]
["Player56",1,5822,"Player",null,null,"0","0","0","Tiebreak",56]
["Boomer56",1,5823,"Boomer",null,null,"2","0","0","Tiebreak",56]
["Player57",1,5848,"Player",null,null,"0","0","0","Tiebreak",57]
["Boomer57",1,5849,"Boomer",null,null,"3","0","0","Tiebreak",57]
["Player58",1,5864,"Player",null,null,"0","0","0","Tiebreak",58]
["Boomer58",1,5865,"Boomer",null,null,"3","0","0","Tiebreak",58]
["Player59",1,5873,"Player","0","0","0","0","0","Game",59]
["Boomer59",1,5874,"Boomer","0","0","0","17","100","Game",59]
["Player60",1,5939,"Player",null,null,"0","0","0","Tiebreak",60]
["Boomer60",1,5940,"Boomer",null,null,"0","0","0","Tiebreak",60]
["Player61",1,5961,"Player","0","0","0","0","0","Game",61]
["Boomer61",1,5962,"Boomer","0","0","1","18","100","Game",61]
["Player62",1,5990,"Player","0","0","0","0","0","Game",62]
["Boomer62",1,5991,"Boomer","0","0","2","19","100","Game",62]
["Player63",1,6018,"Player","0","0","1","1","5","Game",63]
["Boomer63",1,6019,"Boomer","0","0","2","19","95","Game",63]
["Player64",1,6050,"Player","0","0","1","1","4","Game",64]
["Boomer64",1,6051,"Boomer","0","0","3","20","96","Game",64]
["Player65",1,6081,"Player","0","0","2","2","9","Game",65]
[{"$f":"D131&K131","v":"Boomer65"},1,6082,"Boomer","0","0","3","20","91","Game",65]
["Player66",1,6110,"Player","0","0","3","3","13","Game",66]
["Boomer66",1,6111,"Boomer","0","0","3","20","87","Game",66]
["Player67",1,6141,"Player","0","0","4","4","16","Game",67]
["Boomer67",1,6142,"Boomer","0","0","3","20","84","Game",67]
["Player68",1,6173,"Player","0","1","0","5","20","Game",68]
["Boomer68",1,6174,"Boomer","0","0","0","20","80","Game",68]
["Player69",1,6202,"Player","0","1","0","5","19","Game",69]
["Boomer69",1,6203,"Boomer","0","0","1","21","81","Game",69]
["Player70",1,6231,"Player","0","1","1","6","22","Game",70]
["Boomer70",1,6232,"Boomer","0","0","1","21","78","Game",70]
["Player71",1,6261,"Player","0","1","2","7","25","Game",71]
["Boomer71",1,6262,"Boomer","0","0","1","21","75","Game",71]
["Player72",1,6289,"Player","0","1","2","7","24","Game",72]
["Boomer72",1,6290,"Boomer","0","0","2","22","76","Game",72]
["Player73",1,6317,"Player","0","1","2","7","23","Game",73]
["Boomer73",1,6318,"Boomer","0","0","3","23","77","Game",73]
["Player74",1,6343,"Player","0","1","0","7","22","Game",74]
["Boomer74",1,6344,"Boomer","0","1","0","24","78","Game",74]
["Player75",1,6370,"Player","0","1","0","7","21","Game",75]
["Boomer75",1,6371,"Boomer","0","1","1","25","79","Game",75]
["Player76",1,6399,"Player","0","1","1","8","24","Game",76]
["Boomer76",1,6400,"Boomer","0","1","1","25","76","Game",76]
["Player77",1,6429,"Player","0","1","1","8","23","Game",77]
["Boomer77",1,6430,"Boomer","0","1","2","26","77","Game",77]
["Player78",1,6462,"Player","0","1","2","9","25","Game",78]
["Boomer78",1,6463,"Boomer","0","1","2","26","75","Game",78]
["Player79",1,6494,"Player","0","1","2","9","25","Game",79]
["Boomer79",1,6495,"Boomer","0","1","3","27","75","Game",79]
["Player80",1,6524,"Player","0","1","3","10","27","Game",80]
["Boomer80",1,6525,"Boomer","0","1","3","27","73","Game",80]
["Player81",1,6555,"Player","0","1","4","11","28","Game",81]
["Boomer81",1,6556,"Boomer","0","1","3","27","72","Game",81]
["Player82",1,6584,"Player","0","1","4","11","28","Game",82]
["Boomer82",1,6585,"Boomer","0","1","4","28","72","Game",82]
["Player83",1,6613,"Player","0","1","5","12","30","Game",83]
["Boomer83",1,6614,"Boomer","0","1","4","28","70","Game",83]
["Player84",1,6645,"Player","0","2","0","13","31","Game",84]
["Boomer84",1,6646,"Boomer","0","1","0","28","69","Game",84]
["Player85",1,6677,"Player","0","2","1","14","33","Game",85]
["Boomer85",1,6678,"Boomer","0","1","0","28","67","Game",85]
["Player86",1,6707,"Player","0","2","2","15","34","Game",86]
["Boomer86",1,6708,"Boomer","0","1","0","28","66","Game",86]
["Player87",1,6733,"Player","0","2","2","15","34","Game",87]
["Boomer87",1,6734,"Boomer","0","1","1","29","66","Game",87]
["Player88",1,6760,"Player","0","2","3","16","35","Game",88]
["Boomer88",1,6761,"Boomer","0","1","1","29","65","Game",88]
["Player89",1,6787,"Player","0","2","3","16","34","Game",89]
["Boomer89",1,6788,"Boomer","0","1","2","30","66","Game",89]
["Player90",1,6802,"Player","0","2","3","16","34","Game",90]
["Boomer90",1,6803,"Boomer","0","1","2","30","66","Game",90]
["Player91",1,7267,"Player",null,null,"0","0","0","Tiebreak",91]
["Boomer91",1,7268,"Boomer",null,null,"0","0","0","Tiebreak",91]
["Player92",1,7289,"Player","0","0","1","17","36","Game",92]
["Boomer92",1,7290,"Boomer","0","0","0","30","64","Game",92]
["Player93",1,7318,"Player","0","0","1","17","35","Game",93]
["Boomer93",1,7319,"Boomer","0","0","1","31","65","Game",93]
["Player94",1,7346,"Player","0","0","2","18","36","Game",94]
["Boomer94",1,7347,"Boomer","0","0","1","31","64","Game",94]
["Player95",1,7377,"Player","0","0","3","19","38","Game",95]
["Boomer95",1,7378,"Boomer","0","0","1","31","62","Game",95]
["Player96",1,7407,"Player","0","1","0","20","39","Game",96]
["Boomer96",1,7408,"Boomer","0","0","0","31","61","Game",96]
["Player97",1,7436,"Player","0","1","1","21","40","Game",97]
[{"$f":"D195&K195","v":"Boomer97"},1,7437,"Boomer","0","0","0","31","60","Game",97]
["Player98",1,7466,"Player","0","1","2","22","41","Game",98]
["Boomer98",1,7467,"Boomer","0","0","0","31","59","Game",98]
["Player99",1,7494,"Player","0","1","3","23","42","Game",99]
["Boomer99",1,7495,"Boomer","0","0","0","31","58","Game",99]
["Player100",1,7522,"Player","0","2","0","24","43","Game",100]
["Boomer100",1,7523,"Boomer","0","0","0","31","57","Game",100]
["Player101",1,7550,"Player","0","2","0","24","42","Game",101]
["Boomer101",1,7551,"Boomer","0","0","1","32","58","Game",101]
["Player102",1,7578,"Player","0","2","1","25","43","Game",102]
["Boomer102",1,7579,"Boomer","0","0","1","32","57","Game",102]
["Player103",1,7605,"Player","0","2","1","25","43","Game",103]
["Boomer103",1,7606,"Boomer","0","0","2","33","57","Game",103]
["Player104",1,7631,"Player","0","2","1","25","42","Game",104]
["Boomer104",1,7632,"Boomer","0","0","3","34","58","Game",104]
["Player105",1,7658,"Player","0","2","0","25","41","Game",105]
["Boomer105",1,7659,"Boomer","0","1","0","35","59","Game",105]
["Player106",1,7685,"Player","0","2","1","26","42","Game",106]
["Boomer106",1,7686,"Boomer","0","1","0","35","58","Game",106]
["Player107",1,7712,"Player","0","2","1","26","41","Game",107]
["Boomer107",1,7713,"Boomer","0","1","1","36","59","Game",107]
["Player108",1,7738,"Player","0","2","2","27","42","Game",108]
["Boomer108",1,7739,"Boomer","0","1","1","36","58","Game",108]
["Player109",1,7767,"Player","0","2","2","27","42","Game",109]
["Boomer109",1,7768,"Boomer","0","1","2","37","58","Game",109]
["Player110",1,7796,"Player","0","2","2","27","41","Game",110]
["Boomer110",1,7797,"Boomer","0","1","3","38","59","Game",110]
["Player111",1,7824,"Player","0","2","0","27","40","Game",111]
["Boomer111",1,7825,"Boomer","0","2","0","39","60","Game",111]
["Player112",1,7853,"Player","0","2","1","28","41","Game",112]
["Boomer112",1,7854,"Boomer","0","2","0","39","59","Game",112]
["Player113",1,7882,"Player","0","2","1","28","41","Game",113]
["Boomer113",1,7883,"Boomer","0","2","1","40","59","Game",113]
["Player114",1,7911,"Player","0","2","1","28","40","Game",114]
["Boomer114",1,7912,"Boomer","0","2","2","41","60","Game",114]
["Player115",1,7937,"Player","0","2","1","28","40","Game",115]
["Boomer115",1,7938,"Boomer","0","2","3","42","60","Game",115]
["Player116",1,7964,"Player","0","2","0","28","39","Game",116]
["Boomer116",1,7965,"Boomer","0","3","0","43","61","Game",116]
["Player117",1,7982,"Player","0","2","0","28","39","Game",117]
["Boomer117",1,7983,"Boomer","0","3","0","43","61","Game",117]
["Player1",2,2019,"Player","0","0","0","0","0","Game",1]
["Boomer1",2,2020,"Boomer","0","0","1","1","100","Game",1]
["Player1",2,2025,"Player",null,null,"1","0","0","Tiebreak",1]
["Boomer1",2,2026,"Boomer",null,null,"0","0","0","Tiebreak",1]
["Player2",2,2044,"Player","0","0","1","1","100","Game",2]
["Boomer2",2,2045,"Boomer","0","0","0","0","0","Game",2]
["Player2",2,2059,"Player",null,null,"1","0","0","Tiebreak",2]
["Boomer2",2,2060,"Boomer",null,null,"1","0","0","Tiebreak",2]
["Player3",2,2068,"Player","0","0","2","2","100","Game",3]
["Boomer3",2,2069,"Boomer","0","0","0","0","0","Game",3]
["Player3",2,2089,"Player",null,null,"1","0","0","Tiebreak",3]
["Boomer3",2,2090,"Boomer",null,null,"2","0","0","Tiebreak",3]
["Player4",2,2092,"Player","0","0","3","3","100","Game",4]
["Boomer4",2,2093,"Boomer","0","0","0","0","0","Game",4]
["Player5",2,2116,"Player","0","1","0","4","100","Game",5]
["Boomer5",2,2117,"Boomer","0","0","0","0","0","Game",5]
["Player4",2,2120,"Player",null,null,"1","0","0","Tiebreak",4]
["Boomer4",2,2121,"Boomer",null,null,"3","0","0","Tiebreak",4]
["Player6",2,2142,"Player","0","1","1","5","100","Game",6]
["Boomer6",2,2143,"Boomer","0","0","0","0","0","Game",6]
["Player5",2,2147,"Player",null,null,"2","0","0","Tiebreak",5]
["Boomer5",2,2148,"Boomer",null,null,"2","0","0","Tiebreak",5]
["Player7",2,2169,"Player","0","1","1","5","83","Game",7]
[{"$f":"D259&K259","v":"Boomer7"},2,2170,"Boomer","0","0","1","1","17","Game",7]
["Player6",2,2174,"Player",null,null,"3","0","0","Tiebreak",6]
["Boomer6",2,2175,"Boomer",null,null,"2","0","0","Tiebreak",6]
["Player8",2,2195,"Player","0","1","2","6","85","Game",8]
["Boomer8",2,2196,"Boomer","0","0","1","1","15","Game",8]
["Player7",2,2203,"Player",null,null,"4","0","0","Tiebreak",7]
["Boomer7",2,2204,"Boomer",null,null,"2","0","0","Tiebreak",7]
["Player9",2,2222,"Player","0","1","3","7","87","Game",9]
["Boomer9",2,2223,"Boomer","0","0","1","1","13","Game",9]
["Player8",2,2228,"Player",null,null,"4","0","0","Tiebreak",8]
["Boomer8",2,2229,"Boomer",null,null,"3","0","0","Tiebreak",8]
["Player10",2,2249,"Player","0","2","0","8","88","Game",10]
["Boomer10",2,2250,"Boomer","0","0","0","1","12","Game",10]
["Player9",2,2255,"Player",null,null,"5","0","0","Tiebreak",9]
["Boomer9",2,2256,"Boomer",null,null,"3","0","0","Tiebreak",9]
["Player11",2,2274,"Player","0","2","1","9","90","Game",11]
["Boomer11",2,2275,"Boomer","0","0","0","1","10","Game",11]
["Player10",2,2282,"Player",null,null,"6","0","0","Tiebreak",10]
["Boomer10",2,2283,"Boomer",null,null,"3","0","0","Tiebreak",10]
["Player12",2,2298,"Player","0","2","2","10","90","Game",12]
["Boomer12",2,2299,"Boomer","0","0","0","1","10","Game",12]
["Player11",2,2309,"Player",null,null,"6","0","0","Tiebreak",11]
["Boomer11",2,2310,"Boomer",null,null,"4","0","0","Tiebreak",11]
["Player13",2,2323,"Player","0","2","3","11","91","Game",13]
["Boomer13",2,2324,"Boomer","0","0","0","1","9","Game",13]
["Player12",2,2339,"Player",null,null,"0","0","0","Tiebreak",12]
["Boomer12",2,2340,"Boomer",null,null,"0","0","0","Tiebreak",12]
["Player14",2,2350,"Player","0","3","0","12","92","Game",14]
["Boomer14",2,2351,"Boomer","0","0","0","1","8","Game",14]
["Player13",2,2369,"Player",null,null,"1","0","0","Tiebreak",13]
["Boomer13",2,2370,"Boomer",null,null,"0","0","0","Tiebreak",13]
["Player15",2,2378,"Player","0","3","0","12","85","Game",15]
["Boomer15",2,2379,"Boomer","0","0","1","2","15","Game",15]
["Player14",2,2399,"Player",null,null,"2","0","0","Tiebreak",14]
["Boomer14",2,2400,"Boomer",null,null,"0","0","0","Tiebreak",14]
["Player16",2,2406,"Player","0","3","0","12","80","Game",16]
["Boomer16",2,2407,"Boomer","0","0","2","3","20","Game",16]
["Player15",2,2427,"Player",null,null,"3","0","0","Tiebreak",15]
["Boomer15",2,2428,"Boomer",null,null,"0","0","0","Tiebreak",15]
["Player17",2,2433,"Player","0","3","1","13","81","Game",17]
["Boomer17",2,2434,"Boomer","0","0","2","3","19","Game",17]
["Player16",2,2455,"Player",null,null,"4","0","0","Tiebreak",16]
["Boomer16",2,2456,"Boomer",null,null,"0","0","0","Tiebreak",16]
["Player18",2,2461,"Player","0","3","2","14","82","Game",18]
["Boomer18",2,2462,"Boomer","0","0","2","3","18","Game",18]
["Player17",2,2486,"Player",null,null,"5","0","0","Tiebreak",17]
["Boomer17",2,2487,"Boomer",null,null,"0","0","0","Tiebreak",17]
["Player19",2,2489,"Player","0","3","3","15","83","Game",19]
["Boomer19",2,2490,"Boomer","0","0","2","3","17","Game",19]
["Player18",2,2514,"Player",null,null,"6","0","0","Tiebreak",18]
["Boomer18",2,2515,"Boomer",null,null,"0","0","0","Tiebreak",18]
["Player20",2,2515,"Player","0","4","0","16","84","Game",20]
["Boomer20",2,2516,"Boomer","0","0","0","3","16","Game",20]
["Player19",2,2541,"Player",null,null,"0","0","0","Tiebreak",19]
["Player21",2,2541,"Player","0","4","1","17","85","Game",21]
["Boomer19",2,2542,"Boomer",null,null,"0","0","0","Tiebreak",19]
["Boomer21",2,2542,"Boomer","0","0","0","3","15","Game",21]
["Player20",2,2559,"Player",null,null,"0","0","0","Tiebreak",20]
["Boomer20",2,2560,"Boomer",null,null,"0","0","0","Tiebreak",20]
["Player22",2,2566,"Player","0","4","2","18","85","Game",22]
["Boomer22",2,2567,"Boomer","0","0","0","3","15","Game",22]
["Player21",2,2577,"Player",null,null,"1","0","0","Tiebreak",21]
["Boomer21",2,2578,"Boomer",null,null,"0","0","0","Tiebreak",21]
["Player23",2,2590,"Player","0","4","3","19","86","Game",23]
[{"$f":"D323&K323","v":"Boomer23"},2,2591,"Boomer","0","0","0","3","14","Game",23]
["Player22",2,2605,"Player",null,null,"2","0","0","Tiebreak",22]
["Boomer22",2,2606,"Boomer",null,null,"0","0","0","Tiebreak",22]
["Player24",2,2614,"Player","0","5","0","20","86","Game",24]
["Boomer24",2,2615,"Boomer","0","0","0","3","14","Game",24]
["Player23",2,2636,"Player",null,null,"3","0","0","Tiebreak",23]
["Boomer23",2,2637,"Boomer",null,null,"0","0","0","Tiebreak",23]
["Player25",2,2638,"Player","0","5","0","20","83","Game",25]
["Boomer25",2,2639,"Boomer","0","0","1","4","17","Game",25]
["Player26",2,2664,"Player","0","5","1","21","84","Game",26]
["Player24",2,2665,"Player",null,null,"3","0","0","Tiebreak",24]
["Boomer26",2,2665,"Boomer","0","0","1","4","16","Game",26]
["Boomer24",2,2666,"Boomer",null,null,"1","0","0","Tiebreak",24]
["Player25",2,2691,"Player",null,null,"4","0","0","Tiebreak",25]
["Boomer25",2,2692,"Boomer",null,null,"1","0","0","Tiebreak",25]
["Player27",2,2692,"Player","0","5","2","22","84","Game",27]
["Boomer27",2,2693,"Boomer","0","0","1","4","16","Game",27]
["Player26",2,2720,"Player",null,null,"5","0","0","Tiebreak",26]
["Boomer26",2,2721,"Boomer",null,null,"1","0","0","Tiebreak",26]
["Player28",2,2721,"Player","0","5","3","23","85","Game",28]
["Boomer28",2,2722,"Boomer","0","0","1","4","15","Game",28]
["Player29",2,2749,"Player","1","0","0","24","85","Game",29]
["Player27",2,2750,"Player",null,null,"5","0","0","Tiebreak",27]
["Boomer29",2,2750,"Boomer","0","0","0","4","15","Game",29]
["Boomer27",2,2751,"Boomer",null,null,"2","0","0","Tiebreak",27]
["Player30",2,2774,"Player","1","0","1","25","86","Game",30]
["Boomer30",2,2775,"Boomer","0","0","0","4","14","Game",30]
["Player28",2,2779,"Player",null,null,"6","0","0","Tiebreak",28]
["Boomer28",2,2780,"Boomer",null,null,"2","0","0","Tiebreak",28]
["Player31",2,2798,"Player","1","0","2","26","86","Game",31]
["Boomer31",2,2799,"Boomer","0","0","0","4","14","Game",31]
["Player29",2,2807,"Player",null,null,"0","0","0","Tiebreak",29]
["Boomer29",2,2808,"Boomer",null,null,"0","0","0","Tiebreak",29]
["Player30",2,2822,"Player",null,null,"0","0","0","Tiebreak",30]
["Boomer30",2,2823,"Boomer",null,null,"0","0","0","Tiebreak",30]
["Player32",2,2823,"Player","1","0","3","27","87","Game",32]
["Boomer32",2,2824,"Boomer","0","0","0","4","13","Game",32]
["Player33",2,2848,"Player","1","1","0","28","87","Game",33]
["Boomer33",2,2849,"Boomer","0","0","0","4","13","Game",33]
["Player34",2,2875,"Player","1","1","1","29","87","Game",34]
["Boomer34",2,2876,"Boomer","0","0","0","4","13","Game",34]
["Player35",2,2903,"Player","1","1","2","30","88","Game",35]
["Boomer35",2,2904,"Boomer","0","0","0","4","12","Game",35]
["Player36",2,2929,"Player","1","1","3","31","88","Game",36]
["Boomer36",2,2930,"Boomer","0","0","0","4","12","Game",36]
["Player37",2,2955,"Player","1","2","0","32","88","Game",37]
["Boomer37",2,2956,"Boomer","0","0","0","4","12","Game",37]
["Player38",2,2980,"Player","1","2","1","33","89","Game",38]
["Boomer38",2,2981,"Boomer","0","0","0","4","11","Game",38]
["Player39",2,3004,"Player","1","2","2","34","89","Game",39]
["Boomer39",2,3005,"Boomer","0","0","0","4","11","Game",39]
["Player40",2,3031,"Player","1","2","2","34","87","Game",40]
["Boomer40",2,3032,"Boomer","0","0","1","5","13","Game",40]
["Player41",2,3058,"Player","1","2","3","35","87","Game",41]
["Boomer41",2,3059,"Boomer","0","0","1","5","13","Game",41]
["Player1",2,3071,"Player","0","0","1","1","100","Game",1]
["Boomer1",2,3072,"Boomer","0","0","0","0","0","Game",1]
["Player42",2,3082,"Player","1","3","0","36","87","Game",42]
["Boomer42",2,3083,"Boomer","0","0","0","5","13","Game",42]
["Player2",2,3100,"Player","0","0","1","1","50","Game",2]
["Boomer2",2,3101,"Boomer","0","0","1","1","50","Game",2]
["Player43",2,3110,"Player","1","3","1","37","88","Game",43]
["Boomer43",2,3111,"Boomer","0","0","0","5","12","Game",43]
["Player3",2,3128,"Player","0","0","1","1","33","Game",3]
[{"$f":"D387&K387","v":"Boomer3"},2,3129,"Boomer","0","0","2","2","67","Game",3]
["Player44",2,3141,"Player","1","3","2","38","88","Game",44]
["Boomer44",2,3142,"Boomer","0","0","0","5","12","Game",44]
["Player4",2,3154,"Player","0","0","1","1","25","Game",4]
["Boomer4",2,3155,"Boomer","0","0","2","3","75","Game",4]
["Player45",2,3169,"Player","1","3","3","39","88","Game",45]
["Boomer45",2,3170,"Boomer","0","0","0","5","12","Game",45]
["Player5",2,3180,"Player","0","0","1","1","20","Game",5]
["Boomer5",2,3181,"Boomer","0","0","3","4","80","Game",5]
["Player46",2,3195,"Player","1","4","0","40","88","Game",46]
["Boomer46",2,3196,"Boomer","0","0","0","5","12","Game",46]
["Player6",2,3205,"Player","0","0","0","1","16","Game",6]
["Boomer6",2,3206,"Boomer","0","1","0","5","84","Game",6]
["Player47",2,3221,"Player","1","4","0","40","86","Game",47]
["Boomer47",2,3222,"Boomer","0","0","1","6","14","Game",47]
["Player7",2,3231,"Player","0","0","0","1","14","Game",7]
["Boomer7",2,3232,"Boomer","0","1","1","6","86","Game",7]
["Player48",2,3251,"Player","1","4","1","41","87","Game",48]
["Boomer48",2,3252,"Boomer","0","0","1","6","13","Game",48]
["Player8",2,3258,"Player","0","0","1","2","25","Game",8]
["Boomer8",2,3259,"Boomer","0","1","1","6","75","Game",8]
["Player49",2,3280,"Player","1","4","2","42","87","Game",49]
["Boomer49",2,3281,"Boomer","0","0","1","6","13","Game",49]
["Player9",2,3286,"Player","0","0","1","2","22","Game",9]
["Boomer9",2,3287,"Boomer","0","1","2","7","78","Game",9]
["Player50",2,3304,"Player","1","4","3","43","87","Game",50]
["Boomer50",2,3305,"Boomer","0","0","1","6","13","Game",50]
["Player10",2,3317,"Player","0","0","1","2","20","Game",10]
["Boomer10",2,3318,"Boomer","0","1","3","8","80","Game",10]
["Player51",2,3328,"Player","1","5","0","44","88","Game",51]
["Boomer51",2,3329,"Boomer","0","0","0","6","12","Game",51]
["Player11",2,3347,"Player","0","0","0","2","18","Game",11]
["Boomer11",2,3348,"Boomer","0","2","0","9","82","Game",11]
["Player52",2,3353,"Player","1","5","0","44","86","Game",52]
["Boomer52",2,3354,"Boomer","0","0","1","7","14","Game",52]
["Player12",2,3372,"Player","0","0","2","3","25","Game",12]
["Boomer12",2,3373,"Boomer","0","1","3","9","75","Game",12]
["Player53",2,3379,"Player","1","5","1","45","86","Game",53]
["Boomer53",2,3380,"Boomer","0","0","1","7","14","Game",53]
["Player13",2,3395,"Player","0","0","3","4","30","Game",13]
["Boomer13",2,3396,"Boomer","0","1","3","9","70","Game",13]
["Player54",2,3409,"Player","1","5","2","46","86","Game",54]
["Boomer54",2,3410,"Boomer","0","0","1","7","14","Game",54]
["Player14",2,3420,"Player","0","0","3","4","28","Game",14]
["Boomer14",2,3421,"Boomer","0","1","4","10","72","Game",14]
["Player55",2,3439,"Player","1","5","3","47","87","Game",55]
["Boomer55",2,3440,"Boomer","0","0","1","7","13","Game",55]
["Player15",2,3449,"Player","0","0","0","4","26","Game",15]
["Boomer15",2,3450,"Boomer","0","2","0","11","74","Game",15]
["Player56",2,3468,"Player","2","0","0","48","87","Game",56]
["Boomer56",2,3469,"Boomer","0","0","0","7","13","Game",56]
["Player16",2,3477,"Player","0","0","0","4","25","Game",16]
["Boomer16",2,3478,"Boomer","0","2","1","12","75","Game",16]
["Player57",2,3487,"Player","2","0","0","48","87","Game",57]
["Boomer57",2,3488,"Boomer","0","0","0","7","13","Game",57]
["Player17",2,3502,"Player","0","0","0","4","23","Game",17]
["Boomer17",2,3503,"Boomer","0","2","2","13","77","Game",17]
["Player58",2,3510,"Player","0","0","0","48","85","Game",58]
["Boomer58",2,3511,"Boomer","0","0","1","8","15","Game",58]
["Player18",2,3529,"Player","0","0","0","4","22","Game",18]
["Boomer18",2,3530,"Boomer","0","2","2","14","78","Game",18]
["Player59",2,3546,"Player","0","0","1","49","85","Game",59]
["Boomer59",2,3547,"Boomer","0","0","1","8","15","Game",59]
["Player19",2,3558,"Player","0","0","0","4","21","Game",19]
[{"$f":"D451&K451","v":"Boomer19"},2,3559,"Boomer","0","2","3","15","79","Game",19]
["Player60",2,3577,"Player","0","0","1","49","84","Game",60]
["Boomer60",2,3578,"Boomer","0","0","2","9","16","Game",60]
["Player20",2,3590,"Player","0","0","0","4","20","Game",20]
["Boomer20",2,3591,"Boomer","0","3","0","16","80","Game",20]
["Player61",2,3602,"Player","0","0","1","49","83","Game",61]
["Boomer61",2,3603,"Boomer","0","0","3","10","17","Game",61]
["Player21",2,3618,"Player","0","0","0","4","19","Game",21]
["Boomer21",2,3619,"Boomer","0","3","0","17","81","Game",21]
["Player62",2,3632,"Player","0","0","2","50","83","Game",62]
["Boomer62",2,3633,"Boomer","0","0","3","10","17","Game",62]
["Player22",2,3641,"Player","0","0","1","5","22","Game",22]
["Boomer22",2,3642,"Boomer","0","3","0","17","78","Game",22]
["Player23",2,3666,"Player","0","0","1","5","21","Game",23]
["Boomer23",2,3667,"Boomer","0","3","1","18","79","Game",23]
["Player63",2,3667,"Player","0","0","3","51","83","Game",63]
["Boomer63",2,3668,"Boomer","0","0","3","10","17","Game",63]
["Player24",2,3694,"Player","0","0","1","5","20","Game",24]
["Boomer24",2,3695,"Boomer","0","3","2","19","80","Game",24]
["Player64",2,3703,"Player","0","0","4","52","83","Game",64]
["Boomer64",2,3704,"Boomer","0","0","3","10","17","Game",64]
["Player25",2,3722,"Player","0","0","1","5","20","Game",25]
["Boomer25",2,3723,"Boomer","0","3","3","20","80","Game",25]
["Player65",2,3734,"Player","0","0","4","52","82","Game",65]
["Boomer65",2,3735,"Boomer","0","0","4","11","18","Game",65]
["Player26",2,3748,"Player","0","0","0","5","19","Game",26]
["Boomer26",2,3749,"Boomer","0","4","0","21","81","Game",26]
["Player66",2,3761,"Player","0","0","4","52","81","Game",66]
["Boomer66",2,3762,"Boomer","0","0","5","12","19","Game",66]
["Player27",2,3775,"Player","0","0","0","5","18","Game",27]
["Boomer27",2,3776,"Boomer","0","4","1","22","82","Game",27]
["Player67",2,3792,"Player","0","0","5","53","81","Game",67]
["Boomer67",2,3793,"Boomer","0","0","5","12","19","Game",67]
["Player28",2,3801,"Player","0","0","0","5","17","Game",28]
["Boomer28",2,3802,"Boomer","0","4","2","23","83","Game",28]
["Player68",2,3823,"Player","0","0","6","54","81","Game",68]
["Boomer68",2,3824,"Boomer","0","0","5","12","19","Game",68]
["Player29",2,3826,"Player","0","0","0","5","17","Game",29]
["Boomer29",2,3827,"Boomer","0","4","3","24","83","Game",29]
["Player69",2,3853,"Player","0","1","0","55","82","Game",69]
["Boomer69",2,3854,"Boomer","0","0","0","12","18","Game",69]
["Player30",2,3856,"Player","0","0","0","5","16","Game",30]
["Boomer30",2,3857,"Boomer","0","5","0","25","84","Game",30]
["Player70",2,3881,"Player","0","1","1","56","82","Game",70]
["Boomer70",2,3882,"Boomer","0","0","0","12","18","Game",70]
["Player31",2,3886,"Player","0","0","0","5","16","Game",31]
["Boomer31",2,3887,"Boomer","0","5","1","26","84","Game",31]
["Player71",2,3906,"Player","0","1","2","57","82","Game",71]
["Boomer71",2,3907,"Boomer","0","0","0","12","18","Game",71]
["Player32",2,3913,"Player","0","0","0","5","15","Game",32]
["Boomer32",2,3914,"Boomer","0","5","2","27","85","Game",32]
["Player72",2,3932,"Player","0","1","2","57","81","Game",72]
["Boomer72",2,3933,"Boomer","0","0","1","13","19","Game",72]
["Player33",2,3941,"Player","0","0","1","6","18","Game",33]
["Boomer33",2,3942,"Boomer","0","5","2","27","82","Game",33]
["Player73",2,3958,"Player","0","1","2","57","80","Game",73]
["Boomer73",2,3959,"Boomer","0","0","2","14","20","Game",73]
["Player34",2,3967,"Player","0","0","2","7","20","Game",34]
["Boomer34",2,3968,"Boomer","0","5","2","27","80","Game",34]
["Player74",2,3984,"Player","0","1","2","57","79","Game",74]
["Boomer74",2,3985,"Boomer","0","0","3","15","21","Game",74]
["Player35",2,3997,"Player","0","0","3","8","22","Game",35]
["Boomer35",2,3998,"Boomer","0","5","2","27","78","Game",35]
["Player75",2,4009,"Player","0","1","3","58","79","Game",75]
[{"$f":"D515&K515","v":"Boomer75"},2,4010,"Boomer","0","0","3","15","21","Game",75]
["Player36",2,4029,"Player","0","0","3","8","22","Game",36]
["Boomer36",2,4030,"Boomer","0","5","3","28","78","Game",36]
["Player76",2,4033,"Player","0","1","4","59","79","Game",76]
["Boomer76",2,4034,"Boomer","0","0","3","15","21","Game",76]
["Player77",2,4057,"Player","0","2","0","60","80","Game",77]
["Boomer77",2,4058,"Boomer","0","0","0","15","20","Game",77]
["Player37",2,4061,"Player","0","0","4","9","24","Game",37]
["Boomer37",2,4062,"Boomer","0","5","3","28","76","Game",37]
["Player78",2,4086,"Player","0","2","1","61","80","Game",78]
["Boomer78",2,4087,"Boomer","0","0","0","15","20","Game",78]
["Player38",2,4092,"Player","0","0","4","9","23","Game",38]
["Boomer38",2,4093,"Boomer","0","5","4","29","77","Game",38]
["Player39",2,4117,"Player","0","0","5","10","25","Game",39]
["Boomer39",2,4118,"Boomer","0","5","4","29","75","Game",39]
["Player40",2,4146,"Player","0","0","5","10","25","Game",40]
["Boomer40",2,4147,"Boomer","0","5","5","30","75","Game",40]
["Player41",2,4180,"Player","0","0","5","10","24","Game",41]
["Boomer41",2,4181,"Boomer","0","5","6","31","76","Game",41]
["Player42",2,4213,"Player","0","0","0","10","23","Game",42]
["Boomer42",2,4214,"Boomer","1","0","0","32","77","Game",42]
["Player43",2,4232,"Player","0","0","0","10","23","Game",43]
["Boomer43",2,4233,"Boomer","1","0","0","32","77","Game",43]
["Player1",3,2303,"Player","0","0","1","1","100","Game",1]
["Boomer1",3,2304,"Boomer","0","0","0","0","0","Game",1]
["Player2",3,2328,"Player","0","0","1","1","50","Game",2]
["Boomer2",3,2329,"Boomer","0","0","1","1","50","Game",2]
["Player3",3,2354,"Player","0","0","1","1","33","Game",3]
["Boomer3",3,2355,"Boomer","0","0","2","2","67","Game",3]
["Player4",3,2380,"Player","0","0","1","1","25","Game",4]
["Boomer4",3,2381,"Boomer","0","0","3","3","75","Game",4]
["Player5",3,2404,"Player","0","0","2","2","40","Game",5]
["Boomer5",3,2405,"Boomer","0","0","2","3","60","Game",5]
["Player6",3,2428,"Player","0","0","2","2","33","Game",6]
["Boomer6",3,2429,"Boomer","0","0","3","4","67","Game",6]
["Player7",3,2457,"Player","0","0","3","3","42","Game",7]
["Boomer7",3,2458,"Boomer","0","0","3","4","58","Game",7]
["Player8",3,2487,"Player","0","0","3","3","37","Game",8]
["Boomer8",3,2488,"Boomer","0","0","4","5","63","Game",8]
["Player9",3,2518,"Player","0","0","4","4","44","Game",9]
["Boomer9",3,2519,"Boomer","0","0","4","5","56","Game",9]
["Player10",3,2547,"Player","0","0","5","5","50","Game",10]
["Boomer10",3,2548,"Boomer","0","0","4","5","50","Game",10]
["Player11",3,2572,"Player","0","0","5","5","45","Game",11]
["Boomer11",3,2573,"Boomer","0","0","5","6","55","Game",11]
["Player12",3,2598,"Player","0","0","5","5","41","Game",12]
["Boomer12",3,2599,"Boomer","0","0","6","7","59","Game",12]
["Player13",3,2623,"Player","0","0","6","6","46","Game",13]
["Boomer13",3,2624,"Boomer","0","0","6","7","54","Game",13]
["Player14",3,2648,"Player","0","0","7","7","50","Game",14]
["Boomer14",3,2649,"Boomer","0","0","6","7","50","Game",14]
["Player15",3,2673,"Player","0","1","0","8","53","Game",15]
["Boomer15",3,2674,"Boomer","0","0","0","7","47","Game",15]
["Player16",3,2698,"Player","0","1","1","9","56","Game",16]
["Boomer16",3,2699,"Boomer","0","0","0","7","44","Game",16]
["Player17",3,2726,"Player","0","1","1","9","52","Game",17]
["Boomer17",3,2727,"Boomer","0","0","1","8","48","Game",17]
["Player18",3,2757,"Player","0","1","1","9","50","Game",18]
["Boomer18",3,2758,"Boomer","0","0","2","9","50","Game",18]
["Player19",3,2787,"Player","0","1","2","10","52","Game",19]
["Boomer19",3,2788,"Boomer","0","0","2","9","48","Game",19]
["Player20",3,2813,"Player","0","1","2","10","50","Game",20]
["Boomer20",3,2814,"Boomer","0","0","3","10","50","Game",20]
["Player21",3,2838,"Player","0","1","0","10","47","Game",21]
[{"$f":"D579&K579","v":"Boomer21"},3,2839,"Boomer","0","1","0","11","53","Game",21]

{"sheet":"ServeData","index":14,"n_rows":1048576,"n_cols":38,"rows_kept":2250,"cut":true,"hidden":false,"merged":[],"bounds":{"rows_first":1000,"rows_last":250,"rows_between":1000,"halvings":1}}
["Count","Number of shots","Number of Serves","fKey","Key","InKey","fDate","fPlayer","fTime","fGame","fPoint","fNewPoint","fServe","fball#","fDirection","SwingType","NRTPLevel","fDepth","fWidth","fScore","fSpeed","fTotal","AvgShotWidth","fSession","ID","fPointNum","fCoach","fLevel","fLocation","fCourt","fLights","fBlock","fLevel","fLocation","fCourt","fLights","fBlock"]
["Count","Number of shots","Number of Serves","fKey","5/9/2012Game against Boomer at level 2.0  Single point data:2",null,"2012-05-09","Allen Gibson","00:31:35","Game against Boomer at level 2.0  Single point data:","Boomer's point","New Point","Player serving",1,4,"Player Serve",2,0,0,0,null,0,null,2,22242,1,"Robert Allen Gibson",5,"Lake Lynn","Hard","No",1,null,null,null,null,null,{"$f":"IF(Q2,V2-Q2,0)","v":-2}]
["Count","Number of shots","Number of Serves","fKey","3/15/2012Game against Boomer at level 3.5  Single point data:3.5",null,"2012-03-15","Allen Gibson","04:33:05","Game against Boomer at level 3.5  Single point data:","Player's point","New Point","Boomer serving",1,4,"Player Serve",3.5,0,0,0,null,0,null,1,22148,1,"Robert Allen Gibson",5,"Lake Lynn","Hard","No",1,null,null,null,null,null,{"$f":"IF(Q3,V3-Q3,0)","v":-3.5}]
["Count","Number of shots","Number of Serves","fKey","3/15/2012Game against Boomer at level 3.5  Single point data:3.5","3.5","2012-03-15","Allen Gibson","04:33:05","Game against Boomer at level 3.5  Single point data:","Player's point",null,"Boomer serving",2,4,"Player Serve",3.5,16,21,3.6,54,3.5,"8",1,22149,1,"Robert Allen Gibson",5,"Lake Lynn","Hard","No",1,null,null,null,null,null,0]
["Count","Number of shots","Number of Serves","fKey","5/9/2012Game against Boomer at level 2.0  Single point data:2",null,"2012-05-09","Allen Gibson","00:31:35","Game against Boomer at level 2.0  Single point data:","Boomer's point",null,"Player serving",2,4,"Player Serve",2,0,0,0,null,0,null,2,22243,1,"Robert Allen Gibson",5,"Lake Lynn","Hard","No",1,null,null,null,null,null,-2]
["Count","Number of shots","Number of Serves","fKey","3/15/2012Game against Boomer at level 3.5  Single point data:3.5","3.5","2012-03-15","Allen Gibson","04:33:32","Game against Boomer at level 3.5  Single point data:","Boomer's point","New Point","Boomer serving",1,5,"Serve",3.5,24,5,4.7,55,4.5,"8",1,22156,2,"Robert Allen Gibson",5,"Lake Lynn","Hard","No",2,null,null,null,null,null,1]
["Count","Number of shots","Number of Serves","fKey","5/9/2012Game against Boomer at level 2.0  Single point data:2","2","2012-05-09","Allen Gibson","00:32:24","Game against Boomer at level 2.0  Single point data:","Player's point","New Point","Player serving",1,4,"Player Serve",2,16,16,4.9000000000000004,111,5.9,"2",2,22244,2,"Robert Allen Gibson",5,"Lake Lynn","Hard","No",2,null,null,null,null,null,3.9000000000000004]
["Count","Number of shots","Number of Serves","fKey","3/15/2012Game against Boomer at level 3.5  Single point data:3.5","3.5","2012-03-15","Allen Gibson","04:33:58","Game against Boomer at level 3.5  Single point data:","Boomer's point","New Point","Player serving",1,3,"Serve",3.5,17,7,3.7,38,3.3,"6",1,22160,3,"Robert Allen Gibson",5,"Lake Lynn","Hard","No",3,null,null,null,null,null,-0.20000000000000018]
["Count","Number of shots","Number of Serves","fKey","5/9/2012Game against Boomer at level 2.0  Single point data:2","2","2012-05-09","Allen Gibson","00:32:42","Game against Boomer at level 2.0  Single point data:","Player's point","New Point","Player serving",1,4,"Player Serve",2,16,5,4.0999999999999996,109,5.5,"8",2,22245,3,"Robert Allen Gibson",5,"Lake Lynn","Hard","No",3,null,null,null,null,null,3.5]
["Count","Number of shots","Number of Serves","fKey","5/9/2012Game against Boomer at level 2.0  Single point data:2","2","2012-05-09","Allen Gibson","00:33:00","Game against Boomer at level 2.0  Single point data:","Player's point","New Point","Player serving",1,4,"Player Serve",2,18,20,3.9,108,5.3,"6",2,22246,4,"Robert Allen Gibson",5,"Lake Lynn","Hard","No",4,null,null,null,null,null,3.3]
["Count","Number of shots","Number of Serves","fKey","3/15/2012Game against Boomer at level 3.5  Single point data:3.5","3.5","2012-03-15","Allen Gibson","04:34:28","Game against Boomer at level 3.5  Single point data:","Boomer's point","New Point","Player serving",1,4,"Player Serve",3.5,15,7,3.3,101,4.8,"6",1,22164,4,"Robert Allen Gibson",5,"Lake Lynn","Hard","No",4,null,null,null,null,null,1.2999999999999998]
["Count","Number of shots","Number of Serves","fKey","5/9/2012Game against Boomer at level 2.0  Single point data:2","2","2012-05-09","Allen Gibson","00:33:20","Game against Boomer at level 2.0  Single point data:","Player's point","New Point","Boomer serving",1,4,"Player Serve",2,16,6,3.8,110,5.3,"8",2,22247,5,"Robert Allen Gibson",5,"Lake Lynn","Hard","No",5,null,null,null,null,null,3.3]
["Count","Number of shots","Number of Serves","fKey","3/15/2012Game against Boomer at level 3.5  Single point data:3.5","3.5","2012-03-15","Allen Gibson","04:35:12","Game against Boomer at level 3.5  Single point data:","Player's point","New Point","Boomer serving",1,4,"Player Serve",3.5,15,18,3.8,93,4.8,"4",1,22169,6,"Robert Allen Gibson",5,"Lake Lynn","Hard","No",5,null,null,null,null,null,1.2999999999999998]
["Count","Number of shots","Number of Serves","fKey","5/9/2012Game against Boomer at level 2.0  Single point data:2","2","2012-05-09","Allen Gibson","00:33:47","Game against Boomer at level 2.0  Single point data:","Player's point","New Point","Boomer serving",1,0,"Serve",2,23,23,4.7,47,4.2,"10",2,22248,6,"Robert Allen Gibson",5,"Lake Lynn","Hard","No",6,null,null,null,null,null,2.2000000000000002]
["Count","Number of shots","Number of Serves","fKey","3/15/2012Game against Boomer at level 3.5  Single point data:3.5","3.5","2012-03-15","Allen Gibson","04:35:35","Game against Boomer at level 3.5  Single point data:","Player's point","New Point","Boomer serving",1,5,"Serve",3.5,23,5,4.7,36,3.7,"8",1,22174,7,"Robert Allen Gibson",5,"Lake Lynn","Hard","No",6,null,null,null,null,null,0.20000000000000018]
["Count","Number of shots","Number of Serves","fKey","5/9/2012Game against Boomer at level 2.0  Single point data:2","2","2012-05-09","Allen Gibson","00:34:06","Game against Boomer at level 2.0  Single point data:","Boomer's point","New Point","Boomer serving",1,5,"Serve",2,22,8,3.9,46,3.7,"6",2,22251,7,"Robert Allen Gibson",5,"Lake Lynn","Hard","No",7,null,null,null,null,null,1.7000000000000002]
["Count","Number of shots","Number of Serves","fKey","3/15/2012Game against Boomer at level 3.5  Single point data:3.5",null,"2012-03-15","Allen Gibson","04:35:48","Game against Boomer at level 3.5  Single point data:","Boomer's point","New Point","Player serving",1,0,"Serve",3.5,0,0,0,null,0,null,1,22176,8,"Robert Allen Gibson",5,"Lake Lynn","Hard","No",7,null,null,null,null,null,-3.5]
["Count","Number of shots","Number of Serves","fKey","3/15/2012Game against Boomer at level 3.5  Single point data:3.5","3.5","2012-03-15","Allen Gibson","04:36:22","Game against Boomer at level 3.5  Single point data:","Player's point","New Point","Player serving",1,4,"Player Serve",3.5,11,6,2.5,96,4.3,"8",1,22177,9,"Robert Allen Gibson",5,"Lake Lynn","Hard","No",8,null,null,null,null,null,0.79999999999999982]
["Count","Number of shots","Number of Serves","fKey","5/9/2012Game against Boomer at level 2.0  Single point data:2","2","2012-05-09","Allen Gibson","00:34:26","Game against Boomer at level 2.0  Single point data:","Player's point","New Point","Boomer serving",1,0,"Serve",2,25,25,5.3,45,4.4000000000000004,"12",2,22253,8,"Robert Allen Gibson",5,"Lake Lynn","Hard","No",8,null,null,null,null,null,2.4000000000000004]
["Count","Number of shots","Number of Serves","fKey","3/15/2012Game against Boomer at level 3.5  Single point data:3.5","3.5","2012-03-15","Allen Gibson","04:36:41","Game against Boomer at level 3.5  Single point data:","Player's point","New Point","Boomer serving",1,4,"Player Serve",3.5,16,20,3.5,111,5.2,"6",1,22181,10,"Robert Allen Gibson",5,"Lake Lynn","Hard","No",9,null,null,null,null,null,1.7000000000000002]
["Count","Number of shots","Number of Serves","fKey","5/9/2012Game against Boomer at level 2.0  Single point data:2","2","2012-05-09","Allen Gibson","00:34:50","Game against Boomer at level 2.0  Single point data:","Player's point","New Point","Boomer serving",1,8,"Serve",2,28,4,5.3,49,4.5999999999999996,"10",2,22255,9,"Robert Allen Gibson",5,"Lake Lynn","Hard","No",9,null,null,null,null,null,2.5999999999999996]
["Count","Number of shots","Number of Serves","fKey","3/15/2012Game against Boomer at level 3.5  Single point data:3.5","3.5","2012-03-15","Allen Gibson","04:37:06","Game against Boomer at level 3.5  Single point data:","Boomer's point","New Point","Boomer serving",1,8,"Serve",3.5,28,10,4.5,35,3.6,"4",1,22182,11,"Robert Allen Gibson",5,"Lake Lynn","Hard","No",10,null,null,null,null,null,0.10000000000000009]
["Count","Number of shots","Number of Serves","fKey","5/9/2012Game against Boomer at level 2.0  Single point data:2","2","2012-05-09","Allen Gibson","00:35:20","Game against Boomer at level 2.0  Single point data:","Player's point","New Point","Player serving",1,3,"Serve",2,31,4,5.9,50,4.9000000000000004,"10",2,22258,10,"Robert Allen Gibson",5,"Lake Lynn","Hard","No",10,null,null,null,null,null,2.9000000000000004]
["Count","Number of shots","Number of Serves","fKey","3/15/2012Game against Boomer at level 3.5  Single point data:3.5","3.5","2012-03-15","Allen Gibson","04:37:32","Game against Boomer at level 3.5  Single point data:","Player's point","New Point","Boomer serving",1,3,"Serve",3.5,27,9,4.7,35,3.7,"4",1,22186,12,"Robert Allen Gibson",5,"Lake Lynn","Hard","No",11,null,null,null,null,null,0.20000000000000018]
["Count","Number of shots","Number of Serves","fKey","5/9/2012Game against Boomer at level 2.0  Single point data:2","2","2012-05-09","Allen Gibson","00:35:41","Game against Boomer at level 2.0  Single point data:","Player's point","New Point","Player serving",1,4,"Player Serve",2,19,17,5.4,108,6.1,"4",2,22260,11,"Robert Allen Gibson",5,"Lake Lynn","Hard","No",11,null,null,null,null,null,4.0999999999999996]
["Count","Number of shots","Number of Serves","fKey","3/15/2012Game against Boomer at level 3.5  Single point data:3.5","3.5","2012-03-15","Allen Gibson","04:38:00","Game against Boomer at level 3.5  Single point data:","Player's point","New Point","Player serving",1,0,"Serve",3.5,30,5,5.7,42,4.5,"8",1,22190,13,"Robert Allen Gibson",5,"Lake Lynn","Hard","No",12,null,null,null,null,null,1]
["Count","Number of shots","Number of Serves","fKey","5/9/2012Game against Boomer at level 2.0  Single point data:2","2","2012-05-09","Allen Gibson","00:35:58","Game against Boomer at level 2.0  Single point data:","Player's point","New Point","Player serving",1,4,"Player Serve",2,19,3,5.2,111,6.1,"10",2,22261,12,"Robert Allen Gibson",5,"Lake Lynn","Hard","No",12,null,null,null,null,null,4.0999999999999996]
["Count","Number of shots","Number of Serves","fKey","3/15/2012Game against Boomer at level 3.5  Single point data:3.5","3.5","2012-03-15","Allen Gibson","04:38:32","Game against Boomer at level 3.5  Single point data:","Player's point","New Point","Player serving",1,4,"Player Serve",3.5,15,7,3.3,113,5.0999999999999996,"6",1,22194,14,"Robert Allen Gibson",5,"Lake Lynn","Hard","No",13,null,null,null,null,null,1.5999999999999996]
["Count","Number of shots","Number of Serves","fKey","5/9/2012Game against Boomer at level 2.0  Single point data:2",null,"2012-05-09","Allen Gibson","00:36:22","Game against Boomer at level 2.0  Single point data:","Player's point","New Point","Player serving",1,4,"Player Serve",2,0,0,0,null,0,null,2,22262,13,"Robert Allen Gibson",5,"Lake Lynn","Hard","No",13,null,null,null,null,null,-2]
["Count","Number of shots","Number of Serves","fKey","5/9/2012Game against Boomer at level 2.0  Single point data:2","2","2012-05-09","Allen Gibson","00:36:22","Game against Boomer at level 2.0  Single point data:","Player's point",null,"Player serving",2,4,"Player Serve",2,19,19,4.5999999999999996,104,5.6,"6",2,22263,13,"Robert Allen Gibson",5,"Lake Lynn","Hard","No",13,null,null,null,null,null,3.5999999999999996]
["Count","Number of shots","Number of Serves","fKey","5/9/2012Game against Boomer at level 2.0  Single point data:2",null,"2012-05-09","Allen Gibson","00:36:50","Game against Boomer at level 2.0  Single point data:","Player's point","New Point","Boomer serving",1,4,"Player Serve",2,0,0,0,null,0,null,2,22264,14,"Robert Allen Gibson",5,"Lake Lynn","Hard","No",14,null,null,null,null,null,-2]
["Count","Number of shots","Number of Serves","fKey","3/15/2012Game against Boomer at level 3.5  Single point data:3.5","3.5","2012-03-15","Allen Gibson","04:38:53","Game against Boomer at level 3.5  Single point data:","Player's point","New Point","Boomer serving",1,4,"Player Serve",3.5,13,20,2.8,89,4.2,"6",1,22198,15,"Robert Allen Gibson",5,"Lake Lynn","Hard","No",14,null,null,null,null,null,0.70000000000000018]
["Count","Number of shots","Number of Serves","fKey","5/9/2012Game against Boomer at level 2.0  Single point data:2","2","2012-05-09","Allen Gibson","00:36:50","Game against Boomer at level 2.0  Single point data:","Player's point",null,"Boomer serving",2,4,"Player Serve",2,17,6,4.0999999999999996,41,3.3,"8",2,22265,14,"Robert Allen Gibson",5,"Lake Lynn","Hard","No",14,null,null,null,null,null,1.2999999999999998]
["Count","Number of shots","Number of Serves","fKey","3/15/2012Game against Boomer at level 3.5  Single point data:3.5","3.5","2012-03-15","Allen Gibson","04:39:20","Game against Boomer at level 3.5  Single point data:","Player's point","New Point","Boomer serving",1,8,"Serve",3.5,38,7,6.3,42,4.8,"6",1,22200,16,"Robert Allen Gibson",5,"Lake Lynn","Hard","No",15,null,null,null,null,null,1.2999999999999998]
["Count","Number of shots","Number of Serves","fKey","5/9/2012Game against Boomer at level 2.0  Single point data:2","2","2012-05-09","Allen Gibson","00:37:11","Game against Boomer at level 2.0  Single point data:","Boomer's point","New Point","Boomer serving",1,3,"Serve",2,29,25,5.7,45,4.5999999999999996,"12",2,22267,15,"Robert Allen Gibson",5,"Lake Lynn","Hard","No",15,null,null,null,null,null,2.5999999999999996]
["Count","Number of shots","Number of Serves","fKey","3/15/2012Game against Boomer at level 3.5  Single point data:3.5","3.5","2012-03-15","Allen Gibson","04:39:49","Game against Boomer at level 3.5  Single point data:","Player's point","New Point","Player serving",1,3,"Serve",3.5,24,11,3.9,38,3.4,"2",1,22204,17,"Robert Allen Gibson",5,"Lake Lynn","Hard","No",16,null,null,null,null,null,-0.10000000000000009]
["Count","Number of shots","Number of Serves","fKey","5/9/2012Game against Boomer at level 2.0  Single point data:2","2","2012-05-09","Allen Gibson","00:37:34","Game against Boomer at level 2.0  Single point data:","Boomer's point","New Point","Boomer serving",1,5,"Serve",2,24,22,4.7,42,4,"8",2,22270,16,"Robert Allen Gibson",5,"Lake Lynn","Hard","No",16,null,null,null,null,null,2]
["Count","Number of shots","Number of Serves","fKey","3/15/2012Game against Boomer at level 3.5  Single point data:3.5","3.5","2012-03-15","Allen Gibson","04:40:10","Game against Boomer at level 3.5  Single point data:","Player's point","New Point","Player serving",1,4,"Player Serve",3.5,19,7,4,110,5.4,"6",1,22209,18,"Robert Allen Gibson",5,"Lake Lynn","Hard","No",17,null,null,null,null,null,1.9000000000000004]
["Count","Number of shots","Number of Serves","fKey","5/9/2012Game against Boomer at level 2.0  Single point data:2","2","2012-05-09","Allen Gibson","00:37:58","Game against Boomer at level 2.0  Single point data:","Player's point","New Point","Boomer serving",1,3,"Serve",2,24,23,4.7,38,3.8,"10",2,22273,17,"Robert Allen Gibson",5,"Lake Lynn","Hard","No",17,null,null,null,null,null,1.7999999999999998]
["Count","Number of shots","Number of Serves","fKey","3/15/2012Game against Boomer at level 3.5  Single point data:3.5","3.5","2012-03-15","Allen Gibson","04:40:38","Game against Boomer at level 3.5  Single point data:","Player's point","New Point","Boomer serving",1,4,"Player Serve",3.5,13,21,3,110,4.9000000000000004,"8",1,22210,19,"Robert Allen Gibson",5,"Lake Lynn","Hard","No",18,null,null,null,null,null,1.4000000000000004]
["Count","Number of shots","Number of Serves","fKey","5/9/2012Game against Boomer at level 2.0  Single point data:2","2","2012-05-09","Allen Gibson","00:38:27","Game against Boomer at level 2.0  Single point data:","Player's point","New Point","Boomer serving",1,8,"Serve",2,16,17,2.9,39,3,"4",2,22275,18,"Robert Allen Gibson",5,"Lake Lynn","Hard","No",18,null,null,null,null,null,1]
["Count","Number of shots","Number of Serves","fKey","3/15/2012Game against Boomer at level 3.5  Single point data:3.5","3.5","2012-03-15","Allen Gibson","04:41:10","Game against Boomer at level 3.5  Single point data:","Player's point","New Point","Boomer serving",1,4,"Player Serve",3.5,14,16,4.5,115,5.7,"2",1,22214,21,"Robert Allen Gibson",5,"Lake Lynn","Hard","No",19,null,null,null,null,null,2.2000000000000002]
["Count","Number of shots","Number of Serves","fKey","5/9/2012Game against Boomer at level 2.0  Single point data:2","2","2012-05-09","Allen Gibson","00:38:51","Game against Boomer at level 2.0  Single point data:","Player's point","New Point","Boomer serving",1,0,"Serve",2,34,18,5.7,46,4.5999999999999996,"4",2,22279,19,"Robert Allen Gibson",5,"Lake Lynn","Hard","No",19,null,null,null,null,null,2.5999999999999996]
["Count","Number of shots","Number of Serves","fKey","3/15/2012Game against Boomer at level 3.5  Single point data:3.5","3.5","2012-03-15","Allen Gibson","04:41:40","Game against Boomer at level 3.5  Single point data:","Player's point","New Point","Boomer serving",1,5,"Serve",3.5,22,8,4.2,50,4.0999999999999996,"6",1,22215,22,"Robert Allen Gibson",5,"Lake Lynn","Hard","No",20,null,null,null,null,null,0.59999999999999964]
["Count","Number of shots","Number of Serves","fKey","5/9/2012Game against Boomer at level 2.0  Single point data:2","2","2012-05-09","Allen Gibson","00:39:18","Game against Boomer at level 2.0  Single point data:","Player's point","New Point","Player serving",1,8,"Serve",2,29,22,5.7,55,5,"8",2,22281,20,"Robert Allen Gibson",5,"Lake Lynn","Hard","No",20,null,null,null,null,null,3]
["Count","Number of shots","Number of Serves","fKey","3/15/2012Game against Boomer at level 3.5  Single point data:3.5","3.5","2012-03-15","Allen Gibson","04:42:07","Game against Boomer at level 3.5  Single point data:","Player's point","New Point","Player serving",1,0,"Serve",3.5,21,20,4.2,52,4.0999999999999996,"6",1,22220,23,"Robert Allen Gibson",5,"Lake Lynn","Hard","No",21,null,null,null,null,null,0.59999999999999964]
["Count","Number of shots","Number of Serves","fKey","5/9/2012Game against Boomer at level 2.0  Single point data:2",null,"2012-05-09","Allen Gibson","00:39:45","Game against Boomer at level 2.0  Single point data:","Player's point","New Point","Player serving",1,4,"Player Serve",2,0,0,0,null,0,null,2,22283,21,"Robert Allen Gibson",5,"Lake Lynn","Hard","No",21,null,null,null,null,null,-2]
["Count","Number of shots","Number of Serves","fKey","5/9/2012Game against Boomer at level 2.0  Single point data:2","2","2012-05-09","Allen Gibson","00:39:45","Game against Boomer at level 2.0  Single point data:","Player's point",null,"Player serving",2,4,"Player Serve",2,14,18,3.8,112,5.4,"4",2,22284,21,"Robert Allen Gibson",5,"Lake Lynn","Hard","No",21,null,null,null,null,null,3.4000000000000004]
["Count","Number of shots","Number of Serves","fKey","3/15/2012Game against Boomer at level 3.5  Single point data:3.5","3.5","2012-03-15","Allen Gibson","04:42:30","Game against Boomer at level 3.5  Single point data:","Boomer's point","New Point","Player serving",1,4,"Player Serve",3.5,15,7,3.3,115,5.0999999999999996,"6",1,22224,24,"Robert Allen Gibson",5,"Lake Lynn","Hard","No",22,null,null,null,null,null,1.5999999999999996]
["Count","Number of shots","Number of Serves","fKey","5/9/2012Game against Boomer at level 2.0  Single point data:2","2","2012-05-09","Allen Gibson","00:40:13","Game against Boomer at level 2.0  Single point data:","Player's point","New Point","Player serving",1,4,"Player Serve",2,21,2,6.1,102,6.2,"12",2,22285,22,"Robert Allen Gibson",5,"Lake Lynn","Hard","No",22,null,null,null,null,null,4.2]
["Count","Number of shots","Number of Serves","fKey","3/15/2012Game against Boomer at level 3.5  Single point data:3.5","3.5","2012-03-15","Allen Gibson","04:42:49","Game against Boomer at level 3.5  Single point data:","Player's point","New Point","Boomer serving",1,4,"Player Serve",3.5,15,19,3.7,114,5.3,"6",1,22227,25,"Robert Allen Gibson",5,"Lake Lynn","Hard","No",23,null,null,null,null,null,1.7999999999999998]
["Count","Number of shots","Number of Serves","fKey","5/9/2012Game against Boomer at level 2.0  Single point data:2","2","2012-05-09","Allen Gibson","00:40:31","Game against Boomer at level 2.0  Single point data:","Player's point","New Point","Player serving",1,4,"Player Serve",2,17,18,4.5,107,5.6,"4",2,22286,23,"Robert Allen Gibson",5,"Lake Lynn","Hard","No",23,null,null,null,null,null,3.5999999999999996]
["Count","Number of shots","Number of Serves","fKey","5/9/2012Game against Boomer at level 2.0  Single point data:2","2","2012-05-09","Allen Gibson","00:40:50","Game against Boomer at level 2.0  Single point data:","Player's point","New Point","Boomer serving",1,4,"Player Serve",2,18,7,3.9,104,5.2,"6",2,22287,24,"Robert Allen Gibson",5,"Lake Lynn","Hard","No",24,null,null,null,null,null,3.2]
["Count","Number of shots","Number of Serves","fKey","3/15/2012Game against Boomer at level 3.5  Single point data:3.5","3.5","2012-03-15","Allen Gibson","04:43:25","Game against Boomer at level 3.5  Single point data:","Player's point","New Point","Boomer serving",1,8,"Serve",3.5,34,3,6.3,49,5.0999999999999996,"10",1,22228,26,"Robert Allen Gibson",5,"Lake Lynn","Hard","No",24,null,null,null,null,null,1.5999999999999996]
["Count","Number of shots","Number of Serves","fKey","3/15/2012Game against Boomer at level 3.5  Single point data:3.5","3.5","2012-03-15","Allen Gibson","04:43:43","Game against Boomer at level 3.5  Single point data:","Boomer's point","New Point","Player serving",1,0,"Serve",3.5,25,3,5.3,49,4.5999999999999996,"10",1,22234,27,"Robert Allen Gibson",5,"Lake Lynn","Hard","No",25,null,null,null,null,null,1.0999999999999996]
["Count","Number of shots","Number of Serves","fKey","5/9/2012Game against Boomer at level 2.0  Single point data:2",null,"2012-05-09","Allen Gibson","00:41:05","Game against Boomer at level 2.0  Single point data:","Boomer's point","New Point","Boomer serving",1,3,"Serve",2,0,0,0,null,0,null,2,22288,25,"Robert Allen Gibson",5,"Lake Lynn","Hard","No",25,null,null,null,null,null,-2]
["Count","Number of shots","Number of Serves","fKey","3/15/2012Game against Boomer at level 3.5  Single point data:3.5","3.5","2012-03-15","Allen Gibson","04:44:13","Game against Boomer at level 3.5  Single point data:","Player's point","New Point","Player serving",1,4,"Player Serve",3.5,15,3,4.5999999999999996,86,5,"10",1,22236,28,"Robert Allen Gibson",5,"Lake Lynn","Hard","No",26,null,null,null,null,null,1.5]
["Count","Number of shots","Number of Serves","fKey","5/9/2012Game against Boomer at level 2.0  Single point data:2","2","2012-05-09","Allen Gibson","00:41:29","Game against Boomer at level 2.0  Single point data:","Player's point","New Point","Boomer serving",1,5,"Serve",2,34,6,6.1,56,5.2,"8",2,22289,26,"Robert Allen Gibson",5,"Lake Lynn","Hard","No",26,null,null,null,null,null,3.2]
["Count","Number of shots","Number of Serves","fKey","3/15/2012Game against Boomer at level 3.5  Single point data:3.5","3.5","2012-03-15","Allen Gibson","04:44:35","Game against Boomer at level 3.5  Single point data:","Player's point","New Point","Boomer serving",1,4,"Player Serve",3.5,15,18,3.8,118,5.4,"4",1,22241,29,"Robert Allen Gibson",5,"Lake Lynn","Hard","No",27,null,null,null,null,null,1.9000000000000004]
["Count","Number of shots","Number of Serves","fKey","5/9/2012Game against Boomer at level 2.0  Single point data:2","2","2012-05-09","Allen Gibson","00:41:51","Game against Boomer at level 2.0  Single point data:","Player's point","New Point","Boomer serving",1,0,"Serve",2,31,2,6.2,51,6,"12",2,22292,27,"Robert Allen Gibson",5,"Lake Lynn","Hard","No",27,null,null,null,null,null,4]
["Count","Number of shots","Number of Serves","fKey","5/9/2012Game against Boomer at level 2.0  Single point data:2","2","2012-05-09","Allen Gibson","00:42:19","Game against Boomer at level 2.0  Single point data:","Player's point","New Point","Boomer serving",1,8,"Serve",2,19,19,3.7,32,3.1,"6",2,22295,28,"Robert Allen Gibson",5,"Lake Lynn","Hard","No",28,null,null,null,null,null,1.1000000000000001]
["Count","Number of shots","Number of Serves","fKey","5/9/2012Game against Boomer at level 2.0  Single point data:2","2","2012-05-09","Allen Gibson","00:42:42","Game against Boomer at level 2.0  Single point data:","Player's point","New Point","Player serving",1,0,"Serve",2,25,0,7,39,5.7,"14",2,22299,29,"Robert Allen Gibson",5,"Lake Lynn","Hard","No",29,null,null,null,null,null,3.7]
["Count","Number of shots","Number of Serves","fKey","5/9/2012Game against Boomer at level 2.5  Single point data:2.5","2.5","2012-05-09","Allen Gibson","00:43:09","Game against Boomer at level 2.5  Single point data:","Player's point","New Point","Player serving",1,4,"Player Serve",2.5,18,17,5,110,5.9,"4",2,22301,30,"Robert Allen Gibson",5,"Lake Lynn","Hard","No",30,null,null,null,null,null,3.4000000000000004]
["Count","Number of shots","Number of Serves","fKey","5/9/2012Game against Boomer at level 2.5  Single point data:2.5","2.5","2012-05-09","Allen Gibson","00:43:26","Game against Boomer at level 2.5  Single point data:","Player's point","New Point","Player serving",1,4,"Player Serve",2.5,17,5,4.0999999999999996,109,5.5,"8",2,22302,31,"Robert Allen Gibson",5,"Lake Lynn","Hard","No",31,null,null,null,null,null,3]
["Count","Number of shots","Number of Serves","fKey","5/9/2012Game against Boomer at level 2.5  Single point data:2.5",null,"2012-05-09","Allen Gibson","00:43:49","Game against Boomer at level 2.5  Single point data:","Player's point","New Point","Player serving",1,4,"Player Serve",2.5,0,0,0,null,0,null,2,22303,32,"Robert Allen Gibson",5,"Lake Lynn","Hard","No",32,null,null,null,null,null,-2.5]
["Count","Number of shots","Number of Serves","fKey","5/9/2012Game against Boomer at level 2.5  Single point data:2.5","2.5","2012-05-09","Allen Gibson","00:43:49","Game against Boomer at level 2.5  Single point data:","Player's point",null,"Player serving",2,4,"Player Serve",2.5,12,17,3.6,123,5.3,"4",2,22304,32,"Robert Allen Gibson",5,"Lake Lynn","Hard","No",32,null,null,null,null,null,2.8]
["Count","Number of shots","Number of Serves","fKey","5/9/2012Game against Boomer at level 2.5  Single point data:2.5","2.5","2012-05-09","Allen Gibson","00:44:15","Game against Boomer at level 2.5  Single point data:","Player's point","New Point","Boomer serving",1,4,"Player Serve",2.5,19,9,4.9000000000000004,118,5.9,"4",2,22305,33,"Robert Allen Gibson",5,"Lake Lynn","Hard","No",33,null,null,null,null,null,{"$f":"IF(Q67,V67-Q67,0)","v":3.4000000000000004}]
["Count","Number of shots","Number of Serves","fKey","5/9/2012Game against Boomer at level 2.5  Single point data:2.5","2.5","2012-05-09","Allen Gibson","00:44:44","Game against Boomer at level 2.5  Single point data:","Player's point","New Point","Boomer serving",1,3,"Serve",2.5,36,24,6.5,53,5.3,"10",2,22306,34,"Robert Allen Gibson",5,"Lake Lynn","Hard","No",34,null,null,null,null,null,2.8]
["Count","Number of shots","Number of Serves","fKey","5/9/2012Game against Boomer at level 2.5  Single point data:2.5","2.5","2012-05-09","Allen Gibson","00:45:05","Game against Boomer at level 2.5  Single point data:","Player's point","New Point","Boomer serving",1,5,"Serve",2.5,23,8,4.5,49,4.2,"6",2,22310,35,"Robert Allen Gibson",5,"Lake Lynn","Hard","No",35,null,null,null,null,null,1.7000000000000002]
["Count","Number of shots","Number of Serves","fKey","5/9/2012Game against Boomer at level 2.5  Single point data:2.5","2.5","2012-05-09","Allen Gibson","00:45:27","Game against Boomer at level 2.5  Single point data:","Player's point","New Point","Boomer serving",1,3,"Serve",2.5,28,5,5.3,44,4.4000000000000004,"8",2,22312,36,"Robert Allen Gibson",5,"Lake Lynn","Hard","No",36,null,null,null,null,null,1.9000000000000004]
["Count","Number of shots","Number of Serves","fKey","5/9/2012Game against Boomer at level 2.5  Single point data:2.5","2.5","2012-05-09","Allen Gibson","00:45:55","Game against Boomer at level 2.5  Single point data:","Player's point","New Point","Player serving",1,8,"Serve",2.5,34,2,6.5,44,5,"12",2,22314,37,"Robert Allen Gibson",5,"Lake Lynn","Hard","No",37,null,null,null,null,null,2.5]
["Count","Number of shots","Number of Serves","fKey","5/9/2012Game against Boomer at level 2.5  Single point data:2.5","2.5","2012-05-09","Allen Gibson","00:46:15","Game against Boomer at level 2.5  Single point data:","Player's point","New Point","Player serving",1,4,"Player Serve",2.5,11,15,4.4000000000000004,122,5.7,"2",2,22316,38,"Robert Allen Gibson",5,"Lake Lynn","Hard","No",38,null,null,null,null,null,3.2]
["Count","Number of shots","Number of Serves","fKey","5/9/2012Game against Boomer at level 2.5  Single point data:2.5","2.5","2012-05-09","Allen Gibson","00:46:31","Game against Boomer at level 2.5  Single point data:","Player's point","New Point","Player serving",1,4,"Player Serve",2.5,16,9,4.4000000000000004,116,5.7,"4",2,22317,39,"Robert Allen Gibson",5,"Lake Lynn","Hard","No",39,null,null,null,null,null,3.2]
["Count","Number of shots","Number of Serves","fKey","5/9/2012Game against Boomer at level 2.5  Single point data:2.5","2.5","2012-05-09","Allen Gibson","00:46:59","Game against Boomer at level 2.5  Single point data:","Boomer's point","New Point","Player serving",1,4,"Player Serve",2.5,9,18,2.7,114,4.8,"4",2,22318,40,"Robert Allen Gibson",5,"Lake Lynn","Hard","No",40,null,null,null,null,null,2.2999999999999998]
["Count","Number of shots","Number of Serves","fKey","5/9/2012Game against Boomer at level 2.5  Single point data:2.5","2.5","2012-05-09","Allen Gibson","00:47:15","Game against Boomer at level 2.5  Single point data:","Player's point","New Point","Player serving",1,4,"Player Serve",2.5,14,9,3.7,132,5.3,"4",2,22322,41,"Robert Allen Gibson",5,"Lake Lynn","Hard","No",41,null,null,null,null,null,2.8]
["Count","Number of shots","Number of Serves","fKey","5/9/2012Game against Boomer at level 2.5  Single point data:2.5","2.5","2012-05-09","Allen Gibson","00:47:36","Game against Boomer at level 2.5  Single point data:","Player's point","New Point","Boomer serving",1,4,"Player Serve",2.5,10,17,3.4,132,5.2,"4",2,22323,42,"Robert Allen Gibson",5,"Lake Lynn","Hard","No",42,null,null,null,null,null,2.7]
["Count","Number of shots","Number of Serves","fKey","5/9/2012Game against Boomer at level 2.5  Single point data:2.5","2.5","2012-05-09","Allen Gibson","00:48:09","Game against Boomer at level 2.5  Single point data:","Player's point","New Point","Boomer serving",1,3,"Serve",2.5,33,8,5.3,42,4.3,"6",2,22324,43,"Robert Allen Gibson",5,"Lake Lynn","Hard","No",43,null,null,null,null,null,1.7999999999999998]
["Count","Number of shots","Number of Serves","fKey","5/9/2012Game against Boomer at level 2.5  Single point data:2.5","2.5","2012-05-09","Allen Gibson","00:48:38","Game against Boomer at level 2.5  Single point data:","Player's point","New Point","Boomer serving",1,5,"Serve",2.5,25,7,4.7,53,4.4000000000000004,"6",2,22329,44,"Robert Allen Gibson",5,"Lake Lynn","Hard","No",44,null,null,null,null,null,1.9000000000000004]
["Count","Number of shots","Number of Serves","fKey","5/9/2012Game against Boomer at level 2.5  Single point data:2.5","2.5","2012-05-09","Allen Gibson","00:49:00","Game against Boomer at level 2.5  Single point data:","Player's point","New Point","Boomer serving",1,0,"Serve",2.5,8,17,1.9,21,1.7,"4",2,22333,45,"Robert Allen Gibson",5,"Lake Lynn","Hard","No",45,null,null,null,null,null,-0.8]
["Count","Number of shots","Number of Serves","fKey","5/9/2012Game against Boomer at level 2.5  Single point data:2.5","2.5","2012-05-09","Allen Gibson","00:49:26","Game against Boomer at level 2.5  Single point data:","Player's point","New Point","Player serving",1,5,"Serve",2.5,12,12,2.1,28,2.1,"2",2,22335,46,"Robert Allen Gibson",5,"Lake Lynn","Hard","No",46,null,null,null,null,null,-0.39999999999999991]
["Count","Number of shots","Number of Serves","fKey","5/9/2012Game against Boomer at level 2.5  Single point data:2.5",null,"2012-05-09","Allen Gibson","00:49:49","Game against Boomer at level 2.5  Single point data:","Boomer's point","New Point","Player serving",1,4,"Player Serve",2.5,0,0,0,null,0,null,2,22337,47,"Robert Allen Gibson",5,"Lake Lynn","Hard","No",47,null,null,null,null,null,-2.5]
["Count","Number of shots","Number of Serves","fKey","5/9/2012Game against Boomer at level 2.5  Single point data:2.5",null,"2012-05-09","Allen Gibson","00:49:49","Game against Boomer at level 2.5  Single point data:","Boomer's point",null,"Player serving",2,4,"Player Serve",2.5,0,0,0,null,0,null,2,22338,47,"Robert Allen Gibson",5,"Lake Lynn","Hard","No",47,null,null,null,null,null,-2.5]
["Count","Number of shots","Number of Serves","fKey","5/9/2012Game against Boomer at level 2.5  Single point data:2.5",null,"2012-05-09","Allen Gibson","00:50:48","Game against Boomer at level 2.5  Single point data:","Player's point","New Point","Player serving",1,4,"Player Serve",2.5,0,0,0,null,0,null,2,22339,48,"Robert Allen Gibson",5,"Lake Lynn","Hard","No",48,null,null,null,null,null,-2.5]
["Count","Number of shots","Number of Serves","fKey","5/9/2012Game against Boomer at level 2.5  Single point data:2.5","2.5","2012-05-09","Allen Gibson","00:50:48","Game against Boomer at level 2.5  Single point data:","Player's point",null,"Player serving",2,4,"Player Serve",2.5,15,7,3.5,58,3.5,"6",2,22340,48,"Robert Allen Gibson",5,"Lake Lynn","Hard","No",48,null,null,null,null,null,1]
["Count","Number of shots","Number of Serves","fKey","5/9/2012Game against Boomer at level 2.5  Single point data:2.5","2.5","2012-05-09","Allen Gibson","00:51:07","Game against Boomer at level 2.5  Single point data:","Player's point","New Point","Player serving",1,4,"Player Serve",2.5,19,17,5.4,119,6.2,"4",2,22345,49,"Robert Allen Gibson",5,"Lake Lynn","Hard","No",49,null,null,null,null,null,3.7]
["Count","Number of shots","Number of Serves","fKey","5/9/2012Game against Boomer at level 2.5  Single point data:2.5","2.5","2012-05-09","Allen Gibson","00:51:30","Game against Boomer at level 2.5  Single point data:","Player's point","New Point","Player serving",1,4,"Player Serve",2.5,18,5,4.5,106,5.6,"8",2,22346,50,"Robert Allen Gibson",5,"Lake Lynn","Hard","No",50,null,null,null,null,null,3.0999999999999996]
["Count","Number of shots","Number of Serves","fKey","5/9/2012Game against Boomer at level 2.5  Single point data:2.5","2.5","2012-05-09","Allen Gibson","00:51:50","Game against Boomer at level 2.5  Single point data:","Player's point","New Point","Boomer serving",1,4,"Player Serve",2.5,13,19,3.3,111,5.0999999999999996,"6",2,22347,51,"Robert Allen Gibson",5,"Lake Lynn","Hard","No",51,null,null,null,null,null,2.5999999999999996]
["Count","Number of shots","Number of Serves","fKey","5/9/2012Game against Boomer at level 2.5  Single point data:2.5","2.5","2012-05-09","Allen Gibson","00:52:10","Game against Boomer at level 2.5  Single point data:","Boomer's point","New Point","Boomer serving",1,3,"Serve",2.5,25,25,5.7,40,4.4000000000000004,"12",2,22348,52,"Robert Allen Gibson",5,"Lake Lynn","Hard","No",52,null,null,null,null,null,1.9000000000000004]
["Count","Number of shots","Number of Serves","fKey","5/9/2012Game against Boomer at level 2.5  Single point data:2.5","2.5","2012-05-09","Allen Gibson","00:52:32","Game against Boomer at level 2.5  Single point data:","Player's point","New Point","Boomer serving",1,8,"Serve",2.5,32,5,5.9,51,4.9000000000000004,"8",2,22350,53,"Robert Allen Gibson",5,"Lake Lynn","Hard","No",53,null,null,null,null,null,2.4000000000000004]
["Count","Number of shots","Number of Serves","fKey","5/9/2012Game against Boomer at level 2.5  Single point data:2.5","2.5","2012-05-09","Allen Gibson","00:53:05","Game against Boomer at level 2.5  Single point data:","Player's point","New Point","Boomer serving",1,0,"Serve",2.5,7,13,1.7,24,1.8,"0",2,22352,54,"Robert Allen Gibson",5,"Lake Lynn","Hard","No",54,null,null,null,null,null,-0.7]
["Count","Number of shots","Number of Serves","fKey","5/9/2012Game against Boomer at level 2.5  Single point data:2.5","2.5","2012-05-09","Allen Gibson","00:53:27","Game against Boomer at level 2.5  Single point data:","Player's point","New Point","Boomer serving",1,8,"Serve",2.5,9,12,1.9,24,1.9,"2",2,22358,55,"Robert Allen Gibson",5,"Lake Lynn","Hard","No",55,null,null,null,null,null,-0.60000000000000009]
["Count","Number of shots","Number of Serves","fKey","5/9/2012Game against Boomer at level 2.5  Single point data:2.5","2.5","2012-05-09","Allen Gibson","00:54:03","Game against Boomer at level 2.5  Single point data:","Player's point","New Point","Player serving",1,3,"Serve",2.5,29,8,5.3,36,4,"6",2,22360,56,"Robert Allen Gibson",5,"Lake Lynn","Hard","No",56,null,null,null,null,null,1.5]
["Count","Number of shots","Number of Serves","fKey","5/9/2012Game against Boomer at level 3.0  Single point data:3","3","2012-05-09","Allen Gibson","00:54:40","Game against Boomer at level 3.0  Single point data:","Boomer's point","New Point","Boomer serving",1,0,"Serve",3,26,19,4.5,62,4.7,"6",2,22365,58,"Robert Allen Gibson",5,"Lake Lynn","Hard","No",57,null,null,null,null,null,1.7000000000000002]
["Count","Number of shots","Number of Serves","fKey","5/9/2012Game against Boomer at level 3.0  Single point data:3","3","2012-05-09","Allen Gibson","00:55:15","Game against Boomer at level 3.0  Single point data:","Player's point","New Point","Boomer serving",1,8,"Serve",3,24,11,3.9,43,3.6,"2",2,22371,59,"Robert Allen Gibson",5,"Lake Lynn","Hard","No",58,null,null,null,null,null,0.60000000000000009]
["Count","Number of shots","Number of Serves","fKey","5/9/2012Game against Boomer at level 3.0  Single point data:3",null,"2012-05-09","Allen Gibson","00:55:28","Game against Boomer at level 3.0  Single point data:","Boomer's point","New Point","Boomer serving",1,0,"Serve",3,0,0,0,null,0,null,2,22379,60,"Robert Allen Gibson",5,"Lake Lynn","Hard","No",59,null,null,null,null,null,-3]
["Count","Number of shots","Number of Serves","fKey","5/9/2012Game against Boomer at level 3.0  Single point data:3","3","2012-05-09","Allen Gibson","00:55:47","Game against Boomer at level 3.0  Single point data:","Boomer's point","New Point","Boomer serving",1,8,"Serve",3,11,15,2.1,34,2.4,"2",2,22380,61,"Robert Allen Gibson",5,"Lake Lynn","Hard","No",60,null,null,null,null,null,-0.60000000000000009]
["Count","Number of shots","Number of Serves","fKey","5/9/2012Game against Boomer at level 3.0  Single point data:3","3","2012-05-09","Allen Gibson","00:56:23","Game against Boomer at level 3.0  Single point data:","Player's point","New Point","Boomer serving",1,3,"Serve",3,24,14,3.7,50,3.8,"0",2,22382,62,"Robert Allen Gibson",5,"Lake Lynn","Hard","No",61,null,null,null,null,null,0.79999999999999982]
["Count","Number of shots","Number of Serves","fKey","5/9/2012Game against Boomer at level 3.0  Single point data:3","3","2012-05-09","Allen Gibson","00:57:00","Game against Boomer at level 3.0  Single point data:","Player's point","New Point","Boomer serving",1,8,"Serve",3,33,10,5,45,4.3,"4",2,22388,63,"Robert Allen Gibson",5,"Lake Lynn","Hard","No",62,null,null,null,null,null,1.2999999999999998]
["Count","Number of shots","Number of Serves","fKey","5/9/2012Game against Boomer at level 3.0  Single point data:3","3","2012-05-09","Allen Gibson","00:57:35","Game against Boomer at level 3.0  Single point data:","Player's point","New Point","Boomer serving",1,3,"Serve",3,35,6,5.9,45,4.7,"8",2,22395,64,"Robert Allen Gibson",5,"Lake Lynn","Hard","No",63,null,null,null,null,null,1.7000000000000002]
["Count","Number of shots","Number of Serves","fKey","5/9/2012Game against Boomer at level 3.0  Single point data:3","3","2012-05-09","Allen Gibson","00:57:52","Game against Boomer at level 3.0  Single point data:","Boomer's point","New Point","Boomer serving",1,8,"Serve",3,34,8,5.7,52,4.9000000000000004,"6",2,22402,65,"Robert Allen Gibson",5,"Lake Lynn","Hard","No",64,null,null,null,null,null,1.9000000000000004]
["Count","Number of shots","Number of Serves","fKey","5/9/2012Game against Boomer at level 3.0  Single point data:3","3","2012-05-09","Allen Gibson","00:58:14","Game against Boomer at level 3.0  Single point data:","Boomer's point","New Point","Boomer serving",1,0,"Serve",3,15,15,2.6,47,3.1,"2",2,22404,66,"Robert Allen Gibson",5,"Lake Lynn","Hard","No",65,null,null,null,null,null,0.10000000000000009]
["Count","Number of shots","Number of Serves","fKey","5/9/2012Game against Boomer at level 3.0  Single point data:3","3","2012-05-09","Allen Gibson","00:58:52","Game against Boomer at level 3.0  Single point data:","Player's point","New Point","Boomer serving",1,5,"Serve",3,30,5,5.7,45,4.5999999999999996,"8",2,22407,67,"Robert Allen Gibson",5,"Lake Lynn","Hard","No",66,null,null,null,null,null,1.5999999999999996]
["Count","Number of shots","Number of Serves","fKey","5/9/2012Game against Boomer at level 3.0  Single point data:3","3","2012-05-09","Allen Gibson","00:59:16","Game against Boomer at level 3.0  Single point data:","Player's point","New Point","Boomer serving",1,0,"Serve",3,33,4,6.1,51,5,"10",2,22413,68,"Robert Allen Gibson",5,"Lake Lynn","Hard","No",67,null,null,null,null,null,2]
["Count","Number of shots","Number of Serves","fKey","5/9/2012Game against Boomer at level 3.0  Single point data:3","3","2012-05-09","Allen Gibson","00:59:51","Game against Boomer at level 3.0  Single point data:","Player's point","New Point","Player serving",1,5,"Serve",3,31,4,5.9,58,5.2,"10",2,22416,69,"Robert Allen Gibson",5,"Lake Lynn","Hard","No",68,null,null,null,null,null,2.2000000000000002]
["Count","Number of shots","Number of Serves","fKey","5/9/2012Game against Boomer at level 3.0  Single point data:3","3","2012-05-09","Allen Gibson","01:00:11","Game against Boomer at level 3.0  Single point data:","Player's point","New Point","Player serving",1,4,"Player Serve",3,15,19,3.6,112,5.3,"6",2,22421,70,"Robert Allen Gibson",5,"Lake Lynn","Hard","No",69,null,null,null,null,null,2.2999999999999998]
["Count","Number of shots","Number of Serves","fKey","5/9/2012Game against Boomer at level 3.0  Single point data:3",null,"2012-05-09","Allen Gibson","01:00:33","Game against Boomer at level 3.0  Single point data:","Player's point","New Point","Player serving",1,4,"Player Serve",3,0,0,0,null,0,null,2,22422,71,"Robert Allen Gibson",5,"Lake Lynn","Hard","No",70,null,null,null,null,null,-3]
["Count","Number of shots","Number of Serves","fKey","5/9/2012Game against Boomer at level 3.0  Single point data:3","3","2012-05-09","Allen Gibson","01:00:33","Game against Boomer at level 3.0  Single point data:","Player's point",null,"Player serving",2,4,"Player Serve",3,15,9,4.0999999999999996,109,5.5,"4",2,22423,71,"Robert Allen Gibson",5,"Lake Lynn","Hard","No",70,null,null,null,null,null,2.5]
["Count","Number of shots","Number of Serves","fKey","5/9/2012Game against Boomer at level 3.0  Single point data:3","3","2012-05-09","Allen Gibson","01:00:51","Game against Boomer at level 3.0  Single point data:","Boomer's point","New Point","Player serving",1,4,"Player Serve",3,13,20,3.1,99,4.5999999999999996,"6",2,22424,72,"Robert Allen Gibson",5,"Lake Lynn","Hard","No",71,null,null,null,null,null,1.5999999999999996]
["Count","Number of shots","Number of Serves","fKey","5/9/2012Game against Boomer at level 3.0  Single point data:3",null,"2012-05-09","Allen Gibson","01:01:13","Game against Boomer at level 3.0  Single point data:","Boomer's point","New Point","Player serving",1,4,"Player Serve",3,0,0,0,null,0,null,2,22426,73,"Robert Allen Gibson",5,"Lake Lynn","Hard","No",72,null,null,null,null,null,-3]
["Count","Number of shots","Number of Serves","fKey","5/9/2012Game against Boomer at level 3.0  Single point data:3",null,"2012-05-09","Allen Gibson","01:01:13","Game against Boomer at level 3.0  Single point data:","Boomer's point",null,"Player serving",2,4,"Player Serve",3,0,0,0,null,0,null,2,22427,73,"Robert Allen Gibson",5,"Lake Lynn","Hard","No",72,null,null,null,null,null,-3]
["Count","Number of shots","Number of Serves","fKey","5/9/2012Game against Boomer at level 3.0  Single point data:3",null,"2012-05-09","Allen Gibson","01:02:12","Game against Boomer at level 3.0  Single point data:","Boomer's point","New Point","Player serving",1,4,"Player Serve",3,0,0,0,null,0,null,2,22428,74,"Robert Allen Gibson",5,"Lake Lynn","Hard","No",73,null,null,null,null,null,-3]
["Count","Number of shots","Number of Serves","fKey","5/9/2012Game against Boomer at level 3.0  Single point data:3",null,"2012-05-09","Allen Gibson","01:02:12","Game against Boomer at level 3.0  Single point data:","Boomer's point",null,"Player serving",2,4,"Player Serve",3,0,0,0,null,0,null,2,22429,74,"Robert Allen Gibson",5,"Lake Lynn","Hard","No",73,null,null,null,null,null,-3]
["Count","Number of shots","Number of Serves","fKey","5/9/2012Game against Boomer at level 3.0  Single point data:3","3","2012-05-09","Allen Gibson","01:02:32","Game against Boomer at level 3.0  Single point data:","Player's point","New Point","Player serving",1,4,"Player Serve",3,14,9,3.7,112,5.3,"4",2,22430,75,"Robert Allen Gibson",5,"Lake Lynn","Hard","No",74,null,null,null,null,null,2.2999999999999998]
["Count","Number of shots","Number of Serves","fKey","5/9/2012Game against Boomer at level 3.0  Single point data:3","3","2012-05-09","Allen Gibson","01:02:49","Game against Boomer at level 3.0  Single point data:","Player's point","New Point","Player serving",1,4,"Player Serve",3,14,18,3.8,109,5.3,"4",2,22431,76,"Robert Allen Gibson",5,"Lake Lynn","Hard","No",75,null,null,null,null,null,2.2999999999999998]
["Count","Number of shots","Number of Serves","fKey","5/9/2012Game against Boomer at level 3.0  Single point data:3","3","2012-05-09","Allen Gibson","01:03:10","Game against Boomer at level 3.0  Single point data:","Player's point","New Point","Boomer serving",1,4,"Player Serve",3,14,4,4,117,5.5,"10",2,22432,77,"Robert Allen Gibson",5,"Lake Lynn","Hard","No",76,null,null,null,null,null,2.5]
["Count","Number of shots","Number of Serves","fKey","5/9/2012Game against Boomer at level 3.0  Single point data:3","3","2012-05-09","Allen Gibson","01:03:46","Game against Boomer at level 3.0  Single point data:","Player's point","New Point","Boomer serving",1,3,"Serve",3,29,8,5,41,4.0999999999999996,"6",2,22433,78,"Robert Allen Gibson",5,"Lake Lynn","Hard","No",77,null,null,null,null,null,1.0999999999999996]
[null,null,null,null,null,null,null,null,null,null,null,null,null,null,null,null,null,null,null,null,null,null,null,null,null,null,null,null,null,null,null,null,null,null,null,null,null,0]
[null,null,null,null,null,null,null,null,null,null,null,null,null,null,null,null,null,null,null,null,null,null,null,null,null,null,null,null,null,null,null,null,null,null,null,null,null,0]
[null,null,null,null,null,null,null,null,null,null,null,null,null,null,null,null,null,null,null,null,null,null,null,null,null,null,null,null,null,null,null,null,null,null,null,null,null,0]
[null,null,null,null,null,null,null,null,null,null,null,null,null,null,null,null,null,null,null,null,null,null,null,null,null,null,null,null,null,null,null,null,null,null,null,null,null,0]
[null,null,null,null,null,null,null,null,null,null,null,null,null,null,null,null,null,null,null,null,null,null,null,null,null,null,null,null,null,null,null,null,null,null,null,null,null,0]
[null,null,null,null,null,null,null,null,null,null,null,null,null,null,null,null,null,null,null,null,null,null,null,null,null,null,null,null,null,null,null,null,null,null,null,null,null,0]
[null,null,null,null,null,null,null,null,null,null,null,null,null,null,null,null,null,null,null,null,null,null,null,null,null,null,null,null,null,null,null,null,null,null,null,null,null,0]
[null,null,null,null,null,null,null,null,null,null,null,null,null,null,null,null,null,null,null,null,null,null,null,null,null,null,null,null,null,null,null,null,null,null,null,null,null,0]
[null,null,null,null,null,null,null,null,null,null,null,null,null,null,null,null,null,null,null,null,null,null,null,null,null,null,null,null,null,null,null,null,null,null,null,null,null,0]
[null,null,null,null,null,null,null,null,null,null,null,null,null,null,null,null,null,null,null,null,null,null,null,null,null,null,null,null,null,null,null,null,null,null,null,null,null,0]
[null,null,null,null,null,null,null,null,null,null,null,null,null,null,null,null,null,null,null,null,null,null,null,null,null,null,null,null,null,null,null,null,null,null,null,null,null,0]
[null,null,null,null,null,null,null,null,null,null,null,null,null,null,null,null,null,null,null,null,null,null,null,null,null,null,null,null,null,null,null,null,null,null,null,null,null,0]
[null,null,null,null,null,null,null,null,null,null,null,null,null,null,null,null,null,null,null,null,null,null,null,null,null,null,null,null,null,null,null,null,null,null,null,null,null,0]
[null,null,null,null,null,null,null,null,null,null,null,null,null,null,null,null,null,null,null,null,null,null,null,null,null,null,null,null,null,null,null,null,null,null,null,null,null,0]
[null,null,null,null,null,null,null,null,null,null,null,null,null,null,null,null,null,null,null,null,null,null,null,null,null,null,null,null,null,null,null,null,null,null,null,null,null,{"$f":"IF(Q131,V131-Q131,0)","v":0}]
[null,null,null,null,null,null,null,null,null,null,null,null,null,null,null,null,null,null,null,null,null,null,null,null,null,null,null,null,null,null,null,null,null,null,null,null,null,0]
[null,null,null,null,null,null,null,null,null,null,null,null,null,null,null,null,null,null,null,null,null,null,null,null,null,null,null,null,null,null,null,null,null,null,null,null,null,0]
[null,null,null,null,null,null,null,null,null,null,null,null,null,null,null,null,null,null,null,null,null,null,null,null,null,null,null,null,null,null,null,null,null,null,null,null,null,0]
[null,null,null,null,null,null,null,null,null,null,null,null,null,null,null,null,null,null,null,null,null,null,null,null,null,null,null,null,null,null,null,null,null,null,null,null,null,0]
[null,null,null,null,null,null,null,null,null,null,null,null,null,null,null,null,null,null,null,null,null,null,null,null,null,null,null,null,null,null,null,null,null,null,null,null,null,0]
[null,null,null,null,null,null,null,null,null,null,null,null,null,null,null,null,null,null,null,null,null,null,null,null,null,null,null,null,null,null,null,null,null,null,null,null,null,0]
[null,null,null,null,null,null,null,null,null,null,null,null,null,null,null,null,null,null,null,null,null,null,null,null,null,null,null,null,null,null,null,null,null,null,null,null,null,0]
[null,null,null,null,null,null,null,null,null,null,null,null,null,null,null,null,null,null,null,null,null,null,null,null,null,null,null,null,null,null,null,null,null,null,null,null,null,0]
[null,null,null,null,null,null,null,null,null,null,null,null,null,null,null,null,null,null,null,null,null,null,null,null,null,null,null,null,null,null,null,null,null,null,null,null,null,0]
[null,null,null,null,null,null,null,null,null,null,null,null,null,null,null,null,null,null,null,null,null,null,null,null,null,null,null,null,null,null,null,null,null,null,null,null,null,0]
[null,null,null,null,null,null,null,null,null,null,null,null,null,null,null,null,null,null,null,null,null,null,null,null,null,null,null,null,null,null,null,null,null,null,null,null,null,0]
[null,null,null,null,null,null,null,null,null,null,null,null,null,null,null,null,null,null,null,null,null,null,null,null,null,null,null,null,null,null,null,null,null,null,null,null,null,0]
[null,null,null,null,null,null,null,null,null,null,null,null,null,null,null,null,null,null,null,null,null,null,null,null,null,null,null,null,null,null,null,null,null,null,null,null,null,0]
[null,null,null,null,null,null,null,null,null,null,null,null,null,null,null,null,null,null,null,null,null,null,null,null,null,null,null,null,null,null,null,null,null,null,null,null,null,0]
[null,null,null,null,null,null,null,null,null,null,null,null,null,null,null,null,null,null,null,null,null,null,null,null,null,null,null,null,null,null,null,null,null,null,null,null,null,0]
[null,null,null,null,null,null,null,null,null,null,null,null,null,null,null,null,null,null,null,null,null,null,null,null,null,null,null,null,null,null,null,null,null,null,null,null,null,0]
[null,null,null,null,null,null,null,null,null,null,null,null,null,null,null,null,null,null,null,null,null,null,null,null,null,null,null,null,null,null,null,null,null,null,null,null,null,0]
[null,null,null,null,null,null,null,null,null,null,null,null,null,null,null,null,null,null,null,null,null,null,null,null,null,null,null,null,null,null,null,null,null,null,null,null,null,0]
[null,null,null,null,null,null,null,null,null,null,null,null,null,null,null,null,null,null,null,null,null,null,null,null,null,null,null,null,null,null,null,null,null,null,null,null,null,0]
[null,null,null,null,null,null,null,null,null,null,null,null,null,null,null,null,null,null,null,null,null,null,null,null,null,null,null,null,null,null,null,null,null,null,null,null,null,0]
[null,null,null,null,null,null,null,null,null,null,null,null,null,null,null,null,null,null,null,null,null,null,null,null,null,null,null,null,null,null,null,null,null,null,null,null,null,0]
[null,null,null,null,null,null,null,null,null,null,null,null,null,null,null,null,null,null,null,null,null,null,null,null,null,null,null,null,null,null,null,null,null,null,null,null,null,0]
[null,null,null,null,null,null,null,null,null,null,null,null,null,null,null,null,null,null,null,null,null,null,null,null,null,null,null,null,null,null,null,null,null,null,null,null,null,0]
[null,null,null,null,null,null,null,null,null,null,null,null,null,null,null,null,null,null,null,null,null,null,null,null,null,null,null,null,null,null,null,null,null,null,null,null,null,0]
[null,null,null,null,null,null,null,null,null,null,null,null,null,null,null,null,null,null,null,null,null,null,null,null,null,null,null,null,null,null,null,null,null,null,null,null,null,0]
[null,null,null,null,null,null,null,null,null,null,null,null,null,null,null,null,null,null,null,null,null,null,null,null,null,null,null,null,null,null,null,null,null,null,null,null,null,0]
[null,null,null,null,null,null,null,null,null,null,null,null,null,null,null,null,null,null,null,null,null,null,null,null,null,null,null,null,null,null,null,null,null,null,null,null,null,0]
[null,null,null,null,null,null,null,null,null,null,null,null,null,null,null,null,null,null,null,null,null,null,null,null,null,null,null,null,null,null,null,null,null,null,null,null,null,0]
[null,null,null,null,null,null,null,null,null,null,null,null,null,null,null,null,null,null,null,null,null,null,null,null,null,null,null,null,null,null,null,null,null,null,null,null,null,0]
[null,null,null,null,null,null,null,null,null,null,null,null,null,null,null,null,null,null,null,null,null,null,null,null,null,null,null,null,null,null,null,null,null,null,null,null,null,0]
[null,null,null,null,null,null,null,null,null,null,null,null,null,null,null,null,null,null,null,null,null,null,null,null,null,null,null,null,null,null,null,null,null,null,null,null,null,0]
[null,null,null,null,null,null,null,null,null,null,null,null,null,null,null,null,null,null,null,null,null,null,null,null,null,null,null,null,null,null,null,null,null,null,null,null,null,0]
[null,null,null,null,null,null,null,null,null,null,null,null,null,null,null,null,null,null,null,null,null,null,null,null,null,null,null,null,null,null,null,null,null,null,null,null,null,0]
[null,null,null,null,null,null,null,null,null,null,null,null,null,null,null,null,null,null,null,null,null,null,null,null,null,null,null,null,null,null,null,null,null,null,null,null,null,0]
[null,null,null,null,null,null,null,null,null,null,null,null,null,null,null,null,null,null,null,null,null,null,null,null,null,null,null,null,null,null,null,null,null,null,null,null,null,0]
[null,null,null,null,null,null,null,null,null,null,null,null,null,null,null,null,null,null,null,null,null,null,null,null,null,null,null,null,null,null,null,null,null,null,null,null,null,0]
[null,null,null,null,null,null,null,null,null,null,null,null,null,null,null,null,null,null,null,null,null,null,null,null,null,null,null,null,null,null,null,null,null,null,null,null,null,0]
[null,null,null,null,null,null,null,null,null,null,null,null,null,null,null,null,null,null,null,null,null,null,null,null,null,null,null,null,null,null,null,null,null,null,null,null,null,0]
[null,null,null,null,null,null,null,null,null,null,null,null,null,null,null,null,null,null,null,null,null,null,null,null,null,null,null,null,null,null,null,null,null,null,null,null,null,0]
[null,null,null,null,null,null,null,null,null,null,null,null,null,null,null,null,null,null,null,null,null,null,null,null,null,null,null,null,null,null,null,null,null,null,null,null,null,0]
[null,null,null,null,null,null,null,null,null,null,null,null,null,null,null,null,null,null,null,null,null,null,null,null,null,null,null,null,null,null,null,null,null,null,null,null,null,0]
[null,null,null,null,null,null,null,null,null,null,null,null,null,null,null,null,null,null,null,null,null,null,null,null,null,null,null,null,null,null,null,null,null,null,null,null,null,0]
[null,null,null,null,null,null,null,null,null,null,null,null,null,null,null,null,null,null,null,null,null,null,null,null,null,null,null,null,null,null,null,null,null,null,null,null,null,0]
[null,null,null,null,null,null,null,null,null,null,null,null,null,null,null,null,null,null,null,null,null,null,null,null,null,null,null,null,null,null,null,null,null,null,null,null,null,0]
[null,null,null,null,null,null,null,null,null,null,null,null,null,null,null,null,null,null,null,null,null,null,null,null,null,null,null,null,null,null,null,null,null,null,null,null,null,0]
[null,null,null,null,null,null,null,null,null,null,null,null,null,null,null,null,null,null,null,null,null,null,null,null,null,null,null,null,null,null,null,null,null,null,null,null,null,0]
[null,null,null,null,null,null,null,null,null,null,null,null,null,null,null,null,null,null,null,null,null,null,null,null,null,null,null,null,null,null,null,null,null,null,null,null,null,0]
[null,null,null,null,null,null,null,null,null,null,null,null,null,null,null,null,null,null,null,null,null,null,null,null,null,null,null,null,null,null,null,null,null,null,null,null,null,0]
[null,null,null,null,null,null,null,null,null,null,null,null,null,null,null,null,null,null,null,null,null,null,null,null,null,null,null,null,null,null,null,null,null,null,null,null,null,0]
[null,null,null,null,null,null,null,null,null,null,null,null,null,null,null,null,null,null,null,null,null,null,null,null,null,null,null,null,null,null,null,null,null,null,null,null,null,0]
[null,null,null,null,null,null,null,null,null,null,null,null,null,null,null,null,null,null,null,null,null,null,null,null,null,null,null,null,null,null,null,null,null,null,null,null,null,0]
[null,null,null,null,null,null,null,null,null,null,null,null,null,null,null,null,null,null,null,null,null,null,null,null,null,null,null,null,null,null,null,null,null,null,null,null,null,0]
[null,null,null,null,null,null,null,null,null,null,null,null,null,null,null,null,null,null,null,null,null,null,null,null,null,null,null,null,null,null,null,null,null,null,null,null,null,0]
[null,null,null,null,null,null,null,null,null,null,null,null,null,null,null,null,null,null,null,null,null,null,null,null,null,null,null,null,null,null,null,null,null,null,null,null,null,0]
[null,null,null,null,null,null,null,null,null,null,null,null,null,null,null,null,null,null,null,null,null,null,null,null,null,null,null,null,null,null,null,null,null,null,null,null,null,0]
[null,null,null,null,null,null,null,null,null,null,null,null,null,null,null,null,null,null,null,null,null,null,null,null,null,null,null,null,null,null,null,null,null,null,null,null,null,0]
[null,null,null,null,null,null,null,null,null,null,null,null,null,null,null,null,null,null,null,null,null,null,null,null,null,null,null,null,null,null,null,null,null,null,null,null,null,0]
[null,null,null,null,null,null,null,null,null,null,null,null,null,null,null,null,null,null,null,null,null,null,null,null,null,null,null,null,null,null,null,null,null,null,null,null,null,0]
[null,null,null,null,null,null,null,null,null,null,null,null,null,null,null,null,null,null,null,null,null,null,null,null,null,null,null,null,null,null,null,null,null,null,null,null,null,0]
[null,null,null,null,null,null,null,null,null,null,null,null,null,null,null,null,null,null,null,null,null,null,null,null,null,null,null,null,null,null,null,null,null,null,null,null,null,0]
[null,null,null,null,null,null,null,null,null,null,null,null,null,null,null,null,null,null,null,null,null,null,null,null,null,null,null,null,null,null,null,null,null,null,null,null,null,0]
[null,null,null,null,null,null,null,null,null,null,null,null,null,null,null,null,null,null,null,null,null,null,null,null,null,null,null,null,null,null,null,null,null,null,null,null,null,0]
[null,null,null,null,null,null,null,null,null,null,null,null,null,null,null,null,null,null,null,null,null,null,null,null,null,null,null,null,null,null,null,null,null,null,null,null,null,0]
[null,null,null,null,null,null,null,null,null,null,null,null,null,null,null,null,null,null,null,null,null,null,null,null,null,null,null,null,null,null,null,null,null,null,null,null,null,{"$f":"IF(Q195,V195-Q195,0)","v":0}]
[null,null,null,null,null,null,null,null,null,null,null,null,null,null,null,null,null,null,null,null,null,null,null,null,null,null,null,null,null,null,null,null,null,null,null,null,null,0]
[null,null,null,null,null,null,null,null,null,null,null,null,null,null,null,null,null,null,null,null,null,null,null,null,null,null,null,null,null,null,null,null,null,null,null,null,null,0]
[null,null,null,null,null,null,null,null,null,null,null,null,null,null,null,null,null,null,null,null,null,null,null,null,null,null,null,null,null,null,null,null,null,null,null,null,null,0]
[null,null,null,null,null,null,null,null,null,null,null,null,null,null,null,null,null,null,null,null,null,null,null,null,null,null,null,null,null,null,null,null,null,null,null,null,null,0]
[null,null,null,null,null,null,null,null,null,null,null,null,null,null,null,null,null,null,null,null,null,null,null,null,null,null,null,null,null,null,null,null,null,null,null,null,null,0]
[null,null,null,null,null,null,null,null,null,null,null,null,null,null,null,null,null,null,null,null,null,null,null,null,null,null,null,null,null,null,null,null,null,null,null,null,null,0]
[null,null,null,null,null,null,null,null,null,null,null,null,null,null,null,null,null,null,null,null,null,null,null,null,null,null,null,null,null,null,null,null,null,null,null,null,null,0]
[null,null,null,null,null,null,null,null,null,null,null,null,null,null,null,null,null,null,null,null,null,null,null,null,null,null,null,null,null,null,null,null,null,null,null,null,null,0]
[null,null,null,null,null,null,null,null,null,null,null,null,null,null,null,null,null,null,null,null,null,null,null,null,null,null,null,null,null,null,null,null,null,null,null,null,null,0]
[null,null,null,null,null,null,null,null,null,null,null,null,null,null,null,null,null,null,null,null,null,null,null,null,null,null,null,null,null,null,null,null,null,null,null,null,null,0]
[null,null,null,null,null,null,null,null,null,null,null,null,null,null,null,null,null,null,null,null,null,null,null,null,null,null,null,null,null,null,null,null,null,null,null,null,null,0]
[null,null,null,null,null,null,null,null,null,null,null,null,null,null,null,null,null,null,null,null,null,null,null,null,null,null,null,null,null,null,null,null,null,null,null,null,null,0]
[null,null,null,null,null,null,null,null,null,null,null,null,null,null,null,null,null,null,null,null,null,null,null,null,null,null,null,null,null,null,null,null,null,null,null,null,null,0]
[null,null,null,null,null,null,null,null,null,null,null,null,null,null,null,null,null,null,null,null,null,null,null,null,null,null,null,null,null,null,null,null,null,null,null,null,null,0]
[null,null,null,null,null,null,null,null,null,null,null,null,null,null,null,null,null,null,null,null,null,null,null,null,null,null,null,null,null,null,null,null,null,null,null,null,null,0]
[null,null,null,null,null,null,null,null,null,null,null,null,null,null,null,null,null,null,null,null,null,null,null,null,null,null,null,null,null,null,null,null,null,null,null,null,null,0]
[null,null,null,null,null,null,null,null,null,null,null,null,null,null,null,null,null,null,null,null,null,null,null,null,null,null,null,null,null,null,null,null,null,null,null,null,null,0]
[null,null,null,null,null,null,null,null,null,null,null,null,null,null,null,null,null,null,null,null,null,null,null,null,null,null,null,null,null,null,null,null,null,null,null,null,null,0]
[null,null,null,null,null,null,null,null,null,null,null,null,null,null,null,null,null,null,null,null,null,null,null,null,null,null,null,null,null,null,null,null,null,null,null,null,null,0]
[null,null,null,null,null,null,null,null,null,null,null,null,null,null,null,null,null,null,null,null,null,null,null,null,null,null,null,null,null,null,null,null,null,null,null,null,null,0]
[null,null,null,null,null,null,null,null,null,null,null,null,null,null,null,null,null,null,null,null,null,null,null,null,null,null,null,null,null,null,null,null,null,null,null,null,null,0]
[null,null,null,null,null,null,null,null,null,null,null,null,null,null,null,null,null,null,null,null,null,null,null,null,null,null,null,null,null,null,null,null,null,null,null,null,null,0]
[null,null,null,null,null,null,null,null,null,null,null,null,null,null,null,null,null,null,null,null,null,null,null,null,null,null,null,null,null,null,null,null,null,null,null,null,null,0]
[null,null,null,null,null,null,null,null,null,null,null,null,null,null,null,null,null,null,null,null,null,null,null,null,null,null,null,null,null,null,null,null,null,null,null,null,null,0]
[null,null,null,null,null,null,null,null,null,null,null,null,null,null,null,null,null,null,null,null,null,null,null,null,null,null,null,null,null,null,null,null,null,null,null,null,null,0]
[null,null,null,null,null,null,null,null,null,null,null,null,null,null,null,null,null,null,null,null,null,null,null,null,null,null,null,null,null,null,null,null,null,null,null,null,null,0]
[null,null,null,null,null,null,null,null,null,null,null,null,null,null,null,null,null,null,null,null,null,null,null,null,null,null,null,null,null,null,null,null,null,null,null,null,null,0]
[null,null,null,null,null,null,null,null,null,null,null,null,null,null,null,null,null,null,null,null,null,null,null,null,null,null,null,null,null,null,null,null,null,null,null,null,null,0]
[null,null,null,null,null,null,null,null,null,null,null,null,null,null,null,null,null,null,null,null,null,null,null,null,null,null,null,null,null,null,null,null,null,null,null,null,null,0]
[null,null,null,null,null,null,null,null,null,null,null,null,null,null,null,null,null,null,null,null,null,null,null,null,null,null,null,null,null,null,null,null,null,null,null,null,null,0]
[null,null,null,null,null,null,null,null,null,null,null,null,null,null,null,null,null,null,null,null,null,null,null,null,null,null,null,null,null,null,null,null,null,null,null,null,null,0]
[null,null,null,null,null,null,null,null,null,null,null,null,null,null,null,null,null,null,null,null,null,null,null,null,null,null,null,null,null,null,null,null,null,null,null,null,null,0]
[null,null,null,null,null,null,null,null,null,null,null,null,null,null,null,null,null,null,null,null,null,null,null,null,null,null,null,null,null,null,null,null,null,null,null,null,null,0]
[null,null,null,null,null,null,null,null,null,null,null,null,null,null,null,null,null,null,null,null,null,null,null,null,null,null,null,null,null,null,null,null,null,null,null,null,null,0]
[null,null,null,null,null,null,null,null,null,null,null,null,null,null,null,null,null,null,null,null,null,null,null,null,null,null,null,null,null,null,null,null,null,null,null,null,null,0]
[null,null,null,null,null,null,null,null,null,null,null,null,null,null,null,null,null,null,null,null,null,null,null,null,null,null,null,null,null,null,null,null,null,null,null,null,null,0]
[null,null,null,null,null,null,null,null,null,null,null,null,null,null,null,null,null,null,null,null,null,null,null,null,null,null,null,null,null,null,null,null,null,null,null,null,null,0]
[null,null,null,null,null,null,null,null,null,null,null,null,null,null,null,null,null,null,null,null,null,null,null,null,null,null,null,null,null,null,null,null,null,null,null,null,null,0]
[null,null,null,null,null,null,null,null,null,null,null,null,null,null,null,null,null,null,null,null,null,null,null,null,null,null,null,null,null,null,null,null,null,null,null,null,null,0]
[null,null,null,null,null,null,null,null,null,null,null,null,null,null,null,null,null,null,null,null,null,null,null,null,null,null,null,null,null,null,null,null,null,null,null,null,null,0]
[null,null,null,null,null,null,null,null,null,null,null,null,null,null,null,null,null,null,null,null,null,null,null,null,null,null,null,null,null,null,null,null,null,null,null,null,null,0]
[null,null,null,null,null,null,null,null,null,null,null,null,null,null,null,null,null,null,null,null,null,null,null,null,null,null,null,null,null,null,null,null,null,null,null,null,null,0]
[null,null,null,null,null,null,null,null,null,null,null,null,null,null,null,null,null,null,null,null,null,null,null,null,null,null,null,null,null,null,null,null,null,null,null,null,null,0]
[null,null,null,null,null,null,null,null,null,null,null,null,null,null,null,null,null,null,null,null,null,null,null,null,null,null,null,null,null,null,null,null,null,null,null,null,null,0]
[null,null,null,null,null,null,null,null,null,null,null,null,null,null,null,null,null,null,null,null,null,null,null,null,null,null,null,null,null,null,null,null,null,null,null,null,null,0]
[null,null,null,null,null,null,null,null,null,null,null,null,null,null,null,null,null,null,null,null,null,null,null,null,null,null,null,null,null,null,null,null,null,null,null,null,null,0]
[null,null,null,null,null,null,null,null,null,null,null,null,null,null,null,null,null,null,null,null,null,null,null,null,null,null,null,null,null,null,null,null,null,null,null,null,null,0]
[null,null,null,null,null,null,null,null,null,null,null,null,null,null,null,null,null,null,null,null,null,null,null,null,null,null,null,null,null,null,null,null,null,null,null,null,null,0]
[null,null,null,null,null,null,null,null,null,null,null,null,null,null,null,null,null,null,null,null,null,null,null,null,null,null,null,null,null,null,null,null,null,null,null,null,null,0]
[null,null,null,null,null,null,null,null,null,null,null,null,null,null,null,null,null,null,null,null,null,null,null,null,null,null,null,null,null,null,null,null,null,null,null,null,null,0]
[null,null,null,null,null,null,null,null,null,null,null,null,null,null,null,null,null,null,null,null,null,null,null,null,null,null,null,null,null,null,null,null,null,null,null,null,null,0]
[null,null,null,null,null,null,null,null,null,null,null,null,null,null,null,null,null,null,null,null,null,null,null,null,null,null,null,null,null,null,null,null,null,null,null,null,null,0]
[null,null,null,null,null,null,null,null,null,null,null,null,null,null,null,null,null,null,null,null,null,null,null,null,null,null,null,null,null,null,null,null,null,null,null,null,null,0]
[null,null,null,null,null,null,null,null,null,null,null,null,null,null,null,null,null,null,null,null,null,null,null,null,null,null,null,null,null,null,null,null,null,null,null,null,null,0]
[null,null,null,null,null,null,null,null,null,null,null,null,null,null,null,null,null,null,null,null,null,null,null,null,null,null,null,null,null,null,null,null,null,null,null,null,null,0]
[null,null,null,null,null,null,null,null,null,null,null,null,null,null,null,null,null,null,null,null,null,null,null,null,null,null,null,null,null,null,null,null,null,null,null,null,null,0]
[null,null,null,null,null,null,null,null,null,null,null,null,null,null,null,null,null,null,null,null,null,null,null,null,null,null,null,null,null,null,null,null,null,null,null,null,null,0]
[null,null,null,null,null,null,null,null,null,null,null,null,null,null,null,null,null,null,null,null,null,null,null,null,null,null,null,null,null,null,null,null,null,null,null,null,null,0]
[null,null,null,null,null,null,null,null,null,null,null,null,null,null,null,null,null,null,null,null,null,null,null,null,null,null,null,null,null,null,null,null,null,null,null,null,null,0]
[null,null,null,null,null,null,null,null,null,null,null,null,null,null,null,null,null,null,null,null,null,null,null,null,null,null,null,null,null,null,null,null,null,null,null,null,null,0]
[null,null,null,null,null,null,null,null,null,null,null,null,null,null,null,null,null,null,null,null,null,null,null,null,null,null,null,null,null,null,null,null,null,null,null,null,null,0]
[null,null,null,null,null,null,null,null,null,null,null,null,null,null,null,null,null,null,null,null,null,null,null,null,null,null,null,null,null,null,null,null,null,null,null,null,null,0]
[null,null,null,null,null,null,null,null,null,null,null,null,null,null,null,null,null,null,null,null,null,null,null,null,null,null,null,null,null,null,null,null,null,null,null,null,null,0]
[null,null,null,null,null,null,null,null,null,null,null,null,null,null,null,null,null,null,null,null,null,null,null,null,null,null,null,null,null,null,null,null,null,null,null,null,null,{"$f":"IF(Q259,V259-Q259,0)","v":0}]
[null,null,null,null,null,null,null,null,null,null,null,null,null,null,null,null,null,null,null,null,null,null,null,null,null,null,null,null,null,null,null,null,null,null,null,null,null,0]
[null,null,null,null,null,null,null,null,null,null,null,null,null,null,null,null,null,null,null,null,null,null,null,null,null,null,null,null,null,null,null,null,null,null,null,null,null,0]
[null,null,null,null,null,null,null,null,null,null,null,null,null,null,null,null,null,null,null,null,null,null,null,null,null,null,null,null,null,null,null,null,null,null,null,null,null,0]
[null,null,null,null,null,null,null,null,null,null,null,null,null,null,null,null,null,null,null,null,null,null,null,null,null,null,null,null,null,null,null,null,null,null,null,null,null,0]
[null,null,null,null,null,null,null,null,null,null,null,null,null,null,null,null,null,null,null,null,null,null,null,null,null,null,null,null,null,null,null,null,null,null,null,null,null,0]
[null,null,null,null,null,null,null,null,null,null,null,null,null,null,null,null,null,null,null,null,null,null,null,null,null,null,null,null,null,null,null,null,null,null,null,null,null,0]
[null,null,null,null,null,null,null,null,null,null,null,null,null,null,null,null,null,null,null,null,null,null,null,null,null,null,null,null,null,null,null,null,null,null,null,null,null,0]
[null,null,null,null,null,null,null,null,null,null,null,null,null,null,null,null,null,null,null,null,null,null,null,null,null,null,null,null,null,null,null,null,null,null,null,null,null,0]
[null,null,null,null,null,null,null,null,null,null,null,null,null,null,null,null,null,null,null,null,null,null,null,null,null,null,null,null,null,null,null,null,null,null,null,null,null,0]
[null,null,null,null,null,null,null,null,null,null,null,null,null,null,null,null,null,null,null,null,null,null,null,null,null,null,null,null,null,null,null,null,null,null,null,null,null,0]
[null,null,null,null,null,null,null,null,null,null,null,null,null,null,null,null,null,null,null,null,null,null,null,null,null,null,null,null,null,null,null,null,null,null,null,null,null,0]
[null,null,null,null,null,null,null,null,null,null,null,null,null,null,null,null,null,null,null,null,null,null,null,null,null,null,null,null,null,null,null,null,null,null,null,null,null,0]
[null,null,null,null,null,null,null,null,null,null,null,null,null,null,null,null,null,null,null,null,null,null,null,null,null,null,null,null,null,null,null,null,null,null,null,null,null,0]
[null,null,null,null,null,null,null,null,null,null,null,null,null,null,null,null,null,null,null,null,null,null,null,null,null,null,null,null,null,null,null,null,null,null,null,null,null,0]
[null,null,null,null,null,null,null,null,null,null,null,null,null,null,null,null,null,null,null,null,null,null,null,null,null,null,null,null,null,null,null,null,null,null,null,null,null,0]
[null,null,null,null,null,null,null,null,null,null,null,null,null,null,null,null,null,null,null,null,null,null,null,null,null,null,null,null,null,null,null,null,null,null,null,null,null,0]
[null,null,null,null,null,null,null,null,null,null,null,null,null,null,null,null,null,null,null,null,null,null,null,null,null,null,null,null,null,null,null,null,null,null,null,null,null,0]
[null,null,null,null,null,null,null,null,null,null,null,null,null,null,null,null,null,null,null,null,null,null,null,null,null,null,null,null,null,null,null,null,null,null,null,null,null,0]
[null,null,null,null,null,null,null,null,null,null,null,null,null,null,null,null,null,null,null,null,null,null,null,null,null,null,null,null,null,null,null,null,null,null,null,null,null,0]
[null,null,null,null,null,null,null,null,null,null,null,null,null,null,null,null,null,null,null,null,null,null,null,null,null,null,null,null,null,null,null,null,null,null,null,null,null,0]
[null,null,null,null,null,null,null,null,null,null,null,null,null,null,null,null,null,null,null,null,null,null,null,null,null,null,null,null,null,null,null,null,null,null,null,null,null,0]
[null,null,null,null,null,null,null,null,null,null,null,null,null,null,null,null,null,null,null,null,null,null,null,null,null,null,null,null,null,null,null,null,null,null,null,null,null,0]
[null,null,null,null,null,null,null,null,null,null,null,null,null,null,null,null,null,null,null,null,null,null,null,null,null,null,null,null,null,null,null,null,null,null,null,null,null,0]
[null,null,null,null,null,null,null,null,null,null,null,null,null,null,null,null,null,null,null,null,null,null,null,null,null,null,null,null,null,null,null,null,null,null,null,null,null,0]
[null,null,null,null,null,null,null,null,null,null,null,null,null,null,null,null,null,null,null,null,null,null,null,null,null,null,null,null,null,null,null,null,null,null,null,null,null,0]
[null,null,null,null,null,null,null,null,null,null,null,null,null,null,null,null,null,null,null,null,null,null,null,null,null,null,null,null,null,null,null,null,null,null,null,null,null,0]
[null,null,null,null,null,null,null,null,null,null,null,null,null,null,null,null,null,null,null,null,null,null,null,null,null,null,null,null,null,null,null,null,null,null,null,null,null,0]
[null,null,null,null,null,null,null,null,null,null,null,null,null,null,null,null,null,null,null,null,null,null,null,null,null,null,null,null,null,null,null,null,null,null,null,null,null,0]
[null,null,null,null,null,null,null,null,null,null,null,null,null,null,null,null,null,null,null,null,null,null,null,null,null,null,null,null,null,null,null,null,null,null,null,null,null,0]
[null,null,null,null,null,null,null,null,null,null,null,null,null,null,null,null,null,null,null,null,null,null,null,null,null,null,null,null,null,null,null,null,null,null,null,null,null,0]
[null,null,null,null,null,null,null,null,null,null,null,null,null,null,null,null,null,null,null,null,null,null,null,null,null,null,null,null,null,null,null,null,null,null,null,null,null,0]
[null,null,null,null,null,null,null,null,null,null,null,null,null,null,null,null,null,null,null,null,null,null,null,null,null,null,null,null,null,null,null,null,null,null,null,null,null,0]
[null,null,null,null,null,null,null,null,null,null,null,null,null,null,null,null,null,null,null,null,null,null,null,null,null,null,null,null,null,null,null,null,null,null,null,null,null,0]
[null,null,null,null,null,null,null,null,null,null,null,null,null,null,null,null,null,null,null,null,null,null,null,null,null,null,null,null,null,null,null,null,null,null,null,null,null,0]
[null,null,null,null,null,null,null,null,null,null,null,null,null,null,null,null,null,null,null,null,null,null,null,null,null,null,null,null,null,null,null,null,null,null,null,null,null,0]
[null,null,null,null,null,null,null,null,null,null,null,null,null,null,null,null,null,null,null,null,null,null,null,null,null,null,null,null,null,null,null,null,null,null,null,null,null,0]
[null,null,null,null,null,null,null,null,null,null,null,null,null,null,null,null,null,null,null,null,null,null,null,null,null,null,null,null,null,null,null,null,null,null,null,null,null,0]
[null,null,null,null,null,null,null,null,null,null,null,null,null,null,null,null,null,null,null,null,null,null,null,null,null,null,null,null,null,null,null,null,null,null,null,null,null,0]
[null,null,null,null,null,null,null,null,null,null,null,null,null,null,null,null,null,null,null,null,null,null,null,null,null,null,null,null,null,null,null,null,null,null,null,null,null,0]
[null,null,null,null,null,null,null,null,null,null,null,null,null,null,null,null,null,null,null,null,null,null,null,null,null,null,null,null,null,null,null,null,null,null,null,null,null,0]
[null,null,null,null,null,null,null,null,null,null,null,null,null,null,null,null,null,null,null,null,null,null,null,null,null,null,null,null,null,null,null,null,null,null,null,null,null,0]
[null,null,null,null,null,null,null,null,null,null,null,null,null,null,null,null,null,null,null,null,null,null,null,null,null,null,null,null,null,null,null,null,null,null,null,null,null,0]
[null,null,null,null,null,null,null,null,null,null,null,null,null,null,null,null,null,null,null,null,null,null,null,null,null,null,null,null,null,null,null,null,null,null,null,null,null,0]
[null,null,null,null,null,null,null,null,null,null,null,null,null,null,null,null,null,null,null,null,null,null,null,null,null,null,null,null,null,null,null,null,null,null,null,null,null,0]
[null,null,null,null,null,null,null,null,null,null,null,null,null,null,null,null,null,null,null,null,null,null,null,null,null,null,null,null,null,null,null,null,null,null,null,null,null,0]
[null,null,null,null,null,null,null,null,null,null,null,null,null,null,null,null,null,null,null,null,null,null,null,null,null,null,null,null,null,null,null,null,null,null,null,null,null,0]
[null,null,null,null,null,null,null,null,null,null,null,null,null,null,null,null,null,null,null,null,null,null,null,null,null,null,null,null,null,null,null,null,null,null,null,null,null,0]
[null,null,null,null,null,null,null,null,null,null,null,null,null,null,null,null,null,null,null,null,null,null,null,null,null,null,null,null,null,null,null,null,null,null,null,null,null,0]
[null,null,null,null,null,null,null,null,null,null,null,null,null,null,null,null,null,null,null,null,null,null,null,null,null,null,null,null,null,null,null,null,null,null,null,null,null,0]
[null,null,null,null,null,null,null,null,null,null,null,null,null,null,null,null,null,null,null,null,null,null,null,null,null,null,null,null,null,null,null,null,null,null,null,null,null,0]
[null,null,null,null,null,null,null,null,null,null,null,null,null,null,null,null,null,null,null,null,null,null,null,null,null,null,null,null,null,null,null,null,null,null,null,null,null,0]
[null,null,null,null,null,null,null,null,null,null,null,null,null,null,null,null,null,null,null,null,null,null,null,null,null,null,null,null,null,null,null,null,null,null,null,null,null,0]
[null,null,null,null,null,null,null,null,null,null,null,null,null,null,null,null,null,null,null,null,null,null,null,null,null,null,null,null,null,null,null,null,null,null,null,null,null,0]
[null,null,null,null,null,null,null,null,null,null,null,null,null,null,null,null,null,null,null,null,null,null,null,null,null,null,null,null,null,null,null,null,null,null,null,null,null,0]
[null,null,null,null,null,null,null,null,null,null,null,null,null,null,null,null,null,null,null,null,null,null,null,null,null,null,null,null,null,null,null,null,null,null,null,null,null,0]
[null,null,null,null,null,null,null,null,null,null,null,null,null,null,null,null,null,null,null,null,null,null,null,null,null,null,null,null,null,null,null,null,null,null,null,null,null,0]
[null,null,null,null,null,null,null,null,null,null,null,null,null,null,null,null,null,null,null,null,null,null,null,null,null,null,null,null,null,null,null,null,null,null,null,null,null,0]
[null,null,null,null,null,null,null,null,null,null,null,null,null,null,null,null,null,null,null,null,null,null,null,null,null,null,null,null,null,null,null,null,null,null,null,null,null,0]
[null,null,null,null,null,null,null,null,null,null,null,null,null,null,null,null,null,null,null,null,null,null,null,null,null,null,null,null,null,null,null,null,null,null,null,null,null,0]
[null,null,null,null,null,null,null,null,null,null,null,null,null,null,null,null,null,null,null,null,null,null,null,null,null,null,null,null,null,null,null,null,null,null,null,null,null,0]
[null,null,null,null,null,null,null,null,null,null,null,null,null,null,null,null,null,null,null,null,null,null,null,null,null,null,null,null,null,null,null,null,null,null,null,null,null,0]
[null,null,null,null,null,null,null,null,null,null,null,null,null,null,null,null,null,null,null,null,null,null,null,null,null,null,null,null,null,null,null,null,null,null,null,null,null,0]
[null,null,null,null,null,null,null,null,null,null,null,null,null,null,null,null,null,null,null,null,null,null,null,null,null,null,null,null,null,null,null,null,null,null,null,null,null,0]
[null,null,null,null,null,null,null,null,null,null,null,null,null,null,null,null,null,null,null,null,null,null,null,null,null,null,null,null,null,null,null,null,null,null,null,null,null,{"$f":"IF(Q323,V323-Q323,0)","v":0}]
[null,null,null,null,null,null,null,null,null,null,null,null,null,null,null,null,null,null,null,null,null,null,null,null,null,null,null,null,null,null,null,null,null,null,null,null,null,0]
[null,null,null,null,null,null,null,null,null,null,null,null,null,null,null,null,null,null,null,null,null,null,null,null,null,null,null,null,null,null,null,null,null,null,null,null,null,0]
[null,null,null,null,null,null,null,null,null,null,null,null,null,null,null,null,null,null,null,null,null,null,null,null,null,null,null,null,null,null,null,null,null,null,null,null,null,0]
[null,null,null,null,null,null,null,null,null,null,null,null,null,null,null,null,null,null,null,null,null,null,null,null,null,null,null,null,null,null,null,null,null,null,null,null,null,0]
[null,null,null,null,null,null,null,null,null,null,null,null,null,null,null,null,null,null,null,null,null,null,null,null,null,null,null,null,null,null,null,null,null,null,null,null,null,0]
[null,null,null,null,null,null,null,null,null,null,null,null,null,null,null,null,null,null,null,null,null,null,null,null,null,null,null,null,null,null,null,null,null,null,null,null,null,0]
[null,null,null,null,null,null,null,null,null,null,null,null,null,null,null,null,null,null,null,null,null,null,null,null,null,null,null,null,null,null,null,null,null,null,null,null,null,0]
[null,null,null,null,null,null,null,null,null,null,null,null,null,null,null,null,null,null,null,null,null,null,null,null,null,null,null,null,null,null,null,null,null,null,null,null,null,0]
[null,null,null,null,null,null,null,null,null,null,null,null,null,null,null,null,null,null,null,null,null,null,null,null,null,null,null,null,null,null,null,null,null,null,null,null,null,0]
[null,null,null,null,null,null,null,null,null,null,null,null,null,null,null,null,null,null,null,null,null,null,null,null,null,null,null,null,null,null,null,null,null,null,null,null,null,0]
[null,null,null,null,null,null,null,null,null,null,null,null,null,null,null,null,null,null,null,null,null,null,null,null,null,null,null,null,null,null,null,null,null,null,null,null,null,0]
[null,null,null,null,null,null,null,null,null,null,null,null,null,null,null,null,null,null,null,null,null,null,null,null,null,null,null,null,null,null,null,null,null,null,null,null,null,0]
[null,null,null,null,null,null,null,null,null,null,null,null,null,null,null,null,null,null,null,null,null,null,null,null,null,null,null,null,null,null,null,null,null,null,null,null,null,0]
[null,null,null,null,null,null,null,null,null,null,null,null,null,null,null,null,null,null,null,null,null,null,null,null,null,null,null,null,null,null,null,null,null,null,null,null,null,0]
[null,null,null,null,null,null,null,null,null,null,null,null,null,null,null,null,null,null,null,null,null,null,null,null,null,null,null,null,null,null,null,null,null,null,null,null,null,0]
[null,null,null,null,null,null,null,null,null,null,null,null,null,null,null,null,null,null,null,null,null,null,null,null,null,null,null,null,null,null,null,null,null,null,null,null,null,0]
[null,null,null,null,null,null,null,null,null,null,null,null,null,null,null,null,null,null,null,null,null,null,null,null,null,null,null,null,null,null,null,null,null,null,null,null,null,0]
[null,null,null,null,null,null,null,null,null,null,null,null,null,null,null,null,null,null,null,null,null,null,null,null,null,null,null,null,null,null,null,null,null,null,null,null,null,0]
[null,null,null,null,null,null,null,null,null,null,null,null,null,null,null,null,null,null,null,null,null,null,null,null,null,null,null,null,null,null,null,null,null,null,null,null,null,0]
[null,null,null,null,null,null,null,null,null,null,null,null,null,null,null,null,null,null,null,null,null,null,null,null,null,null,null,null,null,null,null,null,null,null,null,null,null,0]
[null,null,null,null,null,null,null,null,null,null,null,null,null,null,null,null,null,null,null,null,null,null,null,null,null,null,null,null,null,null,null,null,null,null,null,null,null,0]
[null,null,null,null,null,null,null,null,null,null,null,null,null,null,null,null,null,null,null,null,null,null,null,null,null,null,null,null,null,null,null,null,null,null,null,null,null,0]
[null,null,null,null,null,null,null,null,null,null,null,null,null,null,null,null,null,null,null,null,null,null,null,null,null,null,null,null,null,null,null,null,null,null,null,null,null,0]
[null,null,null,null,null,null,null,null,null,null,null,null,null,null,null,null,null,null,null,null,null,null,null,null,null,null,null,null,null,null,null,null,null,null,null,null,null,0]
[null,null,null,null,null,null,null,null,null,null,null,null,null,null,null,null,null,null,null,null,null,null,null,null,null,null,null,null,null,null,null,null,null,null,null,null,null,0]
[null,null,null,null,null,null,null,null,null,null,null,null,null,null,null,null,null,null,null,null,null,null,null,null,null,null,null,null,null,null,null,null,null,null,null,null,null,0]
[null,null,null,null,null,null,null,null,null,null,null,null,null,null,null,null,null,null,null,null,null,null,null,null,null,null,null,null,null,null,null,null,null,null,null,null,null,0]
[null,null,null,null,null,null,null,null,null,null,null,null,null,null,null,null,null,null,null,null,null,null,null,null,null,null,null,null,null,null,null,null,null,null,null,null,null,0]
[null,null,null,null,null,null,null,null,null,null,null,null,null,null,null,null,null,null,null,null,null,null,null,null,null,null,null,null,null,null,null,null,null,null,null,null,null,0]
[null,null,null,null,null,null,null,null,null,null,null,null,null,null,null,null,null,null,null,null,null,null,null,null,null,null,null,null,null,null,null,null,null,null,null,null,null,0]
[null,null,null,null,null,null,null,null,null,null,null,null,null,null,null,null,null,null,null,null,null,null,null,null,null,null,null,null,null,null,null,null,null,null,null,null,null,0]
[null,null,null,null,null,null,null,null,null,null,null,null,null,null,null,null,null,null,null,null,null,null,null,null,null,null,null,null,null,null,null,null,null,null,null,null,null,0]
[null,null,null,null,null,null,null,null,null,null,null,null,null,null,null,null,null,null,null,null,null,null,null,null,null,null,null,null,null,null,null,null,null,null,null,null,null,0]
[null,null,null,null,null,null,null,null,null,null,null,null,null,null,null,null,null,null,null,null,null,null,null,null,null,null,null,null,null,null,null,null,null,null,null,null,null,0]
[null,null,null,null,null,null,null,null,null,null,null,null,null,null,null,null,null,null,null,null,null,null,null,null,null,null,null,null,null,null,null,null,null,null,null,null,null,0]
[null,null,null,null,null,null,null,null,null,null,null,null,null,null,null,null,null,null,null,null,null,null,null,null,null,null,null,null,null,null,null,null,null,null,null,null,null,0]
[null,null,null,null,null,null,null,null,null,null,null,null,null,null,null,null,null,null,null,null,null,null,null,null,null,null,null,null,null,null,null,null,null,null,null,null,null,0]
[null,null,null,null,null,null,null,null,null,null,null,null,null,null,null,null,null,null,null,null,null,null,null,null,null,null,null,null,null,null,null,null,null,null,null,null,null,0]
[null,null,null,null,null,null,null,null,null,null,null,null,null,null,null,null,null,null,null,null,null,null,null,null,null,null,null,null,null,null,null,null,null,null,null,null,null,0]
[null,null,null,null,null,null,null,null,null,null,null,null,null,null,null,null,null,null,null,null,null,null,null,null,null,null,null,null,null,null,null,null,null,null,null,null,null,0]
[null,null,null,null,null,null,null,null,null,null,null,null,null,null,null,null,null,null,null,null,null,null,null,null,null,null,null,null,null,null,null,null,null,null,null,null,null,0]
[null,null,null,null,null,null,null,null,null,null,null,null,null,null,null,null,null,null,null,null,null,null,null,null,null,null,null,null,null,null,null,null,null,null,null,null,null,0]
[null,null,null,null,null,null,null,null,null,null,null,null,null,null,null,null,null,null,null,null,null,null,null,null,null,null,null,null,null,null,null,null,null,null,null,null,null,0]
[null,null,null,null,null,null,null,null,null,null,null,null,null,null,null,null,null,null,null,null,null,null,null,null,null,null,null,null,null,null,null,null,null,null,null,null,null,0]
[null,null,null,null,null,null,null,null,null,null,null,null,null,null,null,null,null,null,null,null,null,null,null,null,null,null,null,null,null,null,null,null,null,null,null,null,null,0]
[null,null,null,null,null,null,null,null,null,null,null,null,null,null,null,null,null,null,null,null,null,null,null,null,null,null,null,null,null,null,null,null,null,null,null,null,null,0]
[null,null,null,null,null,null,null,null,null,null,null,null,null,null,null,null,null,null,null,null,null,null,null,null,null,null,null,null,null,null,null,null,null,null,null,null,null,0]
[null,null,null,null,null,null,null,null,null,null,null,null,null,null,null,null,null,null,null,null,null,null,null,null,null,null,null,null,null,null,null,null,null,null,null,null,null,0]
[null,null,null,null,null,null,null,null,null,null,null,null,null,null,null,null,null,null,null,null,null,null,null,null,null,null,null,null,null,null,null,null,null,null,null,null,null,0]
[null,null,null,null,null,null,null,null,null,null,null,null,null,null,null,null,null,null,null,null,null,null,null,null,null,null,null,null,null,null,null,null,null,null,null,null,null,0]
[null,null,null,null,null,null,null,null,null,null,null,null,null,null,null,null,null,null,null,null,null,null,null,null,null,null,null,null,null,null,null,null,null,null,null,null,null,0]
[null,null,null,null,null,null,null,null,null,null,null,null,null,null,null,null,null,null,null,null,null,null,null,null,null,null,null,null,null,null,null,null,null,null,null,null,null,0]
[null,null,null,null,null,null,null,null,null,null,null,null,null,null,null,null,null,null,null,null,null,null,null,null,null,null,null,null,null,null,null,null,null,null,null,null,null,0]
[null,null,null,null,null,null,null,null,null,null,null,null,null,null,null,null,null,null,null,null,null,null,null,null,null,null,null,null,null,null,null,null,null,null,null,null,null,0]
[null,null,null,null,null,null,null,null,null,null,null,null,null,null,null,null,null,null,null,null,null,null,null,null,null,null,null,null,null,null,null,null,null,null,null,null,null,0]
[null,null,null,null,null,null,null,null,null,null,null,null,null,null,null,null,null,null,null,null,null,null,null,null,null,null,null,null,null,null,null,null,null,null,null,null,null,0]
[null,null,null,null,null,null,null,null,null,null,null,null,null,null,null,null,null,null,null,null,null,null,null,null,null,null,null,null,null,null,null,null,null,null,null,null,null,0]
[null,null,null,null,null,null,null,null,null,null,null,null,null,null,null,null,null,null,null,null,null,null,null,null,null,null,null,null,null,null,null,null,null,null,null,null,null,0]
[null,null,null,null,null,null,null,null,null,null,null,null,null,null,null,null,null,null,null,null,null,null,null,null,null,null,null,null,null,null,null,null,null,null,null,null,null,0]
[null,null,null,null,null,null,null,null,null,null,null,null,null,null,null,null,null,null,null,null,null,null,null,null,null,null,null,null,null,null,null,null,null,null,null,null,null,0]
[null,null,null,null,null,null,null,null,null,null,null,null,null,null,null,null,null,null,null,null,null,null,null,null,null,null,null,null,null,null,null,null,null,null,null,null,null,0]
[null,null,null,null,null,null,null,null,null,null,null,null,null,null,null,null,null,null,null,null,null,null,null,null,null,null,null,null,null,null,null,null,null,null,null,null,null,0]
[null,null,null,null,null,null,null,null,null,null,null,null,null,null,null,null,null,null,null,null,null,null,null,null,null,null,null,null,null,null,null,null,null,null,null,null,null,0]
[null,null,null,null,null,null,null,null,null,null,null,null,null,null,null,null,null,null,null,null,null,null,null,null,null,null,null,null,null,null,null,null,null,null,null,null,null,{"$f":"IF(Q387,V387-Q387,0)","v":0}]
[null,null,null,null,null,null,null,null,null,null,null,null,null,null,null,null,null,null,null,null,null,null,null,null,null,null,null,null,null,null,null,null,null,null,null,null,null,0]
[null,null,null,null,null,null,null,null,null,null,null,null,null,null,null,null,null,null,null,null,null,null,null,null,null,null,null,null,null,null,null,null,null,null,null,null,null,0]
[null,null,null,null,null,null,null,null,null,null,null,null,null,null,null,null,null,null,null,null,null,null,null,null,null,null,null,null,null,null,null,null,null,null,null,null,null,0]
[null,null,null,null,null,null,null,null,null,null,null,null,null,null,null,null,null,null,null,null,null,null,null,null,null,null,null,null,null,null,null,null,null,null,null,null,null,0]
[null,null,null,null,null,null,null,null,null,null,null,null,null,null,null,null,null,null,null,null,null,null,null,null,null,null,null,null,null,null,null,null,null,null,null,null,null,0]
[null,null,null,null,null,null,null,null,null,null,null,null,null,null,null,null,null,null,null,null,null,null,null,null,null,null,null,null,null,null,null,null,null,null,null,null,null,0]
[null,null,null,null,null,null,null,null,null,null,null,null,null,null,null,null,null,null,null,null,null,null,null,null,null,null,null,null,null,null,null,null,null,null,null,null,null,0]
[null,null,null,null,null,null,null,null,null,null,null,null,null,null,null,null,null,null,null,null,null,null,null,null,null,null,null,null,null,null,null,null,null,null,null,null,null,0]
[null,null,null,null,null,null,null,null,null,null,null,null,null,null,null,null,null,null,null,null,null,null,null,null,null,null,null,null,null,null,null,null,null,null,null,null,null,0]
[null,null,null,null,null,null,null,null,null,null,null,null,null,null,null,null,null,null,null,null,null,null,null,null,null,null,null,null,null,null,null,null,null,null,null,null,null,0]
[null,null,null,null,null,null,null,null,null,null,null,null,null,null,null,null,null,null,null,null,null,null,null,null,null,null,null,null,null,null,null,null,null,null,null,null,null,0]
[null,null,null,null,null,null,null,null,null,null,null,null,null,null,null,null,null,null,null,null,null,null,null,null,null,null,null,null,null,null,null,null,null,null,null,null,null,0]
[null,null,null,null,null,null,null,null,null,null,null,null,null,null,null,null,null,null,null,null,null,null,null,null,null,null,null,null,null,null,null,null,null,null,null,null,null,0]
[null,null,null,null,null,null,null,null,null,null,null,null,null,null,null,null,null,null,null,null,null,null,null,null,null,null,null,null,null,null,null,null,null,null,null,null,null,0]
[null,null,null,null,null,null,null,null,null,null,null,null,null,null,null,null,null,null,null,null,null,null,null,null,null,null,null,null,null,null,null,null,null,null,null,null,null,0]
[null,null,null,null,null,null,null,null,null,null,null,null,null,null,null,null,null,null,null,null,null,null,null,null,null,null,null,null,null,null,null,null,null,null,null,null,null,0]
[null,null,null,null,null,null,null,null,null,null,null,null,null,null,null,null,null,null,null,null,null,null,null,null,null,null,null,null,null,null,null,null,null,null,null,null,null,0]
[null,null,null,null,null,null,null,null,null,null,null,null,null,null,null,null,null,null,null,null,null,null,null,null,null,null,null,null,null,null,null,null,null,null,null,null,null,0]
[null,null,null,null,null,null,null,null,null,null,null,null,null,null,null,null,null,null,null,null,null,null,null,null,null,null,null,null,null,null,null,null,null,null,null,null,null,0]
[null,null,null,null,null,null,null,null,null,null,null,null,null,null,null,null,null,null,null,null,null,null,null,null,null,null,null,null,null,null,null,null,null,null,null,null,null,0]
[null,null,null,null,null,null,null,null,null,null,null,null,null,null,null,null,null,null,null,null,null,null,null,null,null,null,null,null,null,null,null,null,null,null,null,null,null,0]
[null,null,null,null,null,null,null,null,null,null,null,null,null,null,null,null,null,null,null,null,null,null,null,null,null,null,null,null,null,null,null,null,null,null,null,null,null,0]
[null,null,null,null,null,null,null,null,null,null,null,null,null,null,null,null,null,null,null,null,null,null,null,null,null,null,null,null,null,null,null,null,null,null,null,null,null,0]
[null,null,null,null,null,null,null,null,null,null,null,null,null,null,null,null,null,null,null,null,null,null,null,null,null,null,null,null,null,null,null,null,null,null,null,null,null,0]
[null,null,null,null,null,null,null,null,null,null,null,null,null,null,null,null,null,null,null,null,null,null,null,null,null,null,null,null,null,null,null,null,null,null,null,null,null,0]
[null,null,null,null,null,null,null,null,null,null,null,null,null,null,null,null,null,null,null,null,null,null,null,null,null,null,null,null,null,null,null,null,null,null,null,null,null,0]
[null,null,null,null,null,null,null,null,null,null,null,null,null,null,null,null,null,null,null,null,null,null,null,null,null,null,null,null,null,null,null,null,null,null,null,null,null,0]
[null,null,null,null,null,null,null,null,null,null,null,null,null,null,null,null,null,null,null,null,null,null,null,null,null,null,null,null,null,null,null,null,null,null,null,null,null,0]
[null,null,null,null,null,null,null,null,null,null,null,null,null,null,null,null,null,null,null,null,null,null,null,null,null,null,null,null,null,null,null,null,null,null,null,null,null,0]
[null,null,null,null,null,null,null,null,null,null,null,null,null,null,null,null,null,null,null,null,null,null,null,null,null,null,null,null,null,null,null,null,null,null,null,null,null,0]
[null,null,null,null,null,null,null,null,null,null,null,null,null,null,null,null,null,null,null,null,null,null,null,null,null,null,null,null,null,null,null,null,null,null,null,null,null,0]
[null,null,null,null,null,null,null,null,null,null,null,null,null,null,null,null,null,null,null,null,null,null,null,null,null,null,null,null,null,null,null,null,null,null,null,null,null,0]
[null,null,null,null,null,null,null,null,null,null,null,null,null,null,null,null,null,null,null,null,null,null,null,null,null,null,null,null,null,null,null,null,null,null,null,null,null,0]
[null,null,null,null,null,null,null,null,null,null,null,null,null,null,null,null,null,null,null,null,null,null,null,null,null,null,null,null,null,null,null,null,null,null,null,null,null,0]
[null,null,null,null,null,null,null,null,null,null,null,null,null,null,null,null,null,null,null,null,null,null,null,null,null,null,null,null,null,null,null,null,null,null,null,null,null,0]
[null,null,null,null,null,null,null,null,null,null,null,null,null,null,null,null,null,null,null,null,null,null,null,null,null,null,null,null,null,null,null,null,null,null,null,null,null,0]
[null,null,null,null,null,null,null,null,null,null,null,null,null,null,null,null,null,null,null,null,null,null,null,null,null,null,null,null,null,null,null,null,null,null,null,null,null,0]
[null,null,null,null,null,null,null,null,null,null,null,null,null,null,null,null,null,null,null,null,null,null,null,null,null,null,null,null,null,null,null,null,null,null,null,null,null,0]
[null,null,null,null,null,null,null,null,null,null,null,null,null,null,null,null,null,null,null,null,null,null,null,null,null,null,null,null,null,null,null,null,null,null,null,null,null,0]
[null,null,null,null,null,null,null,null,null,null,null,null,null,null,null,null,null,null,null,null,null,null,null,null,null,null,null,null,null,null,null,null,null,null,null,null,null,0]
[null,null,null,null,null,null,null,null,null,null,null,null,null,null,null,null,null,null,null,null,null,null,null,null,null,null,null,null,null,null,null,null,null,null,null,null,null,0]
[null,null,null,null,null,null,null,null,null,null,null,null,null,null,null,null,null,null,null,null,null,null,null,null,null,null,null,null,null,null,null,null,null,null,null,null,null,0]
[null,null,null,null,null,null,null,null,null,null,null,null,null,null,null,null,null,null,null,null,null,null,null,null,null,null,null,null,null,null,null,null,null,null,null,null,null,0]
[null,null,null,null,null,null,null,null,null,null,null,null,null,null,null,null,null,null,null,null,null,null,null,null,null,null,null,null,null,null,null,null,null,null,null,null,null,0]
[null,null,null,null,null,null,null,null,null,null,null,null,null,null,null,null,null,null,null,null,null,null,null,null,null,null,null,null,null,null,null,null,null,null,null,null,null,0]
[null,null,null,null,null,null,null,null,null,null,null,null,null,null,null,null,null,null,null,null,null,null,null,null,null,null,null,null,null,null,null,null,null,null,null,null,null,0]
[null,null,null,null,null,null,null,null,null,null,null,null,null,null,null,null,null,null,null,null,null,null,null,null,null,null,null,null,null,null,null,null,null,null,null,null,null,0]
[null,null,null,null,null,null,null,null,null,null,null,null,null,null,null,null,null,null,null,null,null,null,null,null,null,null,null,null,null,null,null,null,null,null,null,null,null,0]
[null,null,null,null,null,null,null,null,null,null,null,null,null,null,null,null,null,null,null,null,null,null,null,null,null,null,null,null,null,null,null,null,null,null,null,null,null,0]
[null,null,null,null,null,null,null,null,null,null,null,null,null,null,null,null,null,null,null,null,null,null,null,null,null,null,null,null,null,null,null,null,null,null,null,null,null,0]
[null,null,null,null,null,null,null,null,null,null,null,null,null,null,null,null,null,null,null,null,null,null,null,null,null,null,null,null,null,null,null,null,null,null,null,null,null,0]
[null,null,null,null,null,null,null,null,null,null,null,null,null,null,null,null,null,null,null,null,null,null,null,null,null,null,null,null,null,null,null,null,null,null,null,null,null,0]
[null,null,null,null,null,null,null,null,null,null,null,null,null,null,null,null,null,null,null,null,null,null,null,null,null,null,null,null,null,null,null,null,null,null,null,null,null,0]
[null,null,null,null,null,null,null,null,null,null,null,null,null,null,null,null,null,null,null,null,null,null,null,null,null,null,null,null,null,null,null,null,null,null,null,null,null,0]
[null,null,null,null,null,null,null,null,null,null,null,null,null,null,null,null,null,null,null,null,null,null,null,null,null,null,null,null,null,null,null,null,null,null,null,null,null,0]
[null,null,null,null,null,null,null,null,null,null,null,null,null,null,null,null,null,null,null,null,null,null,null,null,null,null,null,null,null,null,null,null,null,null,null,null,null,0]
[null,null,null,null,null,null,null,null,null,null,null,null,null,null,null,null,null,null,null,null,null,null,null,null,null,null,null,null,null,null,null,null,null,null,null,null,null,0]
[null,null,null,null,null,null,null,null,null,null,null,null,null,null,null,null,null,null,null,null,null,null,null,null,null,null,null,null,null,null,null,null,null,null,null,null,null,0]
[null,null,null,null,null,null,null,null,null,null,null,null,null,null,null,null,null,null,null,null,null,null,null,null,null,null,null,null,null,null,null,null,null,null,null,null,null,0]
[null,null,null,null,null,null,null,null,null,null,null,null,null,null,null,null,null,null,null,null,null,null,null,null,null,null,null,null,null,null,null,null,null,null,null,null,null,0]
[null,null,null,null,null,null,null,null,null,null,null,null,null,null,null,null,null,null,null,null,null,null,null,null,null,null,null,null,null,null,null,null,null,null,null,null,null,0]
[null,null,null,null,null,null,null,null,null,null,null,null,null,null,null,null,null,null,null,null,null,null,null,null,null,null,null,null,null,null,null,null,null,null,null,null,null,0]
[null,null,null,null,null,null,null,null,null,null,null,null,null,null,null,null,null,null,null,null,null,null,null,null,null,null,null,null,null,null,null,null,null,null,null,null,null,0]
[null,null,null,null,null,null,null,null,null,null,null,null,null,null,null,null,null,null,null,null,null,null,null,null,null,null,null,null,null,null,null,null,null,null,null,null,null,{"$f":"IF(Q451,V451-Q451,0)","v":0}]
[null,null,null,null,null,null,null,null,null,null,null,null,null,null,null,null,null,null,null,null,null,null,null,null,null,null,null,null,null,null,null,null,null,null,null,null,null,0]
[null,null,null,null,null,null,null,null,null,null,null,null,null,null,null,null,null,null,null,null,null,null,null,null,null,null,null,null,null,null,null,null,null,null,null,null,null,0]
[null,null,null,null,null,null,null,null,null,null,null,null,null,null,null,null,null,null,null,null,null,null,null,null,null,null,null,null,null,null,null,null,null,null,null,null,null,0]
[null,null,null,null,null,null,null,null,null,null,null,null,null,null,null,null,null,null,null,null,null,null,null,null,null,null,null,null,null,null,null,null,null,null,null,null,null,0]
[null,null,null,null,null,null,null,null,null,null,null,null,null,null,null,null,null,null,null,null,null,null,null,null,null,null,null,null,null,null,null,null,null,null,null,null,null,0]
[null,null,null,null,null,null,null,null,null,null,null,null,null,null,null,null,null,null,null,null,null,null,null,null,null,null,null,null,null,null,null,null,null,null,null,null,null,0]
[null,null,null,null,null,null,null,null,null,null,null,null,null,null,null,null,null,null,null,null,null,null,null,null,null,null,null,null,null,null,null,null,null,null,null,null,null,0]
[null,null,null,null,null,null,null,null,null,null,null,null,null,null,null,null,null,null,null,null,null,null,null,null,null,null,null,null,null,null,null,null,null,null,null,null,null,0]
[null,null,null,null,null,null,null,null,null,null,null,null,null,null,null,null,null,null,null,null,null,null,null,null,null,null,null,null,null,null,null,null,null,null,null,null,null,0]
[null,null,null,null,null,null,null,null,null,null,null,null,null,null,null,null,null,null,null,null,null,null,null,null,null,null,null,null,null,null,null,null,null,null,null,null,null,0]
[null,null,null,null,null,null,null,null,null,null,null,null,null,null,null,null,null,null,null,null,null,null,null,null,null,null,null,null,null,null,null,null,null,null,null,null,null,0]
[null,null,null,null,null,null,null,null,null,null,null,null,null,null,null,null,null,null,null,null,null,null,null,null,null,null,null,null,null,null,null,null,null,null,null,null,null,0]
[null,null,null,null,null,null,null,null,null,null,null,null,null,null,null,null,null,null,null,null,null,null,null,null,null,null,null,null,null,null,null,null,null,null,null,null,null,0]
[null,null,null,null,null,null,null,null,null,null,null,null,null,null,null,null,null,null,null,null,null,null,null,null,null,null,null,null,null,null,null,null,null,null,null,null,null,0]
[null,null,null,null,null,null,null,null,null,null,null,null,null,null,null,null,null,null,null,null,null,null,null,null,null,null,null,null,null,null,null,null,null,null,null,null,null,0]
[null,null,null,null,null,null,null,null,null,null,null,null,null,null,null,null,null,null,null,null,null,null,null,null,null,null,null,null,null,null,null,null,null,null,null,null,null,0]
[null,null,null,null,null,null,null,null,null,null,null,null,null,null,null,null,null,null,null,null,null,null,null,null,null,null,null,null,null,null,null,null,null,null,null,null,null,0]
[null,null,null,null,null,null,null,null,null,null,null,null,null,null,null,null,null,null,null,null,null,null,null,null,null,null,null,null,null,null,null,null,null,null,null,null,null,0]
[null,null,null,null,null,null,null,null,null,null,null,null,null,null,null,null,null,null,null,null,null,null,null,null,null,null,null,null,null,null,null,null,null,null,null,null,null,0]
[null,null,null,null,null,null,null,null,null,null,null,null,null,null,null,null,null,null,null,null,null,null,null,null,null,null,null,null,null,null,null,null,null,null,null,null,null,0]
[null,null,null,null,null,null,null,null,null,null,null,null,null,null,null,null,null,null,null,null,null,null,null,null,null,null,null,null,null,null,null,null,null,null,null,null,null,0]
[null,null,null,null,null,null,null,null,null,null,null,null,null,null,null,null,null,null,null,null,null,null,null,null,null,null,null,null,null,null,null,null,null,null,null,null,null,0]
[null,null,null,null,null,null,null,null,null,null,null,null,null,null,null,null,null,null,null,null,null,null,null,null,null,null,null,null,null,null,null,null,null,null,null,null,null,0]
[null,null,null,null,null,null,null,null,null,null,null,null,null,null,null,null,null,null,null,null,null,null,null,null,null,null,null,null,null,null,null,null,null,null,null,null,null,0]
[null,null,null,null,null,null,null,null,null,null,null,null,null,null,null,null,null,null,null,null,null,null,null,null,null,null,null,null,null,null,null,null,null,null,null,null,null,0]
[null,null,null,null,null,null,null,null,null,null,null,null,null,null,null,null,null,null,null,null,null,null,null,null,null,null,null,null,null,null,null,null,null,null,null,null,null,0]
[null,null,null,null,null,null,null,null,null,null,null,null,null,null,null,null,null,null,null,null,null,null,null,null,null,null,null,null,null,null,null,null,null,null,null,null,null,0]
[null,null,null,null,null,null,null,null,null,null,null,null,null,null,null,null,null,null,null,null,null,null,null,null,null,null,null,null,null,null,null,null,null,null,null,null,null,0]
[null,null,null,null,null,null,null,null,null,null,null,null,null,null,null,null,null,null,null,null,null,null,null,null,null,null,null,null,null,null,null,null,null,null,null,null,null,0]
[null,null,null,null,null,null,null,null,null,null,null,null,null,null,null,null,null,null,null,null,null,null,null,null,null,null,null,null,null,null,null,null,null,null,null,null,null,0]
[null,null,null,null,null,null,null,null,null,null,null,null,null,null,null,null,null,null,null,null,null,null,null,null,null,null,null,null,null,null,null,null,null,null,null,null,null,0]
[null,null,null,null,null,null,null,null,null,null,null,null,null,null,null,null,null,null,null,null,null,null,null,null,null,null,null,null,null,null,null,null,null,null,null,null,null,0]
[null,null,null,null,null,null,null,null,null,null,null,null,null,null,null,null,null,null,null,null,null,null,null,null,null,null,null,null,null,null,null,null,null,null,null,null,null,0]
[null,null,null,null,null,null,null,null,null,null,null,null,null,null,null,null,null,null,null,null,null,null,null,null,null,null,null,null,null,null,null,null,null,null,null,null,null,0]
[null,null,null,null,null,null,null,null,null,null,null,null,null,null,null,null,null,null,null,null,null,null,null,null,null,null,null,null,null,null,null,null,null,null,null,null,null,0]
[null,null,null,null,null,null,null,null,null,null,null,null,null,null,null,null,null,null,null,null,null,null,null,null,null,null,null,null,null,null,null,null,null,null,null,null,null,0]
[null,null,null,null,null,null,null,null,null,null,null,null,null,null,null,null,null,null,null,null,null,null,null,null,null,null,null,null,null,null,null,null,null,null,null,null,null,0]
[null,null,null,null,null,null,null,null,null,null,null,null,null,null,null,null,null,null,null,null,null,null,null,null,null,null,null,null,null,null,null,null,null,null,null,null,null,0]
[null,null,null,null,null,null,null,null,null,null,null,null,null,null,null,null,null,null,null,null,null,null,null,null,null,null,null,null,null,null,null,null,null,null,null,null,null,0]
[null,null,null,null,null,null,null,null,null,null,null,null,null,null,null,null,null,null,null,null,null,null,null,null,null,null,null,null,null,null,null,null,null,null,null,null,null,0]
[null,null,null,null,null,null,null,null,null,null,null,null,null,null,null,null,null,null,null,null,null,null,null,null,null,null,null,null,null,null,null,null,null,null,null,null,null,0]
[null,null,null,null,null,null,null,null,null,null,null,null,null,null,null,null,null,null,null,null,null,null,null,null,null,null,null,null,null,null,null,null,null,null,null,null,null,0]
[null,null,null,null,null,null,null,null,null,null,null,null,null,null,null,null,null,null,null,null,null,null,null,null,null,null,null,null,null,null,null,null,null,null,null,null,null,0]
[null,null,null,null,null,null,null,null,null,null,null,null,null,null,null,null,null,null,null,null,null,null,null,null,null,null,null,null,null,null,null,null,null,null,null,null,null,0]
[null,null,null,null,null,null,null,null,null,null,null,null,null,null,null,null,null,null,null,null,null,null,null,null,null,null,null,null,null,null,null,null,null,null,null,null,null,0]
[null,null,null,null,null,null,null,null,null,null,null,null,null,null,null,null,null,null,null,null,null,null,null,null,null,null,null,null,null,null,null,null,null,null,null,null,null,0]
[null,null,null,null,null,null,null,null,null,null,null,null,null,null,null,null,null,null,null,null,null,null,null,null,null,null,null,null,null,null,null,null,null,null,null,null,null,0]
[null,null,null,null,null,null,null,null,null,null,null,null,null,null,null,null,null,null,null,null,null,null,null,null,null,null,null,null,null,null,null,null,null,null,null,null,null,0]
[null,null,null,null,null,null,null,null,null,null,null,null,null,null,null,null,null,null,null,null,null,null,null,null,null,null,null,null,null,null,null,null,null,null,null,null,null,0]
[null,null,null,null,null,null,null,null,null,null,null,null,null,null,null,null,null,null,null,null,null,null,null,null,null,null,null,null,null,null,null,null,null,null,null,null,null,0]
[null,null,null,null,null,null,null,null,null,null,null,null,null,null,null,null,null,null,null,null,null,null,null,null,null,null,null,null,null,null,null,null,null,null,null,null,null,0]
[null,null,null,null,null,null,null,null,null,null,null,null,null,null,null,null,null,null,null,null,null,null,null,null,null,null,null,null,null,null,null,null,null,null,null,null,null,0]
[null,null,null,null,null,null,null,null,null,null,null,null,null,null,null,null,null,null,null,null,null,null,null,null,null,null,null,null,null,null,null,null,null,null,null,null,null,0]
[null,null,null,null,null,null,null,null,null,null,null,null,null,null,null,null,null,null,null,null,null,null,null,null,null,null,null,null,null,null,null,null,null,null,null,null,null,0]
[null,null,null,null,null,null,null,null,null,null,null,null,null,null,null,null,null,null,null,null,null,null,null,null,null,null,null,null,null,null,null,null,null,null,null,null,null,0]
[null,null,null,null,null,null,null,null,null,null,null,null,null,null,null,null,null,null,null,null,null,null,null,null,null,null,null,null,null,null,null,null,null,null,null,null,null,0]
[null,null,null,null,null,null,null,null,null,null,null,null,null,null,null,null,null,null,null,null,null,null,null,null,null,null,null,null,null,null,null,null,null,null,null,null,null,0]
[null,null,null,null,null,null,null,null,null,null,null,null,null,null,null,null,null,null,null,null,null,null,null,null,null,null,null,null,null,null,null,null,null,null,null,null,null,0]
[null,null,null,null,null,null,null,null,null,null,null,null,null,null,null,null,null,null,null,null,null,null,null,null,null,null,null,null,null,null,null,null,null,null,null,null,null,0]
[null,null,null,null,null,null,null,null,null,null,null,null,null,null,null,null,null,null,null,null,null,null,null,null,null,null,null,null,null,null,null,null,null,null,null,null,null,0]
[null,null,null,null,null,null,null,null,null,null,null,null,null,null,null,null,null,null,null,null,null,null,null,null,null,null,null,null,null,null,null,null,null,null,null,null,null,0]
[null,null,null,null,null,null,null,null,null,null,null,null,null,null,null,null,null,null,null,null,null,null,null,null,null,null,null,null,null,null,null,null,null,null,null,null,null,0]
[null,null,null,null,null,null,null,null,null,null,null,null,null,null,null,null,null,null,null,null,null,null,null,null,null,null,null,null,null,null,null,null,null,null,null,null,null,0]
[null,null,null,null,null,null,null,null,null,null,null,null,null,null,null,null,null,null,null,null,null,null,null,null,null,null,null,null,null,null,null,null,null,null,null,null,null,{"$f":"IF(Q515,V515-Q515,0)","v":0}]
[null,null,null,null,null,null,null,null,null,null,null,null,null,null,null,null,null,null,null,null,null,null,null,null,null,null,null,null,null,null,null,null,null,null,null,null,null,0]
[null,null,null,null,null,null,null,null,null,null,null,null,null,null,null,null,null,null,null,null,null,null,null,null,null,null,null,null,null,null,null,null,null,null,null,null,null,0]
[null,null,null,null,null,null,null,null,null,null,null,null,null,null,null,null,null,null,null,null,null,null,null,null,null,null,null,null,null,null,null,null,null,null,null,null,null,0]
[null,null,null,null,null,null,null,null,null,null,null,null,null,null,null,null,null,null,null,null,null,null,null,null,null,null,null,null,null,null,null,null,null,null,null,null,null,0]
[null,null,null,null,null,null,null,null,null,null,null,null,null,null,null,null,null,null,null,null,null,null,null,null,null,null,null,null,null,null,null,null,null,null,null,null,null,0]
[null,null,null,null,null,null,null,null,null,null,null,null,null,null,null,null,null,null,null,null,null,null,null,null,null,null,null,null,null,null,null,null,null,null,null,null,null,0]
[null,null,null,null,null,null,null,null,null,null,null,null,null,null,null,null,null,null,null,null,null,null,null,null,null,null,null,null,null,null,null,null,null,null,null,null,null,0]
[null,null,null,null,null,null,null,null,null,null,null,null,null,null,null,null,null,null,null,null,null,null,null,null,null,null,null,null,null,null,null,null,null,null,null,null,null,0]
[null,null,null,null,null,null,null,null,null,null,null,null,null,null,null,null,null,null,null,null,null,null,null,null,null,null,null,null,null,null,null,null,null,null,null,null,null,0]
[null,null,null,null,null,null,null,null,null,null,null,null,null,null,null,null,null,null,null,null,null,null,null,null,null,null,null,null,null,null,null,null,null,null,null,null,null,0]
[null,null,null,null,null,null,null,null,null,null,null,null,null,null,null,null,null,null,null,null,null,null,null,null,null,null,null,null,null,null,null,null,null,null,null,null,null,0]
[null,null,null,null,null,null,null,null,null,null,null,null,null,null,null,null,null,null,null,null,null,null,null,null,null,null,null,null,null,null,null,null,null,null,null,null,null,0]
[null,null,null,null,null,null,null,null,null,null,null,null,null,null,null,null,null,null,null,null,null,null,null,null,null,null,null,null,null,null,null,null,null,null,null,null,null,0]
[null,null,null,null,null,null,null,null,null,null,null,null,null,null,null,null,null,null,null,null,null,null,null,null,null,null,null,null,null,null,null,null,null,null,null,null,null,0]
[null,null,null,null,null,null,null,null,null,null,null,null,null,null,null,null,null,null,null,null,null,null,null,null,null,null,null,null,null,null,null,null,null,null,null,null,null,0]
[null,null,null,null,null,null,null,null,null,null,null,null,null,null,null,null,null,null,null,null,null,null,null,null,null,null,null,null,null,null,null,null,null,null,null,null,null,0]
[null,null,null,null,null,null,null,null,null,null,null,null,null,null,null,null,null,null,null,null,null,null,null,null,null,null,null,null,null,null,null,null,null,null,null,null,null,0]
[null,null,null,null,null,null,null,null,null,null,null,null,null,null,null,null,null,null,null,null,null,null,null,null,null,null,null,null,null,null,null,null,null,null,null,null,null,0]
[null,null,null,null,null,null,null,null,null,null,null,null,null,null,null,null,null,null,null,null,null,null,null,null,null,null,null,null,null,null,null,null,null,null,null,null,null,0]
[null,null,null,null,null,null,null,null,null,null,null,null,null,null,null,null,null,null,null,null,null,null,null,null,null,null,null,null,null,null,null,null,null,null,null,null,null,0]
[null,null,null,null,null,null,null,null,null,null,null,null,null,null,null,null,null,null,null,null,null,null,null,null,null,null,null,null,null,null,null,null,null,null,null,null,null,0]
[null,null,null,null,null,null,null,null,null,null,null,null,null,null,null,null,null,null,null,null,null,null,null,null,null,null,null,null,null,null,null,null,null,null,null,null,null,0]
[null,null,null,null,null,null,null,null,null,null,null,null,null,null,null,null,null,null,null,null,null,null,null,null,null,null,null,null,null,null,null,null,null,null,null,null,null,0]
[null,null,null,null,null,null,null,null,null,null,null,null,null,null,null,null,null,null,null,null,null,null,null,null,null,null,null,null,null,null,null,null,null,null,null,null,null,0]
[null,null,null,null,null,null,null,null,null,null,null,null,null,null,null,null,null,null,null,null,null,null,null,null,null,null,null,null,null,null,null,null,null,null,null,null,null,0]
[null,null,null,null,null,null,null,null,null,null,null,null,null,null,null,null,null,null,null,null,null,null,null,null,null,null,null,null,null,null,null,null,null,null,null,null,null,0]
[null,null,null,null,null,null,null,null,null,null,null,null,null,null,null,null,null,null,null,null,null,null,null,null,null,null,null,null,null,null,null,null,null,null,null,null,null,0]
[null,null,null,null,null,null,null,null,null,null,null,null,null,null,null,null,null,null,null,null,null,null,null,null,null,null,null,null,null,null,null,null,null,null,null,null,null,0]
[null,null,null,null,null,null,null,null,null,null,null,null,null,null,null,null,null,null,null,null,null,null,null,null,null,null,null,null,null,null,null,null,null,null,null,null,null,0]
[null,null,null,null,null,null,null,null,null,null,null,null,null,null,null,null,null,null,null,null,null,null,null,null,null,null,null,null,null,null,null,null,null,null,null,null,null,0]
[null,null,null,null,null,null,null,null,null,null,null,null,null,null,null,null,null,null,null,null,null,null,null,null,null,null,null,null,null,null,null,null,null,null,null,null,null,0]
[null,null,null,null,null,null,null,null,null,null,null,null,null,null,null,null,null,null,null,null,null,null,null,null,null,null,null,null,null,null,null,null,null,null,null,null,null,0]
[null,null,null,null,null,null,null,null,null,null,null,null,null,null,null,null,null,null,null,null,null,null,null,null,null,null,null,null,null,null,null,null,null,null,null,null,null,0]
[null,null,null,null,null,null,null,null,null,null,null,null,null,null,null,null,null,null,null,null,null,null,null,null,null,null,null,null,null,null,null,null,null,null,null,null,null,0]
[null,null,null,null,null,null,null,null,null,null,null,null,null,null,null,null,null,null,null,null,null,null,null,null,null,null,null,null,null,null,null,null,null,null,null,null,null,0]
[null,null,null,null,null,null,null,null,null,null,null,null,null,null,null,null,null,null,null,null,null,null,null,null,null,null,null,null,null,null,null,null,null,null,null,null,null,0]
[null,null,null,null,null,null,null,null,null,null,null,null,null,null,null,null,null,null,null,null,null,null,null,null,null,null,null,null,null,null,null,null,null,null,null,null,null,0]
[null,null,null,null,null,null,null,null,null,null,null,null,null,null,null,null,null,null,null,null,null,null,null,null,null,null,null,null,null,null,null,null,null,null,null,null,null,0]
[null,null,null,null,null,null,null,null,null,null,null,null,null,null,null,null,null,null,null,null,null,null,null,null,null,null,null,null,null,null,null,null,null,null,null,null,null,0]
[null,null,null,null,null,null,null,null,null,null,null,null,null,null,null,null,null,null,null,null,null,null,null,null,null,null,null,null,null,null,null,null,null,null,null,null,null,0]
[null,null,null,null,null,null,null,null,null,null,null,null,null,null,null,null,null,null,null,null,null,null,null,null,null,null,null,null,null,null,null,null,null,null,null,null,null,0]
[null,null,null,null,null,null,null,null,null,null,null,null,null,null,null,null,null,null,null,null,null,null,null,null,null,null,null,null,null,null,null,null,null,null,null,null,null,0]
[null,null,null,null,null,null,null,null,null,null,null,null,null,null,null,null,null,null,null,null,null,null,null,null,null,null,null,null,null,null,null,null,null,null,null,null,null,0]
[null,null,null,null,null,null,null,null,null,null,null,null,null,null,null,null,null,null,null,null,null,null,null,null,null,null,null,null,null,null,null,null,null,null,null,null,null,0]
[null,null,null,null,null,null,null,null,null,null,null,null,null,null,null,null,null,null,null,null,null,null,null,null,null,null,null,null,null,null,null,null,null,null,null,null,null,0]
[null,null,null,null,null,null,null,null,null,null,null,null,null,null,null,null,null,null,null,null,null,null,null,null,null,null,null,null,null,null,null,null,null,null,null,null,null,0]
[null,null,null,null,null,null,null,null,null,null,null,null,null,null,null,null,null,null,null,null,null,null,null,null,null,null,null,null,null,null,null,null,null,null,null,null,null,0]
[null,null,null,null,null,null,null,null,null,null,null,null,null,null,null,null,null,null,null,null,null,null,null,null,null,null,null,null,null,null,null,null,null,null,null,null,null,0]
[null,null,null,null,null,null,null,null,null,null,null,null,null,null,null,null,null,null,null,null,null,null,null,null,null,null,null,null,null,null,null,null,null,null,null,null,null,0]
[null,null,null,null,null,null,null,null,null,null,null,null,null,null,null,null,null,null,null,null,null,null,null,null,null,null,null,null,null,null,null,null,null,null,null,null,null,0]
[null,null,null,null,null,null,null,null,null,null,null,null,null,null,null,null,null,null,null,null,null,null,null,null,null,null,null,null,null,null,null,null,null,null,null,null,null,0]
[null,null,null,null,null,null,null,null,null,null,null,null,null,null,null,null,null,null,null,null,null,null,null,null,null,null,null,null,null,null,null,null,null,null,null,null,null,0]
[null,null,null,null,null,null,null,null,null,null,null,null,null,null,null,null,null,null,null,null,null,null,null,null,null,null,null,null,null,null,null,null,null,null,null,null,null,0]
[null,null,null,null,null,null,null,null,null,null,null,null,null,null,null,null,null,null,null,null,null,null,null,null,null,null,null,null,null,null,null,null,null,null,null,null,null,0]
[null,null,null,null,null,null,null,null,null,null,null,null,null,null,null,null,null,null,null,null,null,null,null,null,null,null,null,null,null,null,null,null,null,null,null,null,null,0]
[null,null,null,null,null,null,null,null,null,null,null,null,null,null,null,null,null,null,null,null,null,null,null,null,null,null,null,null,null,null,null,null,null,null,null,null,null,0]
[null,null,null,null,null,null,null,null,null,null,null,null,null,null,null,null,null,null,null,null,null,null,null,null,null,null,null,null,null,null,null,null,null,null,null,null,null,0]
[null,null,null,null,null,null,null,null,null,null,null,null,null,null,null,null,null,null,null,null,null,null,null,null,null,null,null,null,null,null,null,null,null,null,null,null,null,0]
[null,null,null,null,null,null,null,null,null,null,null,null,null,null,null,null,null,null,null,null,null,null,null,null,null,null,null,null,null,null,null,null,null,null,null,null,null,0]
[null,null,null,null,null,null,null,null,null,null,null,null,null,null,null,null,null,null,null,null,null,null,null,null,null,null,null,null,null,null,null,null,null,null,null,null,null,0]
[null,null,null,null,null,null,null,null,null,null,null,null,null,null,null,null,null,null,null,null,null,null,null,null,null,null,null,null,null,null,null,null,null,null,null,null,null,0]
[null,null,null,null,null,null,null,null,null,null,null,null,null,null,null,null,null,null,null,null,null,null,null,null,null,null,null,null,null,null,null,null,null,null,null,null,null,0]
[null,null,null,null,null,null,null,null,null,null,null,null,null,null,null,null,null,null,null,null,null,null,null,null,null,null,null,null,null,null,null,null,null,null,null,null,null,0]
[null,null,null,null,null,null,null,null,null,null,null,null,null,null,null,null,null,null,null,null,null,null,null,null,null,null,null,null,null,null,null,null,null,null,null,null,null,{"$f":"IF(Q579,V579-Q579,0)","v":0}]
[null,null,null,null,null,null,null,null,null,null,null,null,null,null,null,null,null,null,null,null,null,null,null,null,null,null,null,null,null,null,null,null,null,null,null,null,null,0]
[null,null,null,null,null,null,null,null,null,null,null,null,null,null,null,null,null,null,null,null,null,null,null,null,null,null,null,null,null,null,null,null,null,null,null,null,null,0]
[null,null,null,null,null,null,null,null,null,null,null,null,null,null,null,null,null,null,null,null,null,null,null,null,null,null,null,null,null,null,null,null,null,null,null,null,null,0]
[null,null,null,null,null,null,null,null,null,null,null,null,null,null,null,null,null,null,null,null,null,null,null,null,null,null,null,null,null,null,null,null,null,null,null,null,null,0]
[null,null,null,null,null,null,null,null,null,null,null,null,null,null,null,null,null,null,null,null,null,null,null,null,null,null,null,null,null,null,null,null,null,null,null,null,null,0]
[null,null,null,null,null,null,null,null,null,null,null,null,null,null,null,null,null,null,null,null,null,null,null,null,null,null,null,null,null,null,null,null,null,null,null,null,null,0]
[null,null,null,null,null,null,null,null,null,null,null,null,null,null,null,null,null,null,null,null,null,null,null,null,null,null,null,null,null,null,null,null,null,null,null,null,null,0]
[null,null,null,null,null,null,null,null,null,null,null,null,null,null,null,null,null,null,null,null,null,null,null,null,null,null,null,null,null,null,null,null,null,null,null,null,null,0]
[null,null,null,null,null,null,null,null,null,null,null,null,null,null,null,null,null,null,null,null,null,null,null,null,null,null,null,null,null,null,null,null,null,null,null,null,null,0]
[null,null,null,null,null,null,null,null,null,null,null,null,null,null,null,null,null,null,null,null,null,null,null,null,null,null,null,null,null,null,null,null,null,null,null,null,null,0]
[null,null,null,null,null,null,null,null,null,null,null,null,null,null,null,null,null,null,null,null,null,null,null,null,null,null,null,null,null,null,null,null,null,null,null,null,null,0]
[null,null,null,null,null,null,null,null,null,null,null,null,null,null,null,null,null,null,null,null,null,null,null,null,null,null,null,null,null,null,null,null,null,null,null,null,null,0]
[null,null,null,null,null,null,null,null,null,null,null,null,null,null,null,null,null,null,null,null,null,null,null,null,null,null,null,null,null,null,null,null,null,null,null,null,null,0]
[null,null,null,null,null,null,null,null,null,null,null,null,null,null,null,null,null,null,null,null,null,null,null,null,null,null,null,null,null,null,null,null,null,null,null,null,null,0]
[null,null,null,null,null,null,null,null,null,null,null,null,null,null,null,null,null,null,null,null,null,null,null,null,null,null,null,null,null,null,null,null,null,null,null,null,null,0]
[null,null,null,null,null,null,null,null,null,null,null,null,null,null,null,null,null,null,null,null,null,null,null,null,null,null,null,null,null,null,null,null,null,null,null,null,null,0]
[null,null,null,null,null,null,null,null,null,null,null,null,null,null,null,null,null,null,null,null,null,null,null,null,null,null,null,null,null,null,null,null,null,null,null,null,null,0]
[null,null,null,null,null,null,null,null,null,null,null,null,null,null,null,null,null,null,null,null,null,null,null,null,null,null,null,null,null,null,null,null,null,null,null,null,null,0]
[null,null,null,null,null,null,null,null,null,null,null,null,null,null,null,null,null,null,null,null,null,null,null,null,null,null,null,null,null,null,null,null,null,null,null,null,null,0]
[null,null,null,null,null,null,null,null,null,null,null,null,null,null,null,null,null,null,null,null,null,null,null,null,null,null,null,null,null,null,null,null,null,null,null,null,null,0]
[null,null,null,null,null,null,null,null,null,null,null,null,null,null,null,null,null,null,null,null,null,null,null,null,null,null,null,null,null,null,null,null,null,null,null,null,null,0]
[null,null,null,null,null,null,null,null,null,null,null,null,null,null,null,null,null,null,null,null,null,null,null,null,null,null,null,null,null,null,null,null,null,null,null,null,null,0]
[null,null,null,null,null,null,null,null,null,null,null,null,null,null,null,null,null,null,null,null,null,null,null,null,null,null,null,null,null,null,null,null,null,null,null,null,null,0]
[null,null,null,null,null,null,null,null,null,null,null,null,null,null,null,null,null,null,null,null,null,null,null,null,null,null,null,null,null,null,null,null,null,null,null,null,null,0]
[null,null,null,null,null,null,null,null,null,null,null,null,null,null,null,null,null,null,null,null,null,null,null,null,null,null,null,null,null,null,null,null,null,null,null,null,null,0]
[null,null,null,null,null,null,null,null,null,null,null,null,null,null,null,null,null,null,null,null,null,null,null,null,null,null,null,null,null,null,null,null,null,null,null,null,null,0]
[null,null,null,null,null,null,null,null,null,null,null,null,null,null,null,null,null,null,null,null,null,null,null,null,null,null,null,null,null,null,null,null,null,null,null,null,null,0]
[null,null,null,null,null,null,null,null,null,null,null,null,null,null,null,null,null,null,null,null,null,null,null,null,null,null,null,null,null,null,null,null,null,null,null,null,null,0]
[null,null,null,null,null,null,null,null,null,null,null,null,null,null,null,null,null,null,null,null,null,null,null,null,null,null,null,null,null,null,null,null,null,null,null,null,null,0]
[null,null,null,null,null,null,null,null,null,null,null,null,null,null,null,null,null,null,null,null,null,null,null,null,null,null,null,null,null,null,null,null,null,null,null,null,null,0]
[null,null,null,null,null,null,null,null,null,null,null,null,null,null,null,null,null,null,null,null,null,null,null,null,null,null,null,null,null,null,null,null,null,null,null,null,null,0]
[null,null,null,null,null,null,null,null,null,null,null,null,null,null,null,null,null,null,null,null,null,null,null,null,null,null,null,null,null,null,null,null,null,null,null,null,null,0]
[null,null,null,null,null,null,null,null,null,null,null,null,null,null,null,null,null,null,null,null,null,null,null,null,null,null,null,null,null,null,null,null,null,null,null,null,null,0]
[null,null,null,null,null,null,null,null,null,null,null,null,null,null,null,null,null,null,null,null,null,null,null,null,null,null,null,null,null,null,null,null,null,null,null,null,null,0]
[null,null,null,null,null,null,null,null,null,null,null,null,null,null,null,null,null,null,null,null,null,null,null,null,null,null,null,null,null,null,null,null,null,null,null,null,null,0]
[null,null,null,null,null,null,null,null,null,null,null,null,null,null,null,null,null,null,null,null,null,null,null,null,null,null,null,null,null,null,null,null,null,null,null,null,null,0]
[null,null,null,null,null,null,null,null,null,null,null,null,null,null,null,null,null,null,null,null,null,null,null,null,null,null,null,null,null,null,null,null,null,null,null,null,null,0]
[null,null,null,null,null,null,null,null,null,null,null,null,null,null,null,null,null,null,null,null,null,null,null,null,null,null,null,null,null,null,null,null,null,null,null,null,null,0]
[null,null,null,null,null,null,null,null,null,null,null,null,null,null,null,null,null,null,null,null,null,null,null,null,null,null,null,null,null,null,null,null,null,null,null,null,null,0]
[null,null,null,null,null,null,null,null,null,null,null,null,null,null,null,null,null,null,null,null,null,null,null,null,null,null,null,null,null,null,null,null,null,null,null,null,null,0]
[null,null,null,null,null,null,null,null,null,null,null,null,null,null,null,null,null,null,null,null,null,null,null,null,null,null,null,null,null,null,null,null,null,null,null,null,null,0]
[null,null,null,null,null,null,null,null,null,null,null,null,null,null,null,null,null,null,null,null,null,null,null,null,null,null,null,null,null,null,null,null,null,null,null,null,null,0]
[null,null,null,null,null,null,null,null,null,null,null,null,null,null,null,null,null,null,null,null,null,null,null,null,null,null,null,null,null,null,null,null,null,null,null,null,null,0]
[null,null,null,null,null,null,null,null,null,null,null,null,null,null,null,null,null,null,null,null,null,null,null,null,null,null,null,null,null,null,null,null,null,null,null,null,null,0]
[null,null,null,null,null,null,null,null,null,null,null,null,null,null,null,null,null,null,null,null,null,null,null,null,null,null,null,null,null,null,null,null,null,null,null,null,null,0]
[null,null,null,null,null,null,null,null,null,null,null,null,null,null,null,null,null,null,null,null,null,null,null,null,null,null,null,null,null,null,null,null,null,null,null,null,null,0]
[null,null,null,null,null,null,null,null,null,null,null,null,null,null,null,null,null,null,null,null,null,null,null,null,null,null,null,null,null,null,null,null,null,null,null,null,null,0]
[null,null,null,null,null,null,null,null,null,null,null,null,null,null,null,null,null,null,null,null,null,null,null,null,null,null,null,null,null,null,null,null,null,null,null,null,null,0]
[null,null,null,null,null,null,null,null,null,null,null,null,null,null,null,null,null,null,null,null,null,null,null,null,null,null,null,null,null,null,null,null,null,null,null,null,null,0]
[null,null,null,null,null,null,null,null,null,null,null,null,null,null,null,null,null,null,null,null,null,null,null,null,null,null,null,null,null,null,null,null,null,null,null,null,null,0]
[null,null,null,null,null,null,null,null,null,null,null,null,null,null,null,null,null,null,null,null,null,null,null,null,null,null,null,null,null,null,null,null,null,null,null,null,null,0]
[null,null,null,null,null,null,null,null,null,null,null,null,null,null,null,null,null,null,null,null,null,null,null,null,null,null,null,null,null,null,null,null,null,null,null,null,null,0]
[null,null,null,null,null,null,null,null,null,null,null,null,null,null,null,null,null,null,null,null,null,null,null,null,null,null,null,null,null,null,null,null,null,null,null,null,null,0]
[null,null,null,null,null,null,null,null,null,null,null,null,null,null,null,null,null,null,null,null,null,null,null,null,null,null,null,null,null,null,null,null,null,null,null,null,null,0]
[null,null,null,null,null,null,null,null,null,null,null,null,null,null,null,null,null,null,null,null,null,null,null,null,null,null,null,null,null,null,null,null,null,null,null,null,null,0]
[null,null,null,null,null,null,null,null,null,null,null,null,null,null,null,null,null,null,null,null,null,null,null,null,null,null,null,null,null,null,null,null,null,null,null,null,null,0]
[null,null,null,null,null,null,null,null,null,null,null,null,null,null,null,null,null,null,null,null,null,null,null,null,null,null,null,null,null,null,null,null,null,null,null,null,null,0]
[null,null,null,null,null,null,null,null,null,null,null,null,null,null,null,null,null,null,null,null,null,null,null,null,null,null,null,null,null,null,null,null,null,null,null,null,null,0]
[null,null,null,null,null,null,null,null,null,null,null,null,null,null,null,null,null,null,null,null,null,null,null,null,null,null,null,null,null,null,null,null,null,null,null,null,null,0]
[null,null,null,null,null,null,null,null,null,null,null,null,null,null,null,null,null,null,null,null,null,null,null,null,null,null,null,null,null,null,null,null,null,null,null,null,null,0]
[null,null,null,null,null,null,null,null,null,null,null,null,null,null,null,null,null,null,null,null,null,null,null,null,null,null,null,null,null,null,null,null,null,null,null,null,null,0]
[null,null,null,null,null,null,null,null,null,null,null,null,null,null,null,null,null,null,null,null,null,null,null,null,null,null,null,null,null,null,null,null,null,null,null,null,null,0]
[null,null,null,null,null,null,null,null,null,null,null,null,null,null,null,null,null,null,null,null,null,null,null,null,null,null,null,null,null,null,null,null,null,null,null,null,null,0]
[null,null,null,null,null,null,null,null,null,null,null,null,null,null,null,null,null,null,null,null,null,null,null,null,null,null,null,null,null,null,null,null,null,null,null,null,null,{"$f":"IF(Q643,V643-Q643,0)","v":0}]
[null,null,null,null,null,null,null,null,null,null,null,null,null,null,null,null,null,null,null,null,null,null,null,null,null,null,null,null,null,null,null,null,null,null,null,null,null,0]
[null,null,null,null,null,null,null,null,null,null,null,null,null,null,null,null,null,null,null,null,null,null,null,null,null,null,null,null,null,null,null,null,null,null,null,null,null,0]
[null,null,null,null,null,null,null,null,null,null,null,null,null,null,null,null,null,null,null,null,null,null,null,null,null,null,null,null,null,null,null,null,null,null,null,null,null,0]
[null,null,null,null,null,null,null,null,null,null,null,null,null,null,null,null,null,null,null,null,null,null,null,null,null,null,null,null,null,null,null,null,null,null,null,null,null,0]
[null,null,null,null,null,null,null,null,null,null,null,null,null,null,null,null,null,null,null,null,null,null,null,null,null,null,null,null,null,null,null,null,null,null,null,null,null,0]
[null,null,null,null,null,null,null,null,null,null,null,null,null,null,null,null,null,null,null,null,null,null,null,null,null,null,null,null,null,null,null,null,null,null,null,null,null,0]
[null,null,null,null,null,null,null,null,null,null,null,null,null,null,null,null,null,null,null,null,null,null,null,null,null,null,null,null,null,null,null,null,null,null,null,null,null,0]
[null,null,null,null,null,null,null,null,null,null,null,null,null,null,null,null,null,null,null,null,null,null,null,null,null,null,null,null,null,null,null,null,null,null,null,null,null,0]
[null,null,null,null,null,null,null,null,null,null,null,null,null,null,null,null,null,null,null,null,null,null,null,null,null,null,null,null,null,null,null,null,null,null,null,null,null,0]
[null,null,null,null,null,null,null,null,null,null,null,null,null,null,null,null,null,null,null,null,null,null,null,null,null,null,null,null,null,null,null,null,null,null,null,null,null,0]
[null,null,null,null,null,null,null,null,null,null,null,null,null,null,null,null,null,null,null,null,null,null,null,null,null,null,null,null,null,null,null,null,null,null,null,null,null,0]
[null,null,null,null,null,null,null,null,null,null,null,null,null,null,null,null,null,null,null,null,null,null,null,null,null,null,null,null,null,null,null,null,null,null,null,null,null,0]
[null,null,null,null,null,null,null,null,null,null,null,null,null,null,null,null,null,null,null,null,null,null,null,null,null,null,null,null,null,null,null,null,null,null,null,null,null,0]
[null,null,null,null,null,null,null,null,null,null,null,null,null,null,null,null,null,null,null,null,null,null,null,null,null,null,null,null,null,null,null,null,null,null,null,null,null,0]
[null,null,null,null,null,null,null,null,null,null,null,null,null,null,null,null,null,null,null,null,null,null,null,null,null,null,null,null,null,null,null,null,null,null,null,null,null,0]
[null,null,null,null,null,null,null,null,null,null,null,null,null,null,null,null,null,null,null,null,null,null,null,null,null,null,null,null,null,null,null,null,null,null,null,null,null,0]
[null,null,null,null,null,null,null,null,null,null,null,null,null,null,null,null,null,null,null,null,null,null,null,null,null,null,null,null,null,null,null,null,null,null,null,null,null,0]
[null,null,null,null,null,null,null,null,null,null,null,null,null,null,null,null,null,null,null,null,null,null,null,null,null,null,null,null,null,null,null,null,null,null,null,null,null,0]
[null,null,null,null,null,null,null,null,null,null,null,null,null,null,null,null,null,null,null,null,null,null,null,null,null,null,null,null,null,null,null,null,null,null,null,null,null,0]
[null,null,null,null,null,null,null,null,null,null,null,null,null,null,null,null,null,null,null,null,null,null,null,null,null,null,null,null,null,null,null,null,null,null,null,null,null,0]
[null,null,null,null,null,null,null,null,null,null,null,null,null,null,null,null,null,null,null,null,null,null,null,null,null,null,null,null,null,null,null,null,null,null,null,null,null,0]
[null,null,null,null,null,null,null,null,null,null,null,null,null,null,null,null,null,null,null,null,null,null,null,null,null,null,null,null,null,null,null,null,null,null,null,null,null,0]
[null,null,null,null,null,null,null,null,null,null,null,null,null,null,null,null,null,null,null,null,null,null,null,null,null,null,null,null,null,null,null,null,null,null,null,null,null,0]
[null,null,null,null,null,null,null,null,null,null,null,null,null,null,null,null,null,null,null,null,null,null,null,null,null,null,null,null,null,null,null,null,null,null,null,null,null,0]
[null,null,null,null,null,null,null,null,null,null,null,null,null,null,null,null,null,null,null,null,null,null,null,null,null,null,null,null,null,null,null,null,null,null,null,null,null,0]
[null,null,null,null,null,null,null,null,null,null,null,null,null,null,null,null,null,null,null,null,null,null,null,null,null,null,null,null,null,null,null,null,null,null,null,null,null,0]
[null,null,null,null,null,null,null,null,null,null,null,null,null,null,null,null,null,null,null,null,null,null,null,null,null,null,null,null,null,null,null,null,null,null,null,null,null,0]
[null,null,null,null,null,null,null,null,null,null,null,null,null,null,null,null,null,null,null,null,null,null,null,null,null,null,null,null,null,null,null,null,null,null,null,null,null,0]
[null,null,null,null,null,null,null,null,null,null,null,null,null,null,null,null,null,null,null,null,null,null,null,null,null,null,null,null,null,null,null,null,null,null,null,null,null,0]
[null,null,null,null,null,null,null,null,null,null,null,null,null,null,null,null,null,null,null,null,null,null,null,null,null,null,null,null,null,null,null,null,null,null,null,null,null,0]
[null,null,null,null,null,null,null,null,null,null,null,null,null,null,null,null,null,null,null,null,null,null,null,null,null,null,null,null,null,null,null,null,null,null,null,null,null,0]
[null,null,null,null,null,null,null,null,null,null,null,null,null,null,null,null,null,null,null,null,null,null,null,null,null,null,null,null,null,null,null,null,null,null,null,null,null,0]
[null,null,null,null,null,null,null,null,null,null,null,null,null,null,null,null,null,null,null,null,null,null,null,null,null,null,null,null,null,null,null,null,null,null,null,null,null,0]
[null,null,null,null,null,null,null,null,null,null,null,null,null,null,null,null,null,null,null,null,null,null,null,null,null,null,null,null,null,null,null,null,null,null,null,null,null,0]
[null,null,null,null,null,null,null,null,null,null,null,null,null,null,null,null,null,null,null,null,null,null,null,null,null,null,null,null,null,null,null,null,null,null,null,null,null,0]
[null,null,null,null,null,null,null,null,null,null,null,null,null,null,null,null,null,null,null,null,null,null,null,null,null,null,null,null,null,null,null,null,null,null,null,null,null,0]
[null,null,null,null,null,null,null,null,null,null,null,null,null,null,null,null,null,null,null,null,null,null,null,null,null,null,null,null,null,null,null,null,null,null,null,null,null,0]
[null,null,null,null,null,null,null,null,null,null,null,null,null,null,null,null,null,null,null,null,null,null,null,null,null,null,null,null,null,null,null,null,null,null,null,null,null,0]
[null,null,null,null,null,null,null,null,null,null,null,null,null,null,null,null,null,null,null,null,null,null,null,null,null,null,null,null,null,null,null,null,null,null,null,null,null,0]
[null,null,null,null,null,null,null,null,null,null,null,null,null,null,null,null,null,null,null,null,null,null,null,null,null,null,null,null,null,null,null,null,null,null,null,null,null,0]
[null,null,null,null,null,null,null,null,null,null,null,null,null,null,null,null,null,null,null,null,null,null,null,null,null,null,null,null,null,null,null,null,null,null,null,null,null,0]
[null,null,null,null,null,null,null,null,null,null,null,null,null,null,null,null,null,null,null,null,null,null,null,null,null,null,null,null,null,null,null,null,null,null,null,null,null,0]
[null,null,null,null,null,null,null,null,null,null,null,null,null,null,null,null,null,null,null,null,null,null,null,null,null,null,null,null,null,null,null,null,null,null,null,null,null,0]
[null,null,null,null,null,null,null,null,null,null,null,null,null,null,null,null,null,null,null,null,null,null,null,null,null,null,null,null,null,null,null,null,null,null,null,null,null,0]
[null,null,null,null,null,null,null,null,null,null,null,null,null,null,null,null,null,null,null,null,null,null,null,null,null,null,null,null,null,null,null,null,null,null,null,null,null,0]
[null,null,null,null,null,null,null,null,null,null,null,null,null,null,null,null,null,null,null,null,null,null,null,null,null,null,null,null,null,null,null,null,null,null,null,null,null,0]
[null,null,null,null,null,null,null,null,null,null,null,null,null,null,null,null,null,null,null,null,null,null,null,null,null,null,null,null,null,null,null,null,null,null,null,null,null,0]
[null,null,null,null,null,null,null,null,null,null,null,null,null,null,null,null,null,null,null,null,null,null,null,null,null,null,null,null,null,null,null,null,null,null,null,null,null,0]
[null,null,null,null,null,null,null,null,null,null,null,null,null,null,null,null,null,null,null,null,null,null,null,null,null,null,null,null,null,null,null,null,null,null,null,null,null,0]
[null,null,null,null,null,null,null,null,null,null,null,null,null,null,null,null,null,null,null,null,null,null,null,null,null,null,null,null,null,null,null,null,null,null,null,null,null,0]
[null,null,null,null,null,null,null,null,null,null,null,null,null,null,null,null,null,null,null,null,null,null,null,null,null,null,null,null,null,null,null,null,null,null,null,null,null,0]
[null,null,null,null,null,null,null,null,null,null,null,null,null,null,null,null,null,null,null,null,null,null,null,null,null,null,null,null,null,null,null,null,null,null,null,null,null,0]
[null,null,null,null,null,null,null,null,null,null,null,null,null,null,null,null,null,null,null,null,null,null,null,null,null,null,null,null,null,null,null,null,null,null,null,null,null,0]
[null,null,null,null,null,null,null,null,null,null,null,null,null,null,null,null,null,null,null,null,null,null,null,null,null,null,null,null,null,null,null,null,null,null,null,null,null,0]
[null,null,null,null,null,null,null,null,null,null,null,null,null,null,null,null,null,null,null,null,null,null,null,null,null,null,null,null,null,null,null,null,null,null,null,null,null,0]
[null,null,null,null,null,null,null,null,null,null,null,null,null,null,null,null,null,null,null,null,null,null,null,null,null,null,null,null,null,null,null,null,null,null,null,null,null,0]
[null,null,null,null,null,null,null,null,null,null,null,null,null,null,null,null,null,null,null,null,null,null,null,null,null,null,null,null,null,null,null,null,null,null,null,null,null,0]
[null,null,null,null,null,null,null,null,null,null,null,null,null,null,null,null,null,null,null,null,null,null,null,null,null,null,null,null,null,null,null,null,null,null,null,null,null,0]
[null,null,null,null,null,null,null,null,null,null,null,null,null,null,null,null,null,null,null,null,null,null,null,null,null,null,null,null,null,null,null,null,null,null,null,null,null,0]
[null,null,null,null,null,null,null,null,null,null,null,null,null,null,null,null,null,null,null,null,null,null,null,null,null,null,null,null,null,null,null,null,null,null,null,null,null,0]
[null,null,null,null,null,null,null,null,null,null,null,null,null,null,null,null,null,null,null,null,null,null,null,null,null,null,null,null,null,null,null,null,null,null,null,null,null,0]
[null,null,null,null,null,null,null,null,null,null,null,null,null,null,null,null,null,null,null,null,null,null,null,null,null,null,null,null,null,null,null,null,null,null,null,null,null,0]
[null,null,null,null,null,null,null,null,null,null,null,null,null,null,null,null,null,null,null,null,null,null,null,null,null,null,null,null,null,null,null,null,null,null,null,null,null,0]
[null,null,null,null,null,null,null,null,null,null,null,null,null,null,null,null,null,null,null,null,null,null,null,null,null,null,null,null,null,null,null,null,null,null,null,null,null,{"$f":"IF(Q707,V707-Q707,0)","v":0}]
[null,null,null,null,null,null,null,null,null,null,null,null,null,null,null,null,null,null,null,null,null,null,null,null,null,null,null,null,null,null,null,null,null,null,null,null,null,0]
[null,null,null,null,null,null,null,null,null,null,null,null,null,null,null,null,null,null,null,null,null,null,null,null,null,null,null,null,null,null,null,null,null,null,null,null,null,0]
[null,null,null,null,null,null,null,null,null,null,null,null,null,null,null,null,null,null,null,null,null,null,null,null,null,null,null,null,null,null,null,null,null,null,null,null,null,0]
[null,null,null,null,null,null,null,null,null,null,null,null,null,null,null,null,null,null,null,null,null,null,null,null,null,null,null,null,null,null,null,null,null,null,null,null,null,0]
[null,null,null,null,null,null,null,null,null,null,null,null,null,null,null,null,null,null,null,null,null,null,null,null,null,null,null,null,null,null,null,null,null,null,null,null,null,0]
[null,null,null,null,null,null,null,null,null,null,null,null,null,null,null,null,null,null,null,null,null,null,null,null,null,null,null,null,null,null,null,null,null,null,null,null,null,0]
[null,null,null,null,null,null,null,null,null,null,null,null,null,null,null,null,null,null,null,null,null,null,null,null,null,null,null,null,null,null,null,null,null,null,null,null,null,0]
[null,null,null,null,null,null,null,null,null,null,null,null,null,null,null,null,null,null,null,null,null,null,null,null,null,null,null,null,null,null,null,null,null,null,null,null,null,0]
[null,null,null,null,null,null,null,null,null,null,null,null,null,null,null,null,null,null,null,null,null,null,null,null,null,null,null,null,null,null,null,null,null,null,null,null,null,0]
[null,null,null,null,null,null,null,null,null,null,null,null,null,null,null,null,null,null,null,null,null,null,null,null,null,null,null,null,null,null,null,null,null,null,null,null,null,0]
[null,null,null,null,null,null,null,null,null,null,null,null,null,null,null,null,null,null,null,null,null,null,null,null,null,null,null,null,null,null,null,null,null,null,null,null,null,0]
[null,null,null,null,null,null,null,null,null,null,null,null,null,null,null,null,null,null,null,null,null,null,null,null,null,null,null,null,null,null,null,null,null,null,null,null,null,0]
[null,null,null,null,null,null,null,null,null,null,null,null,null,null,null,null,null,null,null,null,null,null,null,null,null,null,null,null,null,null,null,null,null,null,null,null,null,0]
[null,null,null,null,null,null,null,null,null,null,null,null,null,null,null,null,null,null,null,null,null,null,null,null,null,null,null,null,null,null,null,null,null,null,null,null,null,0]
[null,null,null,null,null,null,null,null,null,null,null,null,null,null,null,null,null,null,null,null,null,null,null,null,null,null,null,null,null,null,null,null,null,null,null,null,null,0]
[null,null,null,null,null,null,null,null,null,null,null,null,null,null,null,null,null,null,null,null,null,null,null,null,null,null,null,null,null,null,null,null,null,null,null,null,null,0]
[null,null,null,null,null,null,null,null,null,null,null,null,null,null,null,null,null,null,null,null,null,null,null,null,null,null,null,null,null,null,null,null,null,null,null,null,null,0]
[null,null,null,null,null,null,null,null,null,null,null,null,null,null,null,null,null,null,null,null,null,null,null,null,null,null,null,null,null,null,null,null,null,null,null,null,null,0]
[null,null,null,null,null,null,null,null,null,null,null,null,null,null,null,null,null,null,null,null,null,null,null,null,null,null,null,null,null,null,null,null,null,null,null,null,null,0]
[null,null,null,null,null,null,null,null,null,null,null,null,null,null,null,null,null,null,null,null,null,null,null,null,null,null,null,null,null,null,null,null,null,null,null,null,null,0]
[null,null,null,null,null,null,null,null,null,null,null,null,null,null,null,null,null,null,null,null,null,null,null,null,null,null,null,null,null,null,null,null,null,null,null,null,null,0]
[null,null,null,null,null,null,null,null,null,null,null,null,null,null,null,null,null,null,null,null,null,null,null,null,null,null,null,null,null,null,null,null,null,null,null,null,null,0]
[null,null,null,null,null,null,null,null,null,null,null,null,null,null,null,null,null,null,null,null,null,null,null,null,null,null,null,null,null,null,null,null,null,null,null,null,null,0]
[null,null,null,null,null,null,null,null,null,null,null,null,null,null,null,null,null,null,null,null,null,null,null,null,null,null,null,null,null,null,null,null,null,null,null,null,null,0]
[null,null,null,null,null,null,null,null,null,null,null,null,null,null,null,null,null,null,null,null,null,null,null,null,null,null,null,null,null,null,null,null,null,null,null,null,null,0]
[null,null,null,null,null,null,null,null,null,null,null,null,null,null,null,null,null,null,null,null,null,null,null,null,null,null,null,null,null,null,null,null,null,null,null,null,null,0]
[null,null,null,null,null,null,null,null,null,null,null,null,null,null,null,null,null,null,null,null,null,null,null,null,null,null,null,null,null,null,null,null,null,null,null,null,null,0]
[null,null,null,null,null,null,null,null,null,null,null,null,null,null,null,null,null,null,null,null,null,null,null,null,null,null,null,null,null,null,null,null,null,null,null,null,null,0]
[null,null,null,null,null,null,null,null,null,null,null,null,null,null,null,null,null,null,null,null,null,null,null,null,null,null,null,null,null,null,null,null,null,null,null,null,null,0]
[null,null,null,null,null,null,null,null,null,null,null,null,null,null,null,null,null,null,null,null,null,null,null,null,null,null,null,null,null,null,null,null,null,null,null,null,null,0]
[null,null,null,null,null,null,null,null,null,null,null,null,null,null,null,null,null,null,null,null,null,null,null,null,null,null,null,null,null,null,null,null,null,null,null,null,null,0]
[null,null,null,null,null,null,null,null,null,null,null,null,null,null,null,null,null,null,null,null,null,null,null,null,null,null,null,null,null,null,null,null,null,null,null,null,null,0]
[null,null,null,null,null,null,null,null,null,null,null,null,null,null,null,null,null,null,null,null,null,null,null,null,null,null,null,null,null,null,null,null,null,null,null,null,null,0]
[null,null,null,null,null,null,null,null,null,null,null,null,null,null,null,null,null,null,null,null,null,null,null,null,null,null,null,null,null,null,null,null,null,null,null,null,null,0]
[null,null,null,null,null,null,null,null,null,null,null,null,null,null,null,null,null,null,null,null,null,null,null,null,null,null,null,null,null,null,null,null,null,null,null,null,null,0]
[null,null,null,null,null,null,null,null,null,null,null,null,null,null,null,null,null,null,null,null,null,null,null,null,null,null,null,null,null,null,null,null,null,null,null,null,null,0]
[null,null,null,null,null,null,null,null,null,null,null,null,null,null,null,null,null,null,null,null,null,null,null,null,null,null,null,null,null,null,null,null,null,null,null,null,null,0]
[null,null,null,null,null,null,null,null,null,null,null,null,null,null,null,null,null,null,null,null,null,null,null,null,null,null,null,null,null,null,null,null,null,null,null,null,null,0]
[null,null,null,null,null,null,null,null,null,null,null,null,null,null,null,null,null,null,null,null,null,null,null,null,null,null,null,null,null,null,null,null,null,null,null,null,null,0]
[null,null,null,null,null,null,null,null,null,null,null,null,null,null,null,null,null,null,null,null,null,null,null,null,null,null,null,null,null,null,null,null,null,null,null,null,null,0]
[null,null,null,null,null,null,null,null,null,null,null,null,null,null,null,null,null,null,null,null,null,null,null,null,null,null,null,null,null,null,null,null,null,null,null,null,null,0]
[null,null,null,null,null,null,null,null,null,null,null,null,null,null,null,null,null,null,null,null,null,null,null,null,null,null,null,null,null,null,null,null,null,null,null,null,null,0]
[null,null,null,null,null,null,null,null,null,null,null,null,null,null,null,null,null,null,null,null,null,null,null,null,null,null,null,null,null,null,null,null,null,null,null,null,null,0]
[null,null,null,null,null,null,null,null,null,null,null,null,null,null,null,null,null,null,null,null,null,null,null,null,null,null,null,null,null,null,null,null,null,null,null,null,null,0]
[null,null,null,null,null,null,null,null,null,null,null,null,null,null,null,null,null,null,null,null,null,null,null,null,null,null,null,null,null,null,null,null,null,null,null,null,null,0]
[null,null,null,null,null,null,null,null,null,null,null,null,null,null,null,null,null,null,null,null,null,null,null,null,null,null,null,null,null,null,null,null,null,null,null,null,null,0]
[null,null,null,null,null,null,null,null,null,null,null,null,null,null,null,null,null,null,null,null,null,null,null,null,null,null,null,null,null,null,null,null,null,null,null,null,null,0]
[null,null,null,null,null,null,null,null,null,null,null,null,null,null,null,null,null,null,null,null,null,null,null,null,null,null,null,null,null,null,null,null,null,null,null,null,null,0]
[null,null,null,null,null,null,null,null,null,null,null,null,null,null,null,null,null,null,null,null,null,null,null,null,null,null,null,null,null,null,null,null,null,null,null,null,null,0]
[null,null,null,null,null,null,null,null,null,null,null,null,null,null,null,null,null,null,null,null,null,null,null,null,null,null,null,null,null,null,null,null,null,null,null,null,null,0]
[null,null,null,null,null,null,null,null,null,null,null,null,null,null,null,null,null,null,null,null,null,null,null,null,null,null,null,null,null,null,null,null,null,null,null,null,null,0]
[null,null,null,null,null,null,null,null,null,null,null,null,null,null,null,null,null,null,null,null,null,null,null,null,null,null,null,null,null,null,null,null,null,null,null,null,null,0]
[null,null,null,null,null,null,null,null,null,null,null,null,null,null,null,null,null,null,null,null,null,null,null,null,null,null,null,null,null,null,null,null,null,null,null,null,null,0]
[null,null,null,null,null,null,null,null,null,null,null,null,null,null,null,null,null,null,null,null,null,null,null,null,null,null,null,null,null,null,null,null,null,null,null,null,null,0]
[null,null,null,null,null,null,null,null,null,null,null,null,null,null,null,null,null,null,null,null,null,null,null,null,null,null,null,null,null,null,null,null,null,null,null,null,null,0]
[null,null,null,null,null,null,null,null,null,null,null,null,null,null,null,null,null,null,null,null,null,null,null,null,null,null,null,null,null,null,null,null,null,null,null,null,null,0]
[null,null,null,null,null,null,null,null,null,null,null,null,null,null,null,null,null,null,null,null,null,null,null,null,null,null,null,null,null,null,null,null,null,null,null,null,null,0]
[null,null,null,null,null,null,null,null,null,null,null,null,null,null,null,null,null,null,null,null,null,null,null,null,null,null,null,null,null,null,null,null,null,null,null,null,null,0]
[null,null,null,null,null,null,null,null,null,null,null,null,null,null,null,null,null,null,null,null,null,null,null,null,null,null,null,null,null,null,null,null,null,null,null,null,null,0]
[null,null,null,null,null,null,null,null,null,null,null,null,null,null,null,null,null,null,null,null,null,null,null,null,null,null,null,null,null,null,null,null,null,null,null,null,null,0]
[null,null,null,null,null,null,null,null,null,null,null,null,null,null,null,null,null,null,null,null,null,null,null,null,null,null,null,null,null,null,null,null,null,null,null,null,null,0]
[null,null,null,null,null,null,null,null,null,null,null,null,null,null,null,null,null,null,null,null,null,null,null,null,null,null,null,null,null,null,null,null,null,null,null,null,null,0]
[null,null,null,null,null,null,null,null,null,null,null,null,null,null,null,null,null,null,null,null,null,null,null,null,null,null,null,null,null,null,null,null,null,null,null,null,null,0]
[null,null,null,null,null,null,null,null,null,null,null,null,null,null,null,null,null,null,null,null,null,null,null,null,null,null,null,null,null,null,null,null,null,null,null,null,null,{"$f":"IF(Q771,V771-Q771,0)","v":0}]
[null,null,null,null,null,null,null,null,null,null,null,null,null,null,null,null,null,null,null,null,null,null,null,null,null,null,null,null,null,null,null,null,null,null,null,null,null,0]
[null,null,null,null,null,null,null,null,null,null,null,null,null,null,null,null,null,null,null,null,null,null,null,null,null,null,null,null,null,null,null,null,null,null,null,null,null,0]
[null,null,null,null,null,null,null,null,null,null,null,null,null,null,null,null,null,null,null,null,null,null,null,null,null,null,null,null,null,null,null,null,null,null,null,null,null,0]
[null,null,null,null,null,null,null,null,null,null,null,null,null,null,null,null,null,null,null,null,null,null,null,null,null,null,null,null,null,null,null,null,null,null,null,null,null,0]
[null,null,null,null,null,null,null,null,null,null,null,null,null,null,null,null,null,null,null,null,null,null,null,null,null,null,null,null,null,null,null,null,null,null,null,null,null,0]
[null,null,null,null,null,null,null,null,null,null,null,null,null,null,null,null,null,null,null,null,null,null,null,null,null,null,null,null,null,null,null,null,null,null,null,null,null,0]
[null,null,null,null,null,null,null,null,null,null,null,null,null,null,null,null,null,null,null,null,null,null,null,null,null,null,null,null,null,null,null,null,null,null,null,null,null,0]
[null,null,null,null,null,null,null,null,null,null,null,null,null,null,null,null,null,null,null,null,null,null,null,null,null,null,null,null,null,null,null,null,null,null,null,null,null,0]
[null,null,null,null,null,null,null,null,null,null,null,null,null,null,null,null,null,null,null,null,null,null,null,null,null,null,null,null,null,null,null,null,null,null,null,null,null,0]
[null,null,null,null,null,null,null,null,null,null,null,null,null,null,null,null,null,null,null,null,null,null,null,null,null,null,null,null,null,null,null,null,null,null,null,null,null,0]
[null,null,null,null,null,null,null,null,null,null,null,null,null,null,null,null,null,null,null,null,null,null,null,null,null,null,null,null,null,null,null,null,null,null,null,null,null,0]
[null,null,null,null,null,null,null,null,null,null,null,null,null,null,null,null,null,null,null,null,null,null,null,null,null,null,null,null,null,null,null,null,null,null,null,null,null,0]
[null,null,null,null,null,null,null,null,null,null,null,null,null,null,null,null,null,null,null,null,null,null,null,null,null,null,null,null,null,null,null,null,null,null,null,null,null,0]
[null,null,null,null,null,null,null,null,null,null,null,null,null,null,null,null,null,null,null,null,null,null,null,null,null,null,null,null,null,null,null,null,null,null,null,null,null,0]
[null,null,null,null,null,null,null,null,null,null,null,null,null,null,null,null,null,null,null,null,null,null,null,null,null,null,null,null,null,null,null,null,null,null,null,null,null,0]
[null,null,null,null,null,null,null,null,null,null,null,null,null,null,null,null,null,null,null,null,null,null,null,null,null,null,null,null,null,null,null,null,null,null,null,null,null,0]
[null,null,null,null,null,null,null,null,null,null,null,null,null,null,null,null,null,null,null,null,null,null,null,null,null,null,null,null,null,null,null,null,null,null,null,null,null,0]
[null,null,null,null,null,null,null,null,null,null,null,null,null,null,null,null,null,null,null,null,null,null,null,null,null,null,null,null,null,null,null,null,null,null,null,null,null,0]
[null,null,null,null,null,null,null,null,null,null,null,null,null,null,null,null,null,null,null,null,null,null,null,null,null,null,null,null,null,null,null,null,null,null,null,null,null,0]
[null,null,null,null,null,null,null,null,null,null,null,null,null,null,null,null,null,null,null,null,null,null,null,null,null,null,null,null,null,null,null,null,null,null,null,null,null,0]
[null,null,null,null,null,null,null,null,null,null,null,null,null,null,null,null,null,null,null,null,null,null,null,null,null,null,null,null,null,null,null,null,null,null,null,null,null,0]
[null,null,null,null,null,null,null,null,null,null,null,null,null,null,null,null,null,null,null,null,null,null,null,null,null,null,null,null,null,null,null,null,null,null,null,null,null,0]
[null,null,null,null,null,null,null,null,null,null,null,null,null,null,null,null,null,null,null,null,null,null,null,null,null,null,null,null,null,null,null,null,null,null,null,null,null,0]
[null,null,null,null,null,null,null,null,null,null,null,null,null,null,null,null,null,null,null,null,null,null,null,null,null,null,null,null,null,null,null,null,null,null,null,null,null,0]
[null,null,null,null,null,null,null,null,null,null,null,null,null,null,null,null,null,null,null,null,null,null,null,null,null,null,null,null,null,null,null,null,null,null,null,null,null,0]
[null,null,null,null,null,null,null,null,null,null,null,null,null,null,null,null,null,null,null,null,null,null,null,null,null,null,null,null,null,null,null,null,null,null,null,null,null,0]
[null,null,null,null,null,null,null,null,null,null,null,null,null,null,null,null,null,null,null,null,null,null,null,null,null,null,null,null,null,null,null,null,null,null,null,null,null,0]
[null,null,null,null,null,null,null,null,null,null,null,null,null,null,null,null,null,null,null,null,null,null,null,null,null,null,null,null,null,null,null,null,null,null,null,null,null,0]
[null,null,null,null,null,null,null,null,null,null,null,null,null,null,null,null,null,null,null,null,null,null,null,null,null,null,null,null,null,null,null,null,null,null,null,null,null,0]
[null,null,null,null,null,null,null,null,null,null,null,null,null,null,null,null,null,null,null,null,null,null,null,null,null,null,null,null,null,null,null,null,null,null,null,null,null,0]
[null,null,null,null,null,null,null,null,null,null,null,null,null,null,null,null,null,null,null,null,null,null,null,null,null,null,null,null,null,null,null,null,null,null,null,null,null,0]
[null,null,null,null,null,null,null,null,null,null,null,null,null,null,null,null,null,null,null,null,null,null,null,null,null,null,null,null,null,null,null,null,null,null,null,null,null,0]
[null,null,null,null,null,null,null,null,null,null,null,null,null,null,null,null,null,null,null,null,null,null,null,null,null,null,null,null,null,null,null,null,null,null,null,null,null,0]
[null,null,null,null,null,null,null,null,null,null,null,null,null,null,null,null,null,null,null,null,null,null,null,null,null,null,null,null,null,null,null,null,null,null,null,null,null,0]
[null,null,null,null,null,null,null,null,null,null,null,null,null,null,null,null,null,null,null,null,null,null,null,null,null,null,null,null,null,null,null,null,null,null,null,null,null,0]
[null,null,null,null,null,null,null,null,null,null,null,null,null,null,null,null,null,null,null,null,null,null,null,null,null,null,null,null,null,null,null,null,null,null,null,null,null,0]
[null,null,null,null,null,null,null,null,null,null,null,null,null,null,null,null,null,null,null,null,null,null,null,null,null,null,null,null,null,null,null,null,null,null,null,null,null,0]
[null,null,null,null,null,null,null,null,null,null,null,null,null,null,null,null,null,null,null,null,null,null,null,null,null,null,null,null,null,null,null,null,null,null,null,null,null,0]
[null,null,null,null,null,null,null,null,null,null,null,null,null,null,null,null,null,null,null,null,null,null,null,null,null,null,null,null,null,null,null,null,null,null,null,null,null,0]
[null,null,null,null,null,null,null,null,null,null,null,null,null,null,null,null,null,null,null,null,null,null,null,null,null,null,null,null,null,null,null,null,null,null,null,null,null,0]
[null,null,null,null,null,null,null,null,null,null,null,null,null,null,null,null,null,null,null,null,null,null,null,null,null,null,null,null,null,null,null,null,null,null,null,null,null,0]
[null,null,null,null,null,null,null,null,null,null,null,null,null,null,null,null,null,null,null,null,null,null,null,null,null,null,null,null,null,null,null,null,null,null,null,null,null,0]
[null,null,null,null,null,null,null,null,null,null,null,null,null,null,null,null,null,null,null,null,null,null,null,null,null,null,null,null,null,null,null,null,null,null,null,null,null,0]
[null,null,null,null,null,null,null,null,null,null,null,null,null,null,null,null,null,null,null,null,null,null,null,null,null,null,null,null,null,null,null,null,null,null,null,null,null,0]
[null,null,null,null,null,null,null,null,null,null,null,null,null,null,null,null,null,null,null,null,null,null,null,null,null,null,null,null,null,null,null,null,null,null,null,null,null,0]
[null,null,null,null,null,null,null,null,null,null,null,null,null,null,null,null,null,null,null,null,null,null,null,null,null,null,null,null,null,null,null,null,null,null,null,null,null,0]
[null,null,null,null,null,null,null,null,null,null,null,null,null,null,null,null,null,null,null,null,null,null,null,null,null,null,null,null,null,null,null,null,null,null,null,null,null,0]
[null,null,null,null,null,null,null,null,null,null,null,null,null,null,null,null,null,null,null,null,null,null,null,null,null,null,null,null,null,null,null,null,null,null,null,null,null,0]
[null,null,null,null,null,null,null,null,null,null,null,null,null,null,null,null,null,null,null,null,null,null,null,null,null,null,null,null,null,null,null,null,null,null,null,null,null,0]
[null,null,null,null,null,null,null,null,null,null,null,null,null,null,null,null,null,null,null,null,null,null,null,null,null,null,null,null,null,null,null,null,null,null,null,null,null,0]
[null,null,null,null,null,null,null,null,null,null,null,null,null,null,null,null,null,null,null,null,null,null,null,null,null,null,null,null,null,null,null,null,null,null,null,null,null,0]
[null,null,null,null,null,null,null,null,null,null,null,null,null,null,null,null,null,null,null,null,null,null,null,null,null,null,null,null,null,null,null,null,null,null,null,null,null,0]
[null,null,null,null,null,null,null,null,null,null,null,null,null,null,null,null,null,null,null,null,null,null,null,null,null,null,null,null,null,null,null,null,null,null,null,null,null,0]
[null,null,null,null,null,null,null,null,null,null,null,null,null,null,null,null,null,null,null,null,null,null,null,null,null,null,null,null,null,null,null,null,null,null,null,null,null,0]
[null,null,null,null,null,null,null,null,null,null,null,null,null,null,null,null,null,null,null,null,null,null,null,null,null,null,null,null,null,null,null,null,null,null,null,null,null,0]
[null,null,null,null,null,null,null,null,null,null,null,null,null,null,null,null,null,null,null,null,null,null,null,null,null,null,null,null,null,null,null,null,null,null,null,null,null,0]
[null,null,null,null,null,null,null,null,null,null,null,null,null,null,null,null,null,null,null,null,null,null,null,null,null,null,null,null,null,null,null,null,null,null,null,null,null,0]
[null,null,null,null,null,null,null,null,null,null,null,null,null,null,null,null,null,null,null,null,null,null,null,null,null,null,null,null,null,null,null,null,null,null,null,null,null,0]
[null,null,null,null,null,null,null,null,null,null,null,null,null,null,null,null,null,null,null,null,null,null,null,null,null,null,null,null,null,null,null,null,null,null,null,null,null,0]
[null,null,null,null,null,null,null,null,null,null,null,null,null,null,null,null,null,null,null,null,null,null,null,null,null,null,null,null,null,null,null,null,null,null,null,null,null,0]
[null,null,null,null,null,null,null,null,null,null,null,null,null,null,null,null,null,null,null,null,null,null,null,null,null,null,null,null,null,null,null,null,null,null,null,null,null,0]
[null,null,null,null,null,null,null,null,null,null,null,null,null,null,null,null,null,null,null,null,null,null,null,null,null,null,null,null,null,null,null,null,null,null,null,null,null,0]
[null,null,null,null,null,null,null,null,null,null,null,null,null,null,null,null,null,null,null,null,null,null,null,null,null,null,null,null,null,null,null,null,null,null,null,null,null,0]
[null,null,null,null,null,null,null,null,null,null,null,null,null,null,null,null,null,null,null,null,null,null,null,null,null,null,null,null,null,null,null,null,null,null,null,null,null,{"$f":"IF(Q835,V835-Q835,0)","v":0}]
[null,null,null,null,null,null,null,null,null,null,null,null,null,null,null,null,null,null,null,null,null,null,null,null,null,null,null,null,null,null,null,null,null,null,null,null,null,0]
[null,null,null,null,null,null,null,null,null,null,null,null,null,null,null,null,null,null,null,null,null,null,null,null,null,null,null,null,null,null,null,null,null,null,null,null,null,0]
[null,null,null,null,null,null,null,null,null,null,null,null,null,null,null,null,null,null,null,null,null,null,null,null,null,null,null,null,null,null,null,null,null,null,null,null,null,0]
[null,null,null,null,null,null,null,null,null,null,null,null,null,null,null,null,null,null,null,null,null,null,null,null,null,null,null,null,null,null,null,null,null,null,null,null,null,0]
[null,null,null,null,null,null,null,null,null,null,null,null,null,null,null,null,null,null,null,null,null,null,null,null,null,null,null,null,null,null,null,null,null,null,null,null,null,0]
[null,null,null,null,null,null,null,null,null,null,null,null,null,null,null,null,null,null,null,null,null,null,null,null,null,null,null,null,null,null,null,null,null,null,null,null,null,0]
[null,null,null,null,null,null,null,null,null,null,null,null,null,null,null,null,null,null,null,null,null,null,null,null,null,null,null,null,null,null,null,null,null,null,null,null,null,0]
[null,null,null,null,null,null,null,null,null,null,null,null,null,null,null,null,null,null,null,null,null,null,null,null,null,null,null,null,null,null,null,null,null,null,null,null,null,0]
[null,null,null,null,null,null,null,null,null,null,null,null,null,null,null,null,null,null,null,null,null,null,null,null,null,null,null,null,null,null,null,null,null,null,null,null,null,0]
[null,null,null,null,null,null,null,null,null,null,null,null,null,null,null,null,null,null,null,null,null,null,null,null,null,null,null,null,null,null,null,null,null,null,null,null,null,0]
[null,null,null,null,null,null,null,null,null,null,null,null,null,null,null,null,null,null,null,null,null,null,null,null,null,null,null,null,null,null,null,null,null,null,null,null,null,0]
[null,null,null,null,null,null,null,null,null,null,null,null,null,null,null,null,null,null,null,null,null,null,null,null,null,null,null,null,null,null,null,null,null,null,null,null,null,0]
[null,null,null,null,null,null,null,null,null,null,null,null,null,null,null,null,null,null,null,null,null,null,null,null,null,null,null,null,null,null,null,null,null,null,null,null,null,0]
[null,null,null,null,null,null,null,null,null,null,null,null,null,null,null,null,null,null,null,null,null,null,null,null,null,null,null,null,null,null,null,null,null,null,null,null,null,0]
[null,null,null,null,null,null,null,null,null,null,null,null,null,null,null,null,null,null,null,null,null,null,null,null,null,null,null,null,null,null,null,null,null,null,null,null,null,0]
[null,null,null,null,null,null,null,null,null,null,null,null,null,null,null,null,null,null,null,null,null,null,null,null,null,null,null,null,null,null,null,null,null,null,null,null,null,0]
[null,null,null,null,null,null,null,null,null,null,null,null,null,null,null,null,null,null,null,null,null,null,null,null,null,null,null,null,null,null,null,null,null,null,null,null,null,0]
[null,null,null,null,null,null,null,null,null,null,null,null,null,null,null,null,null,null,null,null,null,null,null,null,null,null,null,null,null,null,null,null,null,null,null,null,null,0]
[null,null,null,null,null,null,null,null,null,null,null,null,null,null,null,null,null,null,null,null,null,null,null,null,null,null,null,null,null,null,null,null,null,null,null,null,null,0]
[null,null,null,null,null,null,null,null,null,null,null,null,null,null,null,null,null,null,null,null,null,null,null,null,null,null,null,null,null,null,null,null,null,null,null,null,null,0]
[null,null,null,null,null,null,null,null,null,null,null,null,null,null,null,null,null,null,null,null,null,null,null,null,null,null,null,null,null,null,null,null,null,null,null,null,null,0]
[null,null,null,null,null,null,null,null,null,null,null,null,null,null,null,null,null,null,null,null,null,null,null,null,null,null,null,null,null,null,null,null,null,null,null,null,null,0]
[null,null,null,null,null,null,null,null,null,null,null,null,null,null,null,null,null,null,null,null,null,null,null,null,null,null,null,null,null,null,null,null,null,null,null,null,null,0]
[null,null,null,null,null,null,null,null,null,null,null,null,null,null,null,null,null,null,null,null,null,null,null,null,null,null,null,null,null,null,null,null,null,null,null,null,null,0]
[null,null,null,null,null,null,null,null,null,null,null,null,null,null,null,null,null,null,null,null,null,null,null,null,null,null,null,null,null,null,null,null,null,null,null,null,null,0]
[null,null,null,null,null,null,null,null,null,null,null,null,null,null,null,null,null,null,null,null,null,null,null,null,null,null,null,null,null,null,null,null,null,null,null,null,null,0]
[null,null,null,null,null,null,null,null,null,null,null,null,null,null,null,null,null,null,null,null,null,null,null,null,null,null,null,null,null,null,null,null,null,null,null,null,null,0]
[null,null,null,null,null,null,null,null,null,null,null,null,null,null,null,null,null,null,null,null,null,null,null,null,null,null,null,null,null,null,null,null,null,null,null,null,null,0]
[null,null,null,null,null,null,null,null,null,null,null,null,null,null,null,null,null,null,null,null,null,null,null,null,null,null,null,null,null,null,null,null,null,null,null,null,null,0]
[null,null,null,null,null,null,null,null,null,null,null,null,null,null,null,null,null,null,null,null,null,null,null,null,null,null,null,null,null,null,null,null,null,null,null,null,null,0]
[null,null,null,null,null,null,null,null,null,null,null,null,null,null,null,null,null,null,null,null,null,null,null,null,null,null,null,null,null,null,null,null,null,null,null,null,null,0]
[null,null,null,null,null,null,null,null,null,null,null,null,null,null,null,null,null,null,null,null,null,null,null,null,null,null,null,null,null,null,null,null,null,null,null,null,null,0]
[null,null,null,null,null,null,null,null,null,null,null,null,null,null,null,null,null,null,null,null,null,null,null,null,null,null,null,null,null,null,null,null,null,null,null,null,null,0]
[null,null,null,null,null,null,null,null,null,null,null,null,null,null,null,null,null,null,null,null,null,null,null,null,null,null,null,null,null,null,null,null,null,null,null,null,null,0]
[null,null,null,null,null,null,null,null,null,null,null,null,null,null,null,null,null,null,null,null,null,null,null,null,null,null,null,null,null,null,null,null,null,null,null,null,null,0]
[null,null,null,null,null,null,null,null,null,null,null,null,null,null,null,null,null,null,null,null,null,null,null,null,null,null,null,null,null,null,null,null,null,null,null,null,null,0]
[null,null,null,null,null,null,null,null,null,null,null,null,null,null,null,null,null,null,null,null,null,null,null,null,null,null,null,null,null,null,null,null,null,null,null,null,null,0]
[null,null,null,null,null,null,null,null,null,null,null,null,null,null,null,null,null,null,null,null,null,null,null,null,null,null,null,null,null,null,null,null,null,null,null,null,null,0]
[null,null,null,null,null,null,null,null,null,null,null,null,null,null,null,null,null,null,null,null,null,null,null,null,null,null,null,null,null,null,null,null,null,null,null,null,null,0]
[null,null,null,null,null,null,null,null,null,null,null,null,null,null,null,null,null,null,null,null,null,null,null,null,null,null,null,null,null,null,null,null,null,null,null,null,null,0]
[null,null,null,null,null,null,null,null,null,null,null,null,null,null,null,null,null,null,null,null,null,null,null,null,null,null,null,null,null,null,null,null,null,null,null,null,null,0]
[null,null,null,null,null,null,null,null,null,null,null,null,null,null,null,null,null,null,null,null,null,null,null,null,null,null,null,null,null,null,null,null,null,null,null,null,null,0]
[null,null,null,null,null,null,null,null,null,null,null,null,null,null,null,null,null,null,null,null,null,null,null,null,null,null,null,null,null,null,null,null,null,null,null,null,null,0]
[null,null,null,null,null,null,null,null,null,null,null,null,null,null,null,null,null,null,null,null,null,null,null,null,null,null,null,null,null,null,null,null,null,null,null,null,null,0]
[null,null,null,null,null,null,null,null,null,null,null,null,null,null,null,null,null,null,null,null,null,null,null,null,null,null,null,null,null,null,null,null,null,null,null,null,null,0]
[null,null,null,null,null,null,null,null,null,null,null,null,null,null,null,null,null,null,null,null,null,null,null,null,null,null,null,null,null,null,null,null,null,null,null,null,null,0]
[null,null,null,null,null,null,null,null,null,null,null,null,null,null,null,null,null,null,null,null,null,null,null,null,null,null,null,null,null,null,null,null,null,null,null,null,null,0]
[null,null,null,null,null,null,null,null,null,null,null,null,null,null,null,null,null,null,null,null,null,null,null,null,null,null,null,null,null,null,null,null,null,null,null,null,null,0]
[null,null,null,null,null,null,null,null,null,null,null,null,null,null,null,null,null,null,null,null,null,null,null,null,null,null,null,null,null,null,null,null,null,null,null,null,null,0]
[null,null,null,null,null,null,null,null,null,null,null,null,null,null,null,null,null,null,null,null,null,null,null,null,null,null,null,null,null,null,null,null,null,null,null,null,null,0]
[null,null,null,null,null,null,null,null,null,null,null,null,null,null,null,null,null,null,null,null,null,null,null,null,null,null,null,null,null,null,null,null,null,null,null,null,null,0]
[null,null,null,null,null,null,null,null,null,null,null,null,null,null,null,null,null,null,null,null,null,null,null,null,null,null,null,null,null,null,null,null,null,null,null,null,null,0]
[null,null,null,null,null,null,null,null,null,null,null,null,null,null,null,null,null,null,null,null,null,null,null,null,null,null,null,null,null,null,null,null,null,null,null,null,null,0]
[null,null,null,null,null,null,null,null,null,null,null,null,null,null,null,null,null,null,null,null,null,null,null,null,null,null,null,null,null,null,null,null,null,null,null,null,null,0]
[null,null,null,null,null,null,null,null,null,null,null,null,null,null,null,null,null,null,null,null,null,null,null,null,null,null,null,null,null,null,null,null,null,null,null,null,null,0]
[null,null,null,null,null,null,null,null,null,null,null,null,null,null,null,null,null,null,null,null,null,null,null,null,null,null,null,null,null,null,null,null,null,null,null,null,null,0]
[null,null,null,null,null,null,null,null,null,null,null,null,null,null,null,null,null,null,null,null,null,null,null,null,null,null,null,null,null,null,null,null,null,null,null,null,null,0]
[null,null,null,null,null,null,null,null,null,null,null,null,null,null,null,null,null,null,null,null,null,null,null,null,null,null,null,null,null,null,null,null,null,null,null,null,null,0]
[null,null,null,null,null,null,null,null,null,null,null,null,null,null,null,null,null,null,null,null,null,null,null,null,null,null,null,null,null,null,null,null,null,null,null,null,null,0]
[null,null,null,null,null,null,null,null,null,null,null,null,null,null,null,null,null,null,null,null,null,null,null,null,null,null,null,null,null,null,null,null,null,null,null,null,null,0]
[null,null,null,null,null,null,null,null,null,null,null,null,null,null,null,null,null,null,null,null,null,null,null,null,null,null,null,null,null,null,null,null,null,null,null,null,null,0]
[null,null,null,null,null,null,null,null,null,null,null,null,null,null,null,null,null,null,null,null,null,null,null,null,null,null,null,null,null,null,null,null,null,null,null,null,null,0]
[null,null,null,null,null,null,null,null,null,null,null,null,null,null,null,null,null,null,null,null,null,null,null,null,null,null,null,null,null,null,null,null,null,null,null,null,null,0]
[null,null,null,null,null,null,null,null,null,null,null,null,null,null,null,null,null,null,null,null,null,null,null,null,null,null,null,null,null,null,null,null,null,null,null,null,null,{"$f":"IF(Q899,V899-Q899,0)","v":0}]
[null,null,null,null,null,null,null,null,null,null,null,null,null,null,null,null,null,null,null,null,null,null,null,null,null,null,null,null,null,null,null,null,null,null,null,null,null,0]
[null,null,null,null,null,null,null,null,null,null,null,null,null,null,null,null,null,null,null,null,null,null,null,null,null,null,null,null,null,null,null,null,null,null,null,null,null,0]
[null,null,null,null,null,null,null,null,null,null,null,null,null,null,null,null,null,null,null,null,null,null,null,null,null,null,null,null,null,null,null,null,null,null,null,null,null,0]
[null,null,null,null,null,null,null,null,null,null,null,null,null,null,null,null,null,null,null,null,null,null,null,null,null,null,null,null,null,null,null,null,null,null,null,null,null,0]
[null,null,null,null,null,null,null,null,null,null,null,null,null,null,null,null,null,null,null,null,null,null,null,null,null,null,null,null,null,null,null,null,null,null,null,null,null,0]
[null,null,null,null,null,null,null,null,null,null,null,null,null,null,null,null,null,null,null,null,null,null,null,null,null,null,null,null,null,null,null,null,null,null,null,null,null,0]
[null,null,null,null,null,null,null,null,null,null,null,null,null,null,null,null,null,null,null,null,null,null,null,null,null,null,null,null,null,null,null,null,null,null,null,null,null,0]
[null,null,null,null,null,null,null,null,null,null,null,null,null,null,null,null,null,null,null,null,null,null,null,null,null,null,null,null,null,null,null,null,null,null,null,null,null,0]
[null,null,null,null,null,null,null,null,null,null,null,null,null,null,null,null,null,null,null,null,null,null,null,null,null,null,null,null,null,null,null,null,null,null,null,null,null,0]
[null,null,null,null,null,null,null,null,null,null,null,null,null,null,null,null,null,null,null,null,null,null,null,null,null,null,null,null,null,null,null,null,null,null,null,null,null,0]
[null,null,null,null,null,null,null,null,null,null,null,null,null,null,null,null,null,null,null,null,null,null,null,null,null,null,null,null,null,null,null,null,null,null,null,null,null,0]
[null,null,null,null,null,null,null,null,null,null,null,null,null,null,null,null,null,null,null,null,null,null,null,null,null,null,null,null,null,null,null,null,null,null,null,null,null,0]
[null,null,null,null,null,null,null,null,null,null,null,null,null,null,null,null,null,null,null,null,null,null,null,null,null,null,null,null,null,null,null,null,null,null,null,null,null,0]
[null,null,null,null,null,null,null,null,null,null,null,null,null,null,null,null,null,null,null,null,null,null,null,null,null,null,null,null,null,null,null,null,null,null,null,null,null,0]
[null,null,null,null,null,null,null,null,null,null,null,null,null,null,null,null,null,null,null,null,null,null,null,null,null,null,null,null,null,null,null,null,null,null,null,null,null,0]
[null,null,null,null,null,null,null,null,null,null,null,null,null,null,null,null,null,null,null,null,null,null,null,null,null,null,null,null,null,null,null,null,null,null,null,null,null,0]
[null,null,null,null,null,null,null,null,null,null,null,null,null,null,null,null,null,null,null,null,null,null,null,null,null,null,null,null,null,null,null,null,null,null,null,null,null,0]
[null,null,null,null,null,null,null,null,null,null,null,null,null,null,null,null,null,null,null,null,null,null,null,null,null,null,null,null,null,null,null,null,null,null,null,null,null,0]
[null,null,null,null,null,null,null,null,null,null,null,null,null,null,null,null,null,null,null,null,null,null,null,null,null,null,null,null,null,null,null,null,null,null,null,null,null,0]
[null,null,null,null,null,null,null,null,null,null,null,null,null,null,null,null,null,null,null,null,null,null,null,null,null,null,null,null,null,null,null,null,null,null,null,null,null,0]
[null,null,null,null,null,null,null,null,null,null,null,null,null,null,null,null,null,null,null,null,null,null,null,null,null,null,null,null,null,null,null,null,null,null,null,null,null,0]
[null,null,null,null,null,null,null,null,null,null,null,null,null,null,null,null,null,null,null,null,null,null,null,null,null,null,null,null,null,null,null,null,null,null,null,null,null,0]
[null,null,null,null,null,null,null,null,null,null,null,null,null,null,null,null,null,null,null,null,null,null,null,null,null,null,null,null,null,null,null,null,null,null,null,null,null,0]
[null,null,null,null,null,null,null,null,null,null,null,null,null,null,null,null,null,null,null,null,null,null,null,null,null,null,null,null,null,null,null,null,null,null,null,null,null,0]
[null,null,null,null,null,null,null,null,null,null,null,null,null,null,null,null,null,null,null,null,null,null,null,null,null,null,null,null,null,null,null,null,null,null,null,null,null,0]
[null,null,null,null,null,null,null,null,null,null,null,null,null,null,null,null,null,null,null,null,null,null,null,null,null,null,null,null,null,null,null,null,null,null,null,null,null,0]
[null,null,null,null,null,null,null,null,null,null,null,null,null,null,null,null,null,null,null,null,null,null,null,null,null,null,null,null,null,null,null,null,null,null,null,null,null,0]
[null,null,null,null,null,null,null,null,null,null,null,null,null,null,null,null,null,null,null,null,null,null,null,null,null,null,null,null,null,null,null,null,null,null,null,null,null,0]
[null,null,null,null,null,null,null,null,null,null,null,null,null,null,null,null,null,null,null,null,null,null,null,null,null,null,null,null,null,null,null,null,null,null,null,null,null,0]
[null,null,null,null,null,null,null,null,null,null,null,null,null,null,null,null,null,null,null,null,null,null,null,null,null,null,null,null,null,null,null,null,null,null,null,null,null,0]
[null,null,null,null,null,null,null,null,null,null,null,null,null,null,null,null,null,null,null,null,null,null,null,null,null,null,null,null,null,null,null,null,null,null,null,null,null,0]
[null,null,null,null,null,null,null,null,null,null,null,null,null,null,null,null,null,null,null,null,null,null,null,null,null,null,null,null,null,null,null,null,null,null,null,null,null,0]
[null,null,null,null,null,null,null,null,null,null,null,null,null,null,null,null,null,null,null,null,null,null,null,null,null,null,null,null,null,null,null,null,null,null,null,null,null,0]
[null,null,null,null,null,null,null,null,null,null,null,null,null,null,null,null,null,null,null,null,null,null,null,null,null,null,null,null,null,null,null,null,null,null,null,null,null,0]
[null,null,null,null,null,null,null,null,null,null,null,null,null,null,null,null,null,null,null,null,null,null,null,null,null,null,null,null,null,null,null,null,null,null,null,null,null,0]
[null,null,null,null,null,null,null,null,null,null,null,null,null,null,null,null,null,null,null,null,null,null,null,null,null,null,null,null,null,null,null,null,null,null,null,null,null,0]
[null,null,null,null,null,null,null,null,null,null,null,null,null,null,null,null,null,null,null,null,null,null,null,null,null,null,null,null,null,null,null,null,null,null,null,null,null,0]
[null,null,null,null,null,null,null,null,null,null,null,null,null,null,null,null,null,null,null,null,null,null,null,null,null,null,null,null,null,null,null,null,null,null,null,null,null,0]
[null,null,null,null,null,null,null,null,null,null,null,null,null,null,null,null,null,null,null,null,null,null,null,null,null,null,null,null,null,null,null,null,null,null,null,null,null,0]
[null,null,null,null,null,null,null,null,null,null,null,null,null,null,null,null,null,null,null,null,null,null,null,null,null,null,null,null,null,null,null,null,null,null,null,null,null,0]
[null,null,null,null,null,null,null,null,null,null,null,null,null,null,null,null,null,null,null,null,null,null,null,null,null,null,null,null,null,null,null,null,null,null,null,null,null,0]
[null,null,null,null,null,null,null,null,null,null,null,null,null,null,null,null,null,null,null,null,null,null,null,null,null,null,null,null,null,null,null,null,null,null,null,null,null,0]
[null,null,null,null,null,null,null,null,null,null,null,null,null,null,null,null,null,null,null,null,null,null,null,null,null,null,null,null,null,null,null,null,null,null,null,null,null,0]
[null,null,null,null,null,null,null,null,null,null,null,null,null,null,null,null,null,null,null,null,null,null,null,null,null,null,null,null,null,null,null,null,null,null,null,null,null,0]
[null,null,null,null,null,null,null,null,null,null,null,null,null,null,null,null,null,null,null,null,null,null,null,null,null,null,null,null,null,null,null,null,null,null,null,null,null,0]
[null,null,null,null,null,null,null,null,null,null,null,null,null,null,null,null,null,null,null,null,null,null,null,null,null,null,null,null,null,null,null,null,null,null,null,null,null,0]
[null,null,null,null,null,null,null,null,null,null,null,null,null,null,null,null,null,null,null,null,null,null,null,null,null,null,null,null,null,null,null,null,null,null,null,null,null,0]
[null,null,null,null,null,null,null,null,null,null,null,null,null,null,null,null,null,null,null,null,null,null,null,null,null,null,null,null,null,null,null,null,null,null,null,null,null,0]
[null,null,null,null,null,null,null,null,null,null,null,null,null,null,null,null,null,null,null,null,null,null,null,null,null,null,null,null,null,null,null,null,null,null,null,null,null,0]
[null,null,null,null,null,null,null,null,null,null,null,null,null,null,null,null,null,null,null,null,null,null,null,null,null,null,null,null,null,null,null,null,null,null,null,null,null,0]
[null,null,null,null,null,null,null,null,null,null,null,null,null,null,null,null,null,null,null,null,null,null,null,null,null,null,null,null,null,null,null,null,null,null,null,null,null,0]
[null,null,null,null,null,null,null,null,null,null,null,null,null,null,null,null,null,null,null,null,null,null,null,null,null,null,null,null,null,null,null,null,null,null,null,null,null,0]
[null,null,null,null,null,null,null,null,null,null,null,null,null,null,null,null,null,null,null,null,null,null,null,null,null,null,null,null,null,null,null,null,null,null,null,null,null,0]
[null,null,null,null,null,null,null,null,null,null,null,null,null,null,null,null,null,null,null,null,null,null,null,null,null,null,null,null,null,null,null,null,null,null,null,null,null,0]
[null,null,null,null,null,null,null,null,null,null,null,null,null,null,null,null,null,null,null,null,null,null,null,null,null,null,null,null,null,null,null,null,null,null,null,null,null,0]
[null,null,null,null,null,null,null,null,null,null,null,null,null,null,null,null,null,null,null,null,null,null,null,null,null,null,null,null,null,null,null,null,null,null,null,null,null,0]
[null,null,null,null,null,null,null,null,null,null,null,null,null,null,null,null,null,null,null,null,null,null,null,null,null,null,null,null,null,null,null,null,null,null,null,null,null,0]
[null,null,null,null,null,null,null,null,null,null,null,null,null,null,null,null,null,null,null,null,null,null,null,null,null,null,null,null,null,null,null,null,null,null,null,null,null,0]
[null,null,null,null,null,null,null,null,null,null,null,null,null,null,null,null,null,null,null,null,null,null,null,null,null,null,null,null,null,null,null,null,null,null,null,null,null,0]
[null,null,null,null,null,null,null,null,null,null,null,null,null,null,null,null,null,null,null,null,null,null,null,null,null,null,null,null,null,null,null,null,null,null,null,null,null,0]
[null,null,null,null,null,null,null,null,null,null,null,null,null,null,null,null,null,null,null,null,null,null,null,null,null,null,null,null,null,null,null,null,null,null,null,null,null,0]
[null,null,null,null,null,null,null,null,null,null,null,null,null,null,null,null,null,null,null,null,null,null,null,null,null,null,null,null,null,null,null,null,null,null,null,null,null,0]
[null,null,null,null,null,null,null,null,null,null,null,null,null,null,null,null,null,null,null,null,null,null,null,null,null,null,null,null,null,null,null,null,null,null,null,null,null,0]
[null,null,null,null,null,null,null,null,null,null,null,null,null,null,null,null,null,null,null,null,null,null,null,null,null,null,null,null,null,null,null,null,null,null,null,null,null,{"$f":"IF(Q963,V963-Q963,0)","v":0}]
[null,null,null,null,null,null,null,null,null,null,null,null,null,null,null,null,null,null,null,null,null,null,null,null,null,null,null,null,null,null,null,null,null,null,null,null,null,0]
[null,null,null,null,null,null,null,null,null,null,null,null,null,null,null,null,null,null,null,null,null,null,null,null,null,null,null,null,null,null,null,null,null,null,null,null,null,0]
[null,null,null,null,null,null,null,null,null,null,null,null,null,null,null,null,null,null,null,null,null,null,null,null,null,null,null,null,null,null,null,null,null,null,null,null,null,0]
[null,null,null,null,null,null,null,null,null,null,null,null,null,null,null,null,null,null,null,null,null,null,null,null,null,null,null,null,null,null,null,null,null,null,null,null,null,0]
[null,null,null,null,null,null,null,null,null,null,null,null,null,null,null,null,null,null,null,null,null,null,null,null,null,null,null,null,null,null,null,null,null,null,null,null,null,0]
[null,null,null,null,null,null,null,null,null,null,null,null,null,null,null,null,null,null,null,null,null,null,null,null,null,null,null,null,null,null,null,null,null,null,null,null,null,0]
[null,null,null,null,null,null,null,null,null,null,null,null,null,null,null,null,null,null,null,null,null,null,null,null,null,null,null,null,null,null,null,null,null,null,null,null,null,0]
[null,null,null,null,null,null,null,null,null,null,null,null,null,null,null,null,null,null,null,null,null,null,null,null,null,null,null,null,null,null,null,null,null,null,null,null,null,0]
[null,null,null,null,null,null,null,null,null,null,null,null,null,null,null,null,null,null,null,null,null,null,null,null,null,null,null,null,null,null,null,null,null,null,null,null,null,0]
[null,null,null,null,null,null,null,null,null,null,null,null,null,null,null,null,null,null,null,null,null,null,null,null,null,null,null,null,null,null,null,null,null,null,null,null,null,0]
[null,null,null,null,null,null,null,null,null,null,null,null,null,null,null,null,null,null,null,null,null,null,null,null,null,null,null,null,null,null,null,null,null,null,null,null,null,0]
[null,null,null,null,null,null,null,null,null,null,null,null,null,null,null,null,null,null,null,null,null,null,null,null,null,null,null,null,null,null,null,null,null,null,null,null,null,0]
[null,null,null,null,null,null,null,null,null,null,null,null,null,null,null,null,null,null,null,null,null,null,null,null,null,null,null,null,null,null,null,null,null,null,null,null,null,0]
[null,null,null,null,null,null,null,null,null,null,null,null,null,null,null,null,null,null,null,null,null,null,null,null,null,null,null,null,null,null,null,null,null,null,null,null,null,0]
[null,null,null,null,null,null,null,null,null,null,null,null,null,null,null,null,null,null,null,null,null,null,null,null,null,null,null,null,null,null,null,null,null,null,null,null,null,0]
[null,null,null,null,null,null,null,null,null,null,null,null,null,null,null,null,null,null,null,null,null,null,null,null,null,null,null,null,null,null,null,null,null,null,null,null,null,0]
[null,null,null,null,null,null,null,null,null,null,null,null,null,null,null,null,null,null,null,null,null,null,null,null,null,null,null,null,null,null,null,null,null,null,null,null,null,0]
[null,null,null,null,null,null,null,null,null,null,null,null,null,null,null,null,null,null,null,null,null,null,null,null,null,null,null,null,null,null,null,null,null,null,null,null,null,0]
[null,null,null,null,null,null,null,null,null,null,null,null,null,null,null,null,null,null,null,null,null,null,null,null,null,null,null,null,null,null,null,null,null,null,null,null,null,0]
[null,null,null,null,null,null,null,null,null,null,null,null,null,null,null,null,null,null,null,null,null,null,null,null,null,null,null,null,null,null,null,null,null,null,null,null,null,0]
[null,null,null,null,null,null,null,null,null,null,null,null,null,null,null,null,null,null,null,null,null,null,null,null,null,null,null,null,null,null,null,null,null,null,null,null,null,0]
[null,null,null,null,null,null,null,null,null,null,null,null,null,null,null,null,null,null,null,null,null,null,null,null,null,null,null,null,null,null,null,null,null,null,null,null,null,0]
[null,null,null,null,null,null,null,null,null,null,null,null,null,null,null,null,null,null,null,null,null,null,null,null,null,null,null,null,null,null,null,null,null,null,null,null,null,0]
[null,null,null,null,null,null,null,null,null,null,null,null,null,null,null,null,null,null,null,null,null,null,null,null,null,null,null,null,null,null,null,null,null,null,null,null,null,0]
[null,null,null,null,null,null,null,null,null,null,null,null,null,null,null,null,null,null,null,null,null,null,null,null,null,null,null,null,null,null,null,null,null,null,null,null,null,0]
[null,null,null,null,null,null,null,null,null,null,null,null,null,null,null,null,null,null,null,null,null,null,null,null,null,null,null,null,null,null,null,null,null,null,null,null,null,0]
[null,null,null,null,null,null,null,null,null,null,null,null,null,null,null,null,null,null,null,null,null,null,null,null,null,null,null,null,null,null,null,null,null,null,null,null,null,0]
[null,null,null,null,null,null,null,null,null,null,null,null,null,null,null,null,null,null,null,null,null,null,null,null,null,null,null,null,null,null,null,null,null,null,null,null,null,0]
[null,null,null,null,null,null,null,null,null,null,null,null,null,null,null,null,null,null,null,null,null,null,null,null,null,null,null,null,null,null,null,null,null,null,null,null,null,0]
[null,null,null,null,null,null,null,null,null,null,null,null,null,null,null,null,null,null,null,null,null,null,null,null,null,null,null,null,null,null,null,null,null,null,null,null,null,0]
[null,null,null,null,null,null,null,null,null,null,null,null,null,null,null,null,null,null,null,null,null,null,null,null,null,null,null,null,null,null,null,null,null,null,null,null,null,0]
[null,null,null,null,null,null,null,null,null,null,null,null,null,null,null,null,null,null,null,null,null,null,null,null,null,null,null,null,null,null,null,null,null,null,null,null,null,0]
[null,null,null,null,null,null,null,null,null,null,null,null,null,null,null,null,null,null,null,null,null,null,null,null,null,null,null,null,null,null,null,null,null,null,null,null,null,0]
[null,null,null,null,null,null,null,null,null,null,null,null,null,null,null,null,null,null,null,null,null,null,null,null,null,null,null,null,null,null,null,null,null,null,null,null,null,0]
[null,null,null,null,null,null,null,null,null,null,null,null,null,null,null,null,null,null,null,null,null,null,null,null,null,null,null,null,null,null,null,null,null,null,null,null,null,0]
[null,null,null,null,null,null,null,null,null,null,null,null,null,null,null,null,null,null,null,null,null,null,null,null,null,null,null,null,null,null,null,null,null,null,null,null,null,0]
[null,null,null,null,null,null,null,null,null,null,null,null,null,null,null,null,null,null,null,null,null,null,null,null,null,null,null,null,null,null,null,null,null,null,null,null,null,0]
[null,null,null,null,null,null,null,null,null,null,null,null,null,null,null,null,null,null,null,null,null,null,null,null,null,null,null,null,null,null,null,null,null,null,null,null,null,0]
[null,null,null,null,null,null,null,null,null,null,null,null,null,null,null,null,null,null,null,null,null,null,null,null,null,null,null,null,null,null,null,null,null,null,null,null,null,0]
[null,null,null,null,null,null,null,null,null,null,null,null,null,null,null,null,null,null,null,null,null,null,null,null,null,null,null,null,null,null,null,null,null,null,null,null,null,0]
[null,null,null,null,null,null,null,null,null,null,null,null,null,null,null,null,null,null,null,null,null,null,null,null,null,null,null,null,null,null,null,null,null,null,null,null,null,0]
[null,null,null,null,null,null,null,null,null,null,null,null,null,null,null,null,null,null,null,null,null,null,null,null,null,null,null,null,null,null,null,null,null,null,null,null,null,0]
[null,null,null,null,null,null,null,null,null,null,null,null,null,null,null,null,null,null,null,null,null,null,null,null,null,null,null,null,null,null,null,null,null,null,null,null,null,0]
[null,null,null,null,null,null,null,null,null,null,null,null,null,null,null,null,null,null,null,null,null,null,null,null,null,null,null,null,null,null,null,null,null,null,null,null,null,0]
[null,null,null,null,null,null,null,null,null,null,null,null,null,null,null,null,null,null,null,null,null,null,null,null,null,null,null,null,null,null,null,null,null,null,null,null,null,0]
[null,null,null,null,null,null,null,null,null,null,null,null,null,null,null,null,null,null,null,null,null,null,null,null,null,null,null,null,null,null,null,null,null,null,null,null,null,0]
[null,null,null,null,null,null,null,null,null,null,null,null,null,null,null,null,null,null,null,null,null,null,null,null,null,null,null,null,null,null,null,null,null,null,null,null,null,0]
[null,null,null,null,null,null,null,null,null,null,null,null,null,null,null,null,null,null,null,null,null,null,null,null,null,null,null,null,null,null,null,null,null,null,null,null,null,0]
[null,null,null,null,null,null,null,null,null,null,null,null,null,null,null,null,null,null,null,null,null,null,null,null,null,null,null,null,null,null,null,null,null,null,null,null,null,0]
[null,null,null,null,null,null,null,null,null,null,null,null,null,null,null,null,null,null,null,null,null,null,null,null,null,null,null,null,null,null,null,null,null,null,null,null,null,0]
[null,null,null,null,null,null,null,null,null,null,null,null,null,null,null,null,null,null,null,null,null,null,null,null,null,null,null,null,null,null,null,null,null,null,null,null,null,0]
[null,null,null,null,null,null,null,null,null,null,null,null,null,null,null,null,null,null,null,null,null,null,null,null,null,null,null,null,null,null,null,null,null,null,null,null,null,0]
[null,null,null,null,null,null,null,null,null,null,null,null,null,null,null,null,null,null,null,null,null,null,null,null,null,null,null,null,null,null,null,null,null,null,null,null,null,0]
[null,null,null,null,null,null,null,null,null,null,null,null,null,null,null,null,null,null,null,null,null,null,null,null,null,null,null,null,null,null,null,null,null,null,null,null,null,0]
[null,null,null,null,null,null,null,null,null,null,null,null,null,null,null,null,null,null,null,null,null,null,null,null,null,null,null,null,null,null,null,null,null,null,null,null,null,0]
[null,null,null,null,null,null,null,null,null,null,null,null,null,null,null,null,null,null,null,null,null,null,null,null,null,null,null,null,null,null,null,null,null,null,null,null,null,0]
[null,null,null,null,null,null,null,null,null,null,null,null,null,null,null,null,null,null,null,null,null,null,null,null,null,null,null,null,null,null,null,null,null,null,null,null,null,0]
[null,null,null,null,null,null,null,null,null,null,null,null,null,null,null,null,null,null,null,null,null,null,null,null,null,null,null,null,null,null,null,null,null,null,null,null,null,0]
[null,null,null,null,null,null,null,null,null,null,null,null,null,null,null,null,null,null,null,null,null,null,null,null,null,null,null,null,null,null,null,null,null,null,null,null,null,0]
[null,null,null,null,null,null,null,null,null,null,null,null,null,null,null,null,null,null,null,null,null,null,null,null,null,null,null,null,null,null,null,null,null,null,null,null,null,0]
[null,null,null,null,null,null,null,null,null,null,null,null,null,null,null,null,null,null,null,null,null,null,null,null,null,null,null,null,null,null,null,null,null,null,null,null,null,0]
[null,null,null,null,null,null,null,null,null,null,null,null,null,null,null,null,null,null,null,null,null,null,null,null,null,null,null,null,null,null,null,null,null,null,null,null,null,0]
[null,null,null,null,null,null,null,null,null,null,null,null,null,null,null,null,null,null,null,null,null,null,null,null,null,null,null,null,null,null,null,null,null,null,null,null,null,0]
[null,null,null,null,null,null,null,null,null,null,null,null,null,null,null,null,null,null,null,null,null,null,null,null,null,null,null,null,null,null,null,null,null,null,null,null,null,0]
[null,null,null,null,null,null,null,null,null,null,null,null,null,null,null,null,null,null,null,null,null,null,null,null,null,null,null,null,null,null,null,null,null,null,null,null,null,0]
[null,null,null,null,null,null,null,null,null,null,null,null,null,null,null,null,null,null,null,null,null,null,null,null,null,null,null,null,null,null,null,null,null,null,null,null,null,0]
[null,null,null,null,null,null,null,null,null,null,null,null,null,null,null,null,null,null,null,null,null,null,null,null,null,null,null,null,null,null,null,null,null,null,null,null,null,0]
[null,null,null,null,null,null,null,null,null,null,null,null,null,null,null,null,null,null,null,null,null,null,null,null,null,null,null,null,null,null,null,null,null,null,null,null,null,0]
[null,null,null,null,null,null,null,null,null,null,null,null,null,null,null,null,null,null,null,null,null,null,null,null,null,null,null,null,null,null,null,null,null,null,null,null,null,0]
[null,null,null,null,null,null,null,null,null,null,null,null,null,null,null,null,null,null,null,null,null,null,null,null,null,null,null,null,null,null,null,null,null,null,null,null,null,0]
[null,null,null,null,null,null,null,null,null,null,null,null,null,null,null,null,null,null,null,null,null,null,null,null,null,null,null,null,null,null,null,null,null,null,null,null,null,0]
[null,null,null,null,null,null,null,null,null,null,null,null,null,null,null,null,null,null,null,null,null,null,null,null,null,null,null,null,null,null,null,null,null,null,null,null,null,0]
[null,null,null,null,null,null,null,null,null,null,null,null,null,null,null,null,null,null,null,null,null,null,null,null,null,null,null,null,null,null,null,null,null,null,null,null,null,0]
[null,null,null,null,null,null,null,null,null,null,null,null,null,null,null,null,null,null,null,null,null,null,null,null,null,null,null,null,null,null,null,null,null,null,null,null,null,0]
[null,null,null,null,null,null,null,null,null,null,null,null,null,null,null,null,null,null,null,null,null,null,null,null,null,null,null,null,null,null,null,null,null,null,null,null,null,0]
[null,null,null,null,null,null,null,null,null,null,null,null,null,null,null,null,null,null,null,null,null,null,null,null,null,null,null,null,null,null,null,null,null,null,null,null,null,0]
[null,null,null,null,null,null,null,null,null,null,null,null,null,null,null,null,null,null,null,null,null,null,null,null,null,null,null,null,null,null,null,null,null,null,null,null,null,0]
[null,null,null,null,null,null,null,null,null,null,null,null,null,null,null,null,null,null,null,null,null,null,null,null,null,null,null,null,null,null,null,null,null,null,null,null,null,0]
[null,null,null,null,null,null,null,null,null,null,null,null,null,null,null,null,null,null,null,null,null,null,null,null,null,null,null,null,null,null,null,null,null,null,null,null,null,0]
[null,null,null,null,null,null,null,null,null,null,null,null,null,null,null,null,null,null,null,null,null,null,null,null,null,null,null,null,null,null,null,null,null,null,null,null,null,0]
[null,null,null,null,null,null,null,null,null,null,null,null,null,null,null,null,null,null,null,null,null,null,null,null,null,null,null,null,null,null,null,null,null,null,null,null,null,0]
[null,null,null,null,null,null,null,null,null,null,null,null,null,null,null,null,null,null,null,null,null,null,null,null,null,null,null,null,null,null,null,null,null,null,null,null,null,0]
[null,null,null,null,null,null,null,null,null,null,null,null,null,null,null,null,null,null,null,null,null,null,null,null,null,null,null,null,null,null,null,null,null,null,null,null,null,0]
[null,null,null,null,null,null,null,null,null,null,null,null,null,null,null,null,null,null,null,null,null,null,null,null,null,null,null,null,null,null,null,null,null,null,null,null,null,0]
[null,null,null,null,null,null,null,null,null,null,null,null,null,null,null,null,null,null,null,null,null,null,null,null,null,null,null,null,null,null,null,null,null,null,null,null,null,0]
[null,null,null,null,null,null,null,null,null,null,null,null,null,null,null,null,null,null,null,null,null,null,null,null,null,null,null,null,null,null,null,null,null,null,null,null,null,0]
[null,null,null,null,null,null,null,null,null,null,null,null,null,null,null,null,null,null,null,null,null,null,null,null,null,null,null,null,null,null,null,null,null,null,null,null,null,0]
[null,null,null,null,null,null,null,null,null,null,null,null,null,null,null,null,null,null,null,null,null,null,null,null,null,null,null,null,null,null,null,null,null,null,null,null,null,0]
[null,null,null,null,null,null,null,null,null,null,null,null,null,null,null,null,null,null,null,null,null,null,null,null,null,null,null,null,null,null,null,null,null,null,null,null,null,0]
[null,null,null,null,null,null,null,null,null,null,null,null,null,null,null,null,null,null,null,null,null,null,null,null,null,null,null,null,null,null,null,null,null,null,null,null,null,0]
[null,null,null,null,null,null,null,null,null,null,null,null,null,null,null,null,null,null,null,null,null,null,null,null,null,null,null,null,null,null,null,null,null,null,null,null,null,0]
[null,null,null,null,null,null,null,null,null,null,null,null,null,null,null,null,null,null,null,null,null,null,null,null,null,null,null,null,null,null,null,null,null,null,null,null,null,0]
[null,null,null,null,null,null,null,null,null,null,null,null,null,null,null,null,null,null,null,null,null,null,null,null,null,null,null,null,null,null,null,null,null,null,null,null,null,0]
[null,null,null,null,null,null,null,null,null,null,null,null,null,null,null,null,null,null,null,null,null,null,null,null,null,null,null,null,null,null,null,null,null,null,null,null,null,0]
[null,null,null,null,null,null,null,null,null,null,null,null,null,null,null,null,null,null,null,null,null,null,null,null,null,null,null,null,null,null,null,null,null,null,null,null,null,0]
[null,null,null,null,null,null,null,null,null,null,null,null,null,null,null,null,null,null,null,null,null,null,null,null,null,null,null,null,null,null,null,null,null,null,null,null,null,0]
[null,null,null,null,null,null,null,null,null,null,null,null,null,null,null,null,null,null,null,null,null,null,null,null,null,null,null,null,null,null,null,null,null,null,null,null,null,0]
[null,null,null,null,null,null,null,null,null,null,null,null,null,null,null,null,null,null,null,null,null,null,null,null,null,null,null,null,null,null,null,null,null,null,null,null,null,0]
[null,null,null,null,null,null,null,null,null,null,null,null,null,null,null,null,null,null,null,null,null,null,null,null,null,null,null,null,null,null,null,null,null,null,null,null,null,0]
[null,null,null,null,null,null,null,null,null,null,null,null,null,null,null,null,null,null,null,null,null,null,null,null,null,null,null,null,null,null,null,null,null,null,null,null,null,0]
[null,null,null,null,null,null,null,null,null,null,null,null,null,null,null,null,null,null,null,null,null,null,null,null,null,null,null,null,null,null,null,null,null,null,null,null,null,0]
[null,null,null,null,null,null,null,null,null,null,null,null,null,null,null,null,null,null,null,null,null,null,null,null,null,null,null,null,null,null,null,null,null,null,null,null,null,0]
[null,null,null,null,null,null,null,null,null,null,null,null,null,null,null,null,null,null,null,null,null,null,null,null,null,null,null,null,null,null,null,null,null,null,null,null,null,0]
[null,null,null,null,null,null,null,null,null,null,null,null,null,null,null,null,null,null,null,null,null,null,null,null,null,null,null,null,null,null,null,null,null,null,null,null,null,0]
[null,null,null,null,null,null,null,null,null,null,null,null,null,null,null,null,null,null,null,null,null,null,null,null,null,null,null,null,null,null,null,null,null,null,null,null,null,0]
[null,null,null,null,null,null,null,null,null,null,null,null,null,null,null,null,null,null,null,null,null,null,null,null,null,null,null,null,null,null,null,null,null,null,null,null,null,0]
[null,null,null,null,null,null,null,null,null,null,null,null,null,null,null,null,null,null,null,null,null,null,null,null,null,null,null,null,null,null,null,null,null,null,null,null,null,0]
[null,null,null,null,null,null,null,null,null,null,null,null,null,null,null,null,null,null,null,null,null,null,null,null,null,null,null,null,null,null,null,null,null,null,null,null,null,0]
[null,null,null,null,null,null,null,null,null,null,null,null,null,null,null,null,null,null,null,null,null,null,null,null,null,null,null,null,null,null,null,null,null,null,null,null,null,0]
[null,null,null,null,null,null,null,null,null,null,null,null,null,null,null,null,null,null,null,null,null,null,null,null,null,null,null,null,null,null,null,null,null,null,null,null,null,0]
[null,null,null,null,null,null,null,null,null,null,null,null,null,null,null,null,null,null,null,null,null,null,null,null,null,null,null,null,null,null,null,null,null,null,null,null,null,0]
[null,null,null,null,null,null,null,null,null,null,null,null,null,null,null,null,null,null,null,null,null,null,null,null,null,null,null,null,null,null,null,null,null,null,null,null,null,0]
[null,null,null,null,null,null,null,null,null,null,null,null,null,null,null,null,null,null,null,null,null,null,null,null,null,null,null,null,null,null,null,null,null,null,null,null,null,0]
[null,null,null,null,null,null,null,null,null,null,null,null,null,null,null,null,null,null,null,null,null,null,null,null,null,null,null,null,null,null,null,null,null,null,null,null,null,0]
[null,null,null,null,null,null,null,null,null,null,null,null,null,null,null,null,null,null,null,null,null,null,null,null,null,null,null,null,null,null,null,null,null,null,null,null,null,0]
[null,null,null,null,null,null,null,null,null,null,null,null,null,null,null,null,null,null,null,null,null,null,null,null,null,null,null,null,null,null,null,null,null,null,null,null,null,0]
[null,null,null,null,null,null,null,null,null,null,null,null,null,null,null,null,null,null,null,null,null,null,null,null,null,null,null,null,null,null,null,null,null,null,null,null,null,0]
[null,null,null,null,null,null,null,null,null,null,null,null,null,null,null,null,null,null,null,null,null,null,null,null,null,null,null,null,null,null,null,null,null,null,null,null,null,0]
[null,null,null,null,null,null,null,null,null,null,null,null,null,null,null,null,null,null,null,null,null,null,null,null,null,null,null,null,null,null,null,null,null,null,null,null,null,0]
[null,null,null,null,null,null,null,null,null,null,null,null,null,null,null,null,null,null,null,null,null,null,null,null,null,null,null,null,null,null,null,null,null,null,null,null,null,0]
[null,null,null,null,null,null,null,null,null,null,null,null,null,null,null,null,null,null,null,null,null,null,null,null,null,null,null,null,null,null,null,null,null,null,null,null,null,0]
[null,null,null,null,null,null,null,null,null,null,null,null,null,null,null,null,null,null,null,null,null,null,null,null,null,null,null,null,null,null,null,null,null,null,null,null,null,0]
[null,null,null,null,null,null,null,null,null,null,null,null,null,null,null,null,null,null,null,null,null,null,null,null,null,null,null,null,null,null,null,null,null,null,null,null,null,0]
[null,null,null,null,null,null,null,null,null,null,null,null,null,null,null,null,null,null,null,null,null,null,null,null,null,null,null,null,null,null,null,null,null,null,null,null,null,0]
[null,null,null,null,null,null,null,null,null,null,null,null,null,null,null,null,null,null,null,null,null,null,null,null,null,null,null,null,null,null,null,null,null,null,null,null,null,0]
[null,null,null,null,null,null,null,null,null,null,null,null,null,null,null,null,null,null,null,null,null,null,null,null,null,null,null,null,null,null,null,null,null,null,null,null,null,0]
[null,null,null,null,null,null,null,null,null,null,null,null,null,null,null,null,null,null,null,null,null,null,null,null,null,null,null,null,null,null,null,null,null,null,null,null,null,0]
[null,null,null,null,null,null,null,null,null,null,null,null,null,null,null,null,null,null,null,null,null,null,null,null,null,null,null,null,null,null,null,null,null,null,null,null,null,0]
[null,null,null,null,null,null,null,null,null,null,null,null,null,null,null,null,null,null,null,null,null,null,null,null,null,null,null,null,null,null,null,null,null,null,null,null,null,0]
[null,null,null,null,null,null,null,null,null,null,null,null,null,null,null,null,null,null,null,null,null,null,null,null,null,null,null,null,null,null,null,null,null,null,null,null,null,0]
[null,null,null,null,null,null,null,null,null,null,null,null,null,null,null,null,null,null,null,null,null,null,null,null,null,null,null,null,null,null,null,null,null,null,null,null,null,0]
[null,null,null,null,null,null,null,null,null,null,null,null,null,null,null,null,null,null,null,null,null,null,null,null,null,null,null,null,null,null,null,null,null,null,null,null,null,0]
[null,null,null,null,null,null,null,null,null,null,null,null,null,null,null,null,null,null,null,null,null,null,null,null,null,null,null,null,null,null,null,null,null,null,null,null,null,0]
[null,null,null,null,null,null,null,null,null,null,null,null,null,null,null,null,null,null,null,null,null,null,null,null,null,null,null,null,null,null,null,null,null,null,null,null,null,0]
[null,null,null,null,null,null,null,null,null,null,null,null,null,null,null,null,null,null,null,null,null,null,null,null,null,null,null,null,null,null,null,null,null,null,null,null,null,0]
[null,null,null,null,null,null,null,null,null,null,null,null,null,null,null,null,null,null,null,null,null,null,null,null,null,null,null,null,null,null,null,null,null,null,null,null,null,0]
[null,null,null,null,null,null,null,null,null,null,null,null,null,null,null,null,null,null,null,null,null,null,null,null,null,null,null,null,null,null,null,null,null,null,null,null,null,0]
[null,null,null,null,null,null,null,null,null,null,null,null,null,null,null,null,null,null,null,null,null,null,null,null,null,null,null,null,null,null,null,null,null,null,null,null,null,0]
[null,null,null,null,null,null,null,null,null,null,null,null,null,null,null,null,null,null,null,null,null,null,null,null,null,null,null,null,null,null,null,null,null,null,null,null,null,0]
[null,null,null,null,null,null,null,null,null,null,null,null,null,null,null,null,null,null,null,null,null,null,null,null,null,null,null,null,null,null,null,null,null,null,null,null,null,0]
[null,null,null,null,null,null,null,null,null,null,null,null,null,null,null,null,null,null,null,null,null,null,null,null,null,null,null,null,null,null,null,null,null,null,null,null,null,0]
[null,null,null,null,null,null,null,null,null,null,null,null,null,null,null,null,null,null,null,null,null,null,null,null,null,null,null,null,null,null,null,null,null,null,null,null,null,0]
[null,null,null,null,null,null,null,null,null,null,null,null,null,null,null,null,null,null,null,null,null,null,null,null,null,null,null,null,null,null,null,null,null,null,null,null,null,0]
[null,null,null,null,null,null,null,null,null,null,null,null,null,null,null,null,null,null,null,null,null,null,null,null,null,null,null,null,null,null,null,null,null,null,null,null,null,0]
[null,null,null,null,null,null,null,null,null,null,null,null,null,null,null,null,null,null,null,null,null,null,null,null,null,null,null,null,null,null,null,null,null,null,null,null,null,0]
[null,null,null,null,null,null,null,null,null,null,null,null,null,null,null,null,null,null,null,null,null,null,null,null,null,null,null,null,null,null,null,null,null,null,null,null,null,0]
[null,null,null,null,null,null,null,null,null,null,null,null,null,null,null,null,null,null,null,null,null,null,null,null,null,null,null,null,null,null,null,null,null,null,null,null,null,0]
[null,null,null,null,null,null,null,null,null,null,null,null,null,null,null,null,null,null,null,null,null,null,null,null,null,null,null,null,null,null,null,null,null,null,null,null,null,0]
[null,null,null,null,null,null,null,null,null,null,null,null,null,null,null,null,null,null,null,null,null,null,null,null,null,null,null,null,null,null,null,null,null,null,null,null,null,0]
[null,null,null,null,null,null,null,null,null,null,null,null,null,null,null,null,null,null,null,null,null,null,null,null,null,null,null,null,null,null,null,null,null,null,null,null,null,0]
[null,null,null,null,null,null,null,null,null,null,null,null,null,null,null,null,null,null,null,null,null,null,null,null,null,null,null,null,null,null,null,null,null,null,null,null,null,0]
[null,null,null,null,null,null,null,null,null,null,null,null,null,null,null,null,null,null,null,null,null,null,null,null,null,null,null,null,null,null,null,null,null,null,null,null,null,0]
[null,null,null,null,null,null,null,null,null,null,null,null,null,null,null,null,null,null,null,null,null,null,null,null,null,null,null,null,null,null,null,null,null,null,null,null,null,0]
[null,null,null,null,null,null,null,null,null,null,null,null,null,null,null,null,null,null,null,null,null,null,null,null,null,null,null,null,null,null,null,null,null,null,null,null,null,0]
[null,null,null,null,null,null,null,null,null,null,null,null,null,null,null,null,null,null,null,null,null,null,null,null,null,null,null,null,null,null,null,null,null,null,null,null,null,0]
[null,null,null,null,null,null,null,null,null,null,null,null,null,null,null,null,null,null,null,null,null,null,null,null,null,null,null,null,null,null,null,null,null,null,null,null,null,0]
[null,null,null,null,null,null,null,null,null,null,null,null,null,null,null,null,null,null,null,null,null,null,null,null,null,null,null,null,null,null,null,null,null,null,null,null,null,0]
[null,null,null,null,null,null,null,null,null,null,null,null,null,null,null,null,null,null,null,null,null,null,null,null,null,null,null,null,null,null,null,null,null,null,null,null,null,0]
[null,null,null,null,null,null,null,null,null,null,null,null,null,null,null,null,null,null,null,null,null,null,null,null,null,null,null,null,null,null,null,null,null,null,null,null,null,0]
[null,null,null,null,null,null,null,null,null,null,null,null,null,null,null,null,null,null,null,null,null,null,null,null,null,null,null,null,null,null,null,null,null,null,null,null,null,0]
[null,null,null,null,null,null,null,null,null,null,null,null,null,null,null,null,null,null,null,null,null,null,null,null,null,null,null,null,null,null,null,null,null,null,null,null,null,0]
[null,null,null,null,null,null,null,null,null,null,null,null,null,null,null,null,null,null,null,null,null,null,null,null,null,null,null,null,null,null,null,null,null,null,null,null,null,0]
[null,null,null,null,null,null,null,null,null,null,null,null,null,null,null,null,null,null,null,null,null,null,null,null,null,null,null,null,null,null,null,null,null,null,null,null,null,0]
[null,null,null,null,null,null,null,null,null,null,null,null,null,null,null,null,null,null,null,null,null,null,null,null,null,null,null,null,null,null,null,null,null,null,null,null,null,0]
[null,null,null,null,null,null,null,null,null,null,null,null,null,null,null,null,null,null,null,null,null,null,null,null,null,null,null,null,null,null,null,null,null,null,null,null,null,0]
[null,null,null,null,null,null,null,null,null,null,null,null,null,null,null,null,null,null,null,null,null,null,null,null,null,null,null,null,null,null,null,null,null,null,null,null,null,0]
[null,null,null,null,null,null,null,null,null,null,null,null,null,null,null,null,null,null,null,null,null,null,null,null,null,null,null,null,null,null,null,null,null,null,null,null,null,0]
[null,null,null,null,null,null,null,null,null,null,null,null,null,null,null,null,null,null,null,null,null,null,null,null,null,null,null,null,null,null,null,null,null,null,null,null,null,0]
[null,null,null,null,null,null,null,null,null,null,null,null,null,null,null,null,null,null,null,null,null,null,null,null,null,null,null,null,null,null,null,null,null,null,null,null,null,0]
[null,null,null,null,null,null,null,null,null,null,null,null,null,null,null,null,null,null,null,null,null,null,null,null,null,null,null,null,null,null,null,null,null,null,null,null,null,0]
[null,null,null,null,null,null,null,null,null,null,null,null,null,null,null,null,null,null,null,null,null,null,null,null,null,null,null,null,null,null,null,null,null,null,null,null,null,0]
[null,null,null,null,null,null,null,null,null,null,null,null,null,null,null,null,null,null,null,null,null,null,null,null,null,null,null,null,null,null,null,null,null,null,null,null,null,0]
[null,null,null,null,null,null,null,null,null,null,null,null,null,null,null,null,null,null,null,null,null,null,null,null,null,null,null,null,null,null,null,null,null,null,null,null,null,0]
[null,null,null,null,null,null,null,null,null,null,null,null,null,null,null,null,null,null,null,null,null,null,null,null,null,null,null,null,null,null,null,null,null,null,null,null,null,0]
[null,null,null,null,null,null,null,null,null,null,null,null,null,null,null,null,null,null,null,null,null,null,null,null,null,null,null,null,null,null,null,null,null,null,null,null,null,0]
[null,null,null,null,null,null,null,null,null,null,null,null,null,null,null,null,null,null,null,null,null,null,null,null,null,null,null,null,null,null,null,null,null,null,null,null,null,0]
[null,null,null,null,null,null,null,null,null,null,null,null,null,null,null,null,null,null,null,null,null,null,null,null,null,null,null,null,null,null,null,null,null,null,null,null,null,0]
[null,null,null,null,null,null,null,null,null,null,null,null,null,null,null,null,null,null,null,null,null,null,null,null,null,null,null,null,null,null,null,null,null,null,null,null,null,0]
[null,null,null,null,null,null,null,null,null,null,null,null,null,null,null,null,null,null,null,null,null,null,null,null,null,null,null,null,null,null,null,null,null,null,null,null,null,0]
[null,null,null,null,null,null,null,null,null,null,null,null,null,null,null,null,null,null,null,null,null,null,null,null,null,null,null,null,null,null,null,null,null,null,null,null,null,0]
[null,null,null,null,null,null,null,null,null,null,null,null,null,null,null,null,null,null,null,null,null,null,null,null,null,null,null,null,null,null,null,null,null,null,null,null,null,0]
[null,null,null,null,null,null,null,null,null,null,null,null,null,null,null,null,null,null,null,null,null,null,null,null,null,null,null,null,null,null,null,null,null,null,null,null,null,0]
[null,null,null,null,null,null,null,null,null,null,null,null,null,null,null,null,null,null,null,null,null,null,null,null,null,null,null,null,null,null,null,null,null,null,null,null,null,0]
[null,null,null,null,null,null,null,null,null,null,null,null,null,null,null,null,null,null,null,null,null,null,null,null,null,null,null,null,null,null,null,null,null,null,null,null,null,0]
[null,null,null,null,null,null,null,null,null,null,null,null,null,null,null,null,null,null,null,null,null,null,null,null,null,null,null,null,null,null,null,null,null,null,null,null,null,0]
[null,null,null,null,null,null,null,null,null,null,null,null,null,null,null,null,null,null,null,null,null,null,null,null,null,null,null,null,null,null,null,null,null,null,null,null,null,0]
[null,null,null,null,null,null,null,null,null,null,null,null,null,null,null,null,null,null,null,null,null,null,null,null,null,null,null,null,null,null,null,null,null,null,null,null,null,0]
[null,null,null,null,null,null,null,null,null,null,null,null,null,null,null,null,null,null,null,null,null,null,null,null,null,null,null,null,null,null,null,null,null,null,null,null,null,0]
[null,null,null,null,null,null,null,null,null,null,null,null,null,null,null,null,null,null,null,null,null,null,null,null,null,null,null,null,null,null,null,null,null,null,null,null,null,0]
[null,null,null,null,null,null,null,null,null,null,null,null,null,null,null,null,null,null,null,null,null,null,null,null,null,null,null,null,null,null,null,null,null,null,null,null,null,0]
[null,null,null,null,null,null,null,null,null,null,null,null,null,null,null,null,null,null,null,null,null,null,null,null,null,null,null,null,null,null,null,null,null,null,null,null,null,{"$f":"IF(Q162051,V162051-Q162051,0)","v":0}]
[null,null,null,null,null,null,null,null,null,null,null,null,null,null,null,null,null,null,null,null,null,null,null,null,null,null,null,null,null,null,null,null,null,null,null,null,null,0]
[null,null,null,null,null,null,null,null,null,null,null,null,null,null,null,null,null,null,null,null,null,null,null,null,null,null,null,null,null,null,null,null,null,null,null,null,null,0]
[null,null,null,null,null,null,null,null,null,null,null,null,null,null,null,null,null,null,null,null,null,null,null,null,null,null,null,null,null,null,null,null,null,null,null,null,null,0]
[null,null,null,null,null,null,null,null,null,null,null,null,null,null,null,null,null,null,null,null,null,null,null,null,null,null,null,null,null,null,null,null,null,null,null,null,null,0]
[null,null,null,null,null,null,null,null,null,null,null,null,null,null,null,null,null,null,null,null,null,null,null,null,null,null,null,null,null,null,null,null,null,null,null,null,null,0]
[null,null,null,null,null,null,null,null,null,null,null,null,null,null,null,null,null,null,null,null,null,null,null,null,null,null,null,null,null,null,null,null,null,null,null,null,null,0]
[null,null,null,null,null,null,null,null,null,null,null,null,null,null,null,null,null,null,null,null,null,null,null,null,null,null,null,null,null,null,null,null,null,null,null,null,null,0]
[null,null,null,null,null,null,null,null,null,null,null,null,null,null,null,null,null,null,null,null,null,null,null,null,null,null,null,null,null,null,null,null,null,null,null,null,null,0]
[null,null,null,null,null,null,null,null,null,null,null,null,null,null,null,null,null,null,null,null,null,null,null,null,null,null,null,null,null,null,null,null,null,null,null,null,null,0]
[null,null,null,null,null,null,null,null,null,null,null,null,null,null,null,null,null,null,null,null,null,null,null,null,null,null,null,null,null,null,null,null,null,null,null,null,null,0]
[null,null,null,null,null,null,null,null,null,null,null,null,null,null,null,null,null,null,null,null,null,null,null,null,null,null,null,null,null,null,null,null,null,null,null,null,null,0]
[null,null,null,null,null,null,null,null,null,null,null,null,null,null,null,null,null,null,null,null,null,null,null,null,null,null,null,null,null,null,null,null,null,null,null,null,null,0]
[null,null,null,null,null,null,null,null,null,null,null,null,null,null,null,null,null,null,null,null,null,null,null,null,null,null,null,null,null,null,null,null,null,null,null,null,null,0]
[null,null,null,null,null,null,null,null,null,null,null,null,null,null,null,null,null,null,null,null,null,null,null,null,null,null,null,null,null,null,null,null,null,null,null,null,null,0]
[null,null,null,null,null,null,null,null,null,null,null,null,null,null,null,null,null,null,null,null,null,null,null,null,null,null,null,null,null,null,null,null,null,null,null,null,null,0]
[null,null,null,null,null,null,null,null,null,null,null,null,null,null,null,null,null,null,null,null,null,null,null,null,null,null,null,null,null,null,null,null,null,null,null,null,null,0]
[null,null,null,null,null,null,null,null,null,null,null,null,null,null,null,null,null,null,null,null,null,null,null,null,null,null,null,null,null,null,null,null,null,null,null,null,null,0]
[null,null,null,null,null,null,null,null,null,null,null,null,null,null,null,null,null,null,null,null,null,null,null,null,null,null,null,null,null,null,null,null,null,null,null,null,null,0]
[null,null,null,null,null,null,null,null,null,null,null,null,null,null,null,null,null,null,null,null,null,null,null,null,null,null,null,null,null,null,null,null,null,null,null,null,null,0]
[null,null,null,null,null,null,null,null,null,null,null,null,null,null,null,null,null,null,null,null,null,null,null,null,null,null,null,null,null,null,null,null,null,null,null,null,null,0]
[null,null,null,null,null,null,null,null,null,null,null,null,null,null,null,null,null,null,null,null,null,null,null,null,null,null,null,null,null,null,null,null,null,null,null,null,null,0]
[null,null,null,null,null,null,null,null,null,null,null,null,null,null,null,null,null,null,null,null,null,null,null,null,null,null,null,null,null,null,null,null,null,null,null,null,null,0]
[null,null,null,null,null,null,null,null,null,null,null,null,null,null,null,null,null,null,null,null,null,null,null,null,null,null,null,null,null,null,null,null,null,null,null,null,null,0]
[null,null,null,null,null,null,null,null,null,null,null,null,null,null,null,null,null,null,null,null,null,null,null,null,null,null,null,null,null,null,null,null,null,null,null,null,null,0]
[null,null,null,null,null,null,null,null,null,null,null,null,null,null,null,null,null,null,null,null,null,null,null,null,null,null,null,null,null,null,null,null,null,null,null,null,null,0]
[null,null,null,null,null,null,null,null,null,null,null,null,null,null,null,null,null,null,null,null,null,null,null,null,null,null,null,null,null,null,null,null,null,null,null,null,null,0]
[null,null,null,null,null,null,null,null,null,null,null,null,null,null,null,null,null,null,null,null,null,null,null,null,null,null,null,null,null,null,null,null,null,null,null,null,null,0]
[null,null,null,null,null,null,null,null,null,null,null,null,null,null,null,null,null,null,null,null,null,null,null,null,null,null,null,null,null,null,null,null,null,null,null,null,null,0]
[null,null,null,null,null,null,null,null,null,null,null,null,null,null,null,null,null,null,null,null,null,null,null,null,null,null,null,null,null,null,null,null,null,null,null,null,null,0]
[null,null,null,null,null,null,null,null,null,null,null,null,null,null,null,null,null,null,null,null,null,null,null,null,null,null,null,null,null,null,null,null,null,null,null,null,null,0]
[null,null,null,null,null,null,null,null,null,null,null,null,null,null,null,null,null,null,null,null,null,null,null,null,null,null,null,null,null,null,null,null,null,null,null,null,null,0]
[null,null,null,null,null,null,null,null,null,null,null,null,null,null,null,null,null,null,null,null,null,null,null,null,null,null,null,null,null,null,null,null,null,null,null,null,null,0]
[null,null,null,null,null,null,null,null,null,null,null,null,null,null,null,null,null,null,null,null,null,null,null,null,null,null,null,null,null,null,null,null,null,null,null,null,null,0]
[null,null,null,null,null,null,null,null,null,null,null,null,null,null,null,null,null,null,null,null,null,null,null,null,null,null,null,null,null,null,null,null,null,null,null,null,null,0]
[null,null,null,null,null,null,null,null,null,null,null,null,null,null,null,null,null,null,null,null,null,null,null,null,null,null,null,null,null,null,null,null,null,null,null,null,null,0]
[null,null,null,null,null,null,null,null,null,null,null,null,null,null,null,null,null,null,null,null,null,null,null,null,null,null,null,null,null,null,null,null,null,null,null,null,null,0]
[null,null,null,null,null,null,null,null,null,null,null,null,null,null,null,null,null,null,null,null,null,null,null,null,null,null,null,null,null,null,null,null,null,null,null,null,null,0]
[null,null,null,null,null,null,null,null,null,null,null,null,null,null,null,null,null,null,null,null,null,null,null,null,null,null,null,null,null,null,null,null,null,null,null,null,null,0]
[null,null,null,null,null,null,null,null,null,null,null,null,null,null,null,null,null,null,null,null,null,null,null,null,null,null,null,null,null,null,null,null,null,null,null,null,null,0]
[null,null,null,null,null,null,null,null,null,null,null,null,null,null,null,null,null,null,null,null,null,null,null,null,null,null,null,null,null,null,null,null,null,null,null,null,null,0]
[null,null,null,null,null,null,null,null,null,null,null,null,null,null,null,null,null,null,null,null,null,null,null,null,null,null,null,null,null,null,null,null,null,null,null,null,null,0]
[null,null,null,null,null,null,null,null,null,null,null,null,null,null,null,null,null,null,null,null,null,null,null,null,null,null,null,null,null,null,null,null,null,null,null,null,null,0]
[null,null,null,null,null,null,null,null,null,null,null,null,null,null,null,null,null,null,null,null,null,null,null,null,null,null,null,null,null,null,null,null,null,null,null,null,null,0]
[null,null,null,null,null,null,null,null,null,null,null,null,null,null,null,null,null,null,null,null,null,null,null,null,null,null,null,null,null,null,null,null,null,null,null,null,null,0]
[null,null,null,null,null,null,null,null,null,null,null,null,null,null,null,null,null,null,null,null,null,null,null,null,null,null,null,null,null,null,null,null,null,null,null,null,null,0]
[null,null,null,null,null,null,null,null,null,null,null,null,null,null,null,null,null,null,null,null,null,null,null,null,null,null,null,null,null,null,null,null,null,null,null,null,null,0]
[null,null,null,null,null,null,null,null,null,null,null,null,null,null,null,null,null,null,null,null,null,null,null,null,null,null,null,null,null,null,null,null,null,null,null,null,null,0]
[null,null,null,null,null,null,null,null,null,null,null,null,null,null,null,null,null,null,null,null,null,null,null,null,null,null,null,null,null,null,null,null,null,null,null,null,null,0]
[null,null,null,null,null,null,null,null,null,null,null,null,null,null,null,null,null,null,null,null,null,null,null,null,null,null,null,null,null,null,null,null,null,null,null,null,null,0]
[null,null,null,null,null,null,null,null,null,null,null,null,null,null,null,null,null,null,null,null,null,null,null,null,null,null,null,null,null,null,null,null,null,null,null,null,null,0]
[null,null,null,null,null,null,null,null,null,null,null,null,null,null,null,null,null,null,null,null,null,null,null,null,null,null,null,null,null,null,null,null,null,null,null,null,null,0]
[null,null,null,null,null,null,null,null,null,null,null,null,null,null,null,null,null,null,null,null,null,null,null,null,null,null,null,null,null,null,null,null,null,null,null,null,null,0]
[null,null,null,null,null,null,null,null,null,null,null,null,null,null,null,null,null,null,null,null,null,null,null,null,null,null,null,null,null,null,null,null,null,null,null,null,null,0]
[null,null,null,null,null,null,null,null,null,null,null,null,null,null,null,null,null,null,null,null,null,null,null,null,null,null,null,null,null,null,null,null,null,null,null,null,null,0]
[null,null,null,null,null,null,null,null,null,null,null,null,null,null,null,null,null,null,null,null,null,null,null,null,null,null,null,null,null,null,null,null,null,null,null,null,null,0]
[null,null,null,null,null,null,null,null,null,null,null,null,null,null,null,null,null,null,null,null,null,null,null,null,null,null,null,null,null,null,null,null,null,null,null,null,null,0]
[null,null,null,null,null,null,null,null,null,null,null,null,null,null,null,null,null,null,null,null,null,null,null,null,null,null,null,null,null,null,null,null,null,null,null,null,null,0]
[null,null,null,null,null,null,null,null,null,null,null,null,null,null,null,null,null,null,null,null,null,null,null,null,null,null,null,null,null,null,null,null,null,null,null,null,null,0]
[null,null,null,null,null,null,null,null,null,null,null,null,null,null,null,null,null,null,null,null,null,null,null,null,null,null,null,null,null,null,null,null,null,null,null,null,null,0]
[null,null,null,null,null,null,null,null,null,null,null,null,null,null,null,null,null,null,null,null,null,null,null,null,null,null,null,null,null,null,null,null,null,null,null,null,null,0]
[null,null,null,null,null,null,null,null,null,null,null,null,null,null,null,null,null,null,null,null,null,null,null,null,null,null,null,null,null,null,null,null,null,null,null,null,null,0]
[null,null,null,null,null,null,null,null,null,null,null,null,null,null,null,null,null,null,null,null,null,null,null,null,null,null,null,null,null,null,null,null,null,null,null,null,null,0]
[null,null,null,null,null,null,null,null,null,null,null,null,null,null,null,null,null,null,null,null,null,null,null,null,null,null,null,null,null,null,null,null,null,null,null,null,null,0]
[null,null,null,null,null,null,null,null,null,null,null,null,null,null,null,null,null,null,null,null,null,null,null,null,null,null,null,null,null,null,null,null,null,null,null,null,null,0]
[null,null,null,null,null,null,null,null,null,null,null,null,null,null,null,null,null,null,null,null,null,null,null,null,null,null,null,null,null,null,null,null,null,null,null,null,null,0]
[null,null,null,null,null,null,null,null,null,null,null,null,null,null,null,null,null,null,null,null,null,null,null,null,null,null,null,null,null,null,null,null,null,null,null,null,null,0]
[null,null,null,null,null,null,null,null,null,null,null,null,null,null,null,null,null,null,null,null,null,null,null,null,null,null,null,null,null,null,null,null,null,null,null,null,null,0]
[null,null,null,null,null,null,null,null,null,null,null,null,null,null,null,null,null,null,null,null,null,null,null,null,null,null,null,null,null,null,null,null,null,null,null,null,null,0]
[null,null,null,null,null,null,null,null,null,null,null,null,null,null,null,null,null,null,null,null,null,null,null,null,null,null,null,null,null,null,null,null,null,null,null,null,null,0]
[null,null,null,null,null,null,null,null,null,null,null,null,null,null,null,null,null,null,null,null,null,null,null,null,null,null,null,null,null,null,null,null,null,null,null,null,null,0]
[null,null,null,null,null,null,null,null,null,null,null,null,null,null,null,null,null,null,null,null,null,null,null,null,null,null,null,null,null,null,null,null,null,null,null,null,null,0]
[null,null,null,null,null,null,null,null,null,null,null,null,null,null,null,null,null,null,null,null,null,null,null,null,null,null,null,null,null,null,null,null,null,null,null,null,null,0]
[null,null,null,null,null,null,null,null,null,null,null,null,null,null,null,null,null,null,null,null,null,null,null,null,null,null,null,null,null,null,null,null,null,null,null,null,null,0]
[null,null,null,null,null,null,null,null,null,null,null,null,null,null,null,null,null,null,null,null,null,null,null,null,null,null,null,null,null,null,null,null,null,null,null,null,null,0]
[null,null,null,null,null,null,null,null,null,null,null,null,null,null,null,null,null,null,null,null,null,null,null,null,null,null,null,null,null,null,null,null,null,null,null,null,null,0]
[null,null,null,null,null,null,null,null,null,null,null,null,null,null,null,null,null,null,null,null,null,null,null,null,null,null,null,null,null,null,null,null,null,null,null,null,null,0]
[null,null,null,null,null,null,null,null,null,null,null,null,null,null,null,null,null,null,null,null,null,null,null,null,null,null,null,null,null,null,null,null,null,null,null,null,null,0]
[null,null,null,null,null,null,null,null,null,null,null,null,null,null,null,null,null,null,null,null,null,null,null,null,null,null,null,null,null,null,null,null,null,null,null,null,null,0]
[null,null,null,null,null,null,null,null,null,null,null,null,null,null,null,null,null,null,null,null,null,null,null,null,null,null,null,null,null,null,null,null,null,null,null,null,null,0]
[null,null,null,null,null,null,null,null,null,null,null,null,null,null,null,null,null,null,null,null,null,null,null,null,null,null,null,null,null,null,null,null,null,null,null,null,null,0]
[null,null,null,null,null,null,null,null,null,null,null,null,null,null,null,null,null,null,null,null,null,null,null,null,null,null,null,null,null,null,null,null,null,null,null,null,null,0]
[null,null,null,null,null,null,null,null,null,null,null,null,null,null,null,null,null,null,null,null,null,null,null,null,null,null,null,null,null,null,null,null,null,null,null,null,null,0]
[null,null,null,null,null,null,null,null,null,null,null,null,null,null,null,null,null,null,null,null,null,null,null,null,null,null,null,null,null,null,null,null,null,null,null,null,null,0]
[null,null,null,null,null,null,null,null,null,null,null,null,null,null,null,null,null,null,null,null,null,null,null,null,null,null,null,null,null,null,null,null,null,null,null,null,null,0]
[null,null,null,null,null,null,null,null,null,null,null,null,null,null,null,null,null,null,null,null,null,null,null,null,null,null,null,null,null,null,null,null,null,null,null,null,null,0]
[null,null,null,null,null,null,null,null,null,null,null,null,null,null,null,null,null,null,null,null,null,null,null,null,null,null,null,null,null,null,null,null,null,null,null,null,null,0]
[null,null,null,null,null,null,null,null,null,null,null,null,null,null,null,null,null,null,null,null,null,null,null,null,null,null,null,null,null,null,null,null,null,null,null,null,null,0]
[null,null,null,null,null,null,null,null,null,null,null,null,null,null,null,null,null,null,null,null,null,null,null,null,null,null,null,null,null,null,null,null,null,null,null,null,null,0]
[null,null,null,null,null,null,null,null,null,null,null,null,null,null,null,null,null,null,null,null,null,null,null,null,null,null,null,null,null,null,null,null,null,null,null,null,null,0]
[null,null,null,null,null,null,null,null,null,null,null,null,null,null,null,null,null,null,null,null,null,null,null,null,null,null,null,null,null,null,null,null,null,null,null,null,null,0]
[null,null,null,null,null,null,null,null,null,null,null,null,null,null,null,null,null,null,null,null,null,null,null,null,null,null,null,null,null,null,null,null,null,null,null,null,null,0]
[null,null,null,null,null,null,null,null,null,null,null,null,null,null,null,null,null,null,null,null,null,null,null,null,null,null,null,null,null,null,null,null,null,null,null,null,null,0]
[null,null,null,null,null,null,null,null,null,null,null,null,null,null,null,null,null,null,null,null,null,null,null,null,null,null,null,null,null,null,null,null,null,null,null,null,null,0]
[null,null,null,null,null,null,null,null,null,null,null,null,null,null,null,null,null,null,null,null,null,null,null,null,null,null,null,null,null,null,null,null,null,null,null,null,null,0]
[null,null,null,null,null,null,null,null,null,null,null,null,null,null,null,null,null,null,null,null,null,null,null,null,null,null,null,null,null,null,null,null,null,null,null,null,null,0]
[null,null,null,null,null,null,null,null,null,null,null,null,null,null,null,null,null,null,null,null,null,null,null,null,null,null,null,null,null,null,null,null,null,null,null,null,null,0]
[null,null,null,null,null,null,null,null,null,null,null,null,null,null,null,null,null,null,null,null,null,null,null,null,null,null,null,null,null,null,null,null,null,null,null,null,null,0]
[null,null,null,null,null,null,null,null,null,null,null,null,null,null,null,null,null,null,null,null,null,null,null,null,null,null,null,null,null,null,null,null,null,null,null,null,null,0]
[null,null,null,null,null,null,null,null,null,null,null,null,null,null,null,null,null,null,null,null,null,null,null,null,null,null,null,null,null,null,null,null,null,null,null,null,null,0]
[null,null,null,null,null,null,null,null,null,null,null,null,null,null,null,null,null,null,null,null,null,null,null,null,null,null,null,null,null,null,null,null,null,null,null,null,null,0]
[null,null,null,null,null,null,null,null,null,null,null,null,null,null,null,null,null,null,null,null,null,null,null,null,null,null,null,null,null,null,null,null,null,null,null,null,null,0]
[null,null,null,null,null,null,null,null,null,null,null,null,null,null,null,null,null,null,null,null,null,null,null,null,null,null,null,null,null,null,null,null,null,null,null,null,null,0]
[null,null,null,null,null,null,null,null,null,null,null,null,null,null,null,null,null,null,null,null,null,null,null,null,null,null,null,null,null,null,null,null,null,null,null,null,null,0]
[null,null,null,null,null,null,null,null,null,null,null,null,null,null,null,null,null,null,null,null,null,null,null,null,null,null,null,null,null,null,null,null,null,null,null,null,null,0]
[null,null,null,null,null,null,null,null,null,null,null,null,null,null,null,null,null,null,null,null,null,null,null,null,null,null,null,null,null,null,null,null,null,null,null,null,null,0]
[null,null,null,null,null,null,null,null,null,null,null,null,null,null,null,null,null,null,null,null,null,null,null,null,null,null,null,null,null,null,null,null,null,null,null,null,null,0]
[null,null,null,null,null,null,null,null,null,null,null,null,null,null,null,null,null,null,null,null,null,null,null,null,null,null,null,null,null,null,null,null,null,null,null,null,null,0]
[null,null,null,null,null,null,null,null,null,null,null,null,null,null,null,null,null,null,null,null,null,null,null,null,null,null,null,null,null,null,null,null,null,null,null,null,null,0]
[null,null,null,null,null,null,null,null,null,null,null,null,null,null,null,null,null,null,null,null,null,null,null,null,null,null,null,null,null,null,null,null,null,null,null,null,null,0]
[null,null,null,null,null,null,null,null,null,null,null,null,null,null,null,null,null,null,null,null,null,null,null,null,null,null,null,null,null,null,null,null,null,null,null,null,null,0]
[null,null,null,null,null,null,null,null,null,null,null,null,null,null,null,null,null,null,null,null,null,null,null,null,null,null,null,null,null,null,null,null,null,null,null,null,null,0]
[null,null,null,null,null,null,null,null,null,null,null,null,null,null,null,null,null,null,null,null,null,null,null,null,null,null,null,null,null,null,null,null,null,null,null,null,null,0]
[null,null,null,null,null,null,null,null,null,null,null,null,null,null,null,null,null,null,null,null,null,null,null,null,null,null,null,null,null,null,null,null,null,null,null,null,null,0]
[null,null,null,null,null,null,null,null,null,null,null,null,null,null,null,null,null,null,null,null,null,null,null,null,null,null,null,null,null,null,null,null,null,null,null,null,null,0]
[null,null,null,null,null,null,null,null,null,null,null,null,null,null,null,null,null,null,null,null,null,null,null,null,null,null,null,null,null,null,null,null,null,null,null,null,null,0]
[null,null,null,null,null,null,null,null,null,null,null,null,null,null,null,null,null,null,null,null,null,null,null,null,null,null,null,null,null,null,null,null,null,null,null,null,null,0]
[null,null,null,null,null,null,null,null,null,null,null,null,null,null,null,null,null,null,null,null,null,null,null,null,null,null,null,null,null,null,null,null,null,null,null,null,null,0]
[null,null,null,null,null,null,null,null,null,null,null,null,null,null,null,null,null,null,null,null,null,null,null,null,null,null,null,null,null,null,null,null,null,null,null,null,null,0]
[null,null,null,null,null,null,null,null,null,null,null,null,null,null,null,null,null,null,null,null,null,null,null,null,null,null,null,null,null,null,null,null,null,null,null,null,null,0]
[null,null,null,null,null,null,null,null,null,null,null,null,null,null,null,null,null,null,null,null,null,null,null,null,null,null,null,null,null,null,null,null,null,null,null,null,null,0]
[null,null,null,null,null,null,null,null,null,null,null,null,null,null,null,null,null,null,null,null,null,null,null,null,null,null,null,null,null,null,null,null,null,null,null,null,null,0]
[null,null,null,null,null,null,null,null,null,null,null,null,null,null,null,null,null,null,null,null,null,null,null,null,null,null,null,null,null,null,null,null,null,null,null,null,null,0]
[null,null,null,null,null,null,null,null,null,null,null,null,null,null,null,null,null,null,null,null,null,null,null,null,null,null,null,null,null,null,null,null,null,null,null,null,null,0]
[null,null,null,null,null,null,null,null,null,null,null,null,null,null,null,null,null,null,null,null,null,null,null,null,null,null,null,null,null,null,null,null,null,null,null,null,null,0]
[null,null,null,null,null,null,null,null,null,null,null,null,null,null,null,null,null,null,null,null,null,null,null,null,null,null,null,null,null,null,null,null,null,null,null,null,null,0]
[null,null,null,null,null,null,null,null,null,null,null,null,null,null,null,null,null,null,null,null,null,null,null,null,null,null,null,null,null,null,null,null,null,null,null,null,null,0]
[null,null,null,null,null,null,null,null,null,null,null,null,null,null,null,null,null,null,null,null,null,null,null,null,null,null,null,null,null,null,null,null,null,null,null,null,null,0]
[null,null,null,null,null,null,null,null,null,null,null,null,null,null,null,null,null,null,null,null,null,null,null,null,null,null,null,null,null,null,null,null,null,null,null,null,null,0]
[null,null,null,null,null,null,null,null,null,null,null,null,null,null,null,null,null,null,null,null,null,null,null,null,null,null,null,null,null,null,null,null,null,null,null,null,null,0]
[null,null,null,null,null,null,null,null,null,null,null,null,null,null,null,null,null,null,null,null,null,null,null,null,null,null,null,null,null,null,null,null,null,null,null,null,null,0]
[null,null,null,null,null,null,null,null,null,null,null,null,null,null,null,null,null,null,null,null,null,null,null,null,null,null,null,null,null,null,null,null,null,null,null,null,null,0]
[null,null,null,null,null,null,null,null,null,null,null,null,null,null,null,null,null,null,null,null,null,null,null,null,null,null,null,null,null,null,null,null,null,null,null,null,null,0]
[null,null,null,null,null,null,null,null,null,null,null,null,null,null,null,null,null,null,null,null,null,null,null,null,null,null,null,null,null,null,null,null,null,null,null,null,null,0]
[null,null,null,null,null,null,null,null,null,null,null,null,null,null,null,null,null,null,null,null,null,null,null,null,null,null,null,null,null,null,null,null,null,null,null,null,null,0]
[null,null,null,null,null,null,null,null,null,null,null,null,null,null,null,null,null,null,null,null,null,null,null,null,null,null,null,null,null,null,null,null,null,null,null,null,null,0]
[null,null,null,null,null,null,null,null,null,null,null,null,null,null,null,null,null,null,null,null,null,null,null,null,null,null,null,null,null,null,null,null,null,null,null,null,null,0]
[null,null,null,null,null,null,null,null,null,null,null,null,null,null,null,null,null,null,null,null,null,null,null,null,null,null,null,null,null,null,null,null,null,null,null,null,null,0]
[null,null,null,null,null,null,null,null,null,null,null,null,null,null,null,null,null,null,null,null,null,null,null,null,null,null,null,null,null,null,null,null,null,null,null,null,null,0]
[null,null,null,null,null,null,null,null,null,null,null,null,null,null,null,null,null,null,null,null,null,null,null,null,null,null,null,null,null,null,null,null,null,null,null,null,null,0]
[null,null,null,null,null,null,null,null,null,null,null,null,null,null,null,null,null,null,null,null,null,null,null,null,null,null,null,null,null,null,null,null,null,null,null,null,null,0]
[null,null,null,null,null,null,null,null,null,null,null,null,null,null,null,null,null,null,null,null,null,null,null,null,null,null,null,null,null,null,null,null,null,null,null,null,null,0]
[null,null,null,null,null,null,null,null,null,null,null,null,null,null,null,null,null,null,null,null,null,null,null,null,null,null,null,null,null,null,null,null,null,null,null,null,null,0]
[null,null,null,null,null,null,null,null,null,null,null,null,null,null,null,null,null,null,null,null,null,null,null,null,null,null,null,null,null,null,null,null,null,null,null,null,null,{"$f":"IF(Q311555,V311555-Q311555,0)","v":0}]
[null,null,null,null,null,null,null,null,null,null,null,null,null,null,null,null,null,null,null,null,null,null,null,null,null,null,null,null,null,null,null,null,null,null,null,null,null,0]
[null,null,null,null,null,null,null,null,null,null,null,null,null,null,null,null,null,null,null,null,null,null,null,null,null,null,null,null,null,null,null,null,null,null,null,null,null,0]
[null,null,null,null,null,null,null,null,null,null,null,null,null,null,null,null,null,null,null,null,null,null,null,null,null,null,null,null,null,null,null,null,null,null,null,null,null,0]
[null,null,null,null,null,null,null,null,null,null,null,null,null,null,null,null,null,null,null,null,null,null,null,null,null,null,null,null,null,null,null,null,null,null,null,null,null,0]
[null,null,null,null,null,null,null,null,null,null,null,null,null,null,null,null,null,null,null,null,null,null,null,null,null,null,null,null,null,null,null,null,null,null,null,null,null,0]
[null,null,null,null,null,null,null,null,null,null,null,null,null,null,null,null,null,null,null,null,null,null,null,null,null,null,null,null,null,null,null,null,null,null,null,null,null,0]
[null,null,null,null,null,null,null,null,null,null,null,null,null,null,null,null,null,null,null,null,null,null,null,null,null,null,null,null,null,null,null,null,null,null,null,null,null,0]
[null,null,null,null,null,null,null,null,null,null,null,null,null,null,null,null,null,null,null,null,null,null,null,null,null,null,null,null,null,null,null,null,null,null,null,null,null,0]
[null,null,null,null,null,null,null,null,null,null,null,null,null,null,null,null,null,null,null,null,null,null,null,null,null,null,null,null,null,null,null,null,null,null,null,null,null,0]
[null,null,null,null,null,null,null,null,null,null,null,null,null,null,null,null,null,null,null,null,null,null,null,null,null,null,null,null,null,null,null,null,null,null,null,null,null,0]
[null,null,null,null,null,null,null,null,null,null,null,null,null,null,null,null,null,null,null,null,null,null,null,null,null,null,null,null,null,null,null,null,null,null,null,null,null,0]
[null,null,null,null,null,null,null,null,null,null,null,null,null,null,null,null,null,null,null,null,null,null,null,null,null,null,null,null,null,null,null,null,null,null,null,null,null,0]
[null,null,null,null,null,null,null,null,null,null,null,null,null,null,null,null,null,null,null,null,null,null,null,null,null,null,null,null,null,null,null,null,null,null,null,null,null,0]
[null,null,null,null,null,null,null,null,null,null,null,null,null,null,null,null,null,null,null,null,null,null,null,null,null,null,null,null,null,null,null,null,null,null,null,null,null,0]
[null,null,null,null,null,null,null,null,null,null,null,null,null,null,null,null,null,null,null,null,null,null,null,null,null,null,null,null,null,null,null,null,null,null,null,null,null,0]
[null,null,null,null,null,null,null,null,null,null,null,null,null,null,null,null,null,null,null,null,null,null,null,null,null,null,null,null,null,null,null,null,null,null,null,null,null,0]
[null,null,null,null,null,null,null,null,null,null,null,null,null,null,null,null,null,null,null,null,null,null,null,null,null,null,null,null,null,null,null,null,null,null,null,null,null,0]
[null,null,null,null,null,null,null,null,null,null,null,null,null,null,null,null,null,null,null,null,null,null,null,null,null,null,null,null,null,null,null,null,null,null,null,null,null,0]
[null,null,null,null,null,null,null,null,null,null,null,null,null,null,null,null,null,null,null,null,null,null,null,null,null,null,null,null,null,null,null,null,null,null,null,null,null,0]
[null,null,null,null,null,null,null,null,null,null,null,null,null,null,null,null,null,null,null,null,null,null,null,null,null,null,null,null,null,null,null,null,null,null,null,null,null,0]
[null,null,null,null,null,null,null,null,null,null,null,null,null,null,null,null,null,null,null,null,null,null,null,null,null,null,null,null,null,null,null,null,null,null,null,null,null,0]
[null,null,null,null,null,null,null,null,null,null,null,null,null,null,null,null,null,null,null,null,null,null,null,null,null,null,null,null,null,null,null,null,null,null,null,null,null,0]
[null,null,null,null,null,null,null,null,null,null,null,null,null,null,null,null,null,null,null,null,null,null,null,null,null,null,null,null,null,null,null,null,null,null,null,null,null,0]
[null,null,null,null,null,null,null,null,null,null,null,null,null,null,null,null,null,null,null,null,null,null,null,null,null,null,null,null,null,null,null,null,null,null,null,null,null,0]
[null,null,null,null,null,null,null,null,null,null,null,null,null,null,null,null,null,null,null,null,null,null,null,null,null,null,null,null,null,null,null,null,null,null,null,null,null,0]
[null,null,null,null,null,null,null,null,null,null,null,null,null,null,null,null,null,null,null,null,null,null,null,null,null,null,null,null,null,null,null,null,null,null,null,null,null,0]
[null,null,null,null,null,null,null,null,null,null,null,null,null,null,null,null,null,null,null,null,null,null,null,null,null,null,null,null,null,null,null,null,null,null,null,null,null,0]
[null,null,null,null,null,null,null,null,null,null,null,null,null,null,null,null,null,null,null,null,null,null,null,null,null,null,null,null,null,null,null,null,null,null,null,null,null,0]
[null,null,null,null,null,null,null,null,null,null,null,null,null,null,null,null,null,null,null,null,null,null,null,null,null,null,null,null,null,null,null,null,null,null,null,null,null,0]
[null,null,null,null,null,null,null,null,null,null,null,null,null,null,null,null,null,null,null,null,null,null,null,null,null,null,null,null,null,null,null,null,null,null,null,null,null,0]
[null,null,null,null,null,null,null,null,null,null,null,null,null,null,null,null,null,null,null,null,null,null,null,null,null,null,null,null,null,null,null,null,null,null,null,null,null,0]
[null,null,null,null,null,null,null,null,null,null,null,null,null,null,null,null,null,null,null,null,null,null,null,null,null,null,null,null,null,null,null,null,null,null,null,null,null,0]
[null,null,null,null,null,null,null,null,null,null,null,null,null,null,null,null,null,null,null,null,null,null,null,null,null,null,null,null,null,null,null,null,null,null,null,null,null,0]
[null,null,null,null,null,null,null,null,null,null,null,null,null,null,null,null,null,null,null,null,null,null,null,null,null,null,null,null,null,null,null,null,null,null,null,null,null,0]
[null,null,null,null,null,null,null,null,null,null,null,null,null,null,null,null,null,null,null,null,null,null,null,null,null,null,null,null,null,null,null,null,null,null,null,null,null,0]
[null,null,null,null,null,null,null,null,null,null,null,null,null,null,null,null,null,null,null,null,null,null,null,null,null,null,null,null,null,null,null,null,null,null,null,null,null,0]
[null,null,null,null,null,null,null,null,null,null,null,null,null,null,null,null,null,null,null,null,null,null,null,null,null,null,null,null,null,null,null,null,null,null,null,null,null,{"$f":"IF(Q350659,V350659-Q350659,0)","v":0}]
[null,null,null,null,null,null,null,null,null,null,null,null,null,null,null,null,null,null,null,null,null,null,null,null,null,null,null,null,null,null,null,null,null,null,null,null,null,0]
[null,null,null,null,null,null,null,null,null,null,null,null,null,null,null,null,null,null,null,null,null,null,null,null,null,null,null,null,null,null,null,null,null,null,null,null,null,0]
[null,null,null,null,null,null,null,null,null,null,null,null,null,null,null,null,null,null,null,null,null,null,null,null,null,null,null,null,null,null,null,null,null,null,null,null,null,0]
[null,null,null,null,null,null,null,null,null,null,null,null,null,null,null,null,null,null,null,null,null,null,null,null,null,null,null,null,null,null,null,null,null,null,null,null,null,0]
[null,null,null,null,null,null,null,null,null,null,null,null,null,null,null,null,null,null,null,null,null,null,null,null,null,null,null,null,null,null,null,null,null,null,null,null,null,0]
[null,null,null,null,null,null,null,null,null,null,null,null,null,null,null,null,null,null,null,null,null,null,null,null,null,null,null,null,null,null,null,null,null,null,null,null,null,0]
[null,null,null,null,null,null,null,null,null,null,null,null,null,null,null,null,null,null,null,null,null,null,null,null,null,null,null,null,null,null,null,null,null,null,null,null,null,0]
[null,null,null,null,null,null,null,null,null,null,null,null,null,null,null,null,null,null,null,null,null,null,null,null,null,null,null,null,null,null,null,null,null,null,null,null,null,0]
[null,null,null,null,null,null,null,null,null,null,null,null,null,null,null,null,null,null,null,null,null,null,null,null,null,null,null,null,null,null,null,null,null,null,null,null,null,0]
[null,null,null,null,null,null,null,null,null,null,null,null,null,null,null,null,null,null,null,null,null,null,null,null,null,null,null,null,null,null,null,null,null,null,null,null,null,0]
[null,null,null,null,null,null,null,null,null,null,null,null,null,null,null,null,null,null,null,null,null,null,null,null,null,null,null,null,null,null,null,null,null,null,null,null,null,0]
[null,null,null,null,null,null,null,null,null,null,null,null,null,null,null,null,null,null,null,null,null,null,null,null,null,null,null,null,null,null,null,null,null,null,null,null,null,0]
[null,null,null,null,null,null,null,null,null,null,null,null,null,null,null,null,null,null,null,null,null,null,null,null,null,null,null,null,null,null,null,null,null,null,null,null,null,0]
[null,null,null,null,null,null,null,null,null,null,null,null,null,null,null,null,null,null,null,null,null,null,null,null,null,null,null,null,null,null,null,null,null,null,null,null,null,0]
[null,null,null,null,null,null,null,null,null,null,null,null,null,null,null,null,null,null,null,null,null,null,null,null,null,null,null,null,null,null,null,null,null,null,null,null,null,0]
[null,null,null,null,null,null,null,null,null,null,null,null,null,null,null,null,null,null,null,null,null,null,null,null,null,null,null,null,null,null,null,null,null,null,null,null,null,0]
[null,null,null,null,null,null,null,null,null,null,null,null,null,null,null,null,null,null,null,null,null,null,null,null,null,null,null,null,null,null,null,null,null,null,null,null,null,0]
[null,null,null,null,null,null,null,null,null,null,null,null,null,null,null,null,null,null,null,null,null,null,null,null,null,null,null,null,null,null,null,null,null,null,null,null,null,0]
[null,null,null,null,null,null,null,null,null,null,null,null,null,null,null,null,null,null,null,null,null,null,null,null,null,null,null,null,null,null,null,null,null,null,null,null,null,0]
[null,null,null,null,null,null,null,null,null,null,null,null,null,null,null,null,null,null,null,null,null,null,null,null,null,null,null,null,null,null,null,null,null,null,null,null,null,0]
[null,null,null,null,null,null,null,null,null,null,null,null,null,null,null,null,null,null,null,null,null,null,null,null,null,null,null,null,null,null,null,null,null,null,null,null,null,{"$f":"IF(Q371779,V371779-Q371779,0)","v":0}]
[null,null,null,null,null,null,null,null,null,null,null,null,null,null,null,null,null,null,null,null,null,null,null,null,null,null,null,null,null,null,null,null,null,null,null,null,null,0]
[null,null,null,null,null,null,null,null,null,null,null,null,null,null,null,null,null,null,null,null,null,null,null,null,null,null,null,null,null,null,null,null,null,null,null,null,null,0]
[null,null,null,null,null,null,null,null,null,null,null,null,null,null,null,null,null,null,null,null,null,null,null,null,null,null,null,null,null,null,null,null,null,null,null,null,null,0]
[null,null,null,null,null,null,null,null,null,null,null,null,null,null,null,null,null,null,null,null,null,null,null,null,null,null,null,null,null,null,null,null,null,null,null,null,null,0]
[null,null,null,null,null,null,null,null,null,null,null,null,null,null,null,null,null,null,null,null,null,null,null,null,null,null,null,null,null,null,null,null,null,null,null,null,null,0]
[null,null,null,null,null,null,null,null,null,null,null,null,null,null,null,null,null,null,null,null,null,null,null,null,null,null,null,null,null,null,null,null,null,null,null,null,null,0]
[null,null,null,null,null,null,null,null,null,null,null,null,null,null,null,null,null,null,null,null,null,null,null,null,null,null,null,null,null,null,null,null,null,null,null,null,null,0]
[null,null,null,null,null,null,null,null,null,null,null,null,null,null,null,null,null,null,null,null,null,null,null,null,null,null,null,null,null,null,null,null,null,null,null,null,null,0]
[null,null,null,null,null,null,null,null,null,null,null,null,null,null,null,null,null,null,null,null,null,null,null,null,null,null,null,null,null,null,null,null,null,null,null,null,null,0]
[null,null,null,null,null,null,null,null,null,null,null,null,null,null,null,null,null,null,null,null,null,null,null,null,null,null,null,null,null,null,null,null,null,null,null,null,null,0]
[null,null,null,null,null,null,null,null,null,null,null,null,null,null,null,null,null,null,null,null,null,null,null,null,null,null,null,null,null,null,null,null,null,null,null,null,null,0]
[null,null,null,null,null,null,null,null,null,null,null,null,null,null,null,null,null,null,null,null,null,null,null,null,null,null,null,null,null,null,null,null,null,null,null,null,null,0]
[null,null,null,null,null,null,null,null,null,null,null,null,null,null,null,null,null,null,null,null,null,null,null,null,null,null,null,null,null,null,null,null,null,null,null,null,null,0]
[null,null,null,null,null,null,null,null,null,null,null,null,null,null,null,null,null,null,null,null,null,null,null,null,null,null,null,null,null,null,null,null,null,null,null,null,null,0]
[null,null,null,null,null,null,null,null,null,null,null,null,null,null,null,null,null,null,null,null,null,null,null,null,null,null,null,null,null,null,null,null,null,null,null,null,null,0]
[null,null,null,null,null,null,null,null,null,null,null,null,null,null,null,null,null,null,null,null,null,null,null,null,null,null,null,null,null,null,null,null,null,null,null,null,null,0]
[null,null,null,null,null,null,null,null,null,null,null,null,null,null,null,null,null,null,null,null,null,null,null,null,null,null,null,null,null,null,null,null,null,null,null,null,null,0]
[null,null,null,null,null,null,null,null,null,null,null,null,null,null,null,null,null,null,null,null,null,null,null,null,null,null,null,null,null,null,null,null,null,null,null,null,null,0]
[null,null,null,null,null,null,null,null,null,null,null,null,null,null,null,null,null,null,null,null,null,null,null,null,null,null,null,null,null,null,null,null,null,null,null,null,null,0]
[null,null,null,null,null,null,null,null,null,null,null,null,null,null,null,null,null,null,null,null,null,null,null,null,null,null,null,null,null,null,null,null,null,null,null,null,null,0]
[null,null,null,null,null,null,null,null,null,null,null,null,null,null,null,null,null,null,null,null,null,null,null,null,null,null,null,null,null,null,null,null,null,null,null,null,null,0]
[null,null,null,null,null,null,null,null,null,null,null,null,null,null,null,null,null,null,null,null,null,null,null,null,null,null,null,null,null,null,null,null,null,null,null,null,null,0]
[null,null,null,null,null,null,null,null,null,null,null,null,null,null,null,null,null,null,null,null,null,null,null,null,null,null,null,null,null,null,null,null,null,null,null,null,null,0]
[null,null,null,null,null,null,null,null,null,null,null,null,null,null,null,null,null,null,null,null,null,null,null,null,null,null,null,null,null,null,null,null,null,null,null,null,null,0]
[null,null,null,null,null,null,null,null,null,null,null,null,null,null,null,null,null,null,null,null,null,null,null,null,null,null,null,null,null,null,null,null,null,null,null,null,null,0]
[null,null,null,null,null,null,null,null,null,null,null,null,null,null,null,null,null,null,null,null,null,null,null,null,null,null,null,null,null,null,null,null,null,null,null,null,null,0]
[null,null,null,null,null,null,null,null,null,null,null,null,null,null,null,null,null,null,null,null,null,null,null,null,null,null,null,null,null,null,null,null,null,null,null,null,null,0]
[null,null,null,null,null,null,null,null,null,null,null,null,null,null,null,null,null,null,null,null,null,null,null,null,null,null,null,null,null,null,null,null,null,null,null,null,null,0]
[null,null,null,null,null,null,null,null,null,null,null,null,null,null,null,null,null,null,null,null,null,null,null,null,null,null,null,null,null,null,null,null,null,null,null,null,null,0]
[null,null,null,null,null,null,null,null,null,null,null,null,null,null,null,null,null,null,null,null,null,null,null,null,null,null,null,null,null,null,null,null,null,null,null,null,null,0]
[null,null,null,null,null,null,null,null,null,null,null,null,null,null,null,null,null,null,null,null,null,null,null,null,null,null,null,null,null,null,null,null,null,null,null,null,null,0]
[null,null,null,null,null,null,null,null,null,null,null,null,null,null,null,null,null,null,null,null,null,null,null,null,null,null,null,null,null,null,null,null,null,null,null,null,null,0]
[null,null,null,null,null,null,null,null,null,null,null,null,null,null,null,null,null,null,null,null,null,null,null,null,null,null,null,null,null,null,null,null,null,null,null,null,null,0]
[null,null,null,null,null,null,null,null,null,null,null,null,null,null,null,null,null,null,null,null,null,null,null,null,null,null,null,null,null,null,null,null,null,null,null,null,null,0]
[null,null,null,null,null,null,null,null,null,null,null,null,null,null,null,null,null,null,null,null,null,null,null,null,null,null,null,null,null,null,null,null,null,null,null,null,null,0]
[null,null,null,null,null,null,null,null,null,null,null,null,null,null,null,null,null,null,null,null,null,null,null,null,null,null,null,null,null,null,null,null,null,null,null,null,null,0]
[null,null,null,null,null,null,null,null,null,null,null,null,null,null,null,null,null,null,null,null,null,null,null,null,null,null,null,null,null,null,null,null,null,null,null,null,null,{"$f":"IF(Q410883,V410883-Q410883,0)","v":0}]
[null,null,null,null,null,null,null,null,null,null,null,null,null,null,null,null,null,null,null,null,null,null,null,null,null,null,null,null,null,null,null,null,null,null,null,null,null,0]
[null,null,null,null,null,null,null,null,null,null,null,null,null,null,null,null,null,null,null,null,null,null,null,null,null,null,null,null,null,null,null,null,null,null,null,null,null,0]
[null,null,null,null,null,null,null,null,null,null,null,null,null,null,null,null,null,null,null,null,null,null,null,null,null,null,null,null,null,null,null,null,null,null,null,null,null,0]
[null,null,null,null,null,null,null,null,null,null,null,null,null,null,null,null,null,null,null,null,null,null,null,null,null,null,null,null,null,null,null,null,null,null,null,null,null,0]
[null,null,null,null,null,null,null,null,null,null,null,null,null,null,null,null,null,null,null,null,null,null,null,null,null,null,null,null,null,null,null,null,null,null,null,null,null,0]
[null,null,null,null,null,null,null,null,null,null,null,null,null,null,null,null,null,null,null,null,null,null,null,null,null,null,null,null,null,null,null,null,null,null,null,null,null,0]
[null,null,null,null,null,null,null,null,null,null,null,null,null,null,null,null,null,null,null,null,null,null,null,null,null,null,null,null,null,null,null,null,null,null,null,null,null,0]
[null,null,null,null,null,null,null,null,null,null,null,null,null,null,null,null,null,null,null,null,null,null,null,null,null,null,null,null,null,null,null,null,null,null,null,null,null,0]
[null,null,null,null,null,null,null,null,null,null,null,null,null,null,null,null,null,null,null,null,null,null,null,null,null,null,null,null,null,null,null,null,null,null,null,null,null,0]
[null,null,null,null,null,null,null,null,null,null,null,null,null,null,null,null,null,null,null,null,null,null,null,null,null,null,null,null,null,null,null,null,null,null,null,null,null,0]
[null,null,null,null,null,null,null,null,null,null,null,null,null,null,null,null,null,null,null,null,null,null,null,null,null,null,null,null,null,null,null,null,null,null,null,null,null,0]
[null,null,null,null,null,null,null,null,null,null,null,null,null,null,null,null,null,null,null,null,null,null,null,null,null,null,null,null,null,null,null,null,null,null,null,null,null,0]
[null,null,null,null,null,null,null,null,null,null,null,null,null,null,null,null,null,null,null,null,null,null,null,null,null,null,null,null,null,null,null,null,null,null,null,null,null,0]
[null,null,null,null,null,null,null,null,null,null,null,null,null,null,null,null,null,null,null,null,null,null,null,null,null,null,null,null,null,null,null,null,null,null,null,null,null,0]
[null,null,null,null,null,null,null,null,null,null,null,null,null,null,null,null,null,null,null,null,null,null,null,null,null,null,null,null,null,null,null,null,null,null,null,null,null,0]
[null,null,null,null,null,null,null,null,null,null,null,null,null,null,null,null,null,null,null,null,null,null,null,null,null,null,null,null,null,null,null,null,null,null,null,null,null,0]
[null,null,null,null,null,null,null,null,null,null,null,null,null,null,null,null,null,null,null,null,null,null,null,null,null,null,null,null,null,null,null,null,null,null,null,null,null,0]
[null,null,null,null,null,null,null,null,null,null,null,null,null,null,null,null,null,null,null,null,null,null,null,null,null,null,null,null,null,null,null,null,null,null,null,null,null,0]
[null,null,null,null,null,null,null,null,null,null,null,null,null,null,null,null,null,null,null,null,null,null,null,null,null,null,null,null,null,null,null,null,null,null,null,null,null,0]
[null,null,null,null,null,null,null,null,null,null,null,null,null,null,null,null,null,null,null,null,null,null,null,null,null,null,null,null,null,null,null,null,null,null,null,null,null,0]
[null,null,null,null,null,null,null,null,null,null,null,null,null,null,null,null,null,null,null,null,null,null,null,null,null,null,null,null,null,null,null,null,null,null,null,null,null,0]
[null,null,null,null,null,null,null,null,null,null,null,null,null,null,null,null,null,null,null,null,null,null,null,null,null,null,null,null,null,null,null,null,null,null,null,null,null,0]
[null,null,null,null,null,null,null,null,null,null,null,null,null,null,null,null,null,null,null,null,null,null,null,null,null,null,null,null,null,null,null,null,null,null,null,null,null,0]
[null,null,null,null,null,null,null,null,null,null,null,null,null,null,null,null,null,null,null,null,null,null,null,null,null,null,null,null,null,null,null,null,null,null,null,null,null,0]
[null,null,null,null,null,null,null,null,null,null,null,null,null,null,null,null,null,null,null,null,null,null,null,null,null,null,null,null,null,null,null,null,null,null,null,null,null,0]
[null,null,null,null,null,null,null,null,null,null,null,null,null,null,null,null,null,null,null,null,null,null,null,null,null,null,null,null,null,null,null,null,null,null,null,null,null,0]
[null,null,null,null,null,null,null,null,null,null,null,null,null,null,null,null,null,null,null,null,null,null,null,null,null,null,null,null,null,null,null,null,null,null,null,null,null,0]
[null,null,null,null,null,null,null,null,null,null,null,null,null,null,null,null,null,null,null,null,null,null,null,null,null,null,null,null,null,null,null,null,null,null,null,null,null,0]
[null,null,null,null,null,null,null,null,null,null,null,null,null,null,null,null,null,null,null,null,null,null,null,null,null,null,null,null,null,null,null,null,null,null,null,null,null,0]
[null,null,null,null,null,null,null,null,null,null,null,null,null,null,null,null,null,null,null,null,null,null,null,null,null,null,null,null,null,null,null,null,null,null,null,null,null,0]
[null,null,null,null,null,null,null,null,null,null,null,null,null,null,null,null,null,null,null,null,null,null,null,null,null,null,null,null,null,null,null,null,null,null,null,null,null,0]
[null,null,null,null,null,null,null,null,null,null,null,null,null,null,null,null,null,null,null,null,null,null,null,null,null,null,null,null,null,null,null,null,null,null,null,null,null,0]
[null,null,null,null,null,null,null,null,null,null,null,null,null,null,null,null,null,null,null,null,null,null,null,null,null,null,null,null,null,null,null,null,null,null,null,null,null,0]
[null,null,null,null,null,null,null,null,null,null,null,null,null,null,null,null,null,null,null,null,null,null,null,null,null,null,null,null,null,null,null,null,null,null,null,null,null,0]
[null,null,null,null,null,null,null,null,null,null,null,null,null,null,null,null,null,null,null,null,null,null,null,null,null,null,null,null,null,null,null,null,null,null,null,null,null,0]
[null,null,null,null,null,null,null,null,null,null,null,null,null,null,null,null,null,null,null,null,null,null,null,null,null,null,null,null,null,null,null,null,null,null,null,null,null,0]
[null,null,null,null,null,null,null,null,null,null,null,null,null,null,null,null,null,null,null,null,null,null,null,null,null,null,null,null,null,null,null,null,null,null,null,null,null,{"$f":"IF(Q449987,V449987-Q449987,0)","v":0}]
[null,null,null,null,null,null,null,null,null,null,null,null,null,null,null,null,null,null,null,null,null,null,null,null,null,null,null,null,null,null,null,null,null,null,null,null,null,0]
[null,null,null,null,null,null,null,null,null,null,null,null,null,null,null,null,null,null,null,null,null,null,null,null,null,null,null,null,null,null,null,null,null,null,null,null,null,0]
[null,null,null,null,null,null,null,null,null,null,null,null,null,null,null,null,null,null,null,null,null,null,null,null,null,null,null,null,null,null,null,null,null,null,null,null,null,0]
[null,null,null,null,null,null,null,null,null,null,null,null,null,null,null,null,null,null,null,null,null,null,null,null,null,null,null,null,null,null,null,null,null,null,null,null,null,0]
[null,null,null,null,null,null,null,null,null,null,null,null,null,null,null,null,null,null,null,null,null,null,null,null,null,null,null,null,null,null,null,null,null,null,null,null,null,0]
[null,null,null,null,null,null,null,null,null,null,null,null,null,null,null,null,null,null,null,null,null,null,null,null,null,null,null,null,null,null,null,null,null,null,null,null,null,0]
[null,null,null,null,null,null,null,null,null,null,null,null,null,null,null,null,null,null,null,null,null,null,null,null,null,null,null,null,null,null,null,null,null,null,null,null,null,0]
[null,null,null,null,null,null,null,null,null,null,null,null,null,null,null,null,null,null,null,null,null,null,null,null,null,null,null,null,null,null,null,null,null,null,null,null,null,0]
[null,null,null,null,null,null,null,null,null,null,null,null,null,null,null,null,null,null,null,null,null,null,null,null,null,null,null,null,null,null,null,null,null,null,null,null,null,0]
[null,null,null,null,null,null,null,null,null,null,null,null,null,null,null,null,null,null,null,null,null,null,null,null,null,null,null,null,null,null,null,null,null,null,null,null,null,0]
[null,null,null,null,null,null,null,null,null,null,null,null,null,null,null,null,null,null,null,null,null,null,null,null,null,null,null,null,null,null,null,null,null,null,null,null,null,0]
[null,null,null,null,null,null,null,null,null,null,null,null,null,null,null,null,null,null,null,null,null,null,null,null,null,null,null,null,null,null,null,null,null,null,null,null,null,0]
[null,null,null,null,null,null,null,null,null,null,null,null,null,null,null,null,null,null,null,null,null,null,null,null,null,null,null,null,null,null,null,null,null,null,null,null,null,0]
[null,null,null,null,null,null,null,null,null,null,null,null,null,null,null,null,null,null,null,null,null,null,null,null,null,null,null,null,null,null,null,null,null,null,null,null,null,0]
[null,null,null,null,null,null,null,null,null,null,null,null,null,null,null,null,null,null,null,null,null,null,null,null,null,null,null,null,null,null,null,null,null,null,null,null,null,0]
[null,null,null,null,null,null,null,null,null,null,null,null,null,null,null,null,null,null,null,null,null,null,null,null,null,null,null,null,null,null,null,null,null,null,null,null,null,0]
[null,null,null,null,null,null,null,null,null,null,null,null,null,null,null,null,null,null,null,null,null,null,null,null,null,null,null,null,null,null,null,null,null,null,null,null,null,0]
[null,null,null,null,null,null,null,null,null,null,null,null,null,null,null,null,null,null,null,null,null,null,null,null,null,null,null,null,null,null,null,null,null,null,null,null,null,0]
[null,null,null,null,null,null,null,null,null,null,null,null,null,null,null,null,null,null,null,null,null,null,null,null,null,null,null,null,null,null,null,null,null,null,null,null,null,0]
[null,null,null,null,null,null,null,null,null,null,null,null,null,null,null,null,null,null,null,null,null,null,null,null,null,null,null,null,null,null,null,null,null,null,null,null,null,0]
[null,null,null,null,null,null,null,null,null,null,null,null,null,null,null,null,null,null,null,null,null,null,null,null,null,null,null,null,null,null,null,null,null,null,null,null,null,0]
[null,null,null,null,null,null,null,null,null,null,null,null,null,null,null,null,null,null,null,null,null,null,null,null,null,null,null,null,null,null,null,null,null,null,null,null,null,0]
[null,null,null,null,null,null,null,null,null,null,null,null,null,null,null,null,null,null,null,null,null,null,null,null,null,null,null,null,null,null,null,null,null,null,null,null,null,0]
[null,null,null,null,null,null,null,null,null,null,null,null,null,null,null,null,null,null,null,null,null,null,null,null,null,null,null,null,null,null,null,null,null,null,null,null,null,0]
[null,null,null,null,null,null,null,null,null,null,null,null,null,null,null,null,null,null,null,null,null,null,null,null,null,null,null,null,null,null,null,null,null,null,null,null,null,0]
[null,null,null,null,null,null,null,null,null,null,null,null,null,null,null,null,null,null,null,null,null,null,null,null,null,null,null,null,null,null,null,null,null,null,null,null,null,0]
[null,null,null,null,null,null,null,null,null,null,null,null,null,null,null,null,null,null,null,null,null,null,null,null,null,null,null,null,null,null,null,null,null,null,null,null,null,0]
[null,null,null,null,null,null,null,null,null,null,null,null,null,null,null,null,null,null,null,null,null,null,null,null,null,null,null,null,null,null,null,null,null,null,null,null,null,0]
[null,null,null,null,null,null,null,null,null,null,null,null,null,null,null,null,null,null,null,null,null,null,null,null,null,null,null,null,null,null,null,null,null,null,null,null,null,0]
[null,null,null,null,null,null,null,null,null,null,null,null,null,null,null,null,null,null,null,null,null,null,null,null,null,null,null,null,null,null,null,null,null,null,null,null,null,0]
[null,null,null,null,null,null,null,null,null,null,null,null,null,null,null,null,null,null,null,null,null,null,null,null,null,null,null,null,null,null,null,null,null,null,null,null,null,0]
[null,null,null,null,null,null,null,null,null,null,null,null,null,null,null,null,null,null,null,null,null,null,null,null,null,null,null,null,null,null,null,null,null,null,null,null,null,0]
[null,null,null,null,null,null,null,null,null,null,null,null,null,null,null,null,null,null,null,null,null,null,null,null,null,null,null,null,null,null,null,null,null,null,null,null,null,0]
[null,null,null,null,null,null,null,null,null,null,null,null,null,null,null,null,null,null,null,null,null,null,null,null,null,null,null,null,null,null,null,null,null,null,null,null,null,0]
[null,null,null,null,null,null,null,null,null,null,null,null,null,null,null,null,null,null,null,null,null,null,null,null,null,null,null,null,null,null,null,null,null,null,null,null,null,0]
[null,null,null,null,null,null,null,null,null,null,null,null,null,null,null,null,null,null,null,null,null,null,null,null,null,null,null,null,null,null,null,null,null,null,null,null,null,0]
[null,null,null,null,null,null,null,null,null,null,null,null,null,null,null,null,null,null,null,null,null,null,null,null,null,null,null,null,null,null,null,null,null,null,null,null,null,0]
[null,null,null,null,null,null,null,null,null,null,null,null,null,null,null,null,null,null,null,null,null,null,null,null,null,null,null,null,null,null,null,null,null,null,null,null,null,0]
[null,null,null,null,null,null,null,null,null,null,null,null,null,null,null,null,null,null,null,null,null,null,null,null,null,null,null,null,null,null,null,null,null,null,null,null,null,0]
[null,null,null,null,null,null,null,null,null,null,null,null,null,null,null,null,null,null,null,null,null,null,null,null,null,null,null,null,null,null,null,null,null,null,null,null,null,0]
[null,null,null,null,null,null,null,null,null,null,null,null,null,null,null,null,null,null,null,null,null,null,null,null,null,null,null,null,null,null,null,null,null,null,null,null,null,0]
[null,null,null,null,null,null,null,null,null,null,null,null,null,null,null,null,null,null,null,null,null,null,null,null,null,null,null,null,null,null,null,null,null,null,null,null,null,0]
[null,null,null,null,null,null,null,null,null,null,null,null,null,null,null,null,null,null,null,null,null,null,null,null,null,null,null,null,null,null,null,null,null,null,null,null,null,0]
[null,null,null,null,null,null,null,null,null,null,null,null,null,null,null,null,null,null,null,null,null,null,null,null,null,null,null,null,null,null,null,null,null,null,null,null,null,0]
[null,null,null,null,null,null,null,null,null,null,null,null,null,null,null,null,null,null,null,null,null,null,null,null,null,null,null,null,null,null,null,null,null,null,null,null,null,0]
[null,null,null,null,null,null,null,null,null,null,null,null,null,null,null,null,null,null,null,null,null,null,null,null,null,null,null,null,null,null,null,null,null,null,null,null,null,0]
[null,null,null,null,null,null,null,null,null,null,null,null,null,null,null,null,null,null,null,null,null,null,null,null,null,null,null,null,null,null,null,null,null,null,null,null,null,0]
[null,null,null,null,null,null,null,null,null,null,null,null,null,null,null,null,null,null,null,null,null,null,null,null,null,null,null,null,null,null,null,null,null,null,null,null,null,0]
[null,null,null,null,null,null,null,null,null,null,null,null,null,null,null,null,null,null,null,null,null,null,null,null,null,null,null,null,null,null,null,null,null,null,null,null,null,0]
[null,null,null,null,null,null,null,null,null,null,null,null,null,null,null,null,null,null,null,null,null,null,null,null,null,null,null,null,null,null,null,null,null,null,null,null,null,0]
[null,null,null,null,null,null,null,null,null,null,null,null,null,null,null,null,null,null,null,null,null,null,null,null,null,null,null,null,null,null,null,null,null,null,null,null,null,0]
[null,null,null,null,null,null,null,null,null,null,null,null,null,null,null,null,null,null,null,null,null,null,null,null,null,null,null,null,null,null,null,null,null,null,null,null,null,0]
[null,null,null,null,null,null,null,null,null,null,null,null,null,null,null,null,null,null,null,null,null,null,null,null,null,null,null,null,null,null,null,null,null,null,null,null,null,0]
[null,null,null,null,null,null,null,null,null,null,null,null,null,null,null,null,null,null,null,null,null,null,null,null,null,null,null,null,null,null,null,null,null,null,null,null,null,0]
[null,null,null,null,null,null,null,null,null,null,null,null,null,null,null,null,null,null,null,null,null,null,null,null,null,null,null,null,null,null,null,null,null,null,null,null,null,0]
[null,null,null,null,null,null,null,null,null,null,null,null,null,null,null,null,null,null,null,null,null,null,null,null,null,null,null,null,null,null,null,null,null,null,null,null,null,0]
[null,null,null,null,null,null,null,null,null,null,null,null,null,null,null,null,null,null,null,null,null,null,null,null,null,null,null,null,null,null,null,null,null,null,null,null,null,0]
[null,null,null,null,null,null,null,null,null,null,null,null,null,null,null,null,null,null,null,null,null,null,null,null,null,null,null,null,null,null,null,null,null,null,null,null,null,{"$f":"IF(Q510211,V510211-Q510211,0)","v":0}]
[null,null,null,null,null,null,null,null,null,null,null,null,null,null,null,null,null,null,null,null,null,null,null,null,null,null,null,null,null,null,null,null,null,null,null,null,null,0]
[null,null,null,null,null,null,null,null,null,null,null,null,null,null,null,null,null,null,null,null,null,null,null,null,null,null,null,null,null,null,null,null,null,null,null,null,null,0]
[null,null,null,null,null,null,null,null,null,null,null,null,null,null,null,null,null,null,null,null,null,null,null,null,null,null,null,null,null,null,null,null,null,null,null,null,null,0]
[null,null,null,null,null,null,null,null,null,null,null,null,null,null,null,null,null,null,null,null,null,null,null,null,null,null,null,null,null,null,null,null,null,null,null,null,null,0]
[null,null,null,null,null,null,null,null,null,null,null,null,null,null,null,null,null,null,null,null,null,null,null,null,null,null,null,null,null,null,null,null,null,null,null,null,null,0]
[null,null,null,null,null,null,null,null,null,null,null,null,null,null,null,null,null,null,null,null,null,null,null,null,null,null,null,null,null,null,null,null,null,null,null,null,null,0]
[null,null,null,null,null,null,null,null,null,null,null,null,null,null,null,null,null,null,null,null,null,null,null,null,null,null,null,null,null,null,null,null,null,null,null,null,null,0]
[null,null,null,null,null,null,null,null,null,null,null,null,null,null,null,null,null,null,null,null,null,null,null,null,null,null,null,null,null,null,null,null,null,null,null,null,null,0]
[null,null,null,null,null,null,null,null,null,null,null,null,null,null,null,null,null,null,null,null,null,null,null,null,null,null,null,null,null,null,null,null,null,null,null,null,null,0]
[null,null,null,null,null,null,null,null,null,null,null,null,null,null,null,null,null,null,null,null,null,null,null,null,null,null,null,null,null,null,null,null,null,null,null,null,null,0]
[null,null,null,null,null,null,null,null,null,null,null,null,null,null,null,null,null,null,null,null,null,null,null,null,null,null,null,null,null,null,null,null,null,null,null,null,null,0]
[null,null,null,null,null,null,null,null,null,null,null,null,null,null,null,null,null,null,null,null,null,null,null,null,null,null,null,null,null,null,null,null,null,null,null,null,null,0]
[null,null,null,null,null,null,null,null,null,null,null,null,null,null,null,null,null,null,null,null,null,null,null,null,null,null,null,null,null,null,null,null,null,null,null,null,null,0]
[null,null,null,null,null,null,null,null,null,null,null,null,null,null,null,null,null,null,null,null,null,null,null,null,null,null,null,null,null,null,null,null,null,null,null,null,null,0]
[null,null,null,null,null,null,null,null,null,null,null,null,null,null,null,null,null,null,null,null,null,null,null,null,null,null,null,null,null,null,null,null,null,null,null,null,null,0]
[null,null,null,null,null,null,null,null,null,null,null,null,null,null,null,null,null,null,null,null,null,null,null,null,null,null,null,null,null,null,null,null,null,null,null,null,null,0]
[null,null,null,null,null,null,null,null,null,null,null,null,null,null,null,null,null,null,null,null,null,null,null,null,null,null,null,null,null,null,null,null,null,null,null,null,null,0]
[null,null,null,null,null,null,null,null,null,null,null,null,null,null,null,null,null,null,null,null,null,null,null,null,null,null,null,null,null,null,null,null,null,null,null,null,null,0]
[null,null,null,null,null,null,null,null,null,null,null,null,null,null,null,null,null,null,null,null,null,null,null,null,null,null,null,null,null,null,null,null,null,null,null,null,null,0]
[null,null,null,null,null,null,null,null,null,null,null,null,null,null,null,null,null,null,null,null,null,null,null,null,null,null,null,null,null,null,null,null,null,null,null,null,null,0]
[null,null,null,null,null,null,null,null,null,null,null,null,null,null,null,null,null,null,null,null,null,null,null,null,null,null,null,null,null,null,null,null,null,null,null,null,null,0]
[null,null,null,null,null,null,null,null,null,null,null,null,null,null,null,null,null,null,null,null,null,null,null,null,null,null,null,null,null,null,null,null,null,null,null,null,null,0]
[null,null,null,null,null,null,null,null,null,null,null,null,null,null,null,null,null,null,null,null,null,null,null,null,null,null,null,null,null,null,null,null,null,null,null,null,null,0]
[null,null,null,null,null,null,null,null,null,null,null,null,null,null,null,null,null,null,null,null,null,null,null,null,null,null,null,null,null,null,null,null,null,null,null,null,null,0]
[null,null,null,null,null,null,null,null,null,null,null,null,null,null,null,null,null,null,null,null,null,null,null,null,null,null,null,null,null,null,null,null,null,null,null,null,null,0]
[null,null,null,null,null,null,null,null,null,null,null,null,null,null,null,null,null,null,null,null,null,null,null,null,null,null,null,null,null,null,null,null,null,null,null,null,null,0]
[null,null,null,null,null,null,null,null,null,null,null,null,null,null,null,null,null,null,null,null,null,null,null,null,null,null,null,null,null,null,null,null,null,null,null,null,null,0]
[null,null,null,null,null,null,null,null,null,null,null,null,null,null,null,null,null,null,null,null,null,null,null,null,null,null,null,null,null,null,null,null,null,null,null,null,null,0]
[null,null,null,null,null,null,null,null,null,null,null,null,null,null,null,null,null,null,null,null,null,null,null,null,null,null,null,null,null,null,null,null,null,null,null,null,null,0]
[null,null,null,null,null,null,null,null,null,null,null,null,null,null,null,null,null,null,null,null,null,null,null,null,null,null,null,null,null,null,null,null,null,null,null,null,null,0]
[null,null,null,null,null,null,null,null,null,null,null,null,null,null,null,null,null,null,null,null,null,null,null,null,null,null,null,null,null,null,null,null,null,null,null,null,null,0]
[null,null,null,null,null,null,null,null,null,null,null,null,null,null,null,null,null,null,null,null,null,null,null,null,null,null,null,null,null,null,null,null,null,null,null,null,null,0]
[null,null,null,null,null,null,null,null,null,null,null,null,null,null,null,null,null,null,null,null,null,null,null,null,null,null,null,null,null,null,null,null,null,null,null,null,null,0]
[null,null,null,null,null,null,null,null,null,null,null,null,null,null,null,null,null,null,null,null,null,null,null,null,null,null,null,null,null,null,null,null,null,null,null,null,null,0]
[null,null,null,null,null,null,null,null,null,null,null,null,null,null,null,null,null,null,null,null,null,null,null,null,null,null,null,null,null,null,null,null,null,null,null,null,null,0]
[null,null,null,null,null,null,null,null,null,null,null,null,null,null,null,null,null,null,null,null,null,null,null,null,null,null,null,null,null,null,null,null,null,null,null,null,null,0]
[null,null,null,null,null,null,null,null,null,null,null,null,null,null,null,null,null,null,null,null,null,null,null,null,null,null,null,null,null,null,null,null,null,null,null,null,null,{"$f":"IF(Q549315,V549315-Q549315,0)","v":0}]
[null,null,null,null,null,null,null,null,null,null,null,null,null,null,null,null,null,null,null,null,null,null,null,null,null,null,null,null,null,null,null,null,null,null,null,null,null,0]
[null,null,null,null,null,null,null,null,null,null,null,null,null,null,null,null,null,null,null,null,null,null,null,null,null,null,null,null,null,null,null,null,null,null,null,null,null,0]
[null,null,null,null,null,null,null,null,null,null,null,null,null,null,null,null,null,null,null,null,null,null,null,null,null,null,null,null,null,null,null,null,null,null,null,null,null,0]
[null,null,null,null,null,null,null,null,null,null,null,null,null,null,null,null,null,null,null,null,null,null,null,null,null,null,null,null,null,null,null,null,null,null,null,null,null,0]
[null,null,null,null,null,null,null,null,null,null,null,null,null,null,null,null,null,null,null,null,null,null,null,null,null,null,null,null,null,null,null,null,null,null,null,null,null,0]
[null,null,null,null,null,null,null,null,null,null,null,null,null,null,null,null,null,null,null,null,null,null,null,null,null,null,null,null,null,null,null,null,null,null,null,null,null,0]
[null,null,null,null,null,null,null,null,null,null,null,null,null,null,null,null,null,null,null,null,null,null,null,null,null,null,null,null,null,null,null,null,null,null,null,null,null,0]
[null,null,null,null,null,null,null,null,null,null,null,null,null,null,null,null,null,null,null,null,null,null,null,null,null,null,null,null,null,null,null,null,null,null,null,null,null,0]
[null,null,null,null,null,null,null,null,null,null,null,null,null,null,null,null,null,null,null,null,null,null,null,null,null,null,null,null,null,null,null,null,null,null,null,null,null,0]
[null,null,null,null,null,null,null,null,null,null,null,null,null,null,null,null,null,null,null,null,null,null,null,null,null,null,null,null,null,null,null,null,null,null,null,null,null,0]
[null,null,null,null,null,null,null,null,null,null,null,null,null,null,null,null,null,null,null,null,null,null,null,null,null,null,null,null,null,null,null,null,null,null,null,null,null,0]
[null,null,null,null,null,null,null,null,null,null,null,null,null,null,null,null,null,null,null,null,null,null,null,null,null,null,null,null,null,null,null,null,null,null,null,null,null,0]
[null,null,null,null,null,null,null,null,null,null,null,null,null,null,null,null,null,null,null,null,null,null,null,null,null,null,null,null,null,null,null,null,null,null,null,null,null,0]
[null,null,null,null,null,null,null,null,null,null,null,null,null,null,null,null,null,null,null,null,null,null,null,null,null,null,null,null,null,null,null,null,null,null,null,null,null,0]
[null,null,null,null,null,null,null,null,null,null,null,null,null,null,null,null,null,null,null,null,null,null,null,null,null,null,null,null,null,null,null,null,null,null,null,null,null,0]
[null,null,null,null,null,null,null,null,null,null,null,null,null,null,null,null,null,null,null,null,null,null,null,null,null,null,null,null,null,null,null,null,null,null,null,null,null,0]
[null,null,null,null,null,null,null,null,null,null,null,null,null,null,null,null,null,null,null,null,null,null,null,null,null,null,null,null,null,null,null,null,null,null,null,null,null,0]
[null,null,null,null,null,null,null,null,null,null,null,null,null,null,null,null,null,null,null,null,null,null,null,null,null,null,null,null,null,null,null,null,null,null,null,null,null,0]
[null,null,null,null,null,null,null,null,null,null,null,null,null,null,null,null,null,null,null,null,null,null,null,null,null,null,null,null,null,null,null,null,null,null,null,null,null,0]
[null,null,null,null,null,null,null,null,null,null,null,null,null,null,null,null,null,null,null,null,null,null,null,null,null,null,null,null,null,null,null,null,null,null,null,null,null,0]
[null,null,null,null,null,null,null,null,null,null,null,null,null,null,null,null,null,null,null,null,null,null,null,null,null,null,null,null,null,null,null,null,null,null,null,null,null,0]
[null,null,null,null,null,null,null,null,null,null,null,null,null,null,null,null,null,null,null,null,null,null,null,null,null,null,null,null,null,null,null,null,null,null,null,null,null,0]
[null,null,null,null,null,null,null,null,null,null,null,null,null,null,null,null,null,null,null,null,null,null,null,null,null,null,null,null,null,null,null,null,null,null,null,null,null,0]
[null,null,null,null,null,null,null,null,null,null,null,null,null,null,null,null,null,null,null,null,null,null,null,null,null,null,null,null,null,null,null,null,null,null,null,null,null,0]
[null,null,null,null,null,null,null,null,null,null,null,null,null,null,null,null,null,null,null,null,null,null,null,null,null,null,null,null,null,null,null,null,null,null,null,null,null,0]
[null,null,null,null,null,null,null,null,null,null,null,null,null,null,null,null,null,null,null,null,null,null,null,null,null,null,null,null,null,null,null,null,null,null,null,null,null,0]
[null,null,null,null,null,null,null,null,null,null,null,null,null,null,null,null,null,null,null,null,null,null,null,null,null,null,null,null,null,null,null,null,null,null,null,null,null,0]
[null,null,null,null,null,null,null,null,null,null,null,null,null,null,null,null,null,null,null,null,null,null,null,null,null,null,null,null,null,null,null,null,null,null,null,null,null,0]
[null,null,null,null,null,null,null,null,null,null,null,null,null,null,null,null,null,null,null,null,null,null,null,null,null,null,null,null,null,null,null,null,null,null,null,null,null,0]
[null,null,null,null,null,null,null,null,null,null,null,null,null,null,null,null,null,null,null,null,null,null,null,null,null,null,null,null,null,null,null,null,null,null,null,null,null,0]
[null,null,null,null,null,null,null,null,null,null,null,null,null,null,null,null,null,null,null,null,null,null,null,null,null,null,null,null,null,null,null,null,null,null,null,null,null,0]
[null,null,null,null,null,null,null,null,null,null,null,null,null,null,null,null,null,null,null,null,null,null,null,null,null,null,null,null,null,null,null,null,null,null,null,null,null,0]
[null,null,null,null,null,null,null,null,null,null,null,null,null,null,null,null,null,null,null,null,null,null,null,null,null,null,null,null,null,null,null,null,null,null,null,null,null,0]
[null,null,null,null,null,null,null,null,null,null,null,null,null,null,null,null,null,null,null,null,null,null,null,null,null,null,null,null,null,null,null,null,null,null,null,null,null,0]
[null,null,null,null,null,null,null,null,null,null,null,null,null,null,null,null,null,null,null,null,null,null,null,null,null,null,null,null,null,null,null,null,null,null,null,null,null,0]
[null,null,null,null,null,null,null,null,null,null,null,null,null,null,null,null,null,null,null,null,null,null,null,null,null,null,null,null,null,null,null,null,null,null,null,null,null,0]
[null,null,null,null,null,null,null,null,null,null,null,null,null,null,null,null,null,null,null,null,null,null,null,null,null,null,null,null,null,null,null,null,null,null,null,null,null,{"$f":"IF(Q588419,V588419-Q588419,0)","v":0}]
[null,null,null,null,null,null,null,null,null,null,null,null,null,null,null,null,null,null,null,null,null,null,null,null,null,null,null,null,null,null,null,null,null,null,null,null,null,0]
[null,null,null,null,null,null,null,null,null,null,null,null,null,null,null,null,null,null,null,null,null,null,null,null,null,null,null,null,null,null,null,null,null,null,null,null,null,0]
[null,null,null,null,null,null,null,null,null,null,null,null,null,null,null,null,null,null,null,null,null,null,null,null,null,null,null,null,null,null,null,null,null,null,null,null,null,0]
[null,null,null,null,null,null,null,null,null,null,null,null,null,null,null,null,null,null,null,null,null,null,null,null,null,null,null,null,null,null,null,null,null,null,null,null,null,0]
[null,null,null,null,null,null,null,null,null,null,null,null,null,null,null,null,null,null,null,null,null,null,null,null,null,null,null,null,null,null,null,null,null,null,null,null,null,0]
[null,null,null,null,null,null,null,null,null,null,null,null,null,null,null,null,null,null,null,null,null,null,null,null,null,null,null,null,null,null,null,null,null,null,null,null,null,0]
[null,null,null,null,null,null,null,null,null,null,null,null,null,null,null,null,null,null,null,null,null,null,null,null,null,null,null,null,null,null,null,null,null,null,null,null,null,0]
[null,null,null,null,null,null,null,null,null,null,null,null,null,null,null,null,null,null,null,null,null,null,null,null,null,null,null,null,null,null,null,null,null,null,null,null,null,0]
[null,null,null,null,null,null,null,null,null,null,null,null,null,null,null,null,null,null,null,null,null,null,null,null,null,null,null,null,null,null,null,null,null,null,null,null,null,0]
[null,null,null,null,null,null,null,null,null,null,null,null,null,null,null,null,null,null,null,null,null,null,null,null,null,null,null,null,null,null,null,null,null,null,null,null,null,0]
[null,null,null,null,null,null,null,null,null,null,null,null,null,null,null,null,null,null,null,null,null,null,null,null,null,null,null,null,null,null,null,null,null,null,null,null,null,0]
[null,null,null,null,null,null,null,null,null,null,null,null,null,null,null,null,null,null,null,null,null,null,null,null,null,null,null,null,null,null,null,null,null,null,null,null,null,0]
[null,null,null,null,null,null,null,null,null,null,null,null,null,null,null,null,null,null,null,null,null,null,null,null,null,null,null,null,null,null,null,null,null,null,null,null,null,0]
[null,null,null,null,null,null,null,null,null,null,null,null,null,null,null,null,null,null,null,null,null,null,null,null,null,null,null,null,null,null,null,null,null,null,null,null,null,0]
[null,null,null,null,null,null,null,null,null,null,null,null,null,null,null,null,null,null,null,null,null,null,null,null,null,null,null,null,null,null,null,null,null,null,null,null,null,0]
[null,null,null,null,null,null,null,null,null,null,null,null,null,null,null,null,null,null,null,null,null,null,null,null,null,null,null,null,null,null,null,null,null,null,null,null,null,0]
[null,null,null,null,null,null,null,null,null,null,null,null,null,null,null,null,null,null,null,null,null,null,null,null,null,null,null,null,null,null,null,null,null,null,null,null,null,0]
[null,null,null,null,null,null,null,null,null,null,null,null,null,null,null,null,null,null,null,null,null,null,null,null,null,null,null,null,null,null,null,null,null,null,null,null,null,0]
[null,null,null,null,null,null,null,null,null,null,null,null,null,null,null,null,null,null,null,null,null,null,null,null,null,null,null,null,null,null,null,null,null,null,null,null,null,0]
[null,null,null,null,null,null,null,null,null,null,null,null,null,null,null,null,null,null,null,null,null,null,null,null,null,null,null,null,null,null,null,null,null,null,null,null,null,0]
[null,null,null,null,null,null,null,null,null,null,null,null,null,null,null,null,null,null,null,null,null,null,null,null,null,null,null,null,null,null,null,null,null,null,null,null,null,{"$f":"IF(Q609539,V609539-Q609539,0)","v":0}]
[null,null,null,null,null,null,null,null,null,null,null,null,null,null,null,null,null,null,null,null,null,null,null,null,null,null,null,null,null,null,null,null,null,null,null,null,null,0]
[null,null,null,null,null,null,null,null,null,null,null,null,null,null,null,null,null,null,null,null,null,null,null,null,null,null,null,null,null,null,null,null,null,null,null,null,null,0]
[null,null,null,null,null,null,null,null,null,null,null,null,null,null,null,null,null,null,null,null,null,null,null,null,null,null,null,null,null,null,null,null,null,null,null,null,null,0]
[null,null,null,null,null,null,null,null,null,null,null,null,null,null,null,null,null,null,null,null,null,null,null,null,null,null,null,null,null,null,null,null,null,null,null,null,null,0]
[null,null,null,null,null,null,null,null,null,null,null,null,null,null,null,null,null,null,null,null,null,null,null,null,null,null,null,null,null,null,null,null,null,null,null,null,null,0]
[null,null,null,null,null,null,null,null,null,null,null,null,null,null,null,null,null,null,null,null,null,null,null,null,null,null,null,null,null,null,null,null,null,null,null,null,null,0]
[null,null,null,null,null,null,null,null,null,null,null,null,null,null,null,null,null,null,null,null,null,null,null,null,null,null,null,null,null,null,null,null,null,null,null,null,null,0]
[null,null,null,null,null,null,null,null,null,null,null,null,null,null,null,null,null,null,null,null,null,null,null,null,null,null,null,null,null,null,null,null,null,null,null,null,null,0]
[null,null,null,null,null,null,null,null,null,null,null,null,null,null,null,null,null,null,null,null,null,null,null,null,null,null,null,null,null,null,null,null,null,null,null,null,null,0]
[null,null,null,null,null,null,null,null,null,null,null,null,null,null,null,null,null,null,null,null,null,null,null,null,null,null,null,null,null,null,null,null,null,null,null,null,null,0]
[null,null,null,null,null,null,null,null,null,null,null,null,null,null,null,null,null,null,null,null,null,null,null,null,null,null,null,null,null,null,null,null,null,null,null,null,null,0]
[null,null,null,null,null,null,null,null,null,null,null,null,null,null,null,null,null,null,null,null,null,null,null,null,null,null,null,null,null,null,null,null,null,null,null,null,null,0]
[null,null,null,null,null,null,null,null,null,null,null,null,null,null,null,null,null,null,null,null,null,null,null,null,null,null,null,null,null,null,null,null,null,null,null,null,null,0]
[null,null,null,null,null,null,null,null,null,null,null,null,null,null,null,null,null,null,null,null,null,null,null,null,null,null,null,null,null,null,null,null,null,null,null,null,null,{"$f":"IF(Q624707,V624707-Q624707,0)","v":0}]
[null,null,null,null,null,null,null,null,null,null,null,null,null,null,null,null,null,null,null,null,null,null,null,null,null,null,null,null,null,null,null,null,null,null,null,null,null,0]
[null,null,null,null,null,null,null,null,null,null,null,null,null,null,null,null,null,null,null,null,null,null,null,null,null,null,null,null,null,null,null,null,null,null,null,null,null,0]
[null,null,null,null,null,null,null,null,null,null,null,null,null,null,null,null,null,null,null,null,null,null,null,null,null,null,null,null,null,null,null,null,null,null,null,null,null,0]
[null,null,null,null,null,null,null,null,null,null,null,null,null,null,null,null,null,null,null,null,null,null,null,null,null,null,null,null,null,null,null,null,null,null,null,null,null,0]
[null,null,null,null,null,null,null,null,null,null,null,null,null,null,null,null,null,null,null,null,null,null,null,null,null,null,null,null,null,null,null,null,null,null,null,null,null,0]
[null,null,null,null,null,null,null,null,null,null,null,null,null,null,null,null,null,null,null,null,null,null,null,null,null,null,null,null,null,null,null,null,null,null,null,null,null,0]
[null,null,null,null,null,null,null,null,null,null,null,null,null,null,null,null,null,null,null,null,null,null,null,null,null,null,null,null,null,null,null,null,null,null,null,null,null,0]
[null,null,null,null,null,null,null,null,null,null,null,null,null,null,null,null,null,null,null,null,null,null,null,null,null,null,null,null,null,null,null,null,null,null,null,null,null,0]
[null,null,null,null,null,null,null,null,null,null,null,null,null,null,null,null,null,null,null,null,null,null,null,null,null,null,null,null,null,null,null,null,null,null,null,null,null,0]
[null,null,null,null,null,null,null,null,null,null,null,null,null,null,null,null,null,null,null,null,null,null,null,null,null,null,null,null,null,null,null,null,null,null,null,null,null,0]
[null,null,null,null,null,null,null,null,null,null,null,null,null,null,null,null,null,null,null,null,null,null,null,null,null,null,null,null,null,null,null,null,null,null,null,null,null,0]
[null,null,null,null,null,null,null,null,null,null,null,null,null,null,null,null,null,null,null,null,null,null,null,null,null,null,null,null,null,null,null,null,null,null,null,null,null,0]
[null,null,null,null,null,null,null,null,null,null,null,null,null,null,null,null,null,null,null,null,null,null,null,null,null,null,null,null,null,null,null,null,null,null,null,null,null,0]
[null,null,null,null,null,null,null,null,null,null,null,null,null,null,null,null,null,null,null,null,null,null,null,null,null,null,null,null,null,null,null,null,null,null,null,null,null,0]
[null,null,null,null,null,null,null,null,null,null,null,null,null,null,null,null,null,null,null,null,null,null,null,null,null,null,null,null,null,null,null,null,null,null,null,null,null,0]
[null,null,null,null,null,null,null,null,null,null,null,null,null,null,null,null,null,null,null,null,null,null,null,null,null,null,null,null,null,null,null,null,null,null,null,null,null,0]
[null,null,null,null,null,null,null,null,null,null,null,null,null,null,null,null,null,null,null,null,null,null,null,null,null,null,null,null,null,null,null,null,null,null,null,null,null,0]
[null,null,null,null,null,null,null,null,null,null,null,null,null,null,null,null,null,null,null,null,null,null,null,null,null,null,null,null,null,null,null,null,null,null,null,null,null,0]
[null,null,null,null,null,null,null,null,null,null,null,null,null,null,null,null,null,null,null,null,null,null,null,null,null,null,null,null,null,null,null,null,null,null,null,null,null,0]
[null,null,null,null,null,null,null,null,null,null,null,null,null,null,null,null,null,null,null,null,null,null,null,null,null,null,null,null,null,null,null,null,null,null,null,null,null,0]
[null,null,null,null,null,null,null,null,null,null,null,null,null,null,null,null,null,null,null,null,null,null,null,null,null,null,null,null,null,null,null,null,null,null,null,null,null,0]
[null,null,null,null,null,null,null,null,null,null,null,null,null,null,null,null,null,null,null,null,null,null,null,null,null,null,null,null,null,null,null,null,null,null,null,null,null,0]
[null,null,null,null,null,null,null,null,null,null,null,null,null,null,null,null,null,null,null,null,null,null,null,null,null,null,null,null,null,null,null,null,null,null,null,null,null,0]
[null,null,null,null,null,null,null,null,null,null,null,null,null,null,null,null,null,null,null,null,null,null,null,null,null,null,null,null,null,null,null,null,null,null,null,null,null,0]
[null,null,null,null,null,null,null,null,null,null,null,null,null,null,null,null,null,null,null,null,null,null,null,null,null,null,null,null,null,null,null,null,null,null,null,null,null,0]
[null,null,null,null,null,null,null,null,null,null,null,null,null,null,null,null,null,null,null,null,null,null,null,null,null,null,null,null,null,null,null,null,null,null,null,null,null,0]
[null,null,null,null,null,null,null,null,null,null,null,null,null,null,null,null,null,null,null,null,null,null,null,null,null,null,null,null,null,null,null,null,null,null,null,null,null,0]
[null,null,null,null,null,null,null,null,null,null,null,null,null,null,null,null,null,null,null,null,null,null,null,null,null,null,null,null,null,null,null,null,null,null,null,null,null,0]
[null,null,null,null,null,null,null,null,null,null,null,null,null,null,null,null,null,null,null,null,null,null,null,null,null,null,null,null,null,null,null,null,null,null,null,null,null,0]
[null,null,null,null,null,null,null,null,null,null,null,null,null,null,null,null,null,null,null,null,null,null,null,null,null,null,null,null,null,null,null,null,null,null,null,null,null,0]
[null,null,null,null,null,null,null,null,null,null,null,null,null,null,null,null,null,null,null,null,null,null,null,null,null,null,null,null,null,null,null,null,null,null,null,null,null,0]
[null,null,null,null,null,null,null,null,null,null,null,null,null,null,null,null,null,null,null,null,null,null,null,null,null,null,null,null,null,null,null,null,null,null,null,null,null,0]
[null,null,null,null,null,null,null,null,null,null,null,null,null,null,null,null,null,null,null,null,null,null,null,null,null,null,null,null,null,null,null,null,null,null,null,null,null,0]
[null,null,null,null,null,null,null,null,null,null,null,null,null,null,null,null,null,null,null,null,null,null,null,null,null,null,null,null,null,null,null,null,null,null,null,null,null,0]
[null,null,null,null,null,null,null,null,null,null,null,null,null,null,null,null,null,null,null,null,null,null,null,null,null,null,null,null,null,null,null,null,null,null,null,null,null,0]
[null,null,null,null,null,null,null,null,null,null,null,null,null,null,null,null,null,null,null,null,null,null,null,null,null,null,null,null,null,null,null,null,null,null,null,null,null,0]
[null,null,null,null,null,null,null,null,null,null,null,null,null,null,null,null,null,null,null,null,null,null,null,null,null,null,null,null,null,null,null,null,null,null,null,null,null,0]
[null,null,null,null,null,null,null,null,null,null,null,null,null,null,null,null,null,null,null,null,null,null,null,null,null,null,null,null,null,null,null,null,null,null,null,null,null,0]
[null,null,null,null,null,null,null,null,null,null,null,null,null,null,null,null,null,null,null,null,null,null,null,null,null,null,null,null,null,null,null,null,null,null,null,null,null,0]
[null,null,null,null,null,null,null,null,null,null,null,null,null,null,null,null,null,null,null,null,null,null,null,null,null,null,null,null,null,null,null,null,null,null,null,null,null,0]
[null,null,null,null,null,null,null,null,null,null,null,null,null,null,null,null,null,null,null,null,null,null,null,null,null,null,null,null,null,null,null,null,null,null,null,null,null,0]
[null,null,null,null,null,null,null,null,null,null,null,null,null,null,null,null,null,null,null,null,null,null,null,null,null,null,null,null,null,null,null,null,null,null,null,null,null,0]
[null,null,null,null,null,null,null,null,null,null,null,null,null,null,null,null,null,null,null,null,null,null,null,null,null,null,null,null,null,null,null,null,null,null,null,null,null,0]
[null,null,null,null,null,null,null,null,null,null,null,null,null,null,null,null,null,null,null,null,null,null,null,null,null,null,null,null,null,null,null,null,null,null,null,null,null,0]
[null,null,null,null,null,null,null,null,null,null,null,null,null,null,null,null,null,null,null,null,null,null,null,null,null,null,null,null,null,null,null,null,null,null,null,null,null,0]
[null,null,null,null,null,null,null,null,null,null,null,null,null,null,null,null,null,null,null,null,null,null,null,null,null,null,null,null,null,null,null,null,null,null,null,null,null,0]
[null,null,null,null,null,null,null,null,null,null,null,null,null,null,null,null,null,null,null,null,null,null,null,null,null,null,null,null,null,null,null,null,null,null,null,null,null,0]
[null,null,null,null,null,null,null,null,null,null,null,null,null,null,null,null,null,null,null,null,null,null,null,null,null,null,null,null,null,null,null,null,null,null,null,null,null,0]
[null,null,null,null,null,null,null,null,null,null,null,null,null,null,null,null,null,null,null,null,null,null,null,null,null,null,null,null,null,null,null,null,null,null,null,null,null,{"$f":"IF(Q675651,V675651-Q675651,0)","v":0}]
[null,null,null,null,null,null,null,null,null,null,null,null,null,null,null,null,null,null,null,null,null,null,null,null,null,null,null,null,null,null,null,null,null,null,null,null,null,0]
[null,null,null,null,null,null,null,null,null,null,null,null,null,null,null,null,null,null,null,null,null,null,null,null,null,null,null,null,null,null,null,null,null,null,null,null,null,0]
[null,null,null,null,null,null,null,null,null,null,null,null,null,null,null,null,null,null,null,null,null,null,null,null,null,null,null,null,null,null,null,null,null,null,null,null,null,0]
[null,null,null,null,null,null,null,null,null,null,null,null,null,null,null,null,null,null,null,null,null,null,null,null,null,null,null,null,null,null,null,null,null,null,null,null,null,0]
[null,null,null,null,null,null,null,null,null,null,null,null,null,null,null,null,null,null,null,null,null,null,null,null,null,null,null,null,null,null,null,null,null,null,null,null,null,0]
[null,null,null,null,null,null,null,null,null,null,null,null,null,null,null,null,null,null,null,null,null,null,null,null,null,null,null,null,null,null,null,null,null,null,null,null,null,0]
[null,null,null,null,null,null,null,null,null,null,null,null,null,null,null,null,null,null,null,null,null,null,null,null,null,null,null,null,null,null,null,null,null,null,null,null,null,0]
[null,null,null,null,null,null,null,null,null,null,null,null,null,null,null,null,null,null,null,null,null,null,null,null,null,null,null,null,null,null,null,null,null,null,null,null,null,0]
[null,null,null,null,null,null,null,null,null,null,null,null,null,null,null,null,null,null,null,null,null,null,null,null,null,null,null,null,null,null,null,null,null,null,null,null,null,0]
[null,null,null,null,null,null,null,null,null,null,null,null,null,null,null,null,null,null,null,null,null,null,null,null,null,null,null,null,null,null,null,null,null,null,null,null,null,0]
[null,null,null,null,null,null,null,null,null,null,null,null,null,null,null,null,null,null,null,null,null,null,null,null,null,null,null,null,null,null,null,null,null,null,null,null,null,0]
[null,null,null,null,null,null,null,null,null,null,null,null,null,null,null,null,null,null,null,null,null,null,null,null,null,null,null,null,null,null,null,null,null,null,null,null,null,0]
[null,null,null,null,null,null,null,null,null,null,null,null,null,null,null,null,null,null,null,null,null,null,null,null,null,null,null,null,null,null,null,null,null,null,null,null,null,0]
[null,null,null,null,null,null,null,null,null,null,null,null,null,null,null,null,null,null,null,null,null,null,null,null,null,null,null,null,null,null,null,null,null,null,null,null,null,0]
[null,null,null,null,null,null,null,null,null,null,null,null,null,null,null,null,null,null,null,null,null,null,null,null,null,null,null,null,null,null,null,null,null,null,null,null,null,0]
[null,null,null,null,null,null,null,null,null,null,null,null,null,null,null,null,null,null,null,null,null,null,null,null,null,null,null,null,null,null,null,null,null,null,null,null,null,0]
[null,null,null,null,null,null,null,null,null,null,null,null,null,null,null,null,null,null,null,null,null,null,null,null,null,null,null,null,null,null,null,null,null,null,null,null,null,0]
[null,null,null,null,null,null,null,null,null,null,null,null,null,null,null,null,null,null,null,null,null,null,null,null,null,null,null,null,null,null,null,null,null,null,null,null,null,0]
[null,null,null,null,null,null,null,null,null,null,null,null,null,null,null,null,null,null,null,null,null,null,null,null,null,null,null,null,null,null,null,null,null,null,null,null,null,0]
[null,null,null,null,null,null,null,null,null,null,null,null,null,null,null,null,null,null,null,null,null,null,null,null,null,null,null,null,null,null,null,null,null,null,null,null,null,0]
[null,null,null,null,null,null,null,null,null,null,null,null,null,null,null,null,null,null,null,null,null,null,null,null,null,null,null,null,null,null,null,null,null,null,null,null,null,0]
[null,null,null,null,null,null,null,null,null,null,null,null,null,null,null,null,null,null,null,null,null,null,null,null,null,null,null,null,null,null,null,null,null,null,null,null,null,0]
[null,null,null,null,null,null,null,null,null,null,null,null,null,null,null,null,null,null,null,null,null,null,null,null,null,null,null,null,null,null,null,null,null,null,null,null,null,0]
[null,null,null,null,null,null,null,null,null,null,null,null,null,null,null,null,null,null,null,null,null,null,null,null,null,null,null,null,null,null,null,null,null,null,null,null,null,0]
[null,null,null,null,null,null,null,null,null,null,null,null,null,null,null,null,null,null,null,null,null,null,null,null,null,null,null,null,null,null,null,null,null,null,null,null,null,0]
[null,null,null,null,null,null,null,null,null,null,null,null,null,null,null,null,null,null,null,null,null,null,null,null,null,null,null,null,null,null,null,null,null,null,null,null,null,0]
[null,null,null,null,null,null,null,null,null,null,null,null,null,null,null,null,null,null,null,null,null,null,null,null,null,null,null,null,null,null,null,null,null,null,null,null,null,0]
[null,null,null,null,null,null,null,null,null,null,null,null,null,null,null,null,null,null,null,null,null,null,null,null,null,null,null,null,null,null,null,null,null,null,null,null,null,0]
[null,null,null,null,null,null,null,null,null,null,null,null,null,null,null,null,null,null,null,null,null,null,null,null,null,null,null,null,null,null,null,null,null,null,null,null,null,0]
[null,null,null,null,null,null,null,null,null,null,null,null,null,null,null,null,null,null,null,null,null,null,null,null,null,null,null,null,null,null,null,null,null,null,null,null,null,0]
[null,null,null,null,null,null,null,null,null,null,null,null,null,null,null,null,null,null,null,null,null,null,null,null,null,null,null,null,null,null,null,null,null,null,null,null,null,0]
[null,null,null,null,null,null,null,null,null,null,null,null,null,null,null,null,null,null,null,null,null,null,null,null,null,null,null,null,null,null,null,null,null,null,null,null,null,0]
[null,null,null,null,null,null,null,null,null,null,null,null,null,null,null,null,null,null,null,null,null,null,null,null,null,null,null,null,null,null,null,null,null,null,null,null,null,0]
[null,null,null,null,null,null,null,null,null,null,null,null,null,null,null,null,null,null,null,null,null,null,null,null,null,null,null,null,null,null,null,null,null,null,null,null,null,0]
[null,null,null,null,null,null,null,null,null,null,null,null,null,null,null,null,null,null,null,null,null,null,null,null,null,null,null,null,null,null,null,null,null,null,null,null,null,0]
[null,null,null,null,null,null,null,null,null,null,null,null,null,null,null,null,null,null,null,null,null,null,null,null,null,null,null,null,null,null,null,null,null,null,null,null,null,0]
[null,null,null,null,null,null,null,null,null,null,null,null,null,null,null,null,null,null,null,null,null,null,null,null,null,null,null,null,null,null,null,null,null,null,null,null,null,0]
[null,null,null,null,null,null,null,null,null,null,null,null,null,null,null,null,null,null,null,null,null,null,null,null,null,null,null,null,null,null,null,null,null,null,null,null,null,0]
[null,null,null,null,null,null,null,null,null,null,null,null,null,null,null,null,null,null,null,null,null,null,null,null,null,null,null,null,null,null,null,null,null,null,null,null,null,0]
[null,null,null,null,null,null,null,null,null,null,null,null,null,null,null,null,null,null,null,null,null,null,null,null,null,null,null,null,null,null,null,null,null,null,null,null,null,0]
[null,null,null,null,null,null,null,null,null,null,null,null,null,null,null,null,null,null,null,null,null,null,null,null,null,null,null,null,null,null,null,null,null,null,null,null,null,0]
[null,null,null,null,null,null,null,null,null,null,null,null,null,null,null,null,null,null,null,null,null,null,null,null,null,null,null,null,null,null,null,null,null,null,null,null,null,0]
[null,null,null,null,null,null,null,null,null,null,null,null,null,null,null,null,null,null,null,null,null,null,null,null,null,null,null,null,null,null,null,null,null,null,null,null,null,0]
[null,null,null,null,null,null,null,null,null,null,null,null,null,null,null,null,null,null,null,null,null,null,null,null,null,null,null,null,null,null,null,null,null,null,null,null,null,0]
[null,null,null,null,null,null,null,null,null,null,null,null,null,null,null,null,null,null,null,null,null,null,null,null,null,null,null,null,null,null,null,null,null,null,null,null,null,0]
[null,null,null,null,null,null,null,null,null,null,null,null,null,null,null,null,null,null,null,null,null,null,null,null,null,null,null,null,null,null,null,null,null,null,null,null,null,0]
[null,null,null,null,null,null,null,null,null,null,null,null,null,null,null,null,null,null,null,null,null,null,null,null,null,null,null,null,null,null,null,null,null,null,null,null,null,0]
[null,null,null,null,null,null,null,null,null,null,null,null,null,null,null,null,null,null,null,null,null,null,null,null,null,null,null,null,null,null,null,null,null,null,null,null,null,0]
[null,null,null,null,null,null,null,null,null,null,null,null,null,null,null,null,null,null,null,null,null,null,null,null,null,null,null,null,null,null,null,null,null,null,null,null,null,0]
[null,null,null,null,null,null,null,null,null,null,null,null,null,null,null,null,null,null,null,null,null,null,null,null,null,null,null,null,null,null,null,null,null,null,null,null,null,0]
[null,null,null,null,null,null,null,null,null,null,null,null,null,null,null,null,null,null,null,null,null,null,null,null,null,null,null,null,null,null,null,null,null,null,null,null,null,0]
[null,null,null,null,null,null,null,null,null,null,null,null,null,null,null,null,null,null,null,null,null,null,null,null,null,null,null,null,null,null,null,null,null,null,null,null,null,0]
[null,null,null,null,null,null,null,null,null,null,null,null,null,null,null,null,null,null,null,null,null,null,null,null,null,null,null,null,null,null,null,null,null,null,null,null,null,0]
[null,null,null,null,null,null,null,null,null,null,null,null,null,null,null,null,null,null,null,null,null,null,null,null,null,null,null,null,null,null,null,null,null,null,null,null,null,0]
[null,null,null,null,null,null,null,null,null,null,null,null,null,null,null,null,null,null,null,null,null,null,null,null,null,null,null,null,null,null,null,null,null,null,null,null,null,0]
[null,null,null,null,null,null,null,null,null,null,null,null,null,null,null,null,null,null,null,null,null,null,null,null,null,null,null,null,null,null,null,null,null,null,null,null,null,0]
[null,null,null,null,null,null,null,null,null,null,null,null,null,null,null,null,null,null,null,null,null,null,null,null,null,null,null,null,null,null,null,null,null,null,null,null,null,0]
[null,null,null,null,null,null,null,null,null,null,null,null,null,null,null,null,null,null,null,null,null,null,null,null,null,null,null,null,null,null,null,null,null,null,null,null,null,0]
[null,null,null,null,null,null,null,null,null,null,null,null,null,null,null,null,null,null,null,null,null,null,null,null,null,null,null,null,null,null,null,null,null,null,null,null,null,0]
[null,null,null,null,null,null,null,null,null,null,null,null,null,null,null,null,null,null,null,null,null,null,null,null,null,null,null,null,null,null,null,null,null,null,null,null,null,0]
[null,null,null,null,null,null,null,null,null,null,null,null,null,null,null,null,null,null,null,null,null,null,null,null,null,null,null,null,null,null,null,null,null,null,null,null,null,0]
[null,null,null,null,null,null,null,null,null,null,null,null,null,null,null,null,null,null,null,null,null,null,null,null,null,null,null,null,null,null,null,null,null,null,null,null,null,0]
[null,null,null,null,null,null,null,null,null,null,null,null,null,null,null,null,null,null,null,null,null,null,null,null,null,null,null,null,null,null,null,null,null,null,null,null,null,0]
[null,null,null,null,null,null,null,null,null,null,null,null,null,null,null,null,null,null,null,null,null,null,null,null,null,null,null,null,null,null,null,null,null,null,null,null,null,0]
[null,null,null,null,null,null,null,null,null,null,null,null,null,null,null,null,null,null,null,null,null,null,null,null,null,null,null,null,null,null,null,null,null,null,null,null,null,0]
[null,null,null,null,null,null,null,null,null,null,null,null,null,null,null,null,null,null,null,null,null,null,null,null,null,null,null,null,null,null,null,null,null,null,null,null,null,0]
[null,null,null,null,null,null,null,null,null,null,null,null,null,null,null,null,null,null,null,null,null,null,null,null,null,null,null,null,null,null,null,null,null,null,null,null,null,0]
[null,null,null,null,null,null,null,null,null,null,null,null,null,null,null,null,null,null,null,null,null,null,null,null,null,null,null,null,null,null,null,null,null,null,null,null,null,0]
[null,null,null,null,null,null,null,null,null,null,null,null,null,null,null,null,null,null,null,null,null,null,null,null,null,null,null,null,null,null,null,null,null,null,null,null,null,0]
[null,null,null,null,null,null,null,null,null,null,null,null,null,null,null,null,null,null,null,null,null,null,null,null,null,null,null,null,null,null,null,null,null,null,null,null,null,0]
[null,null,null,null,null,null,null,null,null,null,null,null,null,null,null,null,null,null,null,null,null,null,null,null,null,null,null,null,null,null,null,null,null,null,null,null,null,0]
[null,null,null,null,null,null,null,null,null,null,null,null,null,null,null,null,null,null,null,null,null,null,null,null,null,null,null,null,null,null,null,null,null,null,null,null,null,0]
[null,null,null,null,null,null,null,null,null,null,null,null,null,null,null,null,null,null,null,null,null,null,null,null,null,null,null,null,null,null,null,null,null,null,null,null,null,0]
[null,null,null,null,null,null,null,null,null,null,null,null,null,null,null,null,null,null,null,null,null,null,null,null,null,null,null,null,null,null,null,null,null,null,null,null,null,0]
[null,null,null,null,null,null,null,null,null,null,null,null,null,null,null,null,null,null,null,null,null,null,null,null,null,null,null,null,null,null,null,null,null,null,null,null,null,0]
[null,null,null,null,null,null,null,null,null,null,null,null,null,null,null,null,null,null,null,null,null,null,null,null,null,null,null,null,null,null,null,null,null,null,null,null,null,0]
[null,null,null,null,null,null,null,null,null,null,null,null,null,null,null,null,null,null,null,null,null,null,null,null,null,null,null,null,null,null,null,null,null,null,null,null,null,0]
[null,null,null,null,null,null,null,null,null,null,null,null,null,null,null,null,null,null,null,null,null,null,null,null,null,null,null,null,null,null,null,null,null,null,null,null,null,0]
[null,null,null,null,null,null,null,null,null,null,null,null,null,null,null,null,null,null,null,null,null,null,null,null,null,null,null,null,null,null,null,null,null,null,null,null,null,0]
[null,null,null,null,null,null,null,null,null,null,null,null,null,null,null,null,null,null,null,null,null,null,null,null,null,null,null,null,null,null,null,null,null,null,null,null,null,0]
[null,null,null,null,null,null,null,null,null,null,null,null,null,null,null,null,null,null,null,null,null,null,null,null,null,null,null,null,null,null,null,null,null,null,null,null,null,0]
[null,null,null,null,null,null,null,null,null,null,null,null,null,null,null,null,null,null,null,null,null,null,null,null,null,null,null,null,null,null,null,null,null,null,null,null,null,0]
[null,null,null,null,null,null,null,null,null,null,null,null,null,null,null,null,null,null,null,null,null,null,null,null,null,null,null,null,null,null,null,null,null,null,null,null,null,0]
[null,null,null,null,null,null,null,null,null,null,null,null,null,null,null,null,null,null,null,null,null,null,null,null,null,null,null,null,null,null,null,null,null,null,null,null,null,0]
[null,null,null,null,null,null,null,null,null,null,null,null,null,null,null,null,null,null,null,null,null,null,null,null,null,null,null,null,null,null,null,null,null,null,null,null,null,0]
[null,null,null,null,null,null,null,null,null,null,null,null,null,null,null,null,null,null,null,null,null,null,null,null,null,null,null,null,null,null,null,null,null,null,null,null,null,0]
[null,null,null,null,null,null,null,null,null,null,null,null,null,null,null,null,null,null,null,null,null,null,null,null,null,null,null,null,null,null,null,null,null,null,null,null,null,0]
[null,null,null,null,null,null,null,null,null,null,null,null,null,null,null,null,null,null,null,null,null,null,null,null,null,null,null,null,null,null,null,null,null,null,null,null,null,0]
[null,null,null,null,null,null,null,null,null,null,null,null,null,null,null,null,null,null,null,null,null,null,null,null,null,null,null,null,null,null,null,null,null,null,null,null,null,0]
[null,null,null,null,null,null,null,null,null,null,null,null,null,null,null,null,null,null,null,null,null,null,null,null,null,null,null,null,null,null,null,null,null,null,null,null,null,0]
[null,null,null,null,null,null,null,null,null,null,null,null,null,null,null,null,null,null,null,null,null,null,null,null,null,null,null,null,null,null,null,null,null,null,null,null,null,0]
[null,null,null,null,null,null,null,null,null,null,null,null,null,null,null,null,null,null,null,null,null,null,null,null,null,null,null,null,null,null,null,null,null,null,null,null,null,0]
[null,null,null,null,null,null,null,null,null,null,null,null,null,null,null,null,null,null,null,null,null,null,null,null,null,null,null,null,null,null,null,null,null,null,null,null,null,0]
[null,null,null,null,null,null,null,null,null,null,null,null,null,null,null,null,null,null,null,null,null,null,null,null,null,null,null,null,null,null,null,null,null,null,null,null,null,0]
[null,null,null,null,null,null,null,null,null,null,null,null,null,null,null,null,null,null,null,null,null,null,null,null,null,null,null,null,null,null,null,null,null,null,null,null,null,0]
[null,null,null,null,null,null,null,null,null,null,null,null,null,null,null,null,null,null,null,null,null,null,null,null,null,null,null,null,null,null,null,null,null,null,null,null,null,0]
[null,null,null,null,null,null,null,null,null,null,null,null,null,null,null,null,null,null,null,null,null,null,null,null,null,null,null,null,null,null,null,null,null,null,null,null,null,0]
[null,null,null,null,null,null,null,null,null,null,null,null,null,null,null,null,null,null,null,null,null,null,null,null,null,null,null,null,null,null,null,null,null,null,null,null,null,0]
[null,null,null,null,null,null,null,null,null,null,null,null,null,null,null,null,null,null,null,null,null,null,null,null,null,null,null,null,null,null,null,null,null,null,null,null,null,0]
[null,null,null,null,null,null,null,null,null,null,null,null,null,null,null,null,null,null,null,null,null,null,null,null,null,null,null,null,null,null,null,null,null,null,null,null,null,0]
[null,null,null,null,null,null,null,null,null,null,null,null,null,null,null,null,null,null,null,null,null,null,null,null,null,null,null,null,null,null,null,null,null,null,null,null,null,0]
[null,null,null,null,null,null,null,null,null,null,null,null,null,null,null,null,null,null,null,null,null,null,null,null,null,null,null,null,null,null,null,null,null,null,null,null,null,0]
[null,null,null,null,null,null,null,null,null,null,null,null,null,null,null,null,null,null,null,null,null,null,null,null,null,null,null,null,null,null,null,null,null,null,null,null,null,0]
[null,null,null,null,null,null,null,null,null,null,null,null,null,null,null,null,null,null,null,null,null,null,null,null,null,null,null,null,null,null,null,null,null,null,null,null,null,0]
[null,null,null,null,null,null,null,null,null,null,null,null,null,null,null,null,null,null,null,null,null,null,null,null,null,null,null,null,null,null,null,null,null,null,null,null,null,0]
[null,null,null,null,null,null,null,null,null,null,null,null,null,null,null,null,null,null,null,null,null,null,null,null,null,null,null,null,null,null,null,null,null,null,null,null,null,0]
[null,null,null,null,null,null,null,null,null,null,null,null,null,null,null,null,null,null,null,null,null,null,null,null,null,null,null,null,null,null,null,null,null,null,null,null,null,0]
[null,null,null,null,null,null,null,null,null,null,null,null,null,null,null,null,null,null,null,null,null,null,null,null,null,null,null,null,null,null,null,null,null,null,null,null,null,0]
[null,null,null,null,null,null,null,null,null,null,null,null,null,null,null,null,null,null,null,null,null,null,null,null,null,null,null,null,null,null,null,null,null,null,null,null,null,0]
[null,null,null,null,null,null,null,null,null,null,null,null,null,null,null,null,null,null,null,null,null,null,null,null,null,null,null,null,null,null,null,null,null,null,null,null,null,0]
[null,null,null,null,null,null,null,null,null,null,null,null,null,null,null,null,null,null,null,null,null,null,null,null,null,null,null,null,null,null,null,null,null,null,null,null,null,0]
[null,null,null,null,null,null,null,null,null,null,null,null,null,null,null,null,null,null,null,null,null,null,null,null,null,null,null,null,null,null,null,null,null,null,null,null,null,0]
[null,null,null,null,null,null,null,null,null,null,null,null,null,null,null,null,null,null,null,null,null,null,null,null,null,null,null,null,null,null,null,null,null,null,null,null,null,0]
[null,null,null,null,null,null,null,null,null,null,null,null,null,null,null,null,null,null,null,null,null,null,null,null,null,null,null,null,null,null,null,null,null,null,null,null,null,0]
[null,null,null,null,null,null,null,null,null,null,null,null,null,null,null,null,null,null,null,null,null,null,null,null,null,null,null,null,null,null,null,null,null,null,null,null,null,0]
[null,null,null,null,null,null,null,null,null,null,null,null,null,null,null,null,null,null,null,null,null,null,null,null,null,null,null,null,null,null,null,null,null,null,null,null,null,0]
[null,null,null,null,null,null,null,null,null,null,null,null,null,null,null,null,null,null,null,null,null,null,null,null,null,null,null,null,null,null,null,null,null,null,null,null,null,0]
[null,null,null,null,null,null,null,null,null,null,null,null,null,null,null,null,null,null,null,null,null,null,null,null,null,null,null,null,null,null,null,null,null,null,null,null,null,0]
[null,null,null,null,null,null,null,null,null,null,null,null,null,null,null,null,null,null,null,null,null,null,null,null,null,null,null,null,null,null,null,null,null,null,null,null,null,0]
[null,null,null,null,null,null,null,null,null,null,null,null,null,null,null,null,null,null,null,null,null,null,null,null,null,null,null,null,null,null,null,null,null,null,null,null,null,0]
[null,null,null,null,null,null,null,null,null,null,null,null,null,null,null,null,null,null,null,null,null,null,null,null,null,null,null,null,null,null,null,null,null,null,null,null,null,0]
[null,null,null,null,null,null,null,null,null,null,null,null,null,null,null,null,null,null,null,null,null,null,null,null,null,null,null,null,null,null,null,null,null,null,null,null,null,0]
[null,null,null,null,null,null,null,null,null,null,null,null,null,null,null,null,null,null,null,null,null,null,null,null,null,null,null,null,null,null,null,null,null,null,null,null,null,0]
[null,null,null,null,null,null,null,null,null,null,null,null,null,null,null,null,null,null,null,null,null,null,null,null,null,null,null,null,null,null,null,null,null,null,null,null,null,0]
[null,null,null,null,null,null,null,null,null,null,null,null,null,null,null,null,null,null,null,null,null,null,null,null,null,null,null,null,null,null,null,null,null,null,null,null,null,0]
[null,null,null,null,null,null,null,null,null,null,null,null,null,null,null,null,null,null,null,null,null,null,null,null,null,null,null,null,null,null,null,null,null,null,null,null,null,0]
[null,null,null,null,null,null,null,null,null,null,null,null,null,null,null,null,null,null,null,null,null,null,null,null,null,null,null,null,null,null,null,null,null,null,null,null,null,0]
[null,null,null,null,null,null,null,null,null,null,null,null,null,null,null,null,null,null,null,null,null,null,null,null,null,null,null,null,null,null,null,null,null,null,null,null,null,0]
[null,null,null,null,null,null,null,null,null,null,null,null,null,null,null,null,null,null,null,null,null,null,null,null,null,null,null,null,null,null,null,null,null,null,null,null,null,0]
[null,null,null,null,null,null,null,null,null,null,null,null,null,null,null,null,null,null,null,null,null,null,null,null,null,null,null,null,null,null,null,null,null,null,null,null,null,0]
[null,null,null,null,null,null,null,null,null,null,null,null,null,null,null,null,null,null,null,null,null,null,null,null,null,null,null,null,null,null,null,null,null,null,null,null,null,0]
[null,null,null,null,null,null,null,null,null,null,null,null,null,null,null,null,null,null,null,null,null,null,null,null,null,null,null,null,null,null,null,null,null,null,null,null,null,0]
[null,null,null,null,null,null,null,null,null,null,null,null,null,null,null,null,null,null,null,null,null,null,null,null,null,null,null,null,null,null,null,null,null,null,null,null,null,0]
[null,null,null,null,null,null,null,null,null,null,null,null,null,null,null,null,null,null,null,null,null,null,null,null,null,null,null,null,null,null,null,null,null,null,null,null,null,0]
[null,null,null,null,null,null,null,null,null,null,null,null,null,null,null,null,null,null,null,null,null,null,null,null,null,null,null,null,null,null,null,null,null,null,null,null,null,0]
[null,null,null,null,null,null,null,null,null,null,null,null,null,null,null,null,null,null,null,null,null,null,null,null,null,null,null,null,null,null,null,null,null,null,null,null,null,0]
[null,null,null,null,null,null,null,null,null,null,null,null,null,null,null,null,null,null,null,null,null,null,null,null,null,null,null,null,null,null,null,null,null,null,null,null,null,0]
[null,null,null,null,null,null,null,null,null,null,null,null,null,null,null,null,null,null,null,null,null,null,null,null,null,null,null,null,null,null,null,null,null,null,null,null,null,0]
[null,null,null,null,null,null,null,null,null,null,null,null,null,null,null,null,null,null,null,null,null,null,null,null,null,null,null,null,null,null,null,null,null,null,null,null,null,0]
[null,null,null,null,null,null,null,null,null,null,null,null,null,null,null,null,null,null,null,null,null,null,null,null,null,null,null,null,null,null,null,null,null,null,null,null,null,0]
[null,null,null,null,null,null,null,null,null,null,null,null,null,null,null,null,null,null,null,null,null,null,null,null,null,null,null,null,null,null,null,null,null,null,null,null,null,0]
[null,null,null,null,null,null,null,null,null,null,null,null,null,null,null,null,null,null,null,null,null,null,null,null,null,null,null,null,null,null,null,null,null,null,null,null,null,0]
[null,null,null,null,null,null,null,null,null,null,null,null,null,null,null,null,null,null,null,null,null,null,null,null,null,null,null,null,null,null,null,null,null,null,null,null,null,0]
[null,null,null,null,null,null,null,null,null,null,null,null,null,null,null,null,null,null,null,null,null,null,null,null,null,null,null,null,null,null,null,null,null,null,null,null,null,0]
[null,null,null,null,null,null,null,null,null,null,null,null,null,null,null,null,null,null,null,null,null,null,null,null,null,null,null,null,null,null,null,null,null,null,null,null,null,0]
[null,null,null,null,null,null,null,null,null,null,null,null,null,null,null,null,null,null,null,null,null,null,null,null,null,null,null,null,null,null,null,null,null,null,null,null,null,0]
[null,null,null,null,null,null,null,null,null,null,null,null,null,null,null,null,null,null,null,null,null,null,null,null,null,null,null,null,null,null,null,null,null,null,null,null,null,{"$f":"IF(Q830275,V830275-Q830275,0)","v":0}]
[null,null,null,null,null,null,null,null,null,null,null,null,null,null,null,null,null,null,null,null,null,null,null,null,null,null,null,null,null,null,null,null,null,null,null,null,null,0]
[null,null,null,null,null,null,null,null,null,null,null,null,null,null,null,null,null,null,null,null,null,null,null,null,null,null,null,null,null,null,null,null,null,null,null,null,null,0]
[null,null,null,null,null,null,null,null,null,null,null,null,null,null,null,null,null,null,null,null,null,null,null,null,null,null,null,null,null,null,null,null,null,null,null,null,null,0]
[null,null,null,null,null,null,null,null,null,null,null,null,null,null,null,null,null,null,null,null,null,null,null,null,null,null,null,null,null,null,null,null,null,null,null,null,null,0]
[null,null,null,null,null,null,null,null,null,null,null,null,null,null,null,null,null,null,null,null,null,null,null,null,null,null,null,null,null,null,null,null,null,null,null,null,null,0]
[null,null,null,null,null,null,null,null,null,null,null,null,null,null,null,null,null,null,null,null,null,null,null,null,null,null,null,null,null,null,null,null,null,null,null,null,null,0]
[null,null,null,null,null,null,null,null,null,null,null,null,null,null,null,null,null,null,null,null,null,null,null,null,null,null,null,null,null,null,null,null,null,null,null,null,null,0]
[null,null,null,null,null,null,null,null,null,null,null,null,null,null,null,null,null,null,null,null,null,null,null,null,null,null,null,null,null,null,null,null,null,null,null,null,null,0]
[null,null,null,null,null,null,null,null,null,null,null,null,null,null,null,null,null,null,null,null,null,null,null,null,null,null,null,null,null,null,null,null,null,null,null,null,null,0]
[null,null,null,null,null,null,null,null,null,null,null,null,null,null,null,null,null,null,null,null,null,null,null,null,null,null,null,null,null,null,null,null,null,null,null,null,null,0]
[null,null,null,null,null,null,null,null,null,null,null,null,null,null,null,null,null,null,null,null,null,null,null,null,null,null,null,null,null,null,null,null,null,null,null,null,null,0]
[null,null,null,null,null,null,null,null,null,null,null,null,null,null,null,null,null,null,null,null,null,null,null,null,null,null,null,null,null,null,null,null,null,null,null,null,null,0]
[null,null,null,null,null,null,null,null,null,null,null,null,null,null,null,null,null,null,null,null,null,null,null,null,null,null,null,null,null,null,null,null,null,null,null,null,null,0]
[null,null,null,null,null,null,null,null,null,null,null,null,null,null,null,null,null,null,null,null,null,null,null,null,null,null,null,null,null,null,null,null,null,null,null,null,null,0]
[null,null,null,null,null,null,null,null,null,null,null,null,null,null,null,null,null,null,null,null,null,null,null,null,null,null,null,null,null,null,null,null,null,null,null,null,null,0]
[null,null,null,null,null,null,null,null,null,null,null,null,null,null,null,null,null,null,null,null,null,null,null,null,null,null,null,null,null,null,null,null,null,null,null,null,null,0]
[null,null,null,null,null,null,null,null,null,null,null,null,null,null,null,null,null,null,null,null,null,null,null,null,null,null,null,null,null,null,null,null,null,null,null,null,null,0]
[null,null,null,null,null,null,null,null,null,null,null,null,null,null,null,null,null,null,null,null,null,null,null,null,null,null,null,null,null,null,null,null,null,null,null,null,null,0]
[null,null,null,null,null,null,null,null,null,null,null,null,null,null,null,null,null,null,null,null,null,null,null,null,null,null,null,null,null,null,null,null,null,null,null,null,null,0]
[null,null,null,null,null,null,null,null,null,null,null,null,null,null,null,null,null,null,null,null,null,null,null,null,null,null,null,null,null,null,null,null,null,null,null,null,null,0]
[null,null,null,null,null,null,null,null,null,null,null,null,null,null,null,null,null,null,null,null,null,null,null,null,null,null,null,null,null,null,null,null,null,null,null,null,null,0]
[null,null,null,null,null,null,null,null,null,null,null,null,null,null,null,null,null,null,null,null,null,null,null,null,null,null,null,null,null,null,null,null,null,null,null,null,null,0]
[null,null,null,null,null,null,null,null,null,null,null,null,null,null,null,null,null,null,null,null,null,null,null,null,null,null,null,null,null,null,null,null,null,null,null,null,null,0]
[null,null,null,null,null,null,null,null,null,null,null,null,null,null,null,null,null,null,null,null,null,null,null,null,null,null,null,null,null,null,null,null,null,null,null,null,null,0]
[null,null,null,null,null,null,null,null,null,null,null,null,null,null,null,null,null,null,null,null,null,null,null,null,null,null,null,null,null,null,null,null,null,null,null,null,null,0]
[null,null,null,null,null,null,null,null,null,null,null,null,null,null,null,null,null,null,null,null,null,null,null,null,null,null,null,null,null,null,null,null,null,null,null,null,null,0]
[null,null,null,null,null,null,null,null,null,null,null,null,null,null,null,null,null,null,null,null,null,null,null,null,null,null,null,null,null,null,null,null,null,null,null,null,null,0]
[null,null,null,null,null,null,null,null,null,null,null,null,null,null,null,null,null,null,null,null,null,null,null,null,null,null,null,null,null,null,null,null,null,null,null,null,null,0]
[null,null,null,null,null,null,null,null,null,null,null,null,null,null,null,null,null,null,null,null,null,null,null,null,null,null,null,null,null,null,null,null,null,null,null,null,null,0]
[null,null,null,null,null,null,null,null,null,null,null,null,null,null,null,null,null,null,null,null,null,null,null,null,null,null,null,null,null,null,null,null,null,null,null,null,null,0]
[null,null,null,null,null,null,null,null,null,null,null,null,null,null,null,null,null,null,null,null,null,null,null,null,null,null,null,null,null,null,null,null,null,null,null,null,null,0]
[null,null,null,null,null,null,null,null,null,null,null,null,null,null,null,null,null,null,null,null,null,null,null,null,null,null,null,null,null,null,null,null,null,null,null,null,null,0]
[null,null,null,null,null,null,null,null,null,null,null,null,null,null,null,null,null,null,null,null,null,null,null,null,null,null,null,null,null,null,null,null,null,null,null,null,null,0]
[null,null,null,null,null,null,null,null,null,null,null,null,null,null,null,null,null,null,null,null,null,null,null,null,null,null,null,null,null,null,null,null,null,null,null,null,null,0]
[null,null,null,null,null,null,null,null,null,null,null,null,null,null,null,null,null,null,null,null,null,null,null,null,null,null,null,null,null,null,null,null,null,null,null,null,null,0]
[null,null,null,null,null,null,null,null,null,null,null,null,null,null,null,null,null,null,null,null,null,null,null,null,null,null,null,null,null,null,null,null,null,null,null,null,null,0]
[null,null,null,null,null,null,null,null,null,null,null,null,null,null,null,null,null,null,null,null,null,null,null,null,null,null,null,null,null,null,null,null,null,null,null,null,null,0]
[null,null,null,null,null,null,null,null,null,null,null,null,null,null,null,null,null,null,null,null,null,null,null,null,null,null,null,null,null,null,null,null,null,null,null,null,null,0]
[null,null,null,null,null,null,null,null,null,null,null,null,null,null,null,null,null,null,null,null,null,null,null,null,null,null,null,null,null,null,null,null,null,null,null,null,null,0]
[null,null,null,null,null,null,null,null,null,null,null,null,null,null,null,null,null,null,null,null,null,null,null,null,null,null,null,null,null,null,null,null,null,null,null,null,null,0]
[null,null,null,null,null,null,null,null,null,null,null,null,null,null,null,null,null,null,null,null,null,null,null,null,null,null,null,null,null,null,null,null,null,null,null,null,null,0]
[null,null,null,null,null,null,null,null,null,null,null,null,null,null,null,null,null,null,null,null,null,null,null,null,null,null,null,null,null,null,null,null,null,null,null,null,null,0]
[null,null,null,null,null,null,null,null,null,null,null,null,null,null,null,null,null,null,null,null,null,null,null,null,null,null,null,null,null,null,null,null,null,null,null,null,null,0]
[null,null,null,null,null,null,null,null,null,null,null,null,null,null,null,null,null,null,null,null,null,null,null,null,null,null,null,null,null,null,null,null,null,null,null,null,null,0]
[null,null,null,null,null,null,null,null,null,null,null,null,null,null,null,null,null,null,null,null,null,null,null,null,null,null,null,null,null,null,null,null,null,null,null,null,null,0]
[null,null,null,null,null,null,null,null,null,null,null,null,null,null,null,null,null,null,null,null,null,null,null,null,null,null,null,null,null,null,null,null,null,null,null,null,null,0]
[null,null,null,null,null,null,null,null,null,null,null,null,null,null,null,null,null,null,null,null,null,null,null,null,null,null,null,null,null,null,null,null,null,null,null,null,null,0]
[null,null,null,null,null,null,null,null,null,null,null,null,null,null,null,null,null,null,null,null,null,null,null,null,null,null,null,null,null,null,null,null,null,null,null,null,null,0]
[null,null,null,null,null,null,null,null,null,null,null,null,null,null,null,null,null,null,null,null,null,null,null,null,null,null,null,null,null,null,null,null,null,null,null,null,null,{"$f":"IF(Q881219,V881219-Q881219,0)","v":0}]
[null,null,null,null,null,null,null,null,null,null,null,null,null,null,null,null,null,null,null,null,null,null,null,null,null,null,null,null,null,null,null,null,null,null,null,null,null,0]
[null,null,null,null,null,null,null,null,null,null,null,null,null,null,null,null,null,null,null,null,null,null,null,null,null,null,null,null,null,null,null,null,null,null,null,null,null,0]
[null,null,null,null,null,null,null,null,null,null,null,null,null,null,null,null,null,null,null,null,null,null,null,null,null,null,null,null,null,null,null,null,null,null,null,null,null,0]
[null,null,null,null,null,null,null,null,null,null,null,null,null,null,null,null,null,null,null,null,null,null,null,null,null,null,null,null,null,null,null,null,null,null,null,null,null,0]
[null,null,null,null,null,null,null,null,null,null,null,null,null,null,null,null,null,null,null,null,null,null,null,null,null,null,null,null,null,null,null,null,null,null,null,null,null,0]
[null,null,null,null,null,null,null,null,null,null,null,null,null,null,null,null,null,null,null,null,null,null,null,null,null,null,null,null,null,null,null,null,null,null,null,null,null,0]
[null,null,null,null,null,null,null,null,null,null,null,null,null,null,null,null,null,null,null,null,null,null,null,null,null,null,null,null,null,null,null,null,null,null,null,null,null,0]
[null,null,null,null,null,null,null,null,null,null,null,null,null,null,null,null,null,null,null,null,null,null,null,null,null,null,null,null,null,null,null,null,null,null,null,null,null,0]
[null,null,null,null,null,null,null,null,null,null,null,null,null,null,null,null,null,null,null,null,null,null,null,null,null,null,null,null,null,null,null,null,null,null,null,null,null,0]
[null,null,null,null,null,null,null,null,null,null,null,null,null,null,null,null,null,null,null,null,null,null,null,null,null,null,null,null,null,null,null,null,null,null,null,null,null,0]
[null,null,null,null,null,null,null,null,null,null,null,null,null,null,null,null,null,null,null,null,null,null,null,null,null,null,null,null,null,null,null,null,null,null,null,null,null,0]
[null,null,null,null,null,null,null,null,null,null,null,null,null,null,null,null,null,null,null,null,null,null,null,null,null,null,null,null,null,null,null,null,null,null,null,null,null,0]
[null,null,null,null,null,null,null,null,null,null,null,null,null,null,null,null,null,null,null,null,null,null,null,null,null,null,null,null,null,null,null,null,null,null,null,null,null,0]
[null,null,null,null,null,null,null,null,null,null,null,null,null,null,null,null,null,null,null,null,null,null,null,null,null,null,null,null,null,null,null,null,null,null,null,null,null,0]
[null,null,null,null,null,null,null,null,null,null,null,null,null,null,null,null,null,null,null,null,null,null,null,null,null,null,null,null,null,null,null,null,null,null,null,null,null,0]
[null,null,null,null,null,null,null,null,null,null,null,null,null,null,null,null,null,null,null,null,null,null,null,null,null,null,null,null,null,null,null,null,null,null,null,null,null,0]
[null,null,null,null,null,null,null,null,null,null,null,null,null,null,null,null,null,null,null,null,null,null,null,null,null,null,null,null,null,null,null,null,null,null,null,null,null,0]
[null,null,null,null,null,null,null,null,null,null,null,null,null,null,null,null,null,null,null,null,null,null,null,null,null,null,null,null,null,null,null,null,null,null,null,null,null,0]
[null,null,null,null,null,null,null,null,null,null,null,null,null,null,null,null,null,null,null,null,null,null,null,null,null,null,null,null,null,null,null,null,null,null,null,null,null,0]
[null,null,null,null,null,null,null,null,null,null,null,null,null,null,null,null,null,null,null,null,null,null,null,null,null,null,null,null,null,null,null,null,null,null,null,null,null,0]
[null,null,null,null,null,null,null,null,null,null,null,null,null,null,null,null,null,null,null,null,null,null,null,null,null,null,null,null,null,null,null,null,null,null,null,null,null,0]
[null,null,null,null,null,null,null,null,null,null,null,null,null,null,null,null,null,null,null,null,null,null,null,null,null,null,null,null,null,null,null,null,null,null,null,null,null,0]
[null,null,null,null,null,null,null,null,null,null,null,null,null,null,null,null,null,null,null,null,null,null,null,null,null,null,null,null,null,null,null,null,null,null,null,null,null,0]
[null,null,null,null,null,null,null,null,null,null,null,null,null,null,null,null,null,null,null,null,null,null,null,null,null,null,null,null,null,null,null,null,null,null,null,null,null,0]
[null,null,null,null,null,null,null,null,null,null,null,null,null,null,null,null,null,null,null,null,null,null,null,null,null,null,null,null,null,null,null,null,null,null,null,null,null,0]
[null,null,null,null,null,null,null,null,null,null,null,null,null,null,null,null,null,null,null,null,null,null,null,null,null,null,null,null,null,null,null,null,null,null,null,null,null,0]
[null,null,null,null,null,null,null,null,null,null,null,null,null,null,null,null,null,null,null,null,null,null,null,null,null,null,null,null,null,null,null,null,null,null,null,null,null,0]
[null,null,null,null,null,null,null,null,null,null,null,null,null,null,null,null,null,null,null,null,null,null,null,null,null,null,null,null,null,null,null,null,null,null,null,null,null,0]
[null,null,null,null,null,null,null,null,null,null,null,null,null,null,null,null,null,null,null,null,null,null,null,null,null,null,null,null,null,null,null,null,null,null,null,null,null,0]
[null,null,null,null,null,null,null,null,null,null,null,null,null,null,null,null,null,null,null,null,null,null,null,null,null,null,null,null,null,null,null,null,null,null,null,null,null,0]
[null,null,null,null,null,null,null,null,null,null,null,null,null,null,null,null,null,null,null,null,null,null,null,null,null,null,null,null,null,null,null,null,null,null,null,null,null,0]
[null,null,null,null,null,null,null,null,null,null,null,null,null,null,null,null,null,null,null,null,null,null,null,null,null,null,null,null,null,null,null,null,null,null,null,null,null,0]
[null,null,null,null,null,null,null,null,null,null,null,null,null,null,null,null,null,null,null,null,null,null,null,null,null,null,null,null,null,null,null,null,null,null,null,null,null,0]
[null,null,null,null,null,null,null,null,null,null,null,null,null,null,null,null,null,null,null,null,null,null,null,null,null,null,null,null,null,null,null,null,null,null,null,null,null,0]
[null,null,null,null,null,null,null,null,null,null,null,null,null,null,null,null,null,null,null,null,null,null,null,null,null,null,null,null,null,null,null,null,null,null,null,null,null,0]
[null,null,null,null,null,null,null,null,null,null,null,null,null,null,null,null,null,null,null,null,null,null,null,null,null,null,null,null,null,null,null,null,null,null,null,null,null,0]
[null,null,null,null,null,null,null,null,null,null,null,null,null,null,null,null,null,null,null,null,null,null,null,null,null,null,null,null,null,null,null,null,null,null,null,null,null,0]
[null,null,null,null,null,null,null,null,null,null,null,null,null,null,null,null,null,null,null,null,null,null,null,null,null,null,null,null,null,null,null,null,null,null,null,null,null,0]
[null,null,null,null,null,null,null,null,null,null,null,null,null,null,null,null,null,null,null,null,null,null,null,null,null,null,null,null,null,null,null,null,null,null,null,null,null,0]
[null,null,null,null,null,null,null,null,null,null,null,null,null,null,null,null,null,null,null,null,null,null,null,null,null,null,null,null,null,null,null,null,null,null,null,null,null,0]
[null,null,null,null,null,null,null,null,null,null,null,null,null,null,null,null,null,null,null,null,null,null,null,null,null,null,null,null,null,null,null,null,null,null,null,null,null,0]
[null,null,null,null,null,null,null,null,null,null,null,null,null,null,null,null,null,null,null,null,null,null,null,null,null,null,null,null,null,null,null,null,null,null,null,null,null,0]
[null,null,null,null,null,null,null,null,null,null,null,null,null,null,null,null,null,null,null,null,null,null,null,null,null,null,null,null,null,null,null,null,null,null,null,null,null,0]
[null,null,null,null,null,null,null,null,null,null,null,null,null,null,null,null,null,null,null,null,null,null,null,null,null,null,null,null,null,null,null,null,null,null,null,null,null,0]
[null,null,null,null,null,null,null,null,null,null,null,null,null,null,null,null,null,null,null,null,null,null,null,null,null,null,null,null,null,null,null,null,null,null,null,null,null,0]
[null,null,null,null,null,null,null,null,null,null,null,null,null,null,null,null,null,null,null,null,null,null,null,null,null,null,null,null,null,null,null,null,null,null,null,null,null,0]
[null,null,null,null,null,null,null,null,null,null,null,null,null,null,null,null,null,null,null,null,null,null,null,null,null,null,null,null,null,null,null,null,null,null,null,null,null,0]
[null,null,null,null,null,null,null,null,null,null,null,null,null,null,null,null,null,null,null,null,null,null,null,null,null,null,null,null,null,null,null,null,null,null,null,null,null,0]
[null,null,null,null,null,null,null,null,null,null,null,null,null,null,null,null,null,null,null,null,null,null,null,null,null,null,null,null,null,null,null,null,null,null,null,null,null,0]
[null,null,null,null,null,null,null,null,null,null,null,null,null,null,null,null,null,null,null,null,null,null,null,null,null,null,null,null,null,null,null,null,null,null,null,null,null,0]
[null,null,null,null,null,null,null,null,null,null,null,null,null,null,null,null,null,null,null,null,null,null,null,null,null,null,null,null,null,null,null,null,null,null,null,null,null,0]
[null,null,null,null,null,null,null,null,null,null,null,null,null,null,null,null,null,null,null,null,null,null,null,null,null,null,null,null,null,null,null,null,null,null,null,null,null,0]
[null,null,null,null,null,null,null,null,null,null,null,null,null,null,null,null,null,null,null,null,null,null,null,null,null,null,null,null,null,null,null,null,null,null,null,null,null,0]
[null,null,null,null,null,null,null,null,null,null,null,null,null,null,null,null,null,null,null,null,null,null,null,null,null,null,null,null,null,null,null,null,null,null,null,null,null,0]
[null,null,null,null,null,null,null,null,null,null,null,null,null,null,null,null,null,null,null,null,null,null,null,null,null,null,null,null,null,null,null,null,null,null,null,null,null,0]
[null,null,null,null,null,null,null,null,null,null,null,null,null,null,null,null,null,null,null,null,null,null,null,null,null,null,null,null,null,null,null,null,null,null,null,null,null,0]
[null,null,null,null,null,null,null,null,null,null,null,null,null,null,null,null,null,null,null,null,null,null,null,null,null,null,null,null,null,null,null,null,null,null,null,null,null,0]
[null,null,null,null,null,null,null,null,null,null,null,null,null,null,null,null,null,null,null,null,null,null,null,null,null,null,null,null,null,null,null,null,null,null,null,null,null,0]
[null,null,null,null,null,null,null,null,null,null,null,null,null,null,null,null,null,null,null,null,null,null,null,null,null,null,null,null,null,null,null,null,null,null,null,null,null,0]
[null,null,null,null,null,null,null,null,null,null,null,null,null,null,null,null,null,null,null,null,null,null,null,null,null,null,null,null,null,null,null,null,null,null,null,null,null,0]
[null,null,null,null,null,null,null,null,null,null,null,null,null,null,null,null,null,null,null,null,null,null,null,null,null,null,null,null,null,null,null,null,null,null,null,null,null,0]
[null,null,null,null,null,null,null,null,null,null,null,null,null,null,null,null,null,null,null,null,null,null,null,null,null,null,null,null,null,null,null,null,null,null,null,null,null,0]
[null,null,null,null,null,null,null,null,null,null,null,null,null,null,null,null,null,null,null,null,null,null,null,null,null,null,null,null,null,null,null,null,null,null,null,null,null,0]
[null,null,null,null,null,null,null,null,null,null,null,null,null,null,null,null,null,null,null,null,null,null,null,null,null,null,null,null,null,null,null,null,null,null,null,null,null,0]
[null,null,null,null,null,null,null,null,null,null,null,null,null,null,null,null,null,null,null,null,null,null,null,null,null,null,null,null,null,null,null,null,null,null,null,null,null,0]
[null,null,null,null,null,null,null,null,null,null,null,null,null,null,null,null,null,null,null,null,null,null,null,null,null,null,null,null,null,null,null,null,null,null,null,null,null,0]
[null,null,null,null,null,null,null,null,null,null,null,null,null,null,null,null,null,null,null,null,null,null,null,null,null,null,null,null,null,null,null,null,null,null,null,null,null,0]
[null,null,null,null,null,null,null,null,null,null,null,null,null,null,null,null,null,null,null,null,null,null,null,null,null,null,null,null,null,null,null,null,null,null,null,null,null,0]
[null,null,null,null,null,null,null,null,null,null,null,null,null,null,null,null,null,null,null,null,null,null,null,null,null,null,null,null,null,null,null,null,null,null,null,null,null,0]
[null,null,null,null,null,null,null,null,null,null,null,null,null,null,null,null,null,null,null,null,null,null,null,null,null,null,null,null,null,null,null,null,null,null,null,null,null,0]
[null,null,null,null,null,null,null,null,null,null,null,null,null,null,null,null,null,null,null,null,null,null,null,null,null,null,null,null,null,null,null,null,null,null,null,null,null,0]
[null,null,null,null,null,null,null,null,null,null,null,null,null,null,null,null,null,null,null,null,null,null,null,null,null,null,null,null,null,null,null,null,null,null,null,null,null,0]
[null,null,null,null,null,null,null,null,null,null,null,null,null,null,null,null,null,null,null,null,null,null,null,null,null,null,null,null,null,null,null,null,null,null,null,null,null,0]
[null,null,null,null,null,null,null,null,null,null,null,null,null,null,null,null,null,null,null,null,null,null,null,null,null,null,null,null,null,null,null,null,null,null,null,null,null,0]
[null,null,null,null,null,null,null,null,null,null,null,null,null,null,null,null,null,null,null,null,null,null,null,null,null,null,null,null,null,null,null,null,null,null,null,null,null,0]
[null,null,null,null,null,null,null,null,null,null,null,null,null,null,null,null,null,null,null,null,null,null,null,null,null,null,null,null,null,null,null,null,null,null,null,null,null,0]
[null,null,null,null,null,null,null,null,null,null,null,null,null,null,null,null,null,null,null,null,null,null,null,null,null,null,null,null,null,null,null,null,null,null,null,null,null,0]
[null,null,null,null,null,null,null,null,null,null,null,null,null,null,null,null,null,null,null,null,null,null,null,null,null,null,null,null,null,null,null,null,null,null,null,null,null,0]
[null,null,null,null,null,null,null,null,null,null,null,null,null,null,null,null,null,null,null,null,null,null,null,null,null,null,null,null,null,null,null,null,null,null,null,null,null,0]
[null,null,null,null,null,null,null,null,null,null,null,null,null,null,null,null,null,null,null,null,null,null,null,null,null,null,null,null,null,null,null,null,null,null,null,null,null,0]
[null,null,null,null,null,null,null,null,null,null,null,null,null,null,null,null,null,null,null,null,null,null,null,null,null,null,null,null,null,null,null,null,null,null,null,null,null,0]
[null,null,null,null,null,null,null,null,null,null,null,null,null,null,null,null,null,null,null,null,null,null,null,null,null,null,null,null,null,null,null,null,null,null,null,null,null,0]
[null,null,null,null,null,null,null,null,null,null,null,null,null,null,null,null,null,null,null,null,null,null,null,null,null,null,null,null,null,null,null,null,null,null,null,null,null,0]
[null,null,null,null,null,null,null,null,null,null,null,null,null,null,null,null,null,null,null,null,null,null,null,null,null,null,null,null,null,null,null,null,null,null,null,null,null,0]
[null,null,null,null,null,null,null,null,null,null,null,null,null,null,null,null,null,null,null,null,null,null,null,null,null,null,null,null,null,null,null,null,null,null,null,null,null,0]
[null,null,null,null,null,null,null,null,null,null,null,null,null,null,null,null,null,null,null,null,null,null,null,null,null,null,null,null,null,null,null,null,null,null,null,null,null,0]
[null,null,null,null,null,null,null,null,null,null,null,null,null,null,null,null,null,null,null,null,null,null,null,null,null,null,null,null,null,null,null,null,null,null,null,null,null,0]
[null,null,null,null,null,null,null,null,null,null,null,null,null,null,null,null,null,null,null,null,null,null,null,null,null,null,null,null,null,null,null,null,null,null,null,null,null,0]
[null,null,null,null,null,null,null,null,null,null,null,null,null,null,null,null,null,null,null,null,null,null,null,null,null,null,null,null,null,null,null,null,null,null,null,null,null,0]
[null,null,null,null,null,null,null,null,null,null,null,null,null,null,null,null,null,null,null,null,null,null,null,null,null,null,null,null,null,null,null,null,null,null,null,null,null,0]
[null,null,null,null,null,null,null,null,null,null,null,null,null,null,null,null,null,null,null,null,null,null,null,null,null,null,null,null,null,null,null,null,null,null,null,null,null,0]
[null,null,null,null,null,null,null,null,null,null,null,null,null,null,null,null,null,null,null,null,null,null,null,null,null,null,null,null,null,null,null,null,null,null,null,null,null,0]
[null,null,null,null,null,null,null,null,null,null,null,null,null,null,null,null,null,null,null,null,null,null,null,null,null,null,null,null,null,null,null,null,null,null,null,null,null,0]
[null,null,null,null,null,null,null,null,null,null,null,null,null,null,null,null,null,null,null,null,null,null,null,null,null,null,null,null,null,null,null,null,null,null,null,null,null,0]
[null,null,null,null,null,null,null,null,null,null,null,null,null,null,null,null,null,null,null,null,null,null,null,null,null,null,null,null,null,null,null,null,null,null,null,null,null,0]
[null,null,null,null,null,null,null,null,null,null,null,null,null,null,null,null,null,null,null,null,null,null,null,null,null,null,null,null,null,null,null,null,null,null,null,null,null,0]
[null,null,null,null,null,null,null,null,null,null,null,null,null,null,null,null,null,null,null,null,null,null,null,null,null,null,null,null,null,null,null,null,null,null,null,null,null,0]
[null,null,null,null,null,null,null,null,null,null,null,null,null,null,null,null,null,null,null,null,null,null,null,null,null,null,null,null,null,null,null,null,null,null,null,null,null,0]
[null,null,null,null,null,null,null,null,null,null,null,null,null,null,null,null,null,null,null,null,null,null,null,null,null,null,null,null,null,null,null,null,null,null,null,null,null,0]
[null,null,null,null,null,null,null,null,null,null,null,null,null,null,null,null,null,null,null,null,null,null,null,null,null,null,null,null,null,null,null,null,null,null,null,null,null,0]
[null,null,null,null,null,null,null,null,null,null,null,null,null,null,null,null,null,null,null,null,null,null,null,null,null,null,null,null,null,null,null,null,null,null,null,null,null,0]
[null,null,null,null,null,null,null,null,null,null,null,null,null,null,null,null,null,null,null,null,null,null,null,null,null,null,null,null,null,null,null,null,null,null,null,null,null,0]
[null,null,null,null,null,null,null,null,null,null,null,null,null,null,null,null,null,null,null,null,null,null,null,null,null,null,null,null,null,null,null,null,null,null,null,null,null,0]
[null,null,null,null,null,null,null,null,null,null,null,null,null,null,null,null,null,null,null,null,null,null,null,null,null,null,null,null,null,null,null,null,null,null,null,null,null,0]
[null,null,null,null,null,null,null,null,null,null,null,null,null,null,null,null,null,null,null,null,null,null,null,null,null,null,null,null,null,null,null,null,null,null,null,null,null,0]
[null,null,null,null,null,null,null,null,null,null,null,null,null,null,null,null,null,null,null,null,null,null,null,null,null,null,null,null,null,null,null,null,null,null,null,null,null,0]
[null,null,null,null,null,null,null,null,null,null,null,null,null,null,null,null,null,null,null,null,null,null,null,null,null,null,null,null,null,null,null,null,null,null,null,null,null,0]
[null,null,null,null,null,null,null,null,null,null,null,null,null,null,null,null,null,null,null,null,null,null,null,null,null,null,null,null,null,null,null,null,null,null,null,null,null,0]
[null,null,null,null,null,null,null,null,null,null,null,null,null,null,null,null,null,null,null,null,null,null,null,null,null,null,null,null,null,null,null,null,null,null,null,null,null,0]
[null,null,null,null,null,null,null,null,null,null,null,null,null,null,null,null,null,null,null,null,null,null,null,null,null,null,null,null,null,null,null,null,null,null,null,null,null,0]
[null,null,null,null,null,null,null,null,null,null,null,null,null,null,null,null,null,null,null,null,null,null,null,null,null,null,null,null,null,null,null,null,null,null,null,null,null,0]
[null,null,null,null,null,null,null,null,null,null,null,null,null,null,null,null,null,null,null,null,null,null,null,null,null,null,null,null,null,null,null,null,null,null,null,null,null,0]
[null,null,null,null,null,null,null,null,null,null,null,null,null,null,null,null,null,null,null,null,null,null,null,null,null,null,null,null,null,null,null,null,null,null,null,null,null,0]
[null,null,null,null,null,null,null,null,null,null,null,null,null,null,null,null,null,null,null,null,null,null,null,null,null,null,null,null,null,null,null,null,null,null,null,null,null,0]
[null,null,null,null,null,null,null,null,null,null,null,null,null,null,null,null,null,null,null,null,null,null,null,null,null,null,null,null,null,null,null,null,null,null,null,null,null,0]
[null,null,null,null,null,null,null,null,null,null,null,null,null,null,null,null,null,null,null,null,null,null,null,null,null,null,null,null,null,null,null,null,null,null,null,null,null,0]
[null,null,null,null,null,null,null,null,null,null,null,null,null,null,null,null,null,null,null,null,null,null,null,null,null,null,null,null,null,null,null,null,null,null,null,null,null,0]
[null,null,null,null,null,null,null,null,null,null,null,null,null,null,null,null,null,null,null,null,null,null,null,null,null,null,null,null,null,null,null,null,null,null,null,null,null,0]
[null,null,null,null,null,null,null,null,null,null,null,null,null,null,null,null,null,null,null,null,null,null,null,null,null,null,null,null,null,null,null,null,null,null,null,null,null,0]
[null,null,null,null,null,null,null,null,null,null,null,null,null,null,null,null,null,null,null,null,null,null,null,null,null,null,null,null,null,null,null,null,null,null,null,null,null,0]
[null,null,null,null,null,null,null,null,null,null,null,null,null,null,null,null,null,null,null,null,null,null,null,null,null,null,null,null,null,null,null,null,null,null,null,null,null,0]
[null,null,null,null,null,null,null,null,null,null,null,null,null,null,null,null,null,null,null,null,null,null,null,null,null,null,null,null,null,null,null,null,null,null,null,null,null,0]
[null,null,null,null,null,null,null,null,null,null,null,null,null,null,null,null,null,null,null,null,null,null,null,null,null,null,null,null,null,null,null,null,null,null,null,null,null,0]
[null,null,null,null,null,null,null,null,null,null,null,null,null,null,null,null,null,null,null,null,null,null,null,null,null,null,null,null,null,null,null,null,null,null,null,null,null,0]
[null,null,null,null,null,null,null,null,null,null,null,null,null,null,null,null,null,null,null,null,null,null,null,null,null,null,null,null,null,null,null,null,null,null,null,null,null,0]
[null,null,null,null,null,null,null,null,null,null,null,null,null,null,null,null,null,null,null,null,null,null,null,null,null,null,null,null,null,null,null,null,null,null,null,null,null,0]
[null,null,null,null,null,null,null,null,null,null,null,null,null,null,null,null,null,null,null,null,null,null,null,null,null,null,null,null,null,null,null,null,null,null,null,null,null,0]
[null,null,null,null,null,null,null,null,null,null,null,null,null,null,null,null,null,null,null,null,null,null,null,null,null,null,null,null,null,null,null,null,null,null,null,null,null,0]
[null,null,null,null,null,null,null,null,null,null,null,null,null,null,null,null,null,null,null,null,null,null,null,null,null,null,null,null,null,null,null,null,null,null,null,null,null,0]
[null,null,null,null,null,null,null,null,null,null,null,null,null,null,null,null,null,null,null,null,null,null,null,null,null,null,null,null,null,null,null,null,null,null,null,null,null,0]
[null,null,null,null,null,null,null,null,null,null,null,null,null,null,null,null,null,null,null,null,null,null,null,null,null,null,null,null,null,null,null,null,null,null,null,null,null,0]
[null,null,null,null,null,null,null,null,null,null,null,null,null,null,null,null,null,null,null,null,null,null,null,null,null,null,null,null,null,null,null,null,null,null,null,null,null,0]
[null,null,null,null,null,null,null,null,null,null,null,null,null,null,null,null,null,null,null,null,null,null,null,null,null,null,null,null,null,null,null,null,null,null,null,null,null,0]
[null,null,null,null,null,null,null,null,null,null,null,null,null,null,null,null,null,null,null,null,null,null,null,null,null,null,null,null,null,null,null,null,null,null,null,null,null,0]
[null,null,null,null,null,null,null,null,null,null,null,null,null,null,null,null,null,null,null,null,null,null,null,null,null,null,null,null,null,null,null,null,null,null,null,null,null,0]
[null,null,null,null,null,null,null,null,null,null,null,null,null,null,null,null,null,null,null,null,null,null,null,null,null,null,null,null,null,null,null,null,null,null,null,null,null,0]
[null,null,null,null,null,null,null,null,null,null,null,null,null,null,null,null,null,null,null,null,null,null,null,null,null,null,null,null,null,null,null,null,null,null,null,null,null,0]
[null,null,null,null,null,null,null,null,null,null,null,null,null,null,null,null,null,null,null,null,null,null,null,null,null,null,null,null,null,null,null,null,null,null,null,null,null,0]
[null,null,null,null,null,null,null,null,null,null,null,null,null,null,null,null,null,null,null,null,null,null,null,null,null,null,null,null,null,null,null,null,null,null,null,null,null,0]
[null,null,null,null,null,null,null,null,null,null,null,null,null,null,null,null,null,null,null,null,null,null,null,null,null,null,null,null,null,null,null,null,null,null,null,null,null,0]
[null,null,null,null,null,null,null,null,null,null,null,null,null,null,null,null,null,null,null,null,null,null,null,null,null,null,null,null,null,null,null,null,null,null,null,null,null,0]
[null,null,null,null,null,null,null,null,null,null,null,null,null,null,null,null,null,null,null,null,null,null,null,null,null,null,null,null,null,null,null,null,null,null,null,null,null,0]
[null,null,null,null,null,null,null,null,null,null,null,null,null,null,null,null,null,null,null,null,null,null,null,null,null,null,null,null,null,null,null,null,null,null,null,null,null,0]
[null,null,null,null,null,null,null,null,null,null,null,null,null,null,null,null,null,null,null,null,null,null,null,null,null,null,null,null,null,null,null,null,null,null,null,null,null,0]
[null,null,null,null,null,null,null,null,null,null,null,null,null,null,null,null,null,null,null,null,null,null,null,null,null,null,null,null,null,null,null,null,null,null,null,null,null,0]
[null,null,null,null,null,null,null,null,null,null,null,null,null,null,null,null,null,null,null,null,null,null,null,null,null,null,null,null,null,null,null,null,null,null,null,null,null,0]
[null,null,null,null,null,null,null,null,null,null,null,null,null,null,null,null,null,null,null,null,null,null,null,null,null,null,null,null,null,null,null,null,null,null,null,null,null,0]
[null,null,null,null,null,null,null,null,null,null,null,null,null,null,null,null,null,null,null,null,null,null,null,null,null,null,null,null,null,null,null,null,null,null,null,null,null,0]
[null,null,null,null,null,null,null,null,null,null,null,null,null,null,null,null,null,null,null,null,null,null,null,null,null,null,null,null,null,null,null,null,null,null,null,null,null,0]
[null,null,null,null,null,null,null,null,null,null,null,null,null,null,null,null,null,null,null,null,null,null,null,null,null,null,null,null,null,null,null,null,null,null,null,null,null,0]
[null,null,null,null,null,null,null,null,null,null,null,null,null,null,null,null,null,null,null,null,null,null,null,null,null,null,null,null,null,null,null,null,null,null,null,null,null,0]
[null,null,null,null,null,null,null,null,null,null,null,null,null,null,null,null,null,null,null,null,null,null,null,null,null,null,null,null,null,null,null,null,null,null,null,null,null,0]
[null,null,null,null,null,null,null,null,null,null,null,null,null,null,null,null,null,null,null,null,null,null,null,null,null,null,null,null,null,null,null,null,null,null,null,null,null,0]
[null,null,null,null,null,null,null,null,null,null,null,null,null,null,null,null,null,null,null,null,null,null,null,null,null,null,null,null,null,null,null,null,null,null,null,null,null,0]
[null,null,null,null,null,null,null,null,null,null,null,null,null,null,null,null,null,null,null,null,null,null,null,null,null,null,null,null,null,null,null,null,null,null,null,null,null,0]
[null,null,null,null,null,null,null,null,null,null,null,null,null,null,null,null,null,null,null,null,null,null,null,null,null,null,null,null,null,null,null,null,null,null,null,null,null,0]
[null,null,null,null,null,null,null,null,null,null,null,null,null,null,null,null,null,null,null,null,null,null,null,null,null,null,null,null,null,null,null,null,null,null,null,null,null,0]
[null,null,null,null,null,null,null,null,null,null,null,null,null,null,null,null,null,null,null,null,null,null,null,null,null,null,null,null,null,null,null,null,null,null,null,null,null,0]
[null,null,null,null,null,null,null,null,null,null,null,null,null,null,null,null,null,null,null,null,null,null,null,null,null,null,null,null,null,null,null,null,null,null,null,null,null,0]
[null,null,null,null,null,null,null,null,null,null,null,null,null,null,null,null,null,null,null,null,null,null,null,null,null,null,null,null,null,null,null,null,null,null,null,null,null,0]
[null,null,null,null,null,null,null,null,null,null,null,null,null,null,null,null,null,null,null,null,null,null,null,null,null,null,null,null,null,null,null,null,null,null,null,null,null,0]
[null,null,null,null,null,null,null,null,null,null,null,null,null,null,null,null,null,null,null,null,null,null,null,null,null,null,null,null,null,null,null,null,null,null,null,null,null,0]
[null,null,null,null,null,null,null,null,null,null,null,null,null,null,null,null,null,null,null,null,null,null,null,null,null,null,null,null,null,null,null,null,null,null,null,null,null,0]
[null,null,null,null,null,null,null,null,null,null,null,null,null,null,null,null,null,null,null,null,null,null,null,null,null,null,null,null,null,null,null,null,null,null,null,null,null,0]
[null,null,null,null,null,null,null,null,null,null,null,null,null,null,null,null,null,null,null,null,null,null,null,null,null,null,null,null,null,null,null,null,null,null,null,null,null,0]
[null,null,null,null,null,null,null,null,null,null,null,null,null,null,null,null,null,null,null,null,null,null,null,null,null,null,null,null,null,null,null,null,null,null,null,null,null,0]
[null,null,null,null,null,null,null,null,null,null,null,null,null,null,null,null,null,null,null,null,null,null,null,null,null,null,null,null,null,null,null,null,null,null,null,null,null,0]
[null,null,null,null,null,null,null,null,null,null,null,null,null,null,null,null,null,null,null,null,null,null,null,null,null,null,null,null,null,null,null,null,null,null,null,null,null,0]
[null,null,null,null,null,null,null,null,null,null,null,null,null,null,null,null,null,null,null,null,null,null,null,null,null,null,null,null,null,null,null,null,null,null,null,null,null,0]
[null,null,null,null,null,null,null,null,null,null,null,null,null,null,null,null,null,null,null,null,null,null,null,null,null,null,null,null,null,null,null,null,null,null,null,null,null,0]
[null,null,null,null,null,null,null,null,null,null,null,null,null,null,null,null,null,null,null,null,null,null,null,null,null,null,null,null,null,null,null,null,null,null,null,null,null,0]
[null,null,null,null,null,null,null,null,null,null,null,null,null,null,null,null,null,null,null,null,null,null,null,null,null,null,null,null,null,null,null,null,null,null,null,null,null,0]
[null,null,null,null,null,null,null,null,null,null,null,null,null,null,null,null,null,null,null,null,null,null,null,null,null,null,null,null,null,null,null,null,null,null,null,null,null,0]
[null,null,null,null,null,null,null,null,null,null,null,null,null,null,null,null,null,null,null,null,null,null,null,null,null,null,null,null,null,null,null,null,null,null,null,null,null,0]
[null,null,null,null,null,null,null,null,null,null,null,null,null,null,null,null,null,null,null,null,null,null,null,null,null,null,null,null,null,null,null,null,null,null,null,null,null,0]
[null,null,null,null,null,null,null,null,null,null,null,null,null,null,null,null,null,null,null,null,null,null,null,null,null,null,null,null,null,null,null,null,null,null,null,null,null,0]
[null,null,null,null,null,null,null,null,null,null,null,null,null,null,null,null,null,null,null,null,null,null,null,null,null,null,null,null,null,null,null,null,null,null,null,null,null,0]
[null,null,null,null,null,null,null,null,null,null,null,null,null,null,null,null,null,null,null,null,null,null,null,null,null,null,null,null,null,null,null,null,null,null,null,null,null,0]
[null,null,null,null,null,null,null,null,null,null,null,null,null,null,null,null,null,null,null,null,null,null,null,null,null,null,null,null,null,null,null,null,null,null,null,null,null,0]
[null,null,null,null,null,null,null,null,null,null,null,null,null,null,null,null,null,null,null,null,null,null,null,null,null,null,null,null,null,null,null,null,null,null,null,null,null,0]
[null,null,null,null,null,null,null,null,null,null,null,null,null,null,null,null,null,null,null,null,null,null,null,null,null,null,null,null,null,null,null,null,null,null,null,null,null,0]
[null,null,null,null,null,null,null,null,null,null,null,null,null,null,null,null,null,null,null,null,null,null,null,null,null,null,null,null,null,null,null,null,null,null,null,null,null,0]
[null,null,null,null,null,null,null,null,null,null,null,null,null,null,null,null,null,null,null,null,null,null,null,null,null,null,null,null,null,null,null,null,null,null,null,null,null,0]
[null,null,null,null,null,null,null,null,null,null,null,null,null,null,null,null,null,null,null,null,null,null,null,null,null,null,null,null,null,null,null,null,null,null,null,null,null,0]
[null,null,null,null,null,null,null,null,null,null,null,null,null,null,null,null,null,null,null,null,null,null,null,null,null,null,null,null,null,null,null,null,null,null,null,null,null,0]
[null,null,null,null,null,null,null,null,null,null,null,null,null,null,null,null,null,null,null,null,null,null,null,null,null,null,null,null,null,null,null,null,null,null,null,null,null,0]
[null,null,null,null,null,null,null,null,null,null,null,null,null,null,null,null,null,null,null,null,null,null,null,null,null,null,null,null,null,null,null,null,null,null,null,null,null,0]
[null,null,null,null,null,null,null,null,null,null,null,null,null,null,null,null,null,null,null,null,null,null,null,null,null,null,null,null,null,null,null,null,null,null,null,null,null,0]
[null,null,null,null,null,null,null,null,null,null,null,null,null,null,null,null,null,null,null,null,null,null,null,null,null,null,null,null,null,null,null,null,null,null,null,null,null,0]
[null,null,null,null,null,null,null,null,null,null,null,null,null,null,null,null,null,null,null,null,null,null,null,null,null,null,null,null,null,null,null,null,null,null,null,null,null,0]
[null,null,null,null,null,null,null,null,null,null,null,null,null,null,null,null,null,null,null,null,null,null,null,null,null,null,null,null,null,null,null,null,null,null,null,null,null,0]
[null,null,null,null,null,null,null,null,null,null,null,null,null,null,null,null,null,null,null,null,null,null,null,null,null,null,null,null,null,null,null,null,null,null,null,null,null,0]
[null,null,null,null,null,null,null,null,null,null,null,null,null,null,null,null,null,null,null,null,null,null,null,null,null,null,null,null,null,null,null,null,null,null,null,null,null,0]
[null,null,null,null,null,null,null,null,null,null,null,null,null,null,null,null,null,null,null,null,null,null,null,null,null,null,null,null,null,null,null,null,null,null,null,null,null,0]
[null,null,null,null,null,null,null,null,null,null,null,null,null,null,null,null,null,null,null,null,null,null,null,null,null,null,null,null,null,null,null,null,null,null,null,null,null,0]
[null,null,null,null,null,null,null,null,null,null,null,null,null,null,null,null,null,null,null,null,null,null,null,null,null,null,null,null,null,null,null,null,null,null,null,null,null,0]
[null,null,null,null,null,null,null,null,null,null,null,null,null,null,null,null,null,null,null,null,null,null,null,null,null,null,null,null,null,null,null,null,null,null,null,null,null,0]
[null,null,null,null,null,null,null,null,null,null,null,null,null,null,null,null,null,null,null,null,null,null,null,null,null,null,null,null,null,null,null,null,null,null,null,null,null,0]
[null,null,null,null,null,null,null,null,null,null,null,null,null,null,null,null,null,null,null,null,null,null,null,null,null,null,null,null,null,null,null,null,null,null,null,null,null,0]
[null,null,null,null,null,null,null,null,null,null,null,null,null,null,null,null,null,null,null,null,null,null,null,null,null,null,null,null,null,null,null,null,null,null,null,null,null,0]
[null,null,null,null,null,null,null,null,null,null,null,null,null,null,null,null,null,null,null,null,null,null,null,null,null,null,null,null,null,null,null,null,null,null,null,null,null,0]
[null,null,null,null,null,null,null,null,null,null,null,null,null,null,null,null,null,null,null,null,null,null,null,null,null,null,null,null,null,null,null,null,null,null,null,null,null,0]
[null,null,null,null,null,null,null,null,null,null,null,null,null,null,null,null,null,null,null,null,null,null,null,null,null,null,null,null,null,null,null,null,null,null,null,null,null,0]
[null,null,null,null,null,null,null,null,null,null,null,null,null,null,null,null,null,null,null,null,null,null,null,null,null,null,null,null,null,null,null,null,null,null,null,null,null,0]
[null,null,null,null,null,null,null,null,null,null,null,null,null,null,null,null,null,null,null,null,null,null,null,null,null,null,null,null,null,null,null,null,null,null,null,null,null,0]
[null,null,null,null,null,null,null,null,null,null,null,null,null,null,null,null,null,null,null,null,null,null,null,null,null,null,null,null,null,null,null,null,null,null,null,null,null,0]
[null,null,null,null,null,null,null,null,null,null,null,null,null,null,null,null,null,null,null,null,null,null,null,null,null,null,null,null,null,null,null,null,null,null,null,null,null,0]
[null,null,null,null,null,null,null,null,null,null,null,null,null,null,null,null,null,null,null,null,null,null,null,null,null,null,null,null,null,null,null,null,null,null,null,null,null,0]
[null,null,null,null,null,null,null,null,null,null,null,null,null,null,null,null,null,null,null,null,null,null,null,null,null,null,null,null,null,null,null,null,null,null,null,null,null,0]
[null,null,null,null,null,null,null,null,null,null,null,null,null,null,null,null,null,null,null,null,null,null,null,null,null,null,null,null,null,null,null,null,null,null,null,null,null,0]
[null,null,null,null,null,null,null,null,null,null,null,null,null,null,null,null,null,null,null,null,null,null,null,null,null,null,null,null,null,null,null,null,null,null,null,null,null,0]
[null,null,null,null,null,null,null,null,null,null,null,null,null,null,null,null,null,null,null,null,null,null,null,null,null,null,null,null,null,null,null,null,null,null,null,null,null,0]
[null,null,null,null,null,null,null,null,null,null,null,null,null,null,null,null,null,null,null,null,null,null,null,null,null,null,null,null,null,null,null,null,null,null,null,null,null,0]
[null,null,null,null,null,null,null,null,null,null,null,null,null,null,null,null,null,null,null,null,null,null,null,null,null,null,null,null,null,null,null,null,null,null,null,null,null,0]
[null,null,null,null,null,null,null,null,null,null,null,null,null,null,null,null,null,null,null,null,null,null,null,null,null,null,null,null,null,null,null,null,null,null,null,null,null,0]
[null,null,null,null,null,null,null,null,null,null,null,null,null,null,null,null,null,null,null,null,null,null,null,null,null,null,null,null,null,null,null,null,null,null,null,null,null,0]
[null,null,null,null,null,null,null,null,null,null,null,null,null,null,null,null,null,null,null,null,null,null,null,null,null,null,null,null,null,null,null,null,null,null,null,null,null,0]
[null,null,null,null,null,null,null,null,null,null,null,null,null,null,null,null,null,null,null,null,null,null,null,null,null,null,null,null,null,null,null,null,null,null,null,null,null,0]
[null,null,null,null,null,null,null,null,null,null,null,null,null,null,null,null,null,null,null,null,null,null,null,null,null,null,null,null,null,null,null,null,null,null,null,null,null,0]
[null,null,null,null,null,null,null,null,null,null,null,null,null,null,null,null,null,null,null,null,null,null,null,null,null,null,null,null,null,null,null,null,null,null,null,null,null,{"$f":"IF(Q1048387,V1048387-Q1048387,0)","v":0}]
[null,null,null,null,null,null,null,null,null,null,null,null,null,null,null,null,null,null,null,null,null,null,null,null,null,null,null,null,null,null,null,null,null,null,null,null,null,0]
[null,null,null,null,null,null,null,null,null,null,null,null,null,null,null,null,null,null,null,null,null,null,null,null,null,null,null,null,null,null,null,null,null,null,null,null,null,0]
[null,null,null,null,null,null,null,null,null,null,null,null,null,null,null,null,null,null,null,null,null,null,null,null,null,null,null,null,null,null,null,null,null,null,null,null,null,0]
[null,null,null,null,null,null,null,null,null,null,null,null,null,null,null,null,null,null,null,null,null,null,null,null,null,null,null,null,null,null,null,null,null,null,null,null,null,0]
[null,null,null,null,null,null,null,null,null,null,null,null,null,null,null,null,null,null,null,null,null,null,null,null,null,null,null,null,null,null,null,null,null,null,null,null,null,0]
[null,null,null,null,null,null,null,null,null,null,null,null,null,null,null,null,null,null,null,null,null,null,null,null,null,null,null,null,null,null,null,null,null,null,null,null,null,0]
[null,null,null,null,null,null,null,null,null,null,null,null,null,null,null,null,null,null,null,null,null,null,null,null,null,null,null,null,null,null,null,null,null,null,null,null,null,0]
[null,null,null,null,null,null,null,null,null,null,null,null,null,null,null,null,null,null,null,null,null,null,null,null,null,null,null,null,null,null,null,null,null,null,null,null,null,0]
[null,null,null,null,null,null,null,null,null,null,null,null,null,null,null,null,null,null,null,null,null,null,null,null,null,null,null,null,null,null,null,null,null,null,null,null,null,0]
[null,null,null,null,null,null,null,null,null,null,null,null,null,null,null,null,null,null,null,null,null,null,null,null,null,null,null,null,null,null,null,null,null,null,null,null,null,0]
[null,null,null,null,null,null,null,null,null,null,null,null,null,null,null,null,null,null,null,null,null,null,null,null,null,null,null,null,null,null,null,null,null,null,null,null,null,0]
[null,null,null,null,null,null,null,null,null,null,null,null,null,null,null,null,null,null,null,null,null,null,null,null,null,null,null,null,null,null,null,null,null,null,null,null,null,0]
[null,null,null,null,null,null,null,null,null,null,null,null,null,null,null,null,null,null,null,null,null,null,null,null,null,null,null,null,null,null,null,null,null,null,null,null,null,0]
[null,null,null,null,null,null,null,null,null,null,null,null,null,null,null,null,null,null,null,null,null,null,null,null,null,null,null,null,null,null,null,null,null,null,null,null,null,0]
[null,null,null,null,null,null,null,null,null,null,null,null,null,null,null,null,null,null,null,null,null,null,null,null,null,null,null,null,null,null,null,null,null,null,null,null,null,0]
[null,null,null,null,null,null,null,null,null,null,null,null,null,null,null,null,null,null,null,null,null,null,null,null,null,null,null,null,null,null,null,null,null,null,null,null,null,0]
[null,null,null,null,null,null,null,null,null,null,null,null,null,null,null,null,null,null,null,null,null,null,null,null,null,null,null,null,null,null,null,null,null,null,null,null,null,0]
[null,null,null,null,null,null,null,null,null,null,null,null,null,null,null,null,null,null,null,null,null,null,null,null,null,null,null,null,null,null,null,null,null,null,null,null,null,0]
[null,null,null,null,null,null,null,null,null,null,null,null,null,null,null,null,null,null,null,null,null,null,null,null,null,null,null,null,null,null,null,null,null,null,null,null,null,0]
[null,null,null,null,null,null,null,null,null,null,null,null,null,null,null,null,null,null,null,null,null,null,null,null,null,null,null,null,null,null,null,null,null,null,null,null,null,0]
[null,null,null,null,null,null,null,null,null,null,null,null,null,null,null,null,null,null,null,null,null,null,null,null,null,null,null,null,null,null,null,null,null,null,null,null,null,0]
[null,null,null,null,null,null,null,null,null,null,null,null,null,null,null,null,null,null,null,null,null,null,null,null,null,null,null,null,null,null,null,null,null,null,null,null,null,0]
[null,null,null,null,null,null,null,null,null,null,null,null,null,null,null,null,null,null,null,null,null,null,null,null,null,null,null,null,null,null,null,null,null,null,null,null,null,0]
[null,null,null,null,null,null,null,null,null,null,null,null,null,null,null,null,null,null,null,null,null,null,null,null,null,null,null,null,null,null,null,null,null,null,null,null,null,0]
[null,null,null,null,null,null,null,null,null,null,null,null,null,null,null,null,null,null,null,null,null,null,null,null,null,null,null,null,null,null,null,null,null,null,null,null,null,0]
[null,null,null,null,null,null,null,null,null,null,null,null,null,null,null,null,null,null,null,null,null,null,null,null,null,null,null,null,null,null,null,null,null,null,null,null,null,0]
[null,null,null,null,null,null,null,null,null,null,null,null,null,null,null,null,null,null,null,null,null,null,null,null,null,null,null,null,null,null,null,null,null,null,null,null,null,0]
[null,null,null,null,null,null,null,null,null,null,null,null,null,null,null,null,null,null,null,null,null,null,null,null,null,null,null,null,null,null,null,null,null,null,null,null,null,0]
[null,null,null,null,null,null,null,null,null,null,null,null,null,null,null,null,null,null,null,null,null,null,null,null,null,null,null,null,null,null,null,null,null,null,null,null,null,0]
[null,null,null,null,null,null,null,null,null,null,null,null,null,null,null,null,null,null,null,null,null,null,null,null,null,null,null,null,null,null,null,null,null,null,null,null,null,0]
[null,null,null,null,null,null,null,null,null,null,null,null,null,null,null,null,null,null,null,null,null,null,null,null,null,null,null,null,null,null,null,null,null,null,null,null,null,0]
[null,null,null,null,null,null,null,null,null,null,null,null,null,null,null,null,null,null,null,null,null,null,null,null,null,null,null,null,null,null,null,null,null,null,null,null,null,0]
[null,null,null,null,null,null,null,null,null,null,null,null,null,null,null,null,null,null,null,null,null,null,null,null,null,null,null,null,null,null,null,null,null,null,null,null,null,0]
[null,null,null,null,null,null,null,null,null,null,null,null,null,null,null,null,null,null,null,null,null,null,null,null,null,null,null,null,null,null,null,null,null,null,null,null,null,0]
[null,null,null,null,null,null,null,null,null,null,null,null,null,null,null,null,null,null,null,null,null,null,null,null,null,null,null,null,null,null,null,null,null,null,null,null,null,0]
[null,null,null,null,null,null,null,null,null,null,null,null,null,null,null,null,null,null,null,null,null,null,null,null,null,null,null,null,null,null,null,null,null,null,null,null,null,0]
[null,null,null,null,null,null,null,null,null,null,null,null,null,null,null,null,null,null,null,null,null,null,null,null,null,null,null,null,null,null,null,null,null,null,null,null,null,0]
[null,null,null,null,null,null,null,null,null,null,null,null,null,null,null,null,null,null,null,null,null,null,null,null,null,null,null,null,null,null,null,null,null,null,null,null,null,0]
[null,null,null,null,null,null,null,null,null,null,null,null,null,null,null,null,null,null,null,null,null,null,null,null,null,null,null,null,null,null,null,null,null,null,null,null,null,0]
[null,null,null,null,null,null,null,null,null,null,null,null,null,null,null,null,null,null,null,null,null,null,null,null,null,null,null,null,null,null,null,null,null,null,null,null,null,0]
[null,null,null,null,null,null,null,null,null,null,null,null,null,null,null,null,null,null,null,null,null,null,null,null,null,null,null,null,null,null,null,null,null,null,null,null,null,0]
[null,null,null,null,null,null,null,null,null,null,null,null,null,null,null,null,null,null,null,null,null,null,null,null,null,null,null,null,null,null,null,null,null,null,null,null,null,0]
[null,null,null,null,null,null,null,null,null,null,null,null,null,null,null,null,null,null,null,null,null,null,null,null,null,null,null,null,null,null,null,null,null,null,null,null,null,0]
[null,null,null,null,null,null,null,null,null,null,null,null,null,null,null,null,null,null,null,null,null,null,null,null,null,null,null,null,null,null,null,null,null,null,null,null,null,0]
[null,null,null,null,null,null,null,null,null,null,null,null,null,null,null,null,null,null,null,null,null,null,null,null,null,null,null,null,null,null,null,null,null,null,null,null,null,0]
[null,null,null,null,null,null,null,null,null,null,null,null,null,null,null,null,null,null,null,null,null,null,null,null,null,null,null,null,null,null,null,null,null,null,null,null,null,0]
[null,null,null,null,null,null,null,null,null,null,null,null,null,null,null,null,null,null,null,null,null,null,null,null,null,null,null,null,null,null,null,null,null,null,null,null,null,0]
[null,null,null,null,null,null,null,null,null,null,null,null,null,null,null,null,null,null,null,null,null,null,null,null,null,null,null,null,null,null,null,null,null,null,null,null,null,0]
[null,null,null,null,null,null,null,null,null,null,null,null,null,null,null,null,null,null,null,null,null,null,null,null,null,null,null,null,null,null,null,null,null,null,null,null,null,0]
[null,null,null,null,null,null,null,null,null,null,null,null,null,null,null,null,null,null,null,null,null,null,null,null,null,null,null,null,null,null,null,null,null,null,null,null,null,0]
[null,null,null,null,null,null,null,null,null,null,null,null,null,null,null,null,null,null,null,null,null,null,null,null,null,null,null,null,null,null,null,null,null,null,null,null,null,0]
[null,null,null,null,null,null,null,null,null,null,null,null,null,null,null,null,null,null,null,null,null,null,null,null,null,null,null,null,null,null,null,null,null,null,null,null,null,0]
[null,null,null,null,null,null,null,null,null,null,null,null,null,null,null,null,null,null,null,null,null,null,null,null,null,null,null,null,null,null,null,null,null,null,null,null,null,0]
[null,null,null,null,null,null,null,null,null,null,null,null,null,null,null,null,null,null,null,null,null,null,null,null,null,null,null,null,null,null,null,null,null,null,null,null,null,0]
[null,null,null,null,null,null,null,null,null,null,null,null,null,null,null,null,null,null,null,null,null,null,null,null,null,null,null,null,null,null,null,null,null,null,null,null,null,0]
[null,null,null,null,null,null,null,null,null,null,null,null,null,null,null,null,null,null,null,null,null,null,null,null,null,null,null,null,null,null,null,null,null,null,null,null,null,0]
[null,null,null,null,null,null,null,null,null,null,null,null,null,null,null,null,null,null,null,null,null,null,null,null,null,null,null,null,null,null,null,null,null,null,null,null,null,0]
[null,null,null,null,null,null,null,null,null,null,null,null,null,null,null,null,null,null,null,null,null,null,null,null,null,null,null,null,null,null,null,null,null,null,null,null,null,0]
[null,null,null,null,null,null,null,null,null,null,null,null,null,null,null,null,null,null,null,null,null,null,null,null,null,null,null,null,null,null,null,null,null,null,null,null,null,0]
[null,null,null,null,null,null,null,null,null,null,null,null,null,null,null,null,null,null,null,null,null,null,null,null,null,null,null,null,null,null,null,null,null,null,null,null,null,0]
[null,null,null,null,null,null,null,null,null,null,null,null,null,null,null,null,null,null,null,null,null,null,null,null,null,null,null,null,null,null,null,null,null,null,null,null,null,0]
[null,null,null,null,null,null,null,null,null,null,null,null,null,null,null,null,null,null,null,null,null,null,null,null,null,null,null,null,null,null,null,null,null,null,null,null,null,0]
[null,null,null,null,null,null,null,null,null,null,null,null,null,null,null,null,null,null,null,null,null,null,null,null,null,null,null,null,null,null,null,null,null,null,null,null,null,0]
[null,null,null,null,null,null,null,null,null,null,null,null,null,null,null,null,null,null,null,null,null,null,null,null,null,null,null,null,null,null,null,null,null,null,null,null,null,{"$f":"IF(Q1048451,V1048451-Q1048451,0)","v":0}]
[null,null,null,null,null,null,null,null,null,null,null,null,null,null,null,null,null,null,null,null,null,null,null,null,null,null,null,null,null,null,null,null,null,null,null,null,null,0]
[null,null,null,null,null,null,null,null,null,null,null,null,null,null,null,null,null,null,null,null,null,null,null,null,null,null,null,null,null,null,null,null,null,null,null,null,null,0]
[null,null,null,null,null,null,null,null,null,null,null,null,null,null,null,null,null,null,null,null,null,null,null,null,null,null,null,null,null,null,null,null,null,null,null,null,null,0]
[null,null,null,null,null,null,null,null,null,null,null,null,null,null,null,null,null,null,null,null,null,null,null,null,null,null,null,null,null,null,null,null,null,null,null,null,null,0]
[null,null,null,null,null,null,null,null,null,null,null,null,null,null,null,null,null,null,null,null,null,null,null,null,null,null,null,null,null,null,null,null,null,null,null,null,null,0]
[null,null,null,null,null,null,null,null,null,null,null,null,null,null,null,null,null,null,null,null,null,null,null,null,null,null,null,null,null,null,null,null,null,null,null,null,null,0]
[null,null,null,null,null,null,null,null,null,null,null,null,null,null,null,null,null,null,null,null,null,null,null,null,null,null,null,null,null,null,null,null,null,null,null,null,null,0]
[null,null,null,null,null,null,null,null,null,null,null,null,null,null,null,null,null,null,null,null,null,null,null,null,null,null,null,null,null,null,null,null,null,null,null,null,null,0]
[null,null,null,null,null,null,null,null,null,null,null,null,null,null,null,null,null,null,null,null,null,null,null,null,null,null,null,null,null,null,null,null,null,null,null,null,null,0]
[null,null,null,null,null,null,null,null,null,null,null,null,null,null,null,null,null,null,null,null,null,null,null,null,null,null,null,null,null,null,null,null,null,null,null,null,null,0]
[null,null,null,null,null,null,null,null,null,null,null,null,null,null,null,null,null,null,null,null,null,null,null,null,null,null,null,null,null,null,null,null,null,null,null,null,null,0]
[null,null,null,null,null,null,null,null,null,null,null,null,null,null,null,null,null,null,null,null,null,null,null,null,null,null,null,null,null,null,null,null,null,null,null,null,null,0]
[null,null,null,null,null,null,null,null,null,null,null,null,null,null,null,null,null,null,null,null,null,null,null,null,null,null,null,null,null,null,null,null,null,null,null,null,null,0]
[null,null,null,null,null,null,null,null,null,null,null,null,null,null,null,null,null,null,null,null,null,null,null,null,null,null,null,null,null,null,null,null,null,null,null,null,null,0]
[null,null,null,null,null,null,null,null,null,null,null,null,null,null,null,null,null,null,null,null,null,null,null,null,null,null,null,null,null,null,null,null,null,null,null,null,null,0]
[null,null,null,null,null,null,null,null,null,null,null,null,null,null,null,null,null,null,null,null,null,null,null,null,null,null,null,null,null,null,null,null,null,null,null,null,null,0]
[null,null,null,null,null,null,null,null,null,null,null,null,null,null,null,null,null,null,null,null,null,null,null,null,null,null,null,null,null,null,null,null,null,null,null,null,null,0]
[null,null,null,null,null,null,null,null,null,null,null,null,null,null,null,null,null,null,null,null,null,null,null,null,null,null,null,null,null,null,null,null,null,null,null,null,null,0]
[null,null,null,null,null,null,null,null,null,null,null,null,null,null,null,null,null,null,null,null,null,null,null,null,null,null,null,null,null,null,null,null,null,null,null,null,null,0]
[null,null,null,null,null,null,null,null,null,null,null,null,null,null,null,null,null,null,null,null,null,null,null,null,null,null,null,null,null,null,null,null,null,null,null,null,null,0]
[null,null,null,null,null,null,null,null,null,null,null,null,null,null,null,null,null,null,null,null,null,null,null,null,null,null,null,null,null,null,null,null,null,null,null,null,null,0]
[null,null,null,null,null,null,null,null,null,null,null,null,null,null,null,null,null,null,null,null,null,null,null,null,null,null,null,null,null,null,null,null,null,null,null,null,null,0]
[null,null,null,null,null,null,null,null,null,null,null,null,null,null,null,null,null,null,null,null,null,null,null,null,null,null,null,null,null,null,null,null,null,null,null,null,null,0]
[null,null,null,null,null,null,null,null,null,null,null,null,null,null,null,null,null,null,null,null,null,null,null,null,null,null,null,null,null,null,null,null,null,null,null,null,null,0]
[null,null,null,null,null,null,null,null,null,null,null,null,null,null,null,null,null,null,null,null,null,null,null,null,null,null,null,null,null,null,null,null,null,null,null,null,null,0]
[null,null,null,null,null,null,null,null,null,null,null,null,null,null,null,null,null,null,null,null,null,null,null,null,null,null,null,null,null,null,null,null,null,null,null,null,null,0]
[null,null,null,null,null,null,null,null,null,null,null,null,null,null,null,null,null,null,null,null,null,null,null,null,null,null,null,null,null,null,null,null,null,null,null,null,null,0]
[null,null,null,null,null,null,null,null,null,null,null,null,null,null,null,null,null,null,null,null,null,null,null,null,null,null,null,null,null,null,null,null,null,null,null,null,null,0]
[null,null,null,null,null,null,null,null,null,null,null,null,null,null,null,null,null,null,null,null,null,null,null,null,null,null,null,null,null,null,null,null,null,null,null,null,null,0]
[null,null,null,null,null,null,null,null,null,null,null,null,null,null,null,null,null,null,null,null,null,null,null,null,null,null,null,null,null,null,null,null,null,null,null,null,null,0]
[null,null,null,null,null,null,null,null,null,null,null,null,null,null,null,null,null,null,null,null,null,null,null,null,null,null,null,null,null,null,null,null,null,null,null,null,null,0]
[null,null,null,null,null,null,null,null,null,null,null,null,null,null,null,null,null,null,null,null,null,null,null,null,null,null,null,null,null,null,null,null,null,null,null,null,null,0]
[null,null,null,null,null,null,null,null,null,null,null,null,null,null,null,null,null,null,null,null,null,null,null,null,null,null,null,null,null,null,null,null,null,null,null,null,null,0]
[null,null,null,null,null,null,null,null,null,null,null,null,null,null,null,null,null,null,null,null,null,null,null,null,null,null,null,null,null,null,null,null,null,null,null,null,null,0]
[null,null,null,null,null,null,null,null,null,null,null,null,null,null,null,null,null,null,null,null,null,null,null,null,null,null,null,null,null,null,null,null,null,null,null,null,null,0]
[null,null,null,null,null,null,null,null,null,null,null,null,null,null,null,null,null,null,null,null,null,null,null,null,null,null,null,null,null,null,null,null,null,null,null,null,null,0]
[null,null,null,null,null,null,null,null,null,null,null,null,null,null,null,null,null,null,null,null,null,null,null,null,null,null,null,null,null,null,null,null,null,null,null,null,null,0]
[null,null,null,null,null,null,null,null,null,null,null,null,null,null,null,null,null,null,null,null,null,null,null,null,null,null,null,null,null,null,null,null,null,null,null,null,null,0]
[null,null,null,null,null,null,null,null,null,null,null,null,null,null,null,null,null,null,null,null,null,null,null,null,null,null,null,null,null,null,null,null,null,null,null,null,null,0]
[null,null,null,null,null,null,null,null,null,null,null,null,null,null,null,null,null,null,null,null,null,null,null,null,null,null,null,null,null,null,null,null,null,null,null,null,null,0]
[null,null,null,null,null,null,null,null,null,null,null,null,null,null,null,null,null,null,null,null,null,null,null,null,null,null,null,null,null,null,null,null,null,null,null,null,null,0]
[null,null,null,null,null,null,null,null,null,null,null,null,null,null,null,null,null,null,null,null,null,null,null,null,null,null,null,null,null,null,null,null,null,null,null,null,null,0]
[null,null,null,null,null,null,null,null,null,null,null,null,null,null,null,null,null,null,null,null,null,null,null,null,null,null,null,null,null,null,null,null,null,null,null,null,null,0]
[null,null,null,null,null,null,null,null,null,null,null,null,null,null,null,null,null,null,null,null,null,null,null,null,null,null,null,null,null,null,null,null,null,null,null,null,null,0]
[null,null,null,null,null,null,null,null,null,null,null,null,null,null,null,null,null,null,null,null,null,null,null,null,null,null,null,null,null,null,null,null,null,null,null,null,null,0]
[null,null,null,null,null,null,null,null,null,null,null,null,null,null,null,null,null,null,null,null,null,null,null,null,null,null,null,null,null,null,null,null,null,null,null,null,null,0]
[null,null,null,null,null,null,null,null,null,null,null,null,null,null,null,null,null,null,null,null,null,null,null,null,null,null,null,null,null,null,null,null,null,null,null,null,null,0]
[null,null,null,null,null,null,null,null,null,null,null,null,null,null,null,null,null,null,null,null,null,null,null,null,null,null,null,null,null,null,null,null,null,null,null,null,null,0]
[null,null,null,null,null,null,null,null,null,null,null,null,null,null,null,null,null,null,null,null,null,null,null,null,null,null,null,null,null,null,null,null,null,null,null,null,null,0]
[null,null,null,null,null,null,null,null,null,null,null,null,null,null,null,null,null,null,null,null,null,null,null,null,null,null,null,null,null,null,null,null,null,null,null,null,null,0]
[null,null,null,null,null,null,null,null,null,null,null,null,null,null,null,null,null,null,null,null,null,null,null,null,null,null,null,null,null,null,null,null,null,null,null,null,null,0]
[null,null,null,null,null,null,null,null,null,null,null,null,null,null,null,null,null,null,null,null,null,null,null,null,null,null,null,null,null,null,null,null,null,null,null,null,null,0]
[null,null,null,null,null,null,null,null,null,null,null,null,null,null,null,null,null,null,null,null,null,null,null,null,null,null,null,null,null,null,null,null,null,null,null,null,null,0]
[null,null,null,null,null,null,null,null,null,null,null,null,null,null,null,null,null,null,null,null,null,null,null,null,null,null,null,null,null,null,null,null,null,null,null,null,null,0]
[null,null,null,null,null,null,null,null,null,null,null,null,null,null,null,null,null,null,null,null,null,null,null,null,null,null,null,null,null,null,null,null,null,null,null,null,null,0]
[null,null,null,null,null,null,null,null,null,null,null,null,null,null,null,null,null,null,null,null,null,null,null,null,null,null,null,null,null,null,null,null,null,null,null,null,null,0]
[null,null,null,null,null,null,null,null,null,null,null,null,null,null,null,null,null,null,null,null,null,null,null,null,null,null,null,null,null,null,null,null,null,null,null,null,null,0]
[null,null,null,null,null,null,null,null,null,null,null,null,null,null,null,null,null,null,null,null,null,null,null,null,null,null,null,null,null,null,null,null,null,null,null,null,null,0]
[null,null,null,null,null,null,null,null,null,null,null,null,null,null,null,null,null,null,null,null,null,null,null,null,null,null,null,null,null,null,null,null,null,null,null,null,null,0]
[null,null,null,null,null,null,null,null,null,null,null,null,null,null,null,null,null,null,null,null,null,null,null,null,null,null,null,null,null,null,null,null,null,null,null,null,null,0]
[null,null,null,null,null,null,null,null,null,null,null,null,null,null,null,null,null,null,null,null,null,null,null,null,null,null,null,null,null,null,null,null,null,null,null,null,null,0]
[null,null,null,null,null,null,null,null,null,null,null,null,null,null,null,null,null,null,null,null,null,null,null,null,null,null,null,null,null,null,null,null,null,null,null,null,null,0]
[null,null,null,null,null,null,null,null,null,null,null,null,null,null,null,null,null,null,null,null,null,null,null,null,null,null,null,null,null,null,null,null,null,null,null,null,null,0]
[null,null,null,null,null,null,null,null,null,null,null,null,null,null,null,null,null,null,null,null,null,null,null,null,null,null,null,null,null,null,null,null,null,null,null,null,null,{"$f":"IF(Q1048515,V1048515-Q1048515,0)","v":0}]
[null,null,null,null,null,null,null,null,null,null,null,null,null,null,null,null,null,null,null,null,null,null,null,null,null,null,null,null,null,null,null,null,null,null,null,null,null,0]
[null,null,null,null,null,null,null,null,null,null,null,null,null,null,null,null,null,null,null,null,null,null,null,null,null,null,null,null,null,null,null,null,null,null,null,null,null,0]
[null,null,null,null,null,null,null,null,null,null,null,null,null,null,null,null,null,null,null,null,null,null,null,null,null,null,null,null,null,null,null,null,null,null,null,null,null,0]
[null,null,null,null,null,null,null,null,null,null,null,null,null,null,null,null,null,null,null,null,null,null,null,null,null,null,null,null,null,null,null,null,null,null,null,null,null,0]
[null,null,null,null,null,null,null,null,null,null,null,null,null,null,null,null,null,null,null,null,null,null,null,null,null,null,null,null,null,null,null,null,null,null,null,null,null,0]
[null,null,null,null,null,null,null,null,null,null,null,null,null,null,null,null,null,null,null,null,null,null,null,null,null,null,null,null,null,null,null,null,null,null,null,null,null,0]
[null,null,null,null,null,null,null,null,null,null,null,null,null,null,null,null,null,null,null,null,null,null,null,null,null,null,null,null,null,null,null,null,null,null,null,null,null,0]
[null,null,null,null,null,null,null,null,null,null,null,null,null,null,null,null,null,null,null,null,null,null,null,null,null,null,null,null,null,null,null,null,null,null,null,null,null,0]
[null,null,null,null,null,null,null,null,null,null,null,null,null,null,null,null,null,null,null,null,null,null,null,null,null,null,null,null,null,null,null,null,null,null,null,null,null,0]
[null,null,null,null,null,null,null,null,null,null,null,null,null,null,null,null,null,null,null,null,null,null,null,null,null,null,null,null,null,null,null,null,null,null,null,null,null,0]
[null,null,null,null,null,null,null,null,null,null,null,null,null,null,null,null,null,null,null,null,null,null,null,null,null,null,null,null,null,null,null,null,null,null,null,null,null,0]
[null,null,null,null,null,null,null,null,null,null,null,null,null,null,null,null,null,null,null,null,null,null,null,null,null,null,null,null,null,null,null,null,null,null,null,null,null,0]
[null,null,null,null,null,null,null,null,null,null,null,null,null,null,null,null,null,null,null,null,null,null,null,null,null,null,null,null,null,null,null,null,null,null,null,null,null,0]
[null,null,null,null,null,null,null,null,null,null,null,null,null,null,null,null,null,null,null,null,null,null,null,null,null,null,null,null,null,null,null,null,null,null,null,null,null,0]
[null,null,null,null,null,null,null,null,null,null,null,null,null,null,null,null,null,null,null,null,null,null,null,null,null,null,null,null,null,null,null,null,null,null,null,null,null,0]
[null,null,null,null,null,null,null,null,null,null,null,null,null,null,null,null,null,null,null,null,null,null,null,null,null,null,null,null,null,null,null,null,null,null,null,null,null,0]
[null,null,null,null,null,null,null,null,null,null,null,null,null,null,null,null,null,null,null,null,null,null,null,null,null,null,null,null,null,null,null,null,null,null,null,null,null,0]
[null,null,null,null,null,null,null,null,null,null,null,null,null,null,null,null,null,null,null,null,null,null,null,null,null,null,null,null,null,null,null,null,null,null,null,null,null,0]
[null,null,null,null,null,null,null,null,null,null,null,null,null,null,null,null,null,null,null,null,null,null,null,null,null,null,null,null,null,null,null,null,null,null,null,null,null,0]
[null,null,null,null,null,null,null,null,null,null,null,null,null,null,null,null,null,null,null,null,null,null,null,null,null,null,null,null,null,null,null,null,null,null,null,null,null,0]
[null,null,null,null,null,null,null,null,null,null,null,null,null,null,null,null,null,null,null,null,null,null,null,null,null,null,null,null,null,null,null,null,null,null,null,null,null,0]
[null,null,null,null,null,null,null,null,null,null,null,null,null,null,null,null,null,null,null,null,null,null,null,null,null,null,null,null,null,null,null,null,null,null,null,null,null,0]
[null,null,null,null,null,null,null,null,null,null,null,null,null,null,null,null,null,null,null,null,null,null,null,null,null,null,null,null,null,null,null,null,null,null,null,null,null,0]
[null,null,null,null,null,null,null,null,null,null,null,null,null,null,null,null,null,null,null,null,null,null,null,null,null,null,null,null,null,null,null,null,null,null,null,null,null,0]
[null,null,null,null,null,null,null,null,null,null,null,null,null,null,null,null,null,null,null,null,null,null,null,null,null,null,null,null,null,null,null,null,null,null,null,null,null,0]
[null,null,null,null,null,null,null,null,null,null,null,null,null,null,null,null,null,null,null,null,null,null,null,null,null,null,null,null,null,null,null,null,null,null,null,null,null,0]
[null,null,null,null,null,null,null,null,null,null,null,null,null,null,null,null,null,null,null,null,null,null,null,null,null,null,null,null,null,null,null,null,null,null,null,null,null,0]
[null,null,null,null,null,null,null,null,null,null,null,null,null,null,null,null,null,null,null,null,null,null,null,null,null,null,null,null,null,null,null,null,null,null,null,null,null,0]
[null,null,null,null,null,null,null,null,null,null,null,null,null,null,null,null,null,null,null,null,null,null,null,null,null,null,null,null,null,null,null,null,null,null,null,null,null,0]
[null,null,null,null,null,null,null,null,null,null,null,null,null,null,null,null,null,null,null,null,null,null,null,null,null,null,null,null,null,null,null,null,null,null,null,null,null,0]
[null,null,null,null,null,null,null,null,null,null,null,null,null,null,null,null,null,null,null,null,null,null,null,null,null,null,null,null,null,null,null,null,null,null,null,null,null,0]
[null,null,null,null,null,null,null,null,null,null,null,null,null,null,null,null,null,null,null,null,null,null,null,null,null,null,null,null,null,null,null,null,null,null,null,null,null,0]
[null,null,null,null,null,null,null,null,null,null,null,null,null,null,null,null,null,null,null,null,null,null,null,null,null,null,null,null,null,null,null,null,null,null,null,null,null,0]
[null,null,null,null,null,null,null,null,null,null,null,null,null,null,null,null,null,null,null,null,null,null,null,null,null,null,null,null,null,null,null,null,null,null,null,null,null,0]
[null,null,null,null,null,null,null,null,null,null,null,null,null,null,null,null,null,null,null,null,null,null,null,null,null,null,null,null,null,null,null,null,null,null,null,null,null,0]
[null,null,null,null,null,null,null,null,null,null,null,null,null,null,null,null,null,null,null,null,null,null,null,null,null,null,null,null,null,null,null,null,null,null,null,null,null,0]
[null,null,null,null,null,null,null,null,null,null,null,null,null,null,null,null,null,null,null,null,null,null,null,null,null,null,null,null,null,null,null,null,null,null,null,null,null,0]
[null,null,null,null,null,null,null,null,null,null,null,null,null,null,null,null,null,null,null,null,null,null,null,null,null,null,null,null,null,null,null,null,null,null,null,null,null,0]
[null,null,null,null,null,null,null,null,null,null,null,null,null,null,null,null,null,null,null,null,null,null,null,null,null,null,null,null,null,null,null,null,null,null,null,null,null,0]
[null,null,null,null,null,null,null,null,null,null,null,null,null,null,null,null,null,null,null,null,null,null,null,null,null,null,null,null,null,null,null,null,null,null,null,null,null,0]
[null,null,null,null,null,null,null,null,null,null,null,null,null,null,null,null,null,null,null,null,null,null,null,null,null,null,null,null,null,null,null,null,null,null,null,null,null,0]
[null,null,null,null,null,null,null,null,null,null,null,null,null,null,null,null,null,null,null,null,null,null,null,null,null,null,null,null,null,null,null,null,null,null,null,null,null,0]
[null,null,null,null,null,null,null,null,null,null,null,null,null,null,null,null,null,null,null,null,null,null,null,null,null,null,null,null,null,null,null,null,null,null,null,null,null,0]
[null,null,null,null,null,null,null,null,null,null,null,null,null,null,null,null,null,null,null,null,null,null,null,null,null,null,null,null,null,null,null,null,null,null,null,null,null,0]
[null,null,null,null,null,null,null,null,null,null,null,null,null,null,null,null,null,null,null,null,null,null,null,null,null,null,null,null,null,null,null,null,null,null,null,null,null,0]
[null,null,null,null,null,null,null,null,null,null,null,null,null,null,null,null,null,null,null,null,null,null,null,null,null,null,null,null,null,null,null,null,null,null,null,null,null,0]
[null,null,null,null,null,null,null,null,null,null,null,null,null,null,null,null,null,null,null,null,null,null,null,null,null,null,null,null,null,null,null,null,null,null,null,null,null,0]
[null,null,null,null,null,null,null,null,null,null,null,null,null,null,null,null,null,null,null,null,null,null,null,null,null,null,null,null,null,null,null,null,null,null,null,null,null,0]
[null,null,null,null,null,null,null,null,null,null,null,null,null,null,null,null,null,null,null,null,null,null,null,null,null,null,null,null,null,null,null,null,null,null,null,null,null,0]
[null,null,null,null,null,null,null,null,null,null,null,null,null,null,null,null,null,null,null,null,null,null,null,null,null,null,null,null,null,null,null,null,null,null,null,null,null,0]
[null,null,null,null,null,null,null,null,null,null,null,null,null,null,null,null,null,null,null,null,null,null,null,null,null,null,null,null,null,null,null,null,null,null,null,null,null,0]
[null,null,null,null,null,null,null,null,null,null,null,null,null,null,null,null,null,null,null,null,null,null,null,null,null,null,null,null,null,null,null,null,null,null,null,null,null,0]
[null,null,null,null,null,null,null,null,null,null,null,null,null,null,null,null,null,null,null,null,null,null,null,null,null,null,null,null,null,null,null,null,null,null,null,null,null,0]
[null,null,null,null,null,null,null,null,null,null,null,null,null,null,null,null,null,null,null,null,null,null,null,null,null,null,null,null,null,null,null,null,null,null,null,null,null,0]
[null,null,null,null,null,null,null,null,null,null,null,null,null,null,null,null,null,null,null,null,null,null,null,null,null,null,null,null,null,null,null,null,null,null,null,null,null,0]
[null,null,null,null,null,null,null,null,null,null,null,null,null,null,null,null,null,null,null,null,null,null,null,null,null,null,null,null,null,null,null,null,null,null,null,null,null,0]
[null,null,null,null,null,null,null,null,null,null,null,null,null,null,null,null,null,null,null,null,null,null,null,null,null,null,null,null,null,null,null,null,null,null,null,null,null,0]
[null,null,null,null,null,null,null,null,null,null,null,null,null,null,null,null,null,null,null,null,null,null,null,null,null,null,null,null,null,null,null,null,null,null,null,null,null,0]
[null,null,null,null,null,null,null,null,null,null,null,null,null,null,null,null,null,null,null,null,null,null,null,null,null,null,null,null,null,null,null,null,null,null,null,null,null,0]
[null,null,null,null,null,null,null,null,null,null,null,null,null,null,null,null,null,null,null,null,null,null,null,null,null,null,null,null,null,null,null,null,null,null,null,null,null,0]
[null,null,null,null,null,null,null,null,null,null,null,null,null,null,null,null,null,null,null,null,null,null,null,null,null,null,null,null,null,null,null,null,null,null,null,null,null,0]

{"sheet":"data2","index":15,"n_rows":42,"n_cols":32,"rows_kept":42,"cut":false,"hidden":false,"merged":[]}
[]
[null,null,null,null,"SELECT tblExport.* FROM tblExport WHERE (((tblExport.SwingType) Like '*serve*'));","3","2012-08-31","Reuben","19:43:01","Game against Boomer at level 3.0  Single point data:","Boomer's point","New Point","Player Serving",1,4,"Player Serve",3,14,18,3.6,61,3.7,"4",16,18463,1,"Robert",3,"Lake Lynn","Hard","No",1]
[null,null,null,null,"8/31/2012Game against Boomer at level 3.0  Single point data:3","3","2012-08-31","Reuben","19:43:35","Game against Boomer at level 3.0  Single point data:","Boomer's point","New Point","Player Serving",1,4,"Player Serve",3,10,9,3.1,66,3.6,"4",16,18466,2,"Robert",3,"Lake Lynn","Hard","No",2]
[null,null,null,null,"8/31/2012Game against Boomer at level 3.0  Single point data:3","3","2012-08-31","Reuben","19:44:02","Game against Boomer at level 3.0  Single point data:","Boomer's point","New Point","Player Serving",1,4,"Player Serve",3,14,17,4.0999999999999996,53,3.7,"4",16,18472,3,"Robert",3,"Lake Lynn","Hard","No",3]
[null,null,null,null,"8/31/2012Game against Boomer at level 3.0  Single point data:3",null,"2012-08-31","Reuben","19:44:36","Game against Boomer at level 3.0  Single point data:","Player's point","New Point","Player Serving",1,4,"Player Serve",3,0,0,0,0,0,null,16,18474,4,"Robert",3,"Lake Lynn","Hard","No",4]
[null,null,null,null,"8/31/2012Game against Boomer at level 3.0  Single point data:3","3","2012-08-31","Reuben","19:44:36","Game against Boomer at level 3.0  Single point data:","Player's point",null,"Player Serving",2,4,"Player Serve",3,18,4,4.9000000000000004,46,3.9,"10",16,18475,4,"Robert",3,"Lake Lynn","Hard","No",4]
[null,null,null,null,"8/31/2012Game against Boomer at level 3.0  Single point data:3",null,"2012-08-31","Reuben","19:45:14","Game against Boomer at level 3.0  Single point data:","Player's point","New Point","Player Serving",1,4,"Player Serve",3,0,0,0,0,0,null,16,18479,5,"Robert",3,"Lake Lynn","Hard","No",5]
[null,null,null,null,"8/31/2012Game against Boomer at level 3.0  Single point data:3","3","2012-08-31","Reuben","19:45:14","Game against Boomer at level 3.0  Single point data:","Player's point",null,"Player Serving",2,4,"Player Serve",3,14,22,3.8,46,3.3,"8",16,18480,5,"Robert",3,"Lake Lynn","Hard","No",5]
[null,null,null,null,"8/31/2012Game against Boomer at level 3.0  Single point data:3","3","2012-08-31","Reuben","19:45:46","Game against Boomer at level 3.0  Single point data:","Player's point","New Point","Player Serving",1,4,"Player Serve",3,13,3,4.0999999999999996,48,3.5,"10",16,18483,6,"Robert",3,"Lake Lynn","Hard","No",6]
[null,null,null,null,"8/31/2012Game against Boomer at level 3.0  Single point data:3","3","2012-08-31","Reuben","19:46:18","Game against Boomer at level 3.0  Single point data:","Boomer's point","New Point","Player Serving",1,4,"Player Serve",3,9,21,2.2999999999999998,27,2,"8",16,18485,7,"Robert",3,"Lake Lynn","Hard","No",7]
[null,null,null,null,"8/31/2012Game against Boomer at level 3.0  Single point data:3","3","2012-08-31","Reuben","19:46:53","Game against Boomer at level 3.0  Single point data:","Boomer's point","New Point","Player Serving",1,4,"Player Serve",3,16,12,5.2,64,4.5999999999999996,"2",16,18489,8,"Robert",3,"Lake Lynn","Hard","No",8]
[null,null,null,null,"8/31/2012Game against Boomer at level 3.0  Single point data:3","3","2012-08-31","Reuben","19:47:14","Game against Boomer at level 3.0  Single point data:","Boomer's point","New Point","Boomer Serving",1,3,"Serve",3,28,20,5,46,4.3,"6",16,18491,9,"Robert",3,"Lake Lynn","Hard","No",9]
[null,null,null,null,"8/31/2012Game against Boomer at level 3.0  Single point data:3","3","2012-08-31","Reuben","19:47:33","Game against Boomer at level 3.0  Single point data:","Boomer's point","New Point","Boomer Serving",1,5,"Serve",3,24,14,3.7,50,3.8,"0",16,18494,10,"Robert",3,"Lake Lynn","Hard","No",10]
[null,null,null,null,"8/31/2012Game against Boomer at level 3.0  Single point data:3","3","2012-08-31","Reuben","19:47:52","Game against Boomer at level 3.0  Single point data:","Boomer's point","New Point","gu",1,0,"Serve",3,34,5,6.1,64,5.6,"8",16,18496,11,"Robert",3,"Lake Lynn","Hard","No",11]
[null,null,null,null,"8/31/2012Game against Boomer at level 3.0  Single point data:3",null,"2012-08-31","Reuben","19:48:10","Game against Boomer at level 3.0  Single point data:","Boomer's point","New Point","Boomer Serving",1,5,"Serve",3,0,0,0,0,0,null,16,18498,12,"Robert",3,"Lake Lynn","Hard","No",12]
[null,null,null,null,"8/31/2012Game against Boomer at level 3.0  Single point data:3",null,"2012-08-31","Reuben","19:57:33","Game against Boomer at level 3.0  Single point data:","Boomer's point","New Point","Player Serving",1,4,"Player Serve",3,0,0,0,0,0,null,16,18499,14,"Robert",3,"Lake Lynn","Hard","No",13]
[null,null,null,null,"8/31/2012Game against Boomer at level 3.0  Single point data:3",null,"2012-08-31","Reuben","19:57:33","Game against Boomer at level 3.0  Single point data:","Boomer's point",null,"Player Serving",2,4,"Player Serve",3,0,0,0,0,0,null,16,18500,14,"Robert",3,"Lake Lynn","Hard","No",13]
[null,null,null,null,"8/31/2012Game against Boomer at level 3.0  Single point data:3","3","2012-08-31","Reuben","19:58:04","Game against Boomer at level 3.0  Single point data:","Boomer's point","New Point","Player Serving",1,4,"Player Serve",3,15,6,3.6,58,3.6,"8",16,18501,15,"Robert",3,"Lake Lynn","Hard","No",14]
[null,null,null,null,"8/31/2012Game against Boomer at level 3.0  Single point data:3","3","2012-08-31","Reuben","19:58:29","Game against Boomer at level 3.0  Single point data:","Boomer's point","New Point","Player Serving",1,4,"Player Serve",3,12,19,3.1,65,3.6,"6",16,18504,16,"Robert",3,"Lake Lynn","Hard","No",15]
[null,null,null,null,"8/31/2012Game against Boomer at level 3.0  Single point data:3","3","2012-08-31","Reuben","19:59:02","Game against Boomer at level 3.0  Single point data:","Boomer's point","New Point","Player Serving",1,4,"Player Serve",3,15,2,5,65,4.5,"12",16,18508,17,"Robert",3,"Lake Lynn","Hard","No",16]
[null,null,null,null,"8/31/2012Game against Boomer at level 3.0  Single point data:3","3","2012-08-31","Reuben","19:59:28","Game against Boomer at level 3.0  Single point data:","Boomer's point","New Point","Boomer Serving",1,0,"Serve",3,31,6,5.7,49,4.8,"8",16,18510,18,"Robert",3,"Lake Lynn","Hard","No",17]
[null,null,null,null,"8/31/2012Game against Boomer at level 3.0  Single point data:3",null,"2012-08-31","Reuben","19:59:43","Game against Boomer at level 3.0  Single point data:","Boomer's point","New Point","Boomer Serving",1,5,"Serve",3,0,0,0,0,0,null,16,18514,19,"Robert",3,"Lake Lynn","Hard","No",18]
[null,null,null,null,"8/31/2012Game against Boomer at level 3.0  Single point data:3","3","2012-08-31","Reuben","20:00:03","Game against Boomer at level 3.0  Single point data:","Boomer's point","New Point","Boomer Serving",1,0,"Serve",3,13,17,2.6,38,2.8,"4",16,18515,20,"Robert",3,"Lake Lynn","Hard","No",19]
[null,null,null,null,"8/31/2012Game against Boomer at level 3.0  Single point data:3","3","2012-08-31","Reuben","20:00:23","Game against Boomer at level 3.0  Single point data:","Boomer's point","New Point","Boomer Serving",1,5,"Serve",3,13,19,2.9,36,2.8,"6",16,18517,21,"Robert",3,"Lake Lynn","Hard","No",20]
[null,null,null,null,"8/31/2012Game against Boomer at level 3.0  Single point data:3","3","2012-08-31","Reuben","20:01:10","Game against Boomer at level 3.0  Single point data:","Boomer's point","New Point","Player Serving",1,"ftygjg","Player Serve",3,13,23,4,52,3.6,"10",16,18519,22,"Robert",3,"Lake Lynn","Hard","No",21]
[null,null,null,null,"8/31/2012Game against Boomer at level 3.0  Single point data:3",null,"2012-08-31","Reuben","20:01:46","Game against Boomer at level 3.0  Single point data:","Boomer's point","New Point","Player Serving",1,4,"Player Serve",3,0,0,0,0,0,null,16,18525,23,"Robert",3,"Lake Lynn","Hard","No",22]
[null,null,null,null,"8/31/2012Game against Boomer at level 3.0  Single point data:3","3","2012-08-31","Reuben","20:01:46","Game against Boomer at level 3.0  Single point data:","Boomer's point",null,"Player Serving",2,4,"Player Serve",3,20,7,4.4000000000000004,57,4,"6",16,18526,23,"Robert",3,"Lake Lynn","Hard","No",22]
[null,null,null,null,"8/31/2012Game against Boomer at level 3.0  Single point data:3","3","2012-08-31","Reuben","20:02:14","Game against Boomer at level 3.0  Single point data:","Boomer's point","New Point","Player Serving",1,4,"Player Serve",3,13,18,3.5,65,3.8,"4",16,18528,24,"Robert",3,"Lake Lynn","Hard","No",23]
[null,null,null,null,"8/31/2012Game against Boomer at level 3.0  Single point data:3","3","2012-08-31","Reuben","20:02:43","Game against Boomer at level 3.0  Single point data:","Player's point","New Point","Player Serving",1,4,"Player Serve",3,14,3,4.4000000000000004,72,4.4000000000000004,"10",16,18531,25,"Robert",3,"Lake Lynn","Hard","No",24]
[null,null,null,null,"8/31/2012Game against Boomer at level 3.0  Single point data:3","3","2012-08-31","Reuben","20:03:08","Game against Boomer at level 3.0  Single point data:","Boomer's point","New Point","Player Serving",1,4,"Player Serve",3,13,22,3.4,66,3.7,"8",16,18535,26,"Robert",3,"Lake Lynn","Hard","No",25]
[null,null,null,null,"8/31/2012Game against Boomer at level 3.0  Single point data:3","3","2012-08-31","Reuben","20:03:40","Game against Boomer at level 3.0  Single point data:","Player's point","New Point","Boomer Serving",1,0,"Serve",3,24,14,3.7,50,3.8,"0",16,18538,27,"Robert",3,"Lake Lynn","Hard","No",26]
[null,null,null,null,"8/31/2012Game against Boomer at level 3.0  Single point data:3","3","2012-08-31","Reuben","20:04:03","Game against Boomer at level 3.0  Single point data:","Player's point","New Point","Boomer Serving",1,8,"Serve",3,30,18,5,50,4.5,"4",16,18543,28,"Robert",3,"Lake Lynn","Hard","No",27]
[null,null,null,null,"8/31/2012Game against Boomer at level 3.0  Single point data:3","3","2012-08-31","Reuben","20:04:30","Game against Boomer at level 3.0  Single point data:","Boomer's point","New Point","Boomer Serving",1,3,"Serve",3,30,4,5.7,61,5.2,"10",16,18545,29,"Robert",3,"Lake Lynn","Hard","No",28]
[null,null,null,null,"8/31/2012Game against Boomer at level 3.0  Single point data:3",null,"2012-08-31","Reuben","20:04:45","Game against Boomer at level 3.0  Single point data:","Boomer's point","New Point","Boomer Serving",1,3,"Serve",3,0,0,0,0,0,null,16,18548,30,"Robert",3,"Lake Lynn","Hard","No",29]
[null,null,null,null,"8/31/2012Game against Boomer at level 3.0  Single point data:3",null,"2012-08-31","Reuben","20:05:01","Game against Boomer at level 3.0  Single point data:","Boomer's point","New Point","Boomer Serving",1,8,"Serve",3,0,0,0,0,0,null,16,18549,31,"Robert",3,"Lake Lynn","Hard","No",30]
[null,null,null,null,"8/31/2012Game against Boomer at level 3.0  Single point data:3","3","2012-08-31","Reuben","20:05:27","Game against Boomer at level 3.0  Single point data:","Boomer's point","New Point","Boomer Serving",1,3,"Serve",3,15,9,3.1,36,2.9,"4",16,18550,32,"Robert",3,"Lake Lynn","Hard","No",31]
[null,null,null,null,"8/31/2012Game against Boomer at level 3.0  Single point data:3",null,"2012-08-31","Reuben","20:05:44","Game against Boomer at level 3.0  Single point data:","Boomer's point","New Point","Boomer Serving",1,8,"Serve",3,0,0,0,0,0,null,16,18555,33,"Robert",3,"Lake Lynn","Hard","No",32]
[null,null,null,null,"8/31/2012Game against Boomer at level 3.0  Single point data:3","3","2012-08-31","Reuben","20:06:06","Game against Boomer at level 3.0  Single point data:","Boomer's point","New Point","Player Serving",1,4,"Player Serve",3,18,23,5.0999999999999996,67,4.5999999999999996,"10",16,18556,34,"Robert",3,"Lake Lynn","Hard","No",33]
[null,null,null,null,"8/31/2012Game against Boomer at level 3.0  Single point data:3",null,"2012-08-31","Reuben","20:06:58","Game against Boomer at level 3.0  Single point data:","Boomer's point","New Point","Player Serving",1,4,"Player Serve",3,0,0,0,0,0,null,16,18558,35,"Robert",3,"Lake Lynn","Hard","No",34]
[null,null,null,null,"8/31/2012Game against Boomer at level 3.0  Single point data:3",null,"2012-08-31","Reuben","20:06:58","Game against Boomer at level 3.0  Single point data:","Boomer's point",null,"Player Serving",2,4,"Player Serve",3,0,0,0,0,0,null,16,18559,35,"Robert",3,"Lake Lynn","Hard","No",34]
[null,null,null,null,"8/31/2012Game against Boomer at level 3.0  Single point data:3","3","2012-08-31","Reuben","20:07:33","Game against Boomer at level 3.0  Single point data:","Player's point","New Point","Player Serving",1,4,"Player Serve",3,17,18,4.4000000000000004,78,4.5999999999999996,"4",16,18560,36,"Robert",3,"Lake Lynn","Hard","No",35]
[null,null,null,null,"8/31/2012Game against Boomer at level 3.0  Single point data:3","3","2012-08-31","Reuben","20:08:04","Game against Boomer at level 3.0  Single point data:","Boomer's point","New Point","Player Serving",1,4,"Player Serve",3,19,5,4.5999999999999996,62,4.2,"8",16,18565,37,"Robert",3,"Lake Lynn","Hard","No",36]